{"text_format":"1","workbook":"xlsx","n_sheets":24,"sheets":["Introduction","Modèle","RÉSULTATS","Tableaux","ANDERLECHT","AUDERGHEM","BERCHEM-SAINTE-AGATHE","BRUXELLES","ETTERBEEK","EVERE","FOREST","GANSHOREN","IXELLES","JETTE","KOEKELBERG","MOLENBEEK-SAINT-JEAN","SAINT-GILLES","SAINT-JOSSE-TEN-NOODE","SCHAERBEEK","UCCLE","WATERMAEL-BOITSFORT","WOLUWE-SAINT-LAMBERT","WOLUWE-SAINT-PIERRE","Comparaison Impériali D'Hondt"],"not_rendered":{"charts":1,"images":0,"macros":1,"external_links":1,"defined_names":0,"comments":0,"pivot_tables":0},"unopened":[],"bounds":{"document_bytes":16777216,"sheet_cells":100000,"rows_first":2000,"rows_last":500,"rows_between":2000,"halvings":0,"cell_chars":16384,"cell_head_chars":4096},"cells_cut":0,"cells_raw":0,"read":"whole","date_system":"1900"}

{"sheet":"Introduction","index":0,"n_rows":20,"n_cols":2,"rows_kept":20,"cut":false,"hidden":false,"merged":[[1,1,1,17],[3,1,3,17],[5,1,5,16],[7,1,8,17],[10,1,10,17],[17,1,17,16],[19,1,19,17],[11,1,11,16],[12,1,12,17],[14,1,14,17],[15,1,15,16],[16,1,16,16]]}
[]
[null,"Bonjour à vous qui allez lire ces tableaux de distribution des sièges dans les communes de Wallonie\nlors des élections communales de 2018 "]
[]
[null,"De quoi s'agit-il ?"]
[]
[null,"Il s'agit de trois tableaux par page :"]
[]
[null,"Le premier est l'application de la clé de répartition Impériali ne tenant compte que des votes valables\n  (c'est-à-dire hors votes blancs et nuls ainsi que les bulletins non-déposés). "]
[]
[]
[null,"Le deuxième tableau tient compte de tous les votes. (votes blancs et nuls, et bulletins non-déposés)"]
[]
[null,"Le troisième tableau regroupe les votes non-valables."]
[]
[null,"Pourquoi ces tableaux ?"]
[]
[null,"Ces tableaux permettent de voir commune par commune à quelle(s) liste(s) profite(nt)"]
[null,"les votes considérés comme non-valables par la loi électorale."]
[]
[null,"Bonne lecture"]

{"sheet":"Modèle","index":1,"n_rows":71,"n_cols":49,"rows_kept":71,"cut":false,"hidden":false,"merged":[]}
[]
[null,null,null,null,null,null,null,null,null,null,null,null,null,null,null,null,null,"Blancs & Nuls","Non-déposés",null,null,null,null,null,null,null,null,null,null,null,null,null,null,null,"Non-valables"]
[null,"Chiffres\nélectoraux",null,null,null,null,null,null,null,null,null,null,null,null,null,null,null,{"$f":"C63","v":0},{"$f":"C61-C62","v":0},null,null,null,null,null,null,null,null,null,null,null,null,null,null,null,{"$f":"R3+S3","v":0}]
[null,"Sièges",{"$f":"[1]!NB_SI_COULEUR(C5:C55,13551615)","v":{"$error":"#NAME?"}},{"$f":"[1]!NB_SI_COULEUR(D5:D55,13551615)","v":{"$error":"#NAME?"}},{"$f":"[1]!NB_SI_COULEUR(E5:E55,13551615)","v":{"$error":"#NAME?"}},{"$f":"[1]!NB_SI_COULEUR(F5:F55,13551615)","v":{"$error":"#NAME?"}},{"$f":"[1]!NB_SI_COULEUR(G5:G55,13551615)","v":{"$error":"#NAME?"}},{"$f":"[1]!NB_SI_COULEUR(H5:H55,13551615)","v":{"$error":"#NAME?"}},{"$f":"[1]!NB_SI_COULEUR(I5:I55,13551615)","v":{"$error":"#NAME?"}},{"$f":"[1]!NB_SI_COULEUR(J5:J55,13551615)","v":{"$error":"#NAME?"}},{"$f":"[1]!NB_SI_COULEUR(K5:K55,13551615)","v":{"$error":"#NAME?"}},{"$f":"[1]!NB_SI_COULEUR(L5:L55,13551615)","v":{"$error":"#NAME?"}},{"$f":"[1]!NB_SI_COULEUR(M5:M55,13551615)","v":{"$error":"#NAME?"}},{"$f":"[1]!NB_SI_COULEUR(N5:N55,13551615)","v":{"$error":"#NAME?"}},{"$f":"[1]!NB_SI_COULEUR(O5:O55,13551615)","v":{"$error":"#NAME?"}},{"$f":"[1]!NB_SI_COULEUR(P5:P55,13551615)","v":{"$error":"#NAME?"}},0,{"$f":"[1]!NB_SI_COULEUR(R5:R55,13551615)","v":{"$error":"#NAME?"}},{"$f":"[1]!NB_SI_COULEUR(S5:S55,13551615)","v":{"$error":"#NAME?"}},{"$f":"[1]!NB_SI_COULEUR(T5:T55,13551615)","v":{"$error":"#NAME?"}},{"$f":"[1]!NB_SI_COULEUR(U5:U55,13551615)","v":{"$error":"#NAME?"}},{"$f":"[1]!NB_SI_COULEUR(V5:V55,13551615)","v":{"$error":"#NAME?"}},{"$f":"[1]!NB_SI_COULEUR(W5:W55,13551615)","v":{"$error":"#NAME?"}},{"$f":"[1]!NB_SI_COULEUR(X5:X55,13551615)","v":{"$error":"#NAME?"}},{"$f":"[1]!NB_SI_COULEUR(Y5:Y55,13551615)","v":{"$error":"#NAME?"}},{"$f":"[1]!NB_SI_COULEUR(Z5:Z55,13551615)","v":{"$error":"#NAME?"}},{"$f":"[1]!NB_SI_COULEUR(AA5:AA55,13551615)","v":{"$error":"#NAME?"}},{"$f":"[1]!NB_SI_COULEUR(AB5:AB55,13551615)","v":{"$error":"#NAME?"}},{"$f":"[1]!NB_SI_COULEUR(AC5:AC55,13551615)","v":{"$error":"#NAME?"}},{"$f":"[1]!NB_SI_COULEUR(AD5:AD55,13551615)","v":{"$error":"#NAME?"}},{"$f":"[1]!NB_SI_COULEUR(AE5:AE55,13551615)","v":{"$error":"#NAME?"}},{"$f":"[1]!NB_SI_COULEUR(AF5:AF55,13551615)","v":{"$error":"#NAME?"}},{"$f":"[1]!NB_SI_COULEUR(AG5:AG55,13551615)","v":{"$error":"#NAME?"}},0,{"$f":"[1]!NB_SI_COULEUR(AI5:AI55,13551615)","v":{"$error":"#NAME?"}},{"$f":"[1]!NB_SI_COULEUR(AJ5:AJ55,13551615)","v":{"$error":"#NAME?"}},{"$f":"[1]!NB_SI_COULEUR(AK5:AK55,13551615)","v":{"$error":"#NAME?"}},{"$f":"[1]!NB_SI_COULEUR(AL5:AL55,13551615)","v":{"$error":"#NAME?"}},{"$f":"[1]!NB_SI_COULEUR(AM5:AM55,13551615)","v":{"$error":"#NAME?"}},{"$f":"[1]!NB_SI_COULEUR(AN5:AN55,13551615)","v":{"$error":"#NAME?"}},{"$f":"[1]!NB_SI_COULEUR(AO5:AO55,13551615)","v":{"$error":"#NAME?"}},{"$f":"[1]!NB_SI_COULEUR(AP5:AP55,13551615)","v":{"$error":"#NAME?"}},{"$f":"[1]!NB_SI_COULEUR(AQ5:AQ55,13551615)","v":{"$error":"#NAME?"}},{"$f":"[1]!NB_SI_COULEUR(AR5:AR55,13551615)","v":{"$error":"#NAME?"}},{"$f":"[1]!NB_SI_COULEUR(AS5:AS55,13551615)","v":{"$error":"#NAME?"}},{"$f":"[1]!NB_SI_COULEUR(AT5:AT55,13551615)","v":{"$error":"#NAME?"}},{"$f":"[1]!NB_SI_COULEUR(AU5:AU55,13551615)","v":{"$error":"#NAME?"}},{"$f":"[1]!NB_SI_COULEUR(AV5:AV55,13551615)","v":{"$error":"#NAME?"}},{"$f":"[1]!NB_SI_COULEUR(AW5:AW55,13551615)","v":{"$error":"#NAME?"}}]
[null,2,{"$f":"$C$3/B5","v":0},{"$f":"$D$3/B5","v":0},{"$f":"$E$3/B5","v":0},{"$f":"$F$3/B5","v":0},{"$f":"$G$3/B5","v":0},{"$f":"$H$3/B5","v":0},{"$f":"$I$3/B5","v":0},{"$f":"$J$3/B5","v":0},{"$f":"$K$3/B5","v":0},{"$f":"$L$3/B5","v":0},{"$f":"$M$3/B5","v":0},{"$f":"$N$3/B5","v":0},{"$f":"$O$3/B5","v":0},{"$f":"$P$3/B5","v":0},null,{"$f":"$R$3/B5","v":0},{"$f":"$S$3/B5","v":0},{"$f":"C5","v":0},0,0,0,0,0,0,0,0,0,0,0,0,0,null,{"$f":"$AI$3/B5","v":0},{"$f":"C5","v":0},0,0,0,0,0,0,0,0,0,0,0,0,0]
[null,3,{"$f":"$C$3/B6","v":0},0,{"$f":"$E$3/B6","v":0},0,0,{"$f":"$H$3/B6","v":0},{"$f":"$I$3/B6","v":0},{"$f":"$J$3/B6","v":0},{"$f":"$K$3/B6","v":0},{"$f":"$L$3/B6","v":0},{"$f":"$M$3/B6","v":0},{"$f":"$N$3/B6","v":0},{"$f":"$O$3/B6","v":0},{"$f":"$P$3/B6","v":0},null,{"$f":"$R$3/B6","v":0},{"$f":"$S$3/B6","v":0},0,0,0,0,0,0,0,0,0,0,0,0,0,0,null,{"$f":"$AI$3/B6","v":0},{"$f":"C6","v":0},{"$f":"D6","v":0},{"$f":"E6","v":0},{"$f":"F6","v":0},{"$f":"G6","v":0},{"$f":"H6","v":0},{"$f":"I6","v":0},{"$f":"J6","v":0},{"$f":"K6","v":0},{"$f":"L6","v":0},{"$f":"M6","v":0},{"$f":"N6","v":0},{"$f":"O6","v":0},{"$f":"P6","v":0}]
[null,4,0,0,0,0,0,0,0,0,0,0,0,0,0,0,null,0,0,{"$f":"C7","v":0},{"$f":"D7","v":0},{"$f":"E7","v":0},{"$f":"F7","v":0},{"$f":"G7","v":0},{"$f":"H7","v":0},{"$f":"I7","v":0},{"$f":"J7","v":0},{"$f":"K7","v":0},{"$f":"L7","v":0},{"$f":"M7","v":0},{"$f":"N7","v":0},{"$f":"O7","v":0},{"$f":"P7","v":0},null,0,0,0,0,0,0,0,0,0,0,0,0,0,0,0]
[null,5,0,0,0,0,0,0,0,0,0,0,0,0,0,0,null,0,0,0,0,0,0,0,0,0,0,0,0,0,0,0,0,null,0,0,0,0,0,0,0,0,0,0,0,0,0,0,0]
[null,6,0,0,0,0,0,0,0,0,0,0,0,0,0,0,null,0,0,0,0,0,0,0,0,0,0,0,0,0,0,0,0,null,0,0,0,0,0,0,0,0,0,0,0,0,0,0,0]
[null,7,0,0,0,0,0,0,0,0,0,0,0,0,0,0,null,0,0,0,0,0,0,0,0,0,0,0,0,0,0,0,0,null,0,0,0,0,0,0,0,0,0,0,0,0,0,0,0]
[null,8,0,0,0,0,0,0,0,0,0,0,0,0,0,0,null,0,0,0,0,0,0,0,0,0,0,0,0,0,0,0,0,null,0,0,0,0,0,0,0,0,0,0,0,0,0,0,0]
[null,9,0,0,0,0,0,0,0,0,0,0,0,0,0,0,null,0,0,0,0,0,0,0,0,0,0,0,0,0,0,0,0,null,0,0,0,0,0,0,0,0,0,0,0,0,0,0,0]
[null,10,0,0,0,0,0,0,0,0,0,0,0,0,0,0,null,0,0,0,0,0,0,0,0,0,0,0,0,0,0,0,0,null,0,0,0,0,0,0,0,0,0,0,0,0,0,0,0]
[null,11,0,0,0,0,0,0,0,0,0,0,0,0,0,0,null,0,0,0,0,0,0,0,0,0,0,0,0,0,0,0,0,null,0,0,0,0,0,0,0,0,0,0,0,0,0,0,0]
[null,12,0,0,0,0,0,0,0,0,0,0,0,0,0,0,null,0,0,0,0,0,0,0,0,0,0,0,0,0,0,0,0,null,0,0,0,0,0,0,0,0,0,0,0,0,0,0,0]
[null,13,0,0,0,0,0,0,0,0,0,0,0,0,0,0,null,0,0,0,0,0,0,0,0,0,0,0,0,0,0,0,0,null,0,0,0,0,0,0,0,0,0,0,0,0,0,0,0]
[null,14,0,0,0,0,0,0,0,0,0,0,0,0,0,0,null,0,0,0,0,0,0,0,0,0,0,0,0,0,0,0,0,null,0,0,0,0,0,0,0,0,0,0,0,0,0,0,0]
[null,15,0,0,0,0,0,0,0,0,0,0,0,0,0,0,null,0,0,0,0,0,0,0,0,0,0,0,0,0,0,0,0,null,0,0,0,0,0,0,0,0,0,0,0,0,0,0,0]
[null,16,0,0,0,0,0,0,0,0,0,0,0,0,0,0,null,0,0,0,0,0,0,0,0,0,0,0,0,0,0,0,0,null,0,0,0,0,0,0,0,0,0,0,0,0,0,0,0]
[null,17,0,0,0,0,0,0,0,0,0,0,0,0,0,0,null,0,0,0,0,0,0,0,0,0,0,0,0,0,0,0,0,null,0,0,0,0,0,0,0,0,0,0,0,0,0,0,0]
[null,18,0,0,0,0,0,0,0,0,0,0,0,0,0,0,null,0,0,0,0,0,0,0,0,0,0,0,0,0,0,0,0,null,0,0,0,0,0,0,0,0,0,0,0,0,0,0,0]
[null,19,0,0,0,0,0,0,0,0,0,0,0,0,0,0,null,0,0,0,0,0,0,0,0,0,0,0,0,0,0,0,0,null,0,0,0,0,0,0,0,0,0,0,0,0,0,0,0]
[null,20,0,0,0,0,0,0,0,0,0,0,0,0,0,0,null,0,0,0,0,0,0,0,0,0,0,0,0,0,0,0,0,null,0,0,0,0,0,0,0,0,0,0,0,0,0,0,0]
[null,21,0,0,0,0,0,0,0,0,0,0,0,0,0,0,null,0,0,0,0,0,0,0,0,0,0,0,0,0,0,0,0,null,0,0,0,0,0,0,0,0,0,0,0,0,0,0,0]
[null,22,0,0,0,0,0,0,0,0,0,0,0,0,0,0,null,0,0,0,0,0,0,0,0,0,0,0,0,0,0,0,0,null,0,0,0,0,0,0,0,0,0,0,0,0,0,0,0]
[null,23,0,0,0,0,0,0,0,0,0,0,0,0,0,0,null,0,0,0,0,0,0,0,0,0,0,0,0,0,0,0,0,null,0,0,0,0,0,0,0,0,0,0,0,0,0,0,0]
[null,24,0,0,0,0,0,0,0,0,0,0,0,0,0,0,null,0,0,0,0,0,0,0,0,0,0,0,0,0,0,0,0,null,0,0,0,0,0,0,0,0,0,0,0,0,0,0,0]
[null,25,0,0,0,0,0,0,0,0,0,0,0,0,0,0,null,0,0,0,0,0,0,0,0,0,0,0,0,0,0,0,0,null,0,0,0,0,0,0,0,0,0,0,0,0,0,0,0]
[null,26,0,0,0,0,0,0,0,0,0,0,0,0,0,0,null,0,0,0,0,0,0,0,0,0,0,0,0,0,0,0,0,null,0,0,0,0,0,0,0,0,0,0,0,0,0,0,0]
[null,27,0,0,0,0,0,0,0,0,0,0,0,0,0,0,null,0,0,0,0,0,0,0,0,0,0,0,0,0,0,0,0,null,0,0,0,0,0,0,0,0,0,0,0,0,0,0,0]
[null,28,0,0,0,0,0,0,0,0,0,0,0,0,0,0,null,0,0,0,0,0,0,0,0,0,0,0,0,0,0,0,0,null,0,0,0,0,0,0,0,0,0,0,0,0,0,0,0]
[null,29,0,0,0,0,0,0,0,0,0,0,0,0,0,0,null,0,0,0,0,0,0,0,0,0,0,0,0,0,0,0,0,null,0,0,0,0,0,0,0,0,0,0,0,0,0,0,0]
[null,30,0,0,0,0,0,0,0,0,0,0,0,0,0,0,null,0,0,0,0,0,0,0,0,0,0,0,0,0,0,0,0,null,0,0,0,0,0,0,0,0,0,0,0,0,0,0,0]
[null,31,0,0,0,0,0,0,0,0,0,0,0,0,0,0,null,0,0,0,0,0,0,0,0,0,0,0,0,0,0,0,0,null,0,0,0,0,0,0,0,0,0,0,0,0,0,0,0]
[null,32,0,0,0,0,0,0,0,0,0,0,0,0,0,0,null,0,0,0,0,0,0,0,0,0,0,0,0,0,0,0,0,null,0,0,0,0,0,0,0,0,0,0,0,0,0,0,0]
[null,33,0,0,0,0,0,0,0,0,0,0,0,0,0,0,null,0,0,0,0,0,0,0,0,0,0,0,0,0,0,0,0,null,0,0,0,0,0,0,0,0,0,0,0,0,0,0,0]
[null,34,0,0,0,0,0,0,0,0,0,0,0,0,0,0,null,0,0,0,0,0,0,0,0,0,0,0,0,0,0,0,0,null,0,0,0,0,0,0,0,0,0,0,0,0,0,0,0]
[null,35,0,0,0,0,0,0,0,0,0,0,0,0,0,0,null,0,0,0,0,0,0,0,0,0,0,0,0,0,0,0,0,null,0,0,0,0,0,0,0,0,0,0,0,0,0,0,0]
[null,36,0,0,0,0,0,0,0,0,0,0,0,0,0,0,null,0,0,0,0,0,0,0,0,0,0,0,0,0,0,0,0,null,0,0,0,0,0,0,0,0,0,0,0,0,0,0,0]
[null,37,0,0,0,0,0,0,0,0,0,0,0,0,0,0,null,0,0,0,0,0,0,0,0,0,0,0,0,0,0,0,0,null,0,0,0,0,0,0,0,0,0,0,0,0,0,0,0]
[null,38,0,0,0,0,0,0,0,0,0,0,0,0,0,0,null,0,0,0,0,0,0,0,0,0,0,0,0,0,0,0,0,null,0,0,0,0,0,0,0,0,0,0,0,0,0,0,0]
[null,39,0,0,0,0,0,0,0,0,0,0,0,0,0,0,null,0,0,0,0,0,0,0,0,0,0,0,0,0,0,0,0,null,0,0,0,0,0,0,0,0,0,0,0,0,0,0,0]
[null,40,0,0,0,0,0,0,0,0,0,0,0,0,0,0,null,0,0,0,0,0,0,0,0,0,0,0,0,0,0,0,0,null,0,0,0,0,0,0,0,0,0,0,0,0,0,0,0]
[null,41,0,0,0,0,0,0,0,0,0,0,0,0,0,0,null,0,0,0,0,0,0,0,0,0,0,0,0,0,0,0,0,null,0,0,0,0,0,0,0,0,0,0,0,0,0,0,0]
[null,42,0,0,0,0,0,0,0,0,0,0,0,0,0,0,null,0,0,0,0,0,0,0,0,0,0,0,0,0,0,0,0,null,0,0,0,0,0,0,0,0,0,0,0,0,0,0,0]
[null,43,0,0,0,0,0,0,0,0,0,0,0,0,0,0,null,0,0,0,0,0,0,0,0,0,0,0,0,0,0,0,0,null,0,0,0,0,0,0,0,0,0,0,0,0,0,0,0]
[null,44,0,0,0,0,0,0,0,0,0,0,0,0,0,0,null,0,0,0,0,0,0,0,0,0,0,0,0,0,0,0,0,null,0,0,0,0,0,0,0,0,0,0,0,0,0,0,0]
[null,45,0,0,0,0,0,0,0,0,0,0,0,0,0,0,null,0,0,0,0,0,0,0,0,0,0,0,0,0,0,0,0,null,0,0,0,0,0,0,0,0,0,0,0,0,0,0,0]
[null,46,0,0,0,0,0,0,0,0,0,0,0,0,0,0,null,0,0,0,0,0,0,0,0,0,0,0,0,0,0,0,0,null,0,0,0,0,0,0,0,0,0,0,0,0,0,0,0]
[null,47,0,0,0,0,0,0,0,0,0,0,0,0,0,0,null,0,0,0,0,0,0,0,0,0,0,0,0,0,0,0,0,null,0,0,0,0,0,0,0,0,0,0,0,0,0,0,0]
[null,48,0,0,0,0,0,0,0,{"$f":"$J$3/B51","v":0},0,0,0,0,0,0,null,0,0,0,0,0,0,0,0,0,0,0,0,0,0,0,0,null,0,0,0,0,0,0,0,0,0,0,0,0,0,0,0]
[null,49,0,0,0,0,0,0,0,{"$f":"$J$3/B52","v":0},0,0,0,0,0,0,null,0,0,0,0,0,0,0,0,0,0,0,0,0,0,0,0,null,0,0,0,0,0,0,0,0,0,0,0,0,0,0,0]
[null,50,0,0,0,0,0,0,0,{"$f":"$J$3/B53","v":0},0,0,0,0,0,0,null,0,0,0,0,0,0,0,0,0,0,0,0,0,0,0,0,null,0,0,0,0,0,0,0,0,0,0,0,0,0,0,0]
[null,51,0,0,0,0,0,0,0,{"$f":"$J$3/B54","v":0},0,0,0,0,0,0,null,0,0,0,0,0,0,0,0,0,0,0,0,0,0,0,0,null,0,0,0,0,0,0,0,0,0,0,0,0,0,0,0]
[null,52,0,0,0,0,0,0,0,{"$f":"$J$3/B55","v":0},0,0,0,0,0,0,null,0,0,0,0,0,0,0,0,0,0,0,0,0,0,0,0,null,0,0,0,0,0,0,0,0,0,0,0,0,0,0,0]
[]
[]
[]
[]
[]
[null,"Inscrits"]
[null,"Déposés"]
[null,"Blancs & Nuls"]
[null,"Valables"]
[null,"Sièges"]
[]
[]
[]
[]
[null,"Majorité absolue",{"$f":"SUM($C$71:$N$71)","v":{"$error":"#NAME?"}},null,null,null,null,null,null,null,null,null,null,null,null,{"$f":"SUM($P$71:$AC$71)","v":{"$error":"#NAME?"}},null,{"$f":"SUM($P$71:$AC$71)","v":{"$error":"#NAME?"}},null,null,null,null,null,null,null,null,null,null,null,null,{"$f":"SUM($AE$71:$AQ$71)","v":{"$error":"#NAME?"}},null,null,null,{"$f":"SUM($AE$71:$AQ$71)","v":{"$error":"#NAME?"}}]
[null,null,{"$f":"IF(C4>($C$65/2),1,0)","v":{"$error":"#NAME?"}},{"$error":"#NAME?"},{"$error":"#NAME?"},{"$error":"#NAME?"},{"$error":"#NAME?"},{"$error":"#NAME?"},{"$error":"#NAME?"},{"$error":"#NAME?"},{"$error":"#NAME?"},{"$error":"#NAME?"},{"$error":"#NAME?"},{"$error":"#NAME?"},null,{"$f":"IF(P4>($C$65/2),1,0)","v":{"$error":"#NAME?"}},0,{"$error":"#NAME?"},{"$error":"#NAME?"},{"$error":"#NAME?"},{"$error":"#NAME?"},{"$error":"#NAME?"},{"$error":"#NAME?"},{"$error":"#NAME?"},{"$error":"#NAME?"},{"$error":"#NAME?"},{"$error":"#NAME?"},{"$error":"#NAME?"},{"$error":"#NAME?"},null,{"$f":"IF(AE4>($C$65/2),1,0)","v":{"$error":"#NAME?"}},{"$error":"#NAME?"},{"$error":"#NAME?"},0,{"$error":"#NAME?"},{"$error":"#NAME?"},{"$error":"#NAME?"},{"$error":"#NAME?"},{"$error":"#NAME?"},{"$error":"#NAME?"},{"$error":"#NAME?"},{"$error":"#NAME?"},{"$error":"#NAME?"}]

{"sheet":"RÉSULTATS","index":2,"n_rows":23,"n_cols":29,"rows_kept":23,"cut":false,"hidden":false,"merged":[[21,19,22,19],[21,16,22,16]]}
[null,"Elections\ncommunales2018","Inscrits","Bulletins\ndéposés","%\nBulletins\ndéposés","Blancs\net nuls","%\nVotes\nBlancs et nuls","Votes\nvalables","%\nVotes\nValables","Nbre\nSièges","Bulletins\nNon-déposés","%\nBulletins\nNon-déposés","Votes\nnon-valables","%\nVotes\nNon-valables","Nbr\nListes","Nbr\nListe\nunique\nMajorité\nAbsolue\nSièges","% Voix\nMajorités\nAbsolues\nSièges","\nNbr\nListe\nunique\nMajorité\nAbsolue\nVoix","Nbr\nCoalitions","% Voix\nCoalition","Nbr\nCoalition\nMajorité\nAbsolue\nVoix","Nbr Sièges\nVotes\nBlancs et nuls","Nbr\nCommunes\nimpactées\nPost\nDistribution\nSièges","Nbr Sièges\nBulletins\nNon-déposés","Nbr\nCommunes\nimpactées\nPost\nDistribution\nSièges","Nbr\nMajorités\nAbsolues\nPost\nDistribution\nSièges","Nbr\nSièges\nVotes\nnon-valable\n&\nAbsentéisme\nélectoral","Nbr\nCommunes\nimpactées\nPost\nDistribution\nSièges","Nbr\nMajorités\nAbsolues\nPost\nDistribution\nSièges"]
[null,"ETTERBEEK",{"$f":"Inscrits(B2)","v":22962},{"$f":"BDEPOSES(B2)","v":19886},{"$f":"100/C2*D2","v":86.60395435937636},{"$f":"BBN(B2)","v":1134},{"$f":"100/C2*F2","v":4.9385941991115754},{"$f":"VOTESV(B2)","v":18752},{"$f":"100/C2*H2","v":81.665360160264783},{"$f":"SIEGES(B2)","v":35},{"$f":"C2-D2","v":3076},{"$f":"100/C2*K2","v":13.396045640623639},{"$f":"C2-H2","v":4210},{"$f":"(100/C2)*M2","v":18.334639839735214},{"$f":"NBL(B2)","v":6},{"$f":"Maj_abs_tab1(B2)","v":0},{"$f":"pc_Vx_LUMA(B2)","v":0},{"$f":"IF(Q2>50,1,0)","v":0},{"$f":"Nbr_Coal(B2)","v":1},{"$f":"pc_Vx_Coal(B2)","v":66.714571901402309},{"$f":"IF(T2>50,1,0)","v":1},{"$f":"SBN(B2)","v":1},{"$f":"IF(V2>0,1,0)","v":1},{"$f":"SND(B2)","v":5},{"$f":"IF(X2>0,1,0)","v":1},{"$f":"Maj_abs_tab2(B2)","v":0},{"$f":"SNV(B2)","v":7},{"$f":"IF(AA2>0,1,0)","v":1},{"$f":"Maj_abs_tab3(B2)","v":0}]
[null,"AUDERGHEM",{"$f":"Inscrits(B3)","v":20098},{"$f":"BDEPOSES(B3)","v":17587},{"$f":"100/C3*D3","v":87.506219524330774},{"$f":"BBN(B3)","v":794},{"$f":"100/C3*F3","v":3.9506418549109363},{"$f":"VOTESV(B3)","v":16739},{"$f":"100/C3*H3","v":83.286894218330175},{"$f":"SIEGES(B3)","v":31},{"$f":"C3-D3","v":2511},{"$f":"100/C3*K3","v":12.493780475669221},{"$f":"C3-H3","v":3359},{"$f":"(100/C3)*M3","v":16.713105781669817},{"$f":"NBL(B3)","v":8},{"$f":"Maj_abs_tab1(B3)","v":1},{"$f":"pc_Vx_LUMA(B3)","v":39.809931336451385},{"$f":"IF(Q3>50,1,0)","v":0},{"$f":"Nbr_Coal(B3)","v":1},{"$f":"pc_Vx_Coal(B3)","v":58.762065877201714},{"$f":"IF(T3>50,1,0)","v":1},{"$f":"SBN(B3)","v":0},{"$f":"IF(V3>0,1,0)","v":0},{"$f":"SND(B3)","v":4},{"$f":"IF(X3>0,1,0)","v":1},{"$f":"Maj_abs_tab2(B3)","v":1},{"$f":"SNV(B3)","v":6},{"$f":"IF(AA3>0,1,0)","v":1},{"$f":"Maj_abs_tab3(B3)","v":0}]
[null,"WOLUWE-SAINT-LAMBERT",{"$f":"Inscrits(B4)","v":30744},{"$f":"BDEPOSES(B4)","v":26415},{"$f":"100/C4*D4","v":85.919203747072601},{"$f":"BBN(B4)","v":1303},{"$f":"100/C4*F4","v":4.2382253447827214},{"$f":"VOTESV(B4)","v":25112},{"$f":"100/C4*H4","v":81.680978402289881},{"$f":"SIEGES(B4)","v":37},{"$f":"C4-D4","v":4329},{"$f":"100/C4*K4","v":14.080796252927401},{"$f":"C4-H4","v":5632},{"$f":"(100/C4)*M4","v":18.319021597710123},{"$f":"NBL(B4)","v":6},{"$f":"Maj_abs_tab1(B4)","v":1},{"$f":"pc_Vx_LUMA(B4)","v":48.481004423627375},{"$f":"IF(Q4>50,1,0)","v":0},{"$f":"Nbr_Coal(B4)","v":1},{"$f":"pc_Vx_Coal(B4)","v":54.651314077543589},{"$f":"IF(T4>50,1,0)","v":1},{"$f":"SBN(B4)","v":1},{"$f":"IF(V4>0,1,0)","v":1},{"$f":"SND(B4)","v":5},{"$f":"IF(X4>0,1,0)","v":1},{"$f":"Maj_abs_tab2(B4)","v":1},{"$f":"SNV(B4)","v":7},{"$f":"IF(AA4>0,1,0)","v":1},{"$f":"Maj_abs_tab3(B4)","v":1}]
[null,"JETTE",{"$f":"Inscrits(B5)","v":30895},{"$f":"BDEPOSES(B5)","v":26435},{"$f":"100/C5*D5","v":85.564007120893351},{"$f":"BBN(B5)","v":1856},{"$f":"100/C5*F5","v":6.007444570318822},{"$f":"VOTESV(B5)","v":24579},{"$f":"100/C5*H5","v":79.556562550574526},{"$f":"SIEGES(B5)","v":37},{"$f":"C5-D5","v":4460},{"$f":"100/C5*K5","v":14.435992879106653},{"$f":"C5-H5","v":6316},{"$f":"(100/C5)*M5","v":20.443437449425474},{"$f":"NBL(B5)","v":8},{"$f":"Maj_abs_tab1(B5)","v":0},{"$f":"pc_Vx_LUMA(B5)","v":0},{"$f":"IF(Q5>50,1,0)","v":0},{"$f":"Nbr_Coal(B5)","v":1},{"$f":"pc_Vx_Coal(B5)","v":54.300048551545558},{"$f":"IF(T5>50,1,0)","v":1},{"$f":"SBN(B5)","v":2},{"$f":"IF(V5>0,1,0)","v":1},{"$f":"SND(B5)","v":6},{"$f":"IF(X5>0,1,0)","v":1},{"$f":"Maj_abs_tab2(B5)","v":0},{"$f":"SNV(B5)","v":9},{"$f":"IF(AA5>0,1,0)","v":1},{"$f":"Maj_abs_tab3(B5)","v":0}]
[null,"WOLUWE-SAINT-PIERRE",{"$f":"Inscrits(B6)","v":23418},{"$f":"BDEPOSES(B6)","v":20457},{"$f":"100/C6*D6","v":87.355880092236745},{"$f":"BBN(B6)","v":683},{"$f":"100/C6*F6","v":2.9165599111794349},{"$f":"VOTESV(B6)","v":19774},{"$f":"100/C6*H6","v":84.439320181057312},{"$f":"SIEGES(B6)","v":35},{"$f":"C6-D6","v":2961},{"$f":"100/C6*K6","v":12.64411990776326},{"$f":"C6-H6","v":3644},{"$f":"(100/C6)*M6","v":15.560679818942694},{"$f":"NBL(B6)","v":5},{"$f":"Maj_abs_tab1(B6)","v":0},{"$f":"pc_Vx_LUMA(B6)","v":0},{"$f":"IF(Q6>50,1,0)","v":0},{"$f":"Nbr_Coal(B6)","v":1},{"$f":"pc_Vx_Coal(B6)","v":53.843197540353579},{"$f":"IF(T6>50,1,0)","v":1},{"$f":"SBN(B6)","v":0},{"$f":"IF(V6>0,1,0)","v":0},{"$f":"SND(B6)","v":4},{"$f":"IF(X6>0,1,0)","v":1},{"$f":"Maj_abs_tab2(B6)","v":0},{"$f":"SNV(B6)","v":5},{"$f":"IF(AA6>0,1,0)","v":1},{"$f":"Maj_abs_tab3(B6)","v":0}]
[null,"SAINT-GILLES",{"$f":"Inscrits(B7)","v":23673},{"$f":"BDEPOSES(B7)","v":19764},{"$f":"100/C7*D7","v":83.487517424914458},{"$f":"BBN(B7)","v":1178},{"$f":"100/C7*F7","v":4.9761331474675794},{"$f":"VOTESV(B7)","v":18586},{"$f":"100/C7*H7","v":78.511384277446879},{"$f":"SIEGES(B7)","v":35},{"$f":"C7-D7","v":3909},{"$f":"100/C7*K7","v":16.512482575085542},{"$f":"C7-H7","v":5087},{"$f":"(100/C7)*M7","v":21.488615722553121},{"$f":"NBL(B7)","v":9},{"$f":"Maj_abs_tab1(B7)","v":0},{"$f":"pc_Vx_LUMA(B7)","v":0},{"$f":"IF(Q7>50,1,0)","v":0},{"$f":"Nbr_Coal(B7)","v":1},{"$f":"pc_Vx_Coal(B7)","v":53.220969036455031},{"$f":"IF(T7>50,1,0)","v":1},{"$f":"SBN(B7)","v":1},{"$f":"IF(V7>0,1,0)","v":1},{"$f":"SND(B7)","v":6},{"$f":"IF(X7>0,1,0)","v":1},{"$f":"Maj_abs_tab2(B7)","v":0},{"$f":"SNV(B7)","v":8},{"$f":"IF(AA7>0,1,0)","v":1},{"$f":"Maj_abs_tab3(B7)","v":0}]
[null,"UCCLE",{"$f":"Inscrits(B8)","v":48177},{"$f":"BDEPOSES(B8)","v":40170},{"$f":"100/C8*D8","v":83.380036116819241},{"$f":"BBN(B8)","v":1804},{"$f":"100/C8*F8","v":3.7445253959358205},{"$f":"VOTESV(B8)","v":38366},{"$f":"100/C8*H8","v":79.635510720883417},{"$f":"SIEGES(B8)","v":43},{"$f":"C8-D8","v":8007},{"$f":"100/C8*K8","v":16.619963883180773},{"$f":"C8-H8","v":9811},{"$f":"(100/C8)*M8","v":20.364489279116594},{"$f":"NBL(B8)","v":8},{"$f":"Maj_abs_tab1(B8)","v":0},{"$f":"pc_Vx_LUMA(B8)","v":0},{"$f":"IF(Q8>50,1,0)","v":0},{"$f":"Nbr_Coal(B8)","v":1},{"$f":"pc_Vx_Coal(B8)","v":53.21418934346265},{"$f":"IF(T8>50,1,0)","v":1},{"$f":"SBN(B8)","v":1},{"$f":"IF(V8>0,1,0)","v":1},{"$f":"SND(B8)","v":8},{"$f":"IF(X8>0,1,0)","v":1},{"$f":"Maj_abs_tab2(B8)","v":0},{"$f":"SNV(B8)","v":10},{"$f":"IF(AA8>0,1,0)","v":1},{"$f":"Maj_abs_tab3(B8)","v":0}]
[null,"BERCHEM-SAINTE-AGATHE",{"$f":"Inscrits(B9)","v":15426},{"$f":"BDEPOSES(B9)","v":13189},{"$f":"100/C9*D9","v":85.498509010761055},{"$f":"BBN(B9)","v":934},{"$f":"100/C9*F9","v":6.0547128225074553},{"$f":"VOTESV(B9)","v":12255},{"$f":"100/C9*H9","v":79.4437961882536},{"$f":"SIEGES(B9)","v":27},{"$f":"C9-D9","v":2237},{"$f":"100/C9*K9","v":14.501490989238949},{"$f":"C9-H9","v":3171},{"$f":"(100/C9)*M9","v":20.556203811746403},{"$f":"NBL(B9)","v":7},{"$f":"Maj_abs_tab1(B9)","v":0},{"$f":"pc_Vx_LUMA(B9)","v":0},{"$f":"IF(Q9>50,1,0)","v":0},{"$f":"Nbr_Coal(B9)","v":1},{"$f":"pc_Vx_Coal(B9)","v":46.823544664851553},{"$f":"IF(T9>50,1,0)","v":0},{"$f":"SBN(B9)","v":1},{"$f":"IF(V9>0,1,0)","v":1},{"$f":"SND(B9)","v":4},{"$f":"IF(X9>0,1,0)","v":1},{"$f":"Maj_abs_tab2(B9)","v":0},{"$f":"SNV(B9)","v":6},{"$f":"IF(AA9>0,1,0)","v":1},{"$f":"Maj_abs_tab3(B9)","v":0}]
[null,"WATERMAEL-BOITSFORT",{"$f":"Inscrits(B10)","v":16885},{"$f":"BDEPOSES(B10)","v":14712},{"$f":"100/C10*D10","v":87.130589280426406},{"$f":"BBN(B10)","v":575},{"$f":"100/C10*F10","v":3.4053893988747408},{"$f":"VOTESV(B10)","v":14137},{"$f":"100/C10*H10","v":83.725199881551674},{"$f":"SIEGES(B10)","v":29},{"$f":"C10-D10","v":2173},{"$f":"100/C10*K10","v":12.869410719573585},{"$f":"C10-H10","v":2748},{"$f":"(100/C10)*M10","v":16.274800118448326},{"$f":"NBL(B10)","v":8},{"$f":"Maj_abs_tab1(B10)","v":0},{"$f":"pc_Vx_LUMA(B10)","v":0},{"$f":"IF(Q10>50,1,0)","v":0},{"$f":"Nbr_Coal(B10)","v":1},{"$f":"pc_Vx_Coal(B10)","v":45.58483861415457},{"$f":"IF(T10>50,1,0)","v":0},{"$f":"SBN(B10)","v":0},{"$f":"IF(V10>0,1,0)","v":0},{"$f":"SND(B10)","v":4},{"$f":"IF(X10>0,1,0)","v":1},{"$f":"Maj_abs_tab2(B10)","v":0},{"$f":"SNV(B10)","v":5},{"$f":"IF(AA10>0,1,0)","v":1},{"$f":"Maj_abs_tab3(B10)","v":0}]
[null,"KOEKELBERG",{"$f":"Inscrits(B11)","v":11363},{"$f":"BDEPOSES(B11)","v":9672},{"$f":"100/C11*D11","v":85.118366628531206},{"$f":"BBN(B11)","v":741},{"$f":"100/C11*F11","v":6.521165185250374},{"$f":"VOTESV(B11)","v":8931},{"$f":"100/C11*H11","v":78.597201443280824},{"$f":"SIEGES(B11)","v":27},{"$f":"C11-D11","v":1691},{"$f":"100/C11*K11","v":14.881633371468803},{"$f":"C11-H11","v":2432},{"$f":"(100/C11)*M11","v":21.402798556719176},{"$f":"NBL(B11)","v":6},{"$f":"Maj_abs_tab1(B11)","v":0},{"$f":"pc_Vx_LUMA(B11)","v":0},{"$f":"IF(Q11>50,1,0)","v":0},{"$f":"Nbr_Coal(B11)","v":1},{"$f":"pc_Vx_Coal(B11)","v":44.653700607234008},{"$f":"IF(T11>50,1,0)","v":0},{"$f":"SBN(B11)","v":1},{"$f":"IF(V11>0,1,0)","v":1},{"$f":"SND(B11)","v":4},{"$f":"IF(X11>0,1,0)","v":1},{"$f":"Maj_abs_tab2(B11)","v":0},{"$f":"SNV(B11)","v":6},{"$f":"IF(AA11>0,1,0)","v":1},{"$f":"Maj_abs_tab3(B11)","v":0}]
[null,"MOLENBEEK-SAINT-JEAN",{"$f":"Inscrits(B12)","v":49787},{"$f":"BDEPOSES(B12)","v":41255},{"$f":"100/C12*D12","v":82.862996364512824},{"$f":"BBN(B12)","v":2581},{"$f":"100/C12*F12","v":5.1840841986864037},{"$f":"VOTESV(B12)","v":38674},{"$f":"100/C12*H12","v":77.678912165826418},{"$f":"SIEGES(B12)","v":45},{"$f":"C12-D12","v":8532},{"$f":"100/C12*K12","v":17.137003635487176},{"$f":"C12-H12","v":11113},{"$f":"(100/C12)*M12","v":22.321087834173579},{"$f":"NBL(B12)","v":11},{"$f":"Maj_abs_tab1(B12)","v":0},{"$f":"pc_Vx_LUMA(B12)","v":0},{"$f":"IF(Q12>50,1,0)","v":0},{"$f":"Nbr_Coal(B12)","v":1},{"$f":"pc_Vx_Coal(B12)","v":42.963022475746683},{"$f":"IF(T12>50,1,0)","v":0},{"$f":"SBN(B12)","v":2},{"$f":"IF(V12>0,1,0)","v":1},{"$f":"SND(B12)","v":9},{"$f":"IF(X12>0,1,0)","v":1},{"$f":"Maj_abs_tab2(B12)","v":0},{"$f":"SNV(B12)","v":12},{"$f":"IF(AA12>0,1,0)","v":1},{"$f":"Maj_abs_tab3(B12)","v":0}]
[null,"BRUXELLES",{"$f":"Inscrits(B13)","v":90049},{"$f":"BDEPOSES(B13)","v":74606},{"$f":"100/C13*D13","v":82.850448089373572},{"$f":"BBN(B13)","v":4139},{"$f":"100/C13*F13","v":4.5963864118424418},{"$f":"VOTESV(B13)","v":70467},{"$f":"100/C13*H13","v":78.254061677531126},{"$f":"SIEGES(B13)","v":49},{"$f":"C13-D13","v":15443},{"$f":"100/C13*K13","v":17.149551910626439},{"$f":"C13-H13","v":19582},{"$f":"(100/C13)*M13","v":21.745938322468877},{"$f":"NBL(B13)","v":14},{"$f":"Maj_abs_tab1(B13)","v":0},{"$f":"pc_Vx_LUMA(B13)","v":0},{"$f":"IF(Q13>50,1,0)","v":0},{"$f":"Nbr_Coal(B13)","v":1},{"$f":"pc_Vx_Coal(B13)","v":41.267532121400571},{"$f":"IF(T13>50,1,0)","v":0},{"$f":"SBN(B13)","v":2},{"$f":"IF(V13>0,1,0)","v":1},{"$f":"SND(B13)","v":10},{"$f":"IF(X13>0,1,0)","v":1},{"$f":"Maj_abs_tab2(B13)","v":0},{"$f":"SNV(B13)","v":13},{"$f":"IF(AA13>0,1,0)","v":1},{"$f":"Maj_abs_tab3(B13)","v":0}]
[null,"ANDERLECHT",{"$f":"Inscrits(B14)","v":60873},{"$f":"BDEPOSES(B14)","v":50903},{"$f":"100/C14*D14","v":83.621638493256455},{"$f":"BBN(B14)","v":3729},{"$f":"100/C14*F14","v":6.1258686116997678},{"$f":"VOTESV(B14)","v":47174},{"$f":"100/C14*H14","v":77.495769881556683},{"$f":"SIEGES(B14)","v":47},{"$f":"C14-D14","v":9970},{"$f":"100/C14*K14","v":16.378361506743548},{"$f":"C14-H14","v":13699},{"$f":"(100/C14)*M14","v":22.504230118443317},{"$f":"NBL(B14)","v":10},{"$f":"Maj_abs_tab1(B14)","v":0},{"$f":"pc_Vx_LUMA(B14)","v":0},{"$f":"IF(Q14>50,1,0)","v":0},{"$f":"Nbr_Coal(B14)","v":1},{"$f":"pc_Vx_Coal(B14)","v":40.944261002414862},{"$f":"IF(T14>50,1,0)","v":0},{"$f":"SBN(B14)","v":2},{"$f":"IF(V14>0,1,0)","v":1},{"$f":"SND(B14)","v":9},{"$f":"IF(X14>0,1,0)","v":1},{"$f":"Maj_abs_tab2(B14)","v":0},{"$f":"SNV(B14)","v":12},{"$f":"IF(AA14>0,1,0)","v":1},{"$f":"Maj_abs_tab3(B14)","v":0}]
[null,"IXELLES",{"$f":"Inscrits(B15)","v":41822},{"$f":"BDEPOSES(B15)","v":34446},{"$f":"100/C15*D15","v":82.363349433312607},{"$f":"BBN(B15)","v":1716},{"$f":"100/C15*F15","v":4.1031036296685954},{"$f":"VOTESV(B15)","v":32730},{"$f":"100/C15*H15","v":78.260245803644011},{"$f":"SIEGES(B15)","v":43},{"$f":"C15-D15","v":7376},{"$f":"100/C15*K15","v":17.63665056668739},{"$f":"C15-H15","v":9092},{"$f":"(100/C15)*M15","v":21.739754196355985},{"$f":"NBL(B15)","v":8},{"$f":"Maj_abs_tab1(B15)","v":0},{"$f":"pc_Vx_LUMA(B15)","v":0},{"$f":"IF(Q15>50,1,0)","v":0},{"$f":"Nbr_Coal(B15)","v":1},{"$f":"pc_Vx_Coal(B15)","v":40.665200133900818},{"$f":"IF(T15>50,1,0)","v":0},{"$f":"SBN(B15)","v":1},{"$f":"IF(V15>0,1,0)","v":1},{"$f":"SND(B15)","v":8},{"$f":"IF(X15>0,1,0)","v":1},{"$f":"Maj_abs_tab2(B15)","v":0},{"$f":"SNV(B15)","v":10},{"$f":"IF(AA15>0,1,0)","v":1},{"$f":"Maj_abs_tab3(B15)","v":0}]
[null,"SCHAERBEEK",{"$f":"Inscrits(B16)","v":67412},{"$f":"BDEPOSES(B16)","v":56539},{"$f":"100/C16*D16","v":83.870824185604945},{"$f":"BBN(B16)","v":3712},{"$f":"100/C16*F16","v":5.506438022903934},{"$f":"VOTESV(B16)","v":52827},{"$f":"100/C16*H16","v":78.36438616270101},{"$f":"SIEGES(B16)","v":47},{"$f":"C16-D16","v":10873},{"$f":"100/C16*K16","v":16.129175814395065},{"$f":"C16-H16","v":14585},{"$f":"(100/C16)*M16","v":21.635613837298997},{"$f":"NBL(B16)","v":9},{"$f":"Maj_abs_tab1(B16)","v":0},{"$f":"pc_Vx_LUMA(B16)","v":0},{"$f":"IF(Q16>50,1,0)","v":0},{"$f":"Nbr_Coal(B16)","v":1},{"$f":"pc_Vx_Coal(B16)","v":40.242093395834573},{"$f":"IF(T16>50,1,0)","v":0},{"$f":"SBN(B16)","v":2},{"$f":"IF(V16>0,1,0)","v":1},{"$f":"SND(B16)","v":8},{"$f":"IF(X16>0,1,0)","v":1},{"$f":"Maj_abs_tab2(B16)","v":0},{"$f":"SNV(B16)","v":11},{"$f":"IF(AA16>0,1,0)","v":1},{"$f":"Maj_abs_tab3(B16)","v":0}]
[null,"FOREST",{"$f":"Inscrits(B17)","v":29814},{"$f":"BDEPOSES(B17)","v":25242},{"$f":"100/C17*D17","v":84.664922519621655},{"$f":"BBN(B17)","v":1494},{"$f":"100/C17*F17","v":5.0110686254779635},{"$f":"VOTESV(B17)","v":23748},{"$f":"100/C17*H17","v":79.653853894143694},{"$f":"SIEGES(B17)","v":37},{"$f":"C17-D17","v":4572},{"$f":"100/C17*K17","v":15.335077480378345},{"$f":"C17-H17","v":6066},{"$f":"(100/C17)*M17","v":20.34614610585631},{"$f":"NBL(B17)","v":8},{"$f":"Maj_abs_tab1(B17)","v":0},{"$f":"pc_Vx_LUMA(B17)","v":0},{"$f":"IF(Q17>50,1,0)","v":0},{"$f":"Nbr_Coal(B17)","v":1},{"$f":"pc_Vx_Coal(B17)","v":39.810156302408259},{"$f":"IF(T17>50,1,0)","v":0},{"$f":"SBN(B17)","v":1},{"$f":"IF(V17>0,1,0)","v":1},{"$f":"SND(B17)","v":6},{"$f":"IF(X17>0,1,0)","v":1},{"$f":"Maj_abs_tab2(B17)","v":0},{"$f":"SNV(B17)","v":9},{"$f":"IF(AA17>0,1,0)","v":1},{"$f":"Maj_abs_tab3(B17)","v":0}]
[null,"EVERE",{"$f":"Inscrits(B18)","v":23643},{"$f":"BDEPOSES(B18)","v":19794},{"$f":"100/C18*D18","v":83.720340058368237},{"$f":"BBN(B18)","v":1716},{"$f":"100/C18*F18","v":7.2579621875396532},{"$f":"VOTESV(B18)","v":18078},{"$f":"100/C18*H18","v":76.462377870828576},{"$f":"SIEGES(B18)","v":35},{"$f":"C18-D18","v":3849},{"$f":"100/C18*K18","v":16.279659941631774},{"$f":"C18-H18","v":5565},{"$f":"(100/C18)*M18","v":23.537622129171428},{"$f":"NBL(B18)","v":8},{"$f":"Maj_abs_tab1(B18)","v":0},{"$f":"pc_Vx_LUMA(B18)","v":0},{"$f":"IF(Q18>50,1,0)","v":0},{"$f":"Nbr_Coal(B18)","v":1},{"$f":"pc_Vx_Coal(B18)","v":38.167745209998735},{"$f":"IF(T18>50,1,0)","v":0},{"$f":"SBN(B18)","v":2},{"$f":"IF(V18>0,1,0)","v":1},{"$f":"SND(B18)","v":6},{"$f":"IF(X18>0,1,0)","v":1},{"$f":"Maj_abs_tab2(B18)","v":0},{"$f":"SNV(B18)","v":10},{"$f":"IF(AA18>0,1,0)","v":1},{"$f":"Maj_abs_tab3(B18)","v":0}]
[null,"GANSHOREN",{"$f":"Inscrits(B19)","v":15260},{"$f":"BDEPOSES(B19)","v":13170},{"$f":"100/C19*D19","v":86.304062909567492},{"$f":"BBN(B19)","v":1028},{"$f":"100/C19*F19","v":6.7365661861074697},{"$f":"VOTESV(B19)","v":12142},{"$f":"100/C19*H19","v":79.567496723460025},{"$f":"SIEGES(B19)","v":27},{"$f":"C19-D19","v":2090},{"$f":"100/C19*K19","v":13.695937090432503},{"$f":"C19-H19","v":3118},{"$f":"(100/C19)*M19","v":20.432503276539972},{"$f":"NBL(B19)","v":6},{"$f":"Maj_abs_tab1(B19)","v":0},{"$f":"pc_Vx_LUMA(B19)","v":0},{"$f":"IF(Q19>50,1,0)","v":0},{"$f":"Nbr_Coal(B19)","v":1},{"$f":"pc_Vx_Coal(B19)","v":37.66710353866317},{"$f":"IF(T19>50,1,0)","v":0},{"$f":"SBN(B19)","v":1},{"$f":"IF(V19>0,1,0)","v":1},{"$f":"SND(B19)","v":4},{"$f":"IF(X19>0,1,0)","v":1},{"$f":"Maj_abs_tab2(B19)","v":0},{"$f":"SNV(B19)","v":6},{"$f":"IF(AA19>0,1,0)","v":1},{"$f":"Maj_abs_tab3(B19)","v":0}]
[null,"SAINT-JOSSE-TEN-NOODE",{"$f":"Inscrits(B20)","v":13027},{"$f":"BDEPOSES(B20)","v":11124},{"$f":"100/C20*D20","v":85.391878406386738},{"$f":"BBN(B20)","v":713},{"$f":"100/C20*F20","v":5.4732478698088585},{"$f":"VOTESV(B20)","v":10411},{"$f":"100/C20*H20","v":79.918630536577879},{"$f":"SIEGES(B20)","v":29},{"$f":"C20-D20","v":1903},{"$f":"100/C20*K20","v":14.608121593613266},{"$f":"C20-H20","v":2616},{"$f":"(100/C20)*M20","v":20.081369463422124},{"$f":"NBL(B20)","v":7},{"$f":"Maj_abs_tab1(B20)","v":1},{"$f":"pc_Vx_LUMA(B20)","v":38.282029630766871},{"$f":"IF(Q20>50,1,0)","v":0},{"$f":"Nbr_Coal(B20)","v":0},{"$f":"pc_Vx_Coal(B20)","v":0},{"$f":"IF(T20>50,1,0)","v":0},{"$f":"SBN(B20)","v":1},{"$f":"IF(V20>0,1,0)","v":1},{"$f":"SND(B20)","v":5},{"$f":"IF(X20>0,1,0)","v":1},{"$f":"Maj_abs_tab2(B20)","v":0},{"$f":"SNV(B20)","v":6},{"$f":"IF(AA20>0,1,0)","v":1},{"$f":"Maj_abs_tab3(B20)","v":0}]
[]
[null,"TOTAUX",{"$f":"SUM(C2:C20)","v":635328},{"$f":"SUM(D2:D20)","v":535366},{"$f":"D22","v":535366},{"$f":"SUM(F2:F20)","v":31830},{"$f":"F22","v":31830},{"$f":"SUM(H2:H20)","v":503482},{"$f":"H22","v":503482},{"$f":"SUM(J2:J20)","v":695},{"$f":"SUM(K2:K20)","v":99962},{"$f":"K22","v":99962},{"$f":"SUM(M2:M20)","v":131846},{"$f":"M22","v":131846},{"$f":"SUM(O2:O20)","v":152},{"$f":"SUM(P2:P20)","v":3},null,{"$f":"SUM(R2:R20)","v":0},{"$f":"SUM(S2:S20)","v":18},null,{"$f":"SUM(U2:U21)","v":7},{"$f":"SUM(V2:V21)","v":22},{"$f":"SUM(W2:W21)","v":16},{"$f":"SUM(X2:X20)","v":115},{"$f":"SUM(Y2:Y20)","v":19},{"$f":"SUM(Z2:Z20)","v":2},{"$f":"SUM(AA2:AA20)","v":158},{"$f":"SUM(AB2:AB20)","v":19},{"$f":"SUM(AC2:AC20)","v":1}]
[null,"MOYENNES",100,null,{"$f":"100/C22*D22","v":84.266079883146972},null,{"$f":"100/C22*F22","v":5.0100105772136603},null,{"$f":"100/C22*H22","v":79.247569759242481},null,null,{"$f":"100/C22*K22","v":15.733920116853028},null,{"$f":"100/C22*M22","v":20.75243024075753},null,{"$f":"100/COUNTA(B2:B20)*P22","v":15.789473684210527},null,{"$f":"100/COUNTA(B2:B20)*R22","v":0},{"$f":"100/COUNTA(B2:B20)*S22","v":94.736842105263165},null,{"$f":"100/COUNTA(B2:B20)*U22","v":36.842105263157897},{"$f":"100/J22*V22","v":3.1654676258992804},{"$f":"100/COUNTA(B2:B20)*W22","v":84.21052631578948},{"$f":"100/J22*X22","v":16.546762589928058},{"$f":"100/COUNTA(B2:B20)*Y22","v":100},{"$f":"100/COUNTA(B2:B20)*Z22","v":10.526315789473685},{"$f":"100/J22*AA22","v":22.733812949640289},{"$f":"100/COUNTA(B2:B20)*AB22","v":100},{"$f":"100/COUNTA(B2:B20)*AC22","v":5.2631578947368425}]

{"sheet":"Tableaux","index":3,"n_rows":5,"n_cols":9,"rows_kept":5,"cut":false,"hidden":false,"merged":[[0,0,0,10]]}
["Ce tableau est correct si dans l'onglet RÉSULTATS les communes sont classées selon l'ordre décroissant des sièges à pourvoir."]
["%\n\nInscrits",null,"%\nVotes\nBlancs\net nuls",null,"%\nVotes\nBlancs\nSelon Opening\nthe opaque\nblank box\n1/3",null,"%\nBulletins\nAbsentéisme\nélectoral",null,"%\nVotes\nNon-valables\n&\nAbsentéisme\nélectoral"]
[{"$f":"100/RÉSULTATS!$C$22*SUM(RÉSULTATS!C2:C7)","v":23.891596151908935},">40 sièges\n56,37% / Inscrits",{"$f":"100/SUM(RÉSULTATS!C2:C6)*SUM(RÉSULTATS!F2:F6)","v":4.5036958405207743},null,{"$f":"C3/3","v":1.5012319468402582},null,{"$f":"100/SUM(RÉSULTATS!C2:C6)*SUM(RÉSULTATS!K2:K6)","v":13.532162008164413},null,{"$f":"100/SUM(RÉSULTATS!C2:C6)*SUM(RÉSULTATS!M2:M6)","v":18.078006821889367}]
[{"$f":"100/RÉSULTATS!$C$22*SUM(RÉSULTATS!C8:C14)","v":46.048655182834693},">35 sièges <40\n29,14% / Inscrits",{"$f":"100/SUM(RÉSULTATS!C7:C18)*SUM(RÉSULTATS!F7:F18)","v":5.0778411606016824},null,{"$f":"C4/3","v":1.6926137202005609},null,{"$f":"100/SUM(RÉSULTATS!C7:C18)*SUM(RÉSULTATS!K7:K18)","v":16.418471406736767},null,{"$f":"100/SUM(RÉSULTATS!C7:C18)*SUM(RÉSULTATS!M7:M18)","v":21.49631256733845}]
[{"$f":"100/RÉSULTATS!$C$22*SUM(RÉSULTATS!C15:C20)","v":30.059748665256372},">0 sièges <35\n14,49% / Inscrits",{"$f":"100/SUM(RÉSULTATS!C19:C20)*SUM(RÉSULTATS!F19:F20)","v":6.1547707427440166},null,{"$f":"C5/3","v":2.051590247581339},null,{"$f":"100/SUM(RÉSULTATS!C19:C20)*SUM(RÉSULTATS!K19:K20)","v":14.116025029165341},null,{"$f":"100/SUM(RÉSULTATS!C19:C20)*SUM(RÉSULTATS!M19:M20)","v":20.270795771909356}]

{"sheet":"ANDERLECHT","index":4,"n_rows":114,"n_cols":100,"rows_kept":114,"cut":false,"hidden":false,"merged":[[1,1,1,48],[1,68,1,99],[1,50,1,66],[71,1,72,1],[113,15,113,16],[107,16,107,19],[109,16,109,19],[111,16,111,19],[74,1,75,1],[95,15,95,32],[105,22,105,27],[107,22,107,27],[109,22,109,27],[111,22,111,27],[105,16,105,19]]}
[]
[null,"IMPÉRIALI",null,null,null,null,null,null,null,null,null,null,null,null,null,null,null,null,null,null,null,null,null,null,null,null,null,null,null,null,null,null,null,null,null,null,null,null,null,null,null,null,null,null,null,null,null,null,null,null,"PROPORTIONNELLE PURE",null,null,null,null,null,null,null,null,null,null,null,null,null,null,null,null,null,"D'HONDT"]
[]
[null,"Coalition","x",null,"x","x"]
[null,{"$f":"COUNTA(C5:P5)","v":10},"Ecolo-Groen","VLAAMS BELANG","DéFI","PS-sp.a-cdH","CD&V Plus","N-VA","PTB*PVDA","MR-Open Vld-IC","LA DROITE","NATION",null,null,null,null,null,"Blancs & Nuls","Non-déposés",{"$f":"C5","v":"Ecolo-Groen"},{"$f":"D5","v":"VLAAMS BELANG"},{"$f":"E5","v":"DéFI"},{"$f":"F5","v":"PS-sp.a-cdH"},{"$f":"G5","v":"CD&V Plus"},{"$f":"H5","v":"N-VA"},{"$f":"I5","v":"PTB*PVDA"},{"$f":"J5","v":"MR-Open Vld-IC"},{"$f":"K5","v":"LA DROITE"},{"$f":"L5","v":"NATION"},{"$f":"M5","v":0},{"$f":"N5","v":0},{"$f":"O5","v":0},{"$f":"P5","v":0},null,"Non-valables",{"$f":"C5","v":"Ecolo-Groen"},{"$f":"D5","v":"VLAAMS BELANG"},{"$f":"E5","v":"DéFI"},{"$f":"F5","v":"PS-sp.a-cdH"},{"$f":"G5","v":"CD&V Plus"},{"$f":"H5","v":"N-VA"},{"$f":"I5","v":"PTB*PVDA"},{"$f":"J5","v":"MR-Open Vld-IC"},{"$f":"K5","v":"LA DROITE"},{"$f":"L5","v":"NATION"},{"$f":"M5","v":0},{"$f":"N5","v":0},{"$f":"O5","v":0},{"$f":"P5","v":0},null,"New Key","Blancs & Nuls","Non-déposés",{"$f":"C5","v":"Ecolo-Groen"},{"$f":"D5","v":"VLAAMS BELANG"},"DéFI","PS-sp.a-cdH","CD&V Plus","N-VA","PTB*PVDA","MR-Open Vld-IC","LA DROITE","NATION",0,0,0,0,null,null,{"$f":"C5","v":"Ecolo-Groen"},{"$f":"D5","v":"VLAAMS BELANG"},"DéFI","PS-sp.a-cdH","CD&V Plus","N-VA","PTB*PVDA","MR-Open Vld-IC","LA DROITE","NATION",0,0,0,0,null,"Blancs & Nuls","Non-déposés",{"$f":"C5","v":"Ecolo-Groen"},{"$f":"D5","v":"VLAAMS BELANG"},"DéFI","PS-sp.a-cdH","CD&V Plus","N-VA","PTB*PVDA","MR-Open Vld-IC","LA DROITE","NATION",0,0,0,0]
[null,"Chiffres\nélectoraux",7320,1006,3581,14023,716,1950,6891,10628,631,428,0,0,0,0,null,{"$f":"C65","v":3729},{"$f":"C63-C64","v":9970},7320,1006,3581,14023,716,1950,6891,10628,631,428,0,0,0,0,null,{"$f":"R6+S6","v":13699},7320,1006,3581,14023,716,1950,6891,10628,631,428,0,0,0,0,null,null,{"$f":"C65","v":3729},{"$f":"C63-C64","v":9970},{"$f":"C6","v":7320},1006,3581,14023,716,1950,6891,10628,631,428,0,0,0,0,null,"Chiffres\nélectoraux",{"$f":"C6","v":7320},1006,3581,14023,716,1950,6891,10628,631,428,0,0,0,0,null,{"$f":"C65","v":3729},{"$f":"C63-C64","v":9970},{"$f":"C6","v":7320},1006,3581,14023,716,1950,6891,10628,631,428,0,0,0,0]
[null,"Sièges",8,0,3,16,0,1,7,12,0,0,0,0,0,0,null,2,9,6,0,2,13,0,0,6,9,0,0,0,0,0,0,null,12,6,0,2,13,0,0,5,9,0,0,0,0,0,0,null,1295.1702127659576,2.879158247498891,7.6978299081694672,5.6517667931595286,0.77673188441509367,2.7648875527738075,10.827148325201648,0.55282309069702495,1.5055936129318415,5.3205361983145236,8.2058712401228782,0.48719465115897026,0.33045849555632217,0,0,0,0,null,"Sièges",8,1,3,15,0,2,7,11,0,0,0,0,0,0,null,3,8,6,0,3,12,0,1,5,9,0,0,0,0,0,0]
[null,2,{"$f":"$C$6/B8","v":3660},{"$f":"$D$6/B8","v":503},{"$f":"$E$6/B8","v":1790.5},{"$f":"$F$6/B8","v":7011.5},{"$f":"$G$6/B8","v":358},{"$f":"$H$6/B8","v":975},{"$f":"$I$6/B8","v":3445.5},{"$f":"$J$6/B8","v":5314},{"$f":"$K$6/B8","v":315.5},{"$f":"$L$6/B8","v":214},{"$f":"$M$6/B8","v":0},{"$f":"$N$6/B8","v":0},{"$f":"$O$6/B8","v":0},{"$f":"$P$6/B8","v":0},null,{"$f":"$R$6/B8","v":1864.5},{"$f":"$S$6/B8","v":4985},{"$f":"C8","v":3660},{"$f":"D8","v":503},{"$f":"E8","v":1790.5},{"$f":"F8","v":7011.5},{"$f":"G8","v":358},{"$f":"H8","v":975},{"$f":"I8","v":3445.5},{"$f":"J8","v":5314},{"$f":"K8","v":315.5},{"$f":"L8","v":214},{"$f":"M8","v":0},0,{"$f":"O8","v":0},{"$f":"P8","v":0},null,{"$f":"$AI$6/B8","v":6849.5},{"$f":"C8","v":3660},{"$f":"D8","v":503},{"$f":"E8","v":1790.5},{"$f":"F8","v":7011.5},{"$f":"G8","v":358},{"$f":"H8","v":975},{"$f":"I8","v":3445.5},{"$f":"J8","v":5314},{"$f":"K8","v":315.5},{"$f":"L8","v":214},{"$f":"M8","v":0},0,{"$f":"O8","v":0},{"$f":"P8","v":0},null,null,null,null,null,null,null,null,null,null,null,null,null,null,null,null,null,null,null,1,{"$f":"$C$6/BQ8","v":7320},{"$f":"$D$6/BQ8","v":1006},{"$f":"$E$6/BQ8","v":3581},{"$f":"$F$6/BQ8","v":14023},{"$f":"$G$6/BQ8","v":716},{"$f":"$H$6/BQ8","v":1950},{"$f":"$I$6/BQ8","v":6891},{"$f":"$J$6/BQ8","v":10628},{"$f":"$K$6/BQ8","v":631},{"$f":"$L$6/BQ8","v":428},{"$f":"$M$6/BQ8","v":0},{"$f":"$N$6/BQ8","v":0},{"$f":"$O$6/BQ8","v":0},{"$f":"$P$6/BQ8","v":0},null,{"$f":"$R$6/BQ8","v":3729},{"$f":"$S$6/BQ8","v":9970},{"$f":"BR8","v":7320},{"$f":"BS8","v":1006},{"$f":"BT8","v":3581},{"$f":"BU8","v":14023},{"$f":"BV8","v":716},{"$f":"BW8","v":1950},{"$f":"BX8","v":6891},{"$f":"BY8","v":10628},{"$f":"BZ8","v":631},{"$f":"CA8","v":428},{"$f":"CB8","v":0},{"$f":"CC8","v":0},{"$f":"CD8","v":0},{"$f":"CE8","v":0}]
[null,3,{"$f":"$C$6/B9","v":2440},335.33333333333331,{"$f":"$E$6/B9","v":1193.6666666666667},4674.333333333333,238.66666666666666,{"$f":"$H$6/B9","v":650},{"$f":"$I$6/B9","v":2297},{"$f":"$J$6/B9","v":3542.6666666666665},{"$f":"$K$6/B9","v":210.33333333333334},{"$f":"$L$6/B9","v":142.66666666666666},0,0,{"$f":"$O$6/B9","v":0},0,null,1243,3323.3333333333335,2440,335.33333333333331,1193.6666666666667,4674.333333333333,238.66666666666666,650,2297,3542.6666666666665,210.33333333333334,142.66666666666666,0,0,0,0,null,4566.333333333333,2440,335.33333333333331,1193.6666666666667,4674.333333333333,238.66666666666666,650,2297,3542.6666666666665,210.33333333333334,142.66666666666666,0,0,0,0,null,null,null,null,null,null,null,null,null,null,null,null,null,null,null,null,null,null,null,2,{"$f":"$C$6/BQ9","v":3660},503,{"$f":"$E$6/BQ9","v":1790.5},7011.5,358,{"$f":"$H$6/BQ9","v":975},{"$f":"$I$6/BQ9","v":3445.5},{"$f":"$J$6/BQ9","v":5314},{"$f":"$K$6/BQ9","v":315.5},{"$f":"$L$6/BQ9","v":214},0,0,{"$f":"$O$6/BQ9","v":0},0,null,1864.5,4985,3660,503,1790.5,7011.5,358,975,3445.5,5314,315.5,214,0,0,0,0]
[null,4,1830,251.5,895.25,3505.75,179,487.5,1722.75,2657,157.75,107,0,0,0,0,null,932.25,2492.5,1830,251.5,895.25,3505.75,179,487.5,1722.75,2657,157.75,107,0,0,0,0,null,3424.75,1830,251.5,895.25,3505.75,179,487.5,1722.75,2657,157.75,107,0,0,0,0,null,null,null,null,null,null,null,null,null,null,null,null,null,null,null,null,null,null,null,3,2440,335.33333333333331,1193.6666666666667,4674.333333333333,238.66666666666666,650,2297,3542.6666666666665,210.33333333333334,142.66666666666666,0,0,0,0,null,1243,3323.3333333333335,2440,335.33333333333331,1193.6666666666667,4674.333333333333,238.66666666666666,650,2297,3542.6666666666665,210.33333333333334,142.66666666666666,0,0,0,0]
[null,5,1464,201.2,716.2,2804.6,143.19999999999999,390,1378.2,2125.6,126.2,85.6,0,0,0,0,null,745.8,1994,1464,201.2,716.2,2804.6,143.19999999999999,390,1378.2,2125.6,126.2,85.6,0,0,0,0,null,2739.8,1464,201.2,716.2,2804.6,143.19999999999999,390,1378.2,2125.6,126.2,85.6,0,0,0,0,null,null,null,null,null,null,null,null,null,null,null,null,null,null,null,null,null,null,null,4,1830,251.5,895.25,3505.75,179,487.5,1722.75,2657,157.75,107,0,0,0,0,null,932.25,2492.5,1830,251.5,895.25,3505.75,179,487.5,1722.75,2657,157.75,107,0,0,0,0]
[null,6,1220,167.66666666666666,596.83333333333337,2337.1666666666665,119.33333333333333,325,1148.5,1771.3333333333333,105.16666666666667,71.333333333333329,0,0,0,0,null,621.5,1661.6666666666667,1220,167.66666666666666,596.83333333333337,2337.1666666666665,119.33333333333333,325,1148.5,1771.3333333333333,105.16666666666667,71.333333333333329,0,0,0,0,null,2283.1666666666665,1220,167.66666666666666,596.83333333333337,2337.1666666666665,119.33333333333333,325,1148.5,1771.3333333333333,105.16666666666667,71.333333333333329,0,0,0,0,null,null,null,null,null,null,null,null,null,null,null,null,null,null,null,null,null,null,null,5,1464,201.2,716.2,2804.6,143.19999999999999,390,1378.2,2125.6,126.2,85.6,0,0,0,0,null,745.8,1994,1464,201.2,716.2,2804.6,143.19999999999999,390,1378.2,2125.6,126.2,85.6,0,0,0,0]
[null,7,1045.7142857142858,143.71428571428572,511.57142857142856,2003.2857142857142,102.28571428571429,278.57142857142856,984.42857142857144,1518.2857142857142,90.142857142857139,61.142857142857146,0,0,0,0,null,532.71428571428567,1424.2857142857142,1045.7142857142858,143.71428571428572,511.57142857142856,2003.2857142857142,102.28571428571429,278.57142857142856,984.42857142857144,1518.2857142857142,90.142857142857139,61.142857142857146,0,0,0,0,null,1957,1045.7142857142858,143.71428571428572,511.57142857142856,2003.2857142857142,102.28571428571429,278.57142857142856,984.42857142857144,1518.2857142857142,90.142857142857139,61.142857142857146,0,0,0,0,null,null,null,null,null,null,null,null,null,null,null,null,null,null,null,null,null,null,null,6,1220,167.66666666666666,596.83333333333337,2337.1666666666665,119.33333333333333,325,1148.5,1771.3333333333333,105.16666666666667,71.333333333333329,0,0,0,0,null,621.5,1661.6666666666667,1220,167.66666666666666,596.83333333333337,2337.1666666666665,119.33333333333333,325,1148.5,1771.3333333333333,105.16666666666667,71.333333333333329,0,0,0,0]
[null,8,915,125.75,447.625,1752.875,89.5,243.75,861.375,1328.5,78.875,53.5,0,0,0,0,null,466.125,1246.25,915,125.75,447.625,1752.875,89.5,243.75,861.375,1328.5,78.875,53.5,0,0,0,0,null,1712.375,915,125.75,447.625,1752.875,89.5,243.75,861.375,1328.5,78.875,53.5,0,0,0,0,null,null,null,null,null,null,null,null,null,null,null,null,null,null,null,null,null,null,null,7,1045.7142857142858,143.71428571428572,511.57142857142856,2003.2857142857142,102.28571428571429,278.57142857142856,984.42857142857144,1518.2857142857142,90.142857142857139,61.142857142857146,0,0,0,0,null,532.71428571428567,1424.2857142857142,1045.7142857142858,143.71428571428572,511.57142857142856,2003.2857142857142,102.28571428571429,278.57142857142856,984.42857142857144,1518.2857142857142,90.142857142857139,61.142857142857146,0,0,0,0]
[null,9,813.33333333333337,111.77777777777777,397.88888888888891,1558.1111111111111,79.555555555555557,216.66666666666666,765.66666666666663,1180.8888888888889,70.111111111111114,47.555555555555557,0,0,0,0,null,414.33333333333331,1107.7777777777778,813.33333333333337,111.77777777777777,397.88888888888891,1558.1111111111111,79.555555555555557,216.66666666666666,765.66666666666663,1180.8888888888889,70.111111111111114,47.555555555555557,0,0,0,0,null,1522.1111111111111,813.33333333333337,111.77777777777777,397.88888888888891,1558.1111111111111,79.555555555555557,216.66666666666666,765.66666666666663,1180.8888888888889,70.111111111111114,47.555555555555557,0,0,0,0,null,null,null,null,null,null,null,null,null,null,null,null,null,null,null,null,null,null,null,8,915,125.75,447.625,1752.875,89.5,243.75,861.375,1328.5,78.875,53.5,0,0,0,0,null,466.125,1246.25,915,125.75,447.625,1752.875,89.5,243.75,861.375,1328.5,78.875,53.5,0,0,0,0]
[null,10,732,100.6,358.1,1402.3,71.599999999999994,195,689.1,1062.8,63.1,42.8,0,0,0,0,null,372.9,997,732,100.6,358.1,1402.3,71.599999999999994,195,689.1,1062.8,63.1,42.8,0,0,0,0,null,1369.9,732,100.6,358.1,1402.3,71.599999999999994,195,689.1,1062.8,63.1,42.8,0,0,0,0,null,null,null,null,null,null,null,null,null,null,null,null,null,null,null,null,null,null,null,9,813.33333333333337,111.77777777777777,397.88888888888891,1558.1111111111111,79.555555555555557,216.66666666666666,765.66666666666663,1180.8888888888889,70.111111111111114,47.555555555555557,0,0,0,0,null,414.33333333333331,1107.7777777777778,813.33333333333337,111.77777777777777,397.88888888888891,1558.1111111111111,79.555555555555557,216.66666666666666,765.66666666666663,1180.8888888888889,70.111111111111114,47.555555555555557,0,0,0,0]
[null,11,665.4545454545455,91.454545454545453,325.54545454545456,1274.8181818181818,65.090909090909093,177.27272727272728,626.4545454545455,966.18181818181813,57.363636363636367,38.909090909090907,0,0,0,0,null,339,906.36363636363637,665.4545454545455,91.454545454545453,325.54545454545456,1274.8181818181818,65.090909090909093,177.27272727272728,626.4545454545455,966.18181818181813,57.363636363636367,38.909090909090907,0,0,0,0,null,1245.3636363636363,665.4545454545455,91.454545454545453,325.54545454545456,1274.8181818181818,65.090909090909093,177.27272727272728,626.4545454545455,966.18181818181813,57.363636363636367,38.909090909090907,0,0,0,0,null,null,null,null,null,null,null,null,null,null,null,null,null,null,null,null,null,null,null,10,732,100.6,358.1,1402.3,71.599999999999994,195,689.1,1062.8,63.1,42.8,0,0,0,0,null,372.9,997,732,100.6,358.1,1402.3,71.599999999999994,195,689.1,1062.8,63.1,42.8,0,0,0,0]
[null,12,610,83.833333333333329,298.41666666666669,1168.5833333333333,59.666666666666664,162.5,574.25,885.66666666666663,52.583333333333336,35.666666666666664,0,0,0,0,null,310.75,830.83333333333337,610,83.833333333333329,298.41666666666669,1168.5833333333333,59.666666666666664,162.5,574.25,885.66666666666663,52.583333333333336,35.666666666666664,0,0,0,0,null,1141.5833333333333,610,83.833333333333329,298.41666666666669,1168.5833333333333,59.666666666666664,162.5,574.25,885.66666666666663,52.583333333333336,35.666666666666664,0,0,0,0,null,null,null,null,null,null,null,null,null,null,null,null,null,null,null,null,null,null,null,11,665.4545454545455,91.454545454545453,325.54545454545456,1274.8181818181818,65.090909090909093,177.27272727272728,626.4545454545455,966.18181818181813,57.363636363636367,38.909090909090907,0,0,0,0,null,339,906.36363636363637,665.4545454545455,91.454545454545453,325.54545454545456,1274.8181818181818,65.090909090909093,177.27272727272728,626.4545454545455,966.18181818181813,57.363636363636367,38.909090909090907,0,0,0,0]
[null,13,563.07692307692309,77.384615384615387,275.46153846153845,1078.6923076923076,55.07692307692308,150,530.07692307692309,817.53846153846155,48.53846153846154,32.92307692307692,0,0,0,0,null,286.84615384615387,766.92307692307691,563.07692307692309,77.384615384615387,275.46153846153845,1078.6923076923076,55.07692307692308,150,530.07692307692309,817.53846153846155,48.53846153846154,32.92307692307692,0,0,0,0,null,1053.7692307692307,563.07692307692309,77.384615384615387,275.46153846153845,1078.6923076923076,55.07692307692308,150,530.07692307692309,817.53846153846155,48.53846153846154,32.92307692307692,0,0,0,0,null,null,null,null,null,null,null,null,null,null,null,null,null,null,null,null,null,null,null,12,610,83.833333333333329,298.41666666666669,1168.5833333333333,59.666666666666664,162.5,574.25,885.66666666666663,52.583333333333336,35.666666666666664,0,0,0,0,null,310.75,830.83333333333337,610,83.833333333333329,298.41666666666669,1168.5833333333333,59.666666666666664,162.5,574.25,885.66666666666663,52.583333333333336,35.666666666666664,0,0,0,0]
[null,14,522.85714285714289,71.857142857142861,255.78571428571428,1001.6428571428571,51.142857142857146,139.28571428571428,492.21428571428572,759.14285714285711,45.071428571428569,30.571428571428573,0,0,0,0,null,266.35714285714283,712.14285714285711,522.85714285714289,71.857142857142861,255.78571428571428,1001.6428571428571,51.142857142857146,139.28571428571428,492.21428571428572,759.14285714285711,45.071428571428569,30.571428571428573,0,0,0,0,null,978.5,522.85714285714289,71.857142857142861,255.78571428571428,1001.6428571428571,51.142857142857146,139.28571428571428,492.21428571428572,759.14285714285711,45.071428571428569,30.571428571428573,0,0,0,0,null,null,null,null,null,null,null,null,null,null,null,null,null,null,null,null,null,null,null,13,563.07692307692309,77.384615384615387,275.46153846153845,1078.6923076923076,55.07692307692308,150,530.07692307692309,817.53846153846155,48.53846153846154,32.92307692307692,0,0,0,0,null,286.84615384615387,766.92307692307691,563.07692307692309,77.384615384615387,275.46153846153845,1078.6923076923076,55.07692307692308,150,530.07692307692309,817.53846153846155,48.53846153846154,32.92307692307692,0,0,0,0]
[null,15,488,67.066666666666663,238.73333333333332,934.86666666666667,47.733333333333334,130,459.4,708.5333333333333,42.06666666666667,28.533333333333335,0,0,0,0,null,248.6,664.66666666666663,488,67.066666666666663,238.73333333333332,934.86666666666667,47.733333333333334,130,459.4,708.5333333333333,42.06666666666667,28.533333333333335,0,0,0,0,null,913.26666666666665,488,67.066666666666663,238.73333333333332,934.86666666666667,47.733333333333334,130,459.4,708.5333333333333,42.06666666666667,28.533333333333335,0,0,0,0,null,null,null,null,null,null,null,null,null,null,null,null,null,null,null,null,null,null,null,14,522.85714285714289,71.857142857142861,255.78571428571428,1001.6428571428571,51.142857142857146,139.28571428571428,492.21428571428572,759.14285714285711,45.071428571428569,30.571428571428573,0,0,0,0,null,266.35714285714283,712.14285714285711,522.85714285714289,71.857142857142861,255.78571428571428,1001.6428571428571,51.142857142857146,139.28571428571428,492.21428571428572,759.14285714285711,45.071428571428569,30.571428571428573,0,0,0,0]
[null,16,457.5,62.875,223.8125,876.4375,44.75,121.875,430.6875,664.25,39.4375,26.75,0,0,0,0,null,233.0625,623.125,457.5,62.875,223.8125,876.4375,44.75,121.875,430.6875,664.25,39.4375,26.75,0,0,0,0,null,856.1875,457.5,62.875,223.8125,876.4375,44.75,121.875,430.6875,664.25,39.4375,26.75,0,0,0,0,null,null,null,null,null,null,null,null,null,null,null,null,null,null,null,null,null,null,null,15,488,67.066666666666663,238.73333333333332,934.86666666666667,47.733333333333334,130,459.4,708.5333333333333,42.06666666666667,28.533333333333335,0,0,0,0,null,248.6,664.66666666666663,488,67.066666666666663,238.73333333333332,934.86666666666667,47.733333333333334,130,459.4,708.5333333333333,42.06666666666667,28.533333333333335,0,0,0,0]
[null,17,430.58823529411762,59.176470588235297,210.64705882352942,824.88235294117646,42.117647058823529,114.70588235294117,405.35294117647061,625.17647058823525,37.117647058823529,25.176470588235293,0,0,0,0,null,219.35294117647058,586.47058823529414,430.58823529411762,59.176470588235297,210.64705882352942,824.88235294117646,42.117647058823529,114.70588235294117,405.35294117647061,625.17647058823525,37.117647058823529,25.176470588235293,0,0,0,0,null,805.82352941176475,430.58823529411762,59.176470588235297,210.64705882352942,824.88235294117646,42.117647058823529,114.70588235294117,405.35294117647061,625.17647058823525,37.117647058823529,25.176470588235293,0,0,0,0,null,null,null,null,null,null,null,null,null,null,null,null,null,null,null,null,null,null,null,16,457.5,62.875,223.8125,876.4375,44.75,121.875,430.6875,664.25,39.4375,26.75,0,0,0,0,null,233.0625,623.125,457.5,62.875,223.8125,876.4375,44.75,121.875,430.6875,664.25,39.4375,26.75,0,0,0,0]
[null,18,406.66666666666669,55.888888888888886,198.94444444444446,779.05555555555554,39.777777777777779,108.33333333333333,382.83333333333331,590.44444444444446,35.055555555555557,23.777777777777779,0,0,0,0,null,207.16666666666666,553.88888888888891,406.66666666666669,55.888888888888886,198.94444444444446,779.05555555555554,39.777777777777779,108.33333333333333,382.83333333333331,590.44444444444446,35.055555555555557,23.777777777777779,{"$f":"M24","v":0},0,0,0,null,761.05555555555554,406.66666666666669,55.888888888888886,198.94444444444446,779.05555555555554,39.777777777777779,108.33333333333333,382.83333333333331,590.44444444444446,35.055555555555557,23.777777777777779,{"$f":"M24","v":0},0,0,0,null,null,null,null,null,null,null,null,null,null,null,null,null,null,null,null,null,null,null,17,430.58823529411762,59.176470588235297,210.64705882352942,824.88235294117646,42.117647058823529,114.70588235294117,405.35294117647061,625.17647058823525,37.117647058823529,25.176470588235293,0,0,0,0,null,219.35294117647058,586.47058823529414,430.58823529411762,59.176470588235297,210.64705882352942,824.88235294117646,42.117647058823529,114.70588235294117,405.35294117647061,625.17647058823525,37.117647058823529,25.176470588235293,0,0,0,0]
[null,19,385.26315789473682,52.94736842105263,188.47368421052633,738.0526315789474,37.684210526315788,102.63157894736842,362.68421052631578,559.36842105263156,33.210526315789473,22.526315789473685,0,0,0,0,null,196.26315789473685,524.73684210526312,385.26315789473682,52.94736842105263,188.47368421052633,738.0526315789474,37.684210526315788,102.63157894736842,362.68421052631578,559.36842105263156,33.210526315789473,22.526315789473685,0,0,0,0,null,721,385.26315789473682,52.94736842105263,188.47368421052633,738.0526315789474,37.684210526315788,102.63157894736842,362.68421052631578,559.36842105263156,33.210526315789473,22.526315789473685,0,0,0,0,null,null,null,null,null,null,null,null,null,null,null,null,null,null,null,null,null,null,null,18,406.66666666666669,55.888888888888886,198.94444444444446,779.05555555555554,39.777777777777779,108.33333333333333,382.83333333333331,590.44444444444446,35.055555555555557,23.777777777777779,0,0,0,0,null,207.16666666666666,553.88888888888891,406.66666666666669,55.888888888888886,198.94444444444446,779.05555555555554,39.777777777777779,108.33333333333333,382.83333333333331,590.44444444444446,35.055555555555557,23.777777777777779,0,0,0,0]
[null,20,366,50.3,179.05,701.15,35.799999999999997,97.5,344.55,531.4,31.55,21.4,0,0,0,0,null,186.45,498.5,366,50.3,179.05,701.15,35.799999999999997,97.5,344.55,531.4,31.55,21.4,0,0,0,0,null,684.95,366,50.3,179.05,701.15,35.799999999999997,97.5,344.55,531.4,31.55,21.4,0,0,0,0,null,null,null,null,null,null,null,null,null,null,null,null,null,null,null,null,null,null,null,19,385.26315789473682,52.94736842105263,188.47368421052633,738.0526315789474,37.684210526315788,102.63157894736842,362.68421052631578,559.36842105263156,33.210526315789473,22.526315789473685,0,0,0,0,null,196.26315789473685,524.73684210526312,385.26315789473682,52.94736842105263,188.47368421052633,738.0526315789474,37.684210526315788,102.63157894736842,362.68421052631578,559.36842105263156,33.210526315789473,22.526315789473685,0,0,0,0]
[null,21,348.57142857142856,47.904761904761905,170.52380952380952,667.76190476190482,34.095238095238095,92.857142857142861,328.14285714285717,506.09523809523807,30.047619047619047,20.38095238095238,0,0,0,0,null,177.57142857142858,474.76190476190476,348.57142857142856,47.904761904761905,170.52380952380952,667.76190476190482,34.095238095238095,92.857142857142861,328.14285714285717,506.09523809523807,30.047619047619047,20.38095238095238,0,0,0,{"$f":"P27","v":0},null,652.33333333333337,348.57142857142856,47.904761904761905,170.52380952380952,667.76190476190482,34.095238095238095,92.857142857142861,328.14285714285717,506.09523809523807,30.047619047619047,20.38095238095238,0,0,0,{"$f":"P27","v":0},null,null,null,null,null,null,null,null,null,null,null,null,null,null,null,null,null,null,null,20,366,50.3,179.05,701.15,35.799999999999997,97.5,344.55,531.4,31.55,21.4,0,0,0,0,null,186.45,498.5,366,50.3,179.05,701.15,35.799999999999997,97.5,344.55,531.4,31.55,21.4,0,0,0,0]
[null,22,332.72727272727275,45.727272727272727,162.77272727272728,637.40909090909088,32.545454545454547,88.63636363636364,313.22727272727275,483.09090909090907,28.681818181818183,19.454545454545453,0,0,0,0,null,169.5,453.18181818181819,332.72727272727275,45.727272727272727,162.77272727272728,637.40909090909088,32.545454545454547,88.63636363636364,313.22727272727275,483.09090909090907,28.681818181818183,19.454545454545453,0,0,0,0,null,622.68181818181813,332.72727272727275,45.727272727272727,162.77272727272728,637.40909090909088,32.545454545454547,88.63636363636364,313.22727272727275,483.09090909090907,28.681818181818183,19.454545454545453,0,0,0,0,null,null,null,null,null,null,null,null,null,null,null,null,null,null,null,null,null,null,null,21,348.57142857142856,47.904761904761905,170.52380952380952,667.76190476190482,34.095238095238095,92.857142857142861,328.14285714285717,506.09523809523807,30.047619047619047,20.38095238095238,0,0,0,0,null,177.57142857142858,474.76190476190476,348.57142857142856,47.904761904761905,170.52380952380952,667.76190476190482,34.095238095238095,92.857142857142861,328.14285714285717,506.09523809523807,30.047619047619047,20.38095238095238,0,0,0,0]
[null,23,318.26086956521738,43.739130434782609,155.69565217391303,609.695652173913,31.130434782608695,84.782608695652172,299.60869565217394,462.08695652173913,27.434782608695652,18.608695652173914,0,0,0,0,null,162.13043478260869,433.47826086956519,318.26086956521738,43.739130434782609,155.69565217391303,609.695652173913,31.130434782608695,84.782608695652172,299.60869565217394,462.08695652173913,27.434782608695652,18.608695652173914,0,0,0,0,null,595.60869565217388,318.26086956521738,43.739130434782609,155.69565217391303,609.695652173913,31.130434782608695,84.782608695652172,299.60869565217394,462.08695652173913,27.434782608695652,18.608695652173914,0,0,0,0,null,null,null,null,null,null,null,null,null,null,null,null,null,null,null,null,null,null,null,22,332.72727272727275,45.727272727272727,162.77272727272728,637.40909090909088,32.545454545454547,88.63636363636364,313.22727272727275,483.09090909090907,28.681818181818183,19.454545454545453,0,0,0,0,null,169.5,453.18181818181819,332.72727272727275,45.727272727272727,162.77272727272728,637.40909090909088,32.545454545454547,88.63636363636364,313.22727272727275,483.09090909090907,28.681818181818183,19.454545454545453,0,0,0,0]
[null,24,305,41.916666666666664,149.20833333333334,584.29166666666663,29.833333333333332,81.25,287.125,442.83333333333331,26.291666666666668,17.833333333333332,0,0,0,0,null,155.375,415.41666666666669,305,41.916666666666664,149.20833333333334,584.29166666666663,29.833333333333332,81.25,287.125,442.83333333333331,26.291666666666668,17.833333333333332,0,0,0,0,null,570.79166666666663,305,41.916666666666664,149.20833333333334,584.29166666666663,29.833333333333332,81.25,287.125,442.83333333333331,26.291666666666668,17.833333333333332,0,0,0,0,null,null,null,null,null,null,null,null,null,null,null,null,null,null,null,null,null,null,null,23,318.26086956521738,43.739130434782609,155.69565217391303,609.695652173913,31.130434782608695,84.782608695652172,299.60869565217394,462.08695652173913,27.434782608695652,18.608695652173914,0,0,0,0,null,162.13043478260869,433.47826086956519,318.26086956521738,43.739130434782609,155.69565217391303,609.695652173913,31.130434782608695,84.782608695652172,299.60869565217394,462.08695652173913,27.434782608695652,18.608695652173914,0,0,0,0]
[null,25,292.8,40.24,143.24,560.91999999999996,28.64,78,275.64,425.12,25.24,17.12,0,0,0,0,null,149.16,398.8,292.8,40.24,143.24,560.91999999999996,28.64,78,275.64,425.12,25.24,17.12,0,0,0,0,null,547.96,292.8,40.24,143.24,560.91999999999996,28.64,78,275.64,425.12,25.24,17.12,0,0,0,0,null,null,null,null,null,null,null,null,null,null,null,null,null,null,null,null,null,null,null,24,305,41.916666666666664,149.20833333333334,584.29166666666663,29.833333333333332,81.25,287.125,442.83333333333331,26.291666666666668,17.833333333333332,0,0,0,0,null,155.375,415.41666666666669,305,41.916666666666664,149.20833333333334,584.29166666666663,29.833333333333332,81.25,287.125,442.83333333333331,26.291666666666668,17.833333333333332,0,0,0,0]
[null,26,281.53846153846155,38.692307692307693,137.73076923076923,539.34615384615381,27.53846153846154,75,265.03846153846155,408.76923076923077,24.26923076923077,16.46153846153846,0,0,0,0,null,143.42307692307693,383.46153846153845,281.53846153846155,38.692307692307693,137.73076923076923,539.34615384615381,27.53846153846154,75,265.03846153846155,408.76923076923077,24.26923076923077,16.46153846153846,0,0,0,0,null,526.88461538461536,281.53846153846155,38.692307692307693,137.73076923076923,539.34615384615381,27.53846153846154,75,265.03846153846155,408.76923076923077,24.26923076923077,16.46153846153846,0,0,0,0,null,null,null,null,null,null,null,null,null,null,null,null,null,null,null,null,null,null,null,25,292.8,40.24,143.24,560.91999999999996,28.64,78,275.64,425.12,25.24,17.12,0,0,0,0,null,149.16,398.8,292.8,40.24,143.24,560.91999999999996,28.64,78,275.64,425.12,25.24,17.12,0,0,0,0]
[null,27,271.11111111111109,37.25925925925926,132.62962962962962,519.37037037037032,26.518518518518519,72.222222222222229,255.22222222222223,393.62962962962962,23.37037037037037,15.851851851851851,0,0,0,0,null,138.11111111111111,369.25925925925924,271.11111111111109,37.25925925925926,132.62962962962962,519.37037037037032,26.518518518518519,72.222222222222229,255.22222222222223,393.62962962962962,23.37037037037037,15.851851851851851,0,0,0,0,null,507.37037037037038,271.11111111111109,37.25925925925926,132.62962962962962,519.37037037037032,26.518518518518519,72.222222222222229,255.22222222222223,393.62962962962962,23.37037037037037,15.851851851851851,0,0,0,0,null,null,null,null,null,null,null,null,null,null,null,null,null,null,null,null,null,null,null,26,281.53846153846155,38.692307692307693,137.73076923076923,539.34615384615381,27.53846153846154,75,265.03846153846155,408.76923076923077,24.26923076923077,16.46153846153846,0,0,0,0,null,143.42307692307693,383.46153846153845,281.53846153846155,38.692307692307693,137.73076923076923,539.34615384615381,27.53846153846154,75,265.03846153846155,408.76923076923077,24.26923076923077,16.46153846153846,0,0,0,0]
[null,28,261.42857142857144,35.928571428571431,127.89285714285714,500.82142857142856,25.571428571428573,69.642857142857139,246.10714285714286,379.57142857142856,22.535714285714285,15.285714285714286,0,0,0,0,null,133.17857142857142,356.07142857142856,261.42857142857144,35.928571428571431,127.89285714285714,500.82142857142856,25.571428571428573,69.642857142857139,246.10714285714286,379.57142857142856,22.535714285714285,15.285714285714286,0,0,0,0,null,489.25,261.42857142857144,35.928571428571431,127.89285714285714,500.82142857142856,25.571428571428573,69.642857142857139,246.10714285714286,379.57142857142856,22.535714285714285,15.285714285714286,0,0,0,0,null,null,null,null,null,null,null,null,null,null,null,null,null,null,null,null,null,null,null,27,271.11111111111109,37.25925925925926,132.62962962962962,519.37037037037032,26.518518518518519,72.222222222222229,255.22222222222223,393.62962962962962,23.37037037037037,15.851851851851851,0,0,0,0,null,138.11111111111111,369.25925925925924,271.11111111111109,37.25925925925926,132.62962962962962,519.37037037037032,26.518518518518519,72.222222222222229,255.22222222222223,393.62962962962962,23.37037037037037,15.851851851851851,0,0,0,0]
[null,29,252.41379310344828,34.689655172413794,123.48275862068965,483.55172413793105,24.689655172413794,67.241379310344826,237.62068965517241,366.48275862068965,21.758620689655171,14.758620689655173,0,0,0,0,null,128.58620689655172,343.79310344827587,252.41379310344828,34.689655172413794,123.48275862068965,483.55172413793105,24.689655172413794,67.241379310344826,237.62068965517241,366.48275862068965,21.758620689655171,14.758620689655173,0,0,0,0,null,472.37931034482756,252.41379310344828,34.689655172413794,123.48275862068965,483.55172413793105,24.689655172413794,67.241379310344826,237.62068965517241,366.48275862068965,21.758620689655171,14.758620689655173,0,0,0,0,null,null,null,null,null,null,null,null,null,null,null,null,null,null,null,null,null,null,null,28,261.42857142857144,35.928571428571431,127.89285714285714,500.82142857142856,25.571428571428573,69.642857142857139,246.10714285714286,379.57142857142856,22.535714285714285,15.285714285714286,0,0,0,0,null,133.17857142857142,356.07142857142856,261.42857142857144,35.928571428571431,127.89285714285714,500.82142857142856,25.571428571428573,69.642857142857139,246.10714285714286,379.57142857142856,22.535714285714285,15.285714285714286,0,0,0,0]
[null,30,244,33.533333333333331,119.36666666666666,467.43333333333334,23.866666666666667,65,229.7,354.26666666666665,21.033333333333335,14.266666666666667,0,0,0,0,null,124.3,332.33333333333331,244,33.533333333333331,119.36666666666666,467.43333333333334,23.866666666666667,65,229.7,354.26666666666665,21.033333333333335,14.266666666666667,0,0,0,0,null,456.63333333333333,244,33.533333333333331,119.36666666666666,467.43333333333334,23.866666666666667,65,229.7,354.26666666666665,21.033333333333335,14.266666666666667,0,0,0,0,null,null,null,null,null,null,null,null,null,null,null,null,null,null,null,null,null,null,null,29,252.41379310344828,34.689655172413794,123.48275862068965,483.55172413793105,24.689655172413794,67.241379310344826,237.62068965517241,366.48275862068965,21.758620689655171,14.758620689655173,0,0,0,0,null,128.58620689655172,343.79310344827587,252.41379310344828,34.689655172413794,123.48275862068965,483.55172413793105,24.689655172413794,67.241379310344826,237.62068965517241,366.48275862068965,21.758620689655171,14.758620689655173,0,0,0,0]
[null,31,236.12903225806451,32.451612903225808,115.51612903225806,452.35483870967744,23.096774193548388,62.903225806451616,222.29032258064515,342.83870967741933,20.35483870967742,13.806451612903226,0,0,0,0,null,120.29032258064517,321.61290322580646,236.12903225806451,32.451612903225808,115.51612903225806,452.35483870967744,23.096774193548388,62.903225806451616,222.29032258064515,342.83870967741933,20.35483870967742,13.806451612903226,0,0,0,0,null,441.90322580645159,236.12903225806451,32.451612903225808,115.51612903225806,452.35483870967744,23.096774193548388,62.903225806451616,222.29032258064515,342.83870967741933,20.35483870967742,13.806451612903226,0,0,0,0,null,null,null,null,null,null,null,null,null,null,null,null,null,null,null,null,null,null,null,30,244,33.533333333333331,119.36666666666666,467.43333333333334,23.866666666666667,65,229.7,354.26666666666665,21.033333333333335,14.266666666666667,0,0,0,0,null,124.3,332.33333333333331,244,33.533333333333331,119.36666666666666,467.43333333333334,23.866666666666667,65,229.7,354.26666666666665,21.033333333333335,14.266666666666667,0,0,0,0]
[null,32,228.75,31.4375,111.90625,438.21875,22.375,60.9375,215.34375,332.125,19.71875,13.375,0,0,0,0,null,116.53125,311.5625,228.75,31.4375,111.90625,438.21875,22.375,60.9375,215.34375,332.125,19.71875,13.375,0,0,0,0,null,428.09375,228.75,31.4375,111.90625,438.21875,22.375,60.9375,215.34375,332.125,19.71875,13.375,0,0,0,0,null,null,null,null,null,null,null,null,null,null,null,null,null,null,null,null,null,null,null,31,236.12903225806451,32.451612903225808,115.51612903225806,452.35483870967744,23.096774193548388,62.903225806451616,222.29032258064515,342.83870967741933,20.35483870967742,13.806451612903226,0,0,0,0,null,120.29032258064517,321.61290322580646,236.12903225806451,32.451612903225808,115.51612903225806,452.35483870967744,23.096774193548388,62.903225806451616,222.29032258064515,342.83870967741933,20.35483870967742,13.806451612903226,0,0,0,0]
[null,33,221.81818181818181,30.484848484848484,108.51515151515152,424.93939393939394,21.696969696969695,59.090909090909093,208.81818181818181,322.06060606060606,19.121212121212121,12.969696969696969,0,0,0,0,null,113,302.12121212121212,221.81818181818181,30.484848484848484,108.51515151515152,424.93939393939394,21.696969696969695,59.090909090909093,208.81818181818181,322.06060606060606,19.121212121212121,12.969696969696969,0,0,0,0,null,415.12121212121212,221.81818181818181,30.484848484848484,108.51515151515152,424.93939393939394,21.696969696969695,59.090909090909093,208.81818181818181,322.06060606060606,19.121212121212121,12.969696969696969,0,0,0,0,null,null,null,null,null,null,null,null,null,null,null,null,null,null,null,null,null,null,null,32,228.75,31.4375,111.90625,438.21875,22.375,60.9375,215.34375,332.125,19.71875,13.375,0,0,0,0,null,116.53125,311.5625,228.75,31.4375,111.90625,438.21875,22.375,60.9375,215.34375,332.125,19.71875,13.375,0,0,0,0]
[null,34,215.29411764705881,29.588235294117649,105.32352941176471,412.44117647058823,21.058823529411764,57.352941176470587,202.6764705882353,312.58823529411762,18.558823529411764,12.588235294117647,0,0,0,{"$f":"$P$6/B40","v":0},null,{"$f":"$R$6/B40","v":109.67647058823529},{"$f":"$S$6/B40","v":293.23529411764707},{"$f":"C40","v":215.29411764705881},{"$f":"D40","v":29.588235294117649},{"$f":"E40","v":105.32352941176471},{"$f":"F40","v":412.44117647058823},{"$f":"G40","v":21.058823529411764},{"$f":"H40","v":57.352941176470587},{"$f":"I40","v":202.6764705882353},{"$f":"J40","v":312.58823529411762},{"$f":"K40","v":18.558823529411764},{"$f":"L40","v":12.588235294117647},{"$f":"M40","v":0},0,{"$f":"O40","v":0},0,null,{"$f":"$AI$6/B40","v":402.91176470588238},{"$f":"C40","v":215.29411764705881},{"$f":"D40","v":29.588235294117649},{"$f":"E40","v":105.32352941176471},{"$f":"F40","v":412.44117647058823},{"$f":"G40","v":21.058823529411764},{"$f":"H40","v":57.352941176470587},{"$f":"I40","v":202.6764705882353},{"$f":"J40","v":312.58823529411762},{"$f":"K40","v":18.558823529411764},{"$f":"L40","v":12.588235294117647},{"$f":"M40","v":0},0,{"$f":"O40","v":0},0,null,null,null,null,null,null,null,null,null,null,null,null,null,null,null,null,null,null,null,33,221.81818181818181,30.484848484848484,108.51515151515152,424.93939393939394,21.696969696969695,59.090909090909093,208.81818181818181,322.06060606060606,19.121212121212121,12.969696969696969,0,0,0,0,null,113,302.12121212121212,221.81818181818181,30.484848484848484,108.51515151515152,424.93939393939394,21.696969696969695,59.090909090909093,208.81818181818181,322.06060606060606,19.121212121212121,12.969696969696969,0,0,0,0]
[null,35,209.14285714285714,28.742857142857144,102.31428571428572,400.65714285714284,20.457142857142856,55.714285714285715,196.88571428571427,303.65714285714284,18.028571428571428,12.228571428571428,0,0,0,0,null,106.54285714285714,284.85714285714283,209.14285714285714,28.742857142857144,102.31428571428572,400.65714285714284,20.457142857142856,55.714285714285715,196.88571428571427,303.65714285714284,18.028571428571428,12.228571428571428,0,0,0,0,null,391.4,209.14285714285714,28.742857142857144,102.31428571428572,400.65714285714284,20.457142857142856,55.714285714285715,196.88571428571427,303.65714285714284,18.028571428571428,12.228571428571428,0,0,0,0,null,null,null,null,null,null,null,null,null,null,null,null,null,null,null,null,null,null,null,34,215.29411764705881,29.588235294117649,105.32352941176471,412.44117647058823,21.058823529411764,57.352941176470587,202.6764705882353,312.58823529411762,18.558823529411764,12.588235294117647,0,0,0,0,null,109.67647058823529,293.23529411764707,215.29411764705881,29.588235294117649,105.32352941176471,412.44117647058823,21.058823529411764,57.352941176470587,202.6764705882353,312.58823529411762,18.558823529411764,12.588235294117647,0,0,0,0]
[null,36,203.33333333333334,27.944444444444443,99.472222222222229,389.52777777777777,19.888888888888889,54.166666666666664,191.41666666666666,295.22222222222223,17.527777777777779,11.888888888888889,0,0,0,0,null,103.58333333333333,276.94444444444446,203.33333333333334,27.944444444444443,99.472222222222229,389.52777777777777,19.888888888888889,54.166666666666664,191.41666666666666,295.22222222222223,17.527777777777779,11.888888888888889,0,0,0,0,null,380.52777777777777,203.33333333333334,27.944444444444443,99.472222222222229,389.52777777777777,19.888888888888889,54.166666666666664,191.41666666666666,295.22222222222223,17.527777777777779,11.888888888888889,0,0,0,0,null,null,null,null,null,null,null,null,null,null,null,null,null,null,null,null,null,null,null,35,209.14285714285714,28.742857142857144,102.31428571428572,400.65714285714284,20.457142857142856,55.714285714285715,196.88571428571427,303.65714285714284,18.028571428571428,12.228571428571428,0,0,0,0,null,106.54285714285714,284.85714285714283,209.14285714285714,28.742857142857144,102.31428571428572,400.65714285714284,20.457142857142856,55.714285714285715,196.88571428571427,303.65714285714284,18.028571428571428,12.228571428571428,0,0,0,0]
[null,37,197.83783783783784,27.189189189189189,96.78378378378379,379,19.351351351351351,52.702702702702702,186.24324324324326,287.24324324324323,17.054054054054053,11.567567567567568,0,0,0,0,null,100.78378378378379,269.45945945945948,197.83783783783784,27.189189189189189,96.78378378378379,379,19.351351351351351,52.702702702702702,186.24324324324326,287.24324324324323,17.054054054054053,11.567567567567568,0,0,0,0,null,370.24324324324323,197.83783783783784,27.189189189189189,96.78378378378379,379,19.351351351351351,52.702702702702702,186.24324324324326,287.24324324324323,17.054054054054053,11.567567567567568,0,0,0,0,null,null,null,null,null,null,null,null,null,null,null,null,null,null,null,null,null,null,null,36,203.33333333333334,27.944444444444443,99.472222222222229,389.52777777777777,19.888888888888889,54.166666666666664,191.41666666666666,295.22222222222223,17.527777777777779,11.888888888888889,0,0,0,0,null,103.58333333333333,276.94444444444446,203.33333333333334,27.944444444444443,99.472222222222229,389.52777777777777,19.888888888888889,54.166666666666664,191.41666666666666,295.22222222222223,17.527777777777779,11.888888888888889,0,0,0,0]
[null,38,192.63157894736841,26.473684210526315,94.236842105263165,369.0263157894737,18.842105263157894,51.315789473684212,181.34210526315789,279.68421052631578,16.605263157894736,11.263157894736842,0,0,0,0,null,98.131578947368425,262.36842105263156,192.63157894736841,26.473684210526315,94.236842105263165,369.0263157894737,18.842105263157894,51.315789473684212,181.34210526315789,279.68421052631578,16.605263157894736,11.263157894736842,0,0,0,0,null,360.5,192.63157894736841,26.473684210526315,94.236842105263165,369.0263157894737,18.842105263157894,51.315789473684212,181.34210526315789,279.68421052631578,16.605263157894736,11.263157894736842,0,0,0,0,null,null,null,null,null,null,null,null,null,null,null,null,null,null,null,null,null,null,null,37,197.83783783783784,27.189189189189189,96.78378378378379,379,19.351351351351351,52.702702702702702,186.24324324324326,287.24324324324323,17.054054054054053,11.567567567567568,0,0,0,0,null,100.78378378378379,269.45945945945948,197.83783783783784,27.189189189189189,96.78378378378379,379,19.351351351351351,52.702702702702702,186.24324324324326,287.24324324324323,17.054054054054053,11.567567567567568,0,0,0,0]
[null,39,187.69230769230768,25.794871794871796,91.820512820512818,359.56410256410254,18.358974358974358,50,176.69230769230768,272.5128205128205,16.179487179487179,10.974358974358974,0,0,0,0,null,95.615384615384613,255.64102564102564,187.69230769230768,25.794871794871796,91.820512820512818,359.56410256410254,18.358974358974358,50,176.69230769230768,272.5128205128205,16.179487179487179,10.974358974358974,0,0,0,0,null,351.25641025641028,187.69230769230768,25.794871794871796,91.820512820512818,359.56410256410254,18.358974358974358,50,176.69230769230768,272.5128205128205,16.179487179487179,10.974358974358974,0,0,0,0,null,null,null,null,null,null,null,null,null,null,null,null,null,null,null,null,null,null,null,38,192.63157894736841,26.473684210526315,94.236842105263165,369.0263157894737,18.842105263157894,51.315789473684212,181.34210526315789,279.68421052631578,16.605263157894736,11.263157894736842,0,0,0,0,null,98.131578947368425,262.36842105263156,192.63157894736841,26.473684210526315,94.236842105263165,369.0263157894737,18.842105263157894,51.315789473684212,181.34210526315789,279.68421052631578,16.605263157894736,11.263157894736842,0,0,0,0]
[null,40,183,25.15,89.525000000000006,350.57499999999999,17.899999999999999,48.75,172.27500000000001,265.7,15.775,10.7,0,0,0,0,null,93.224999999999994,249.25,183,25.15,89.525000000000006,350.57499999999999,17.899999999999999,48.75,172.27500000000001,265.7,15.775,10.7,0,0,0,0,null,342.47500000000002,183,25.15,89.525000000000006,350.57499999999999,17.899999999999999,48.75,172.27500000000001,265.7,15.775,10.7,0,0,0,0,null,null,null,null,null,null,null,null,null,null,null,null,null,null,null,null,null,null,null,39,187.69230769230768,25.794871794871796,91.820512820512818,359.56410256410254,18.358974358974358,50,176.69230769230768,272.5128205128205,16.179487179487179,10.974358974358974,0,0,0,0,null,95.615384615384613,255.64102564102564,187.69230769230768,25.794871794871796,91.820512820512818,359.56410256410254,18.358974358974358,50,176.69230769230768,272.5128205128205,16.179487179487179,10.974358974358974,0,0,0,0]
[null,41,178.53658536585365,24.536585365853657,87.341463414634148,342.02439024390242,17.463414634146343,47.560975609756099,168.07317073170731,259.21951219512198,15.390243902439025,10.439024390243903,0,0,0,0,null,90.951219512195124,243.17073170731706,178.53658536585365,24.536585365853657,87.341463414634148,342.02439024390242,17.463414634146343,47.560975609756099,168.07317073170731,259.21951219512198,15.390243902439025,10.439024390243903,0,0,0,0,null,334.1219512195122,178.53658536585365,24.536585365853657,87.341463414634148,342.02439024390242,17.463414634146343,47.560975609756099,168.07317073170731,259.21951219512198,15.390243902439025,10.439024390243903,0,0,0,0,null,null,null,null,null,null,null,null,null,null,null,null,null,null,null,null,null,null,null,40,183,25.15,89.525000000000006,350.57499999999999,17.899999999999999,48.75,172.27500000000001,265.7,15.775,10.7,0,0,0,0,null,93.224999999999994,249.25,183,25.15,89.525000000000006,350.57499999999999,17.899999999999999,48.75,172.27500000000001,265.7,15.775,10.7,0,0,0,0]
[null,42,174.28571428571428,23.952380952380953,85.261904761904759,333.88095238095241,17.047619047619047,46.428571428571431,164.07142857142858,253.04761904761904,15.023809523809524,10.19047619047619,0,0,0,0,null,88.785714285714292,237.38095238095238,174.28571428571428,23.952380952380953,85.261904761904759,333.88095238095241,17.047619047619047,46.428571428571431,164.07142857142858,253.04761904761904,15.023809523809524,10.19047619047619,0,0,0,0,null,326.16666666666669,174.28571428571428,23.952380952380953,85.261904761904759,333.88095238095241,17.047619047619047,46.428571428571431,164.07142857142858,253.04761904761904,15.023809523809524,10.19047619047619,0,0,0,0,null,null,null,null,null,null,null,null,null,null,null,null,null,null,null,null,null,null,null,41,178.53658536585365,24.536585365853657,87.341463414634148,342.02439024390242,17.463414634146343,47.560975609756099,168.07317073170731,259.21951219512198,15.390243902439025,10.439024390243903,0,0,0,0,null,90.951219512195124,243.17073170731706,178.53658536585365,24.536585365853657,87.341463414634148,342.02439024390242,17.463414634146343,47.560975609756099,168.07317073170731,259.21951219512198,15.390243902439025,10.439024390243903,0,0,0,0]
[null,43,170.23255813953489,23.395348837209301,83.279069767441854,326.11627906976742,16.651162790697676,45.348837209302324,160.25581395348837,247.16279069767441,14.674418604651162,9.9534883720930232,0,0,0,0,null,86.720930232558146,231.86046511627907,170.23255813953489,23.395348837209301,83.279069767441854,326.11627906976742,16.651162790697676,45.348837209302324,160.25581395348837,247.16279069767441,14.674418604651162,9.9534883720930232,0,0,0,0,null,318.58139534883719,170.23255813953489,23.395348837209301,83.279069767441854,326.11627906976742,16.651162790697676,45.348837209302324,160.25581395348837,247.16279069767441,14.674418604651162,9.9534883720930232,0,0,0,0,null,null,null,null,null,null,null,null,null,null,null,null,null,null,null,null,null,null,null,42,174.28571428571428,23.952380952380953,85.261904761904759,333.88095238095241,17.047619047619047,46.428571428571431,164.07142857142858,253.04761904761904,15.023809523809524,10.19047619047619,0,0,0,0,null,88.785714285714292,237.38095238095238,174.28571428571428,23.952380952380953,85.261904761904759,333.88095238095241,17.047619047619047,46.428571428571431,164.07142857142858,253.04761904761904,15.023809523809524,10.19047619047619,0,0,0,0]
[null,44,166.36363636363637,22.863636363636363,81.38636363636364,318.70454545454544,16.272727272727273,44.31818181818182,156.61363636363637,241.54545454545453,14.340909090909092,9.7272727272727266,0,0,0,0,null,84.75,226.59090909090909,166.36363636363637,22.863636363636363,81.38636363636364,318.70454545454544,16.272727272727273,44.31818181818182,156.61363636363637,241.54545454545453,14.340909090909092,9.7272727272727266,0,0,0,0,null,311.34090909090907,166.36363636363637,22.863636363636363,81.38636363636364,318.70454545454544,16.272727272727273,44.31818181818182,156.61363636363637,241.54545454545453,14.340909090909092,9.7272727272727266,0,0,0,0,null,null,null,null,null,null,null,null,null,null,null,null,null,null,null,null,null,null,null,43,170.23255813953489,23.395348837209301,83.279069767441854,326.11627906976742,16.651162790697676,45.348837209302324,160.25581395348837,247.16279069767441,14.674418604651162,9.9534883720930232,0,0,0,0,null,86.720930232558146,231.86046511627907,170.23255813953489,23.395348837209301,83.279069767441854,326.11627906976742,16.651162790697676,45.348837209302324,160.25581395348837,247.16279069767441,14.674418604651162,9.9534883720930232,0,0,0,0]
[null,45,162.66666666666666,22.355555555555554,79.577777777777783,311.62222222222221,15.911111111111111,43.333333333333336,153.13333333333333,236.17777777777778,14.022222222222222,9.5111111111111111,0,0,0,0,null,82.86666666666666,221.55555555555554,162.66666666666666,22.355555555555554,79.577777777777783,311.62222222222221,15.911111111111111,43.333333333333336,153.13333333333333,236.17777777777778,14.022222222222222,9.5111111111111111,0,0,0,0,null,304.42222222222222,162.66666666666666,22.355555555555554,79.577777777777783,311.62222222222221,15.911111111111111,43.333333333333336,153.13333333333333,236.17777777777778,14.022222222222222,9.5111111111111111,0,0,0,0,null,null,null,null,null,null,null,null,null,null,null,null,null,null,null,null,null,null,null,44,166.36363636363637,22.863636363636363,81.38636363636364,318.70454545454544,16.272727272727273,44.31818181818182,156.61363636363637,241.54545454545453,14.340909090909092,9.7272727272727266,0,0,0,0,null,84.75,226.59090909090909,166.36363636363637,22.863636363636363,81.38636363636364,318.70454545454544,16.272727272727273,44.31818181818182,156.61363636363637,241.54545454545453,14.340909090909092,9.7272727272727266,0,0,0,0]
[null,46,159.13043478260869,21.869565217391305,77.847826086956516,304.8478260869565,15.565217391304348,42.391304347826086,149.80434782608697,231.04347826086956,13.717391304347826,9.304347826086957,0,0,0,0,null,81.065217391304344,216.7391304347826,159.13043478260869,21.869565217391305,77.847826086956516,304.8478260869565,15.565217391304348,42.391304347826086,149.80434782608697,231.04347826086956,13.717391304347826,9.304347826086957,0,0,0,0,null,297.80434782608694,159.13043478260869,21.869565217391305,77.847826086956516,304.8478260869565,15.565217391304348,42.391304347826086,149.80434782608697,231.04347826086956,13.717391304347826,9.304347826086957,0,0,0,0,null,null,null,null,null,null,null,null,null,null,null,null,null,null,null,null,null,null,null,45,162.66666666666666,22.355555555555554,79.577777777777783,311.62222222222221,15.911111111111111,43.333333333333336,153.13333333333333,236.17777777777778,14.022222222222222,9.5111111111111111,0,0,0,0,null,82.86666666666666,221.55555555555554,162.66666666666666,22.355555555555554,79.577777777777783,311.62222222222221,15.911111111111111,43.333333333333336,153.13333333333333,236.17777777777778,14.022222222222222,9.5111111111111111,0,0,0,0]
[null,47,155.74468085106383,21.404255319148938,76.191489361702125,298.36170212765956,15.23404255319149,41.48936170212766,146.61702127659575,226.12765957446808,13.425531914893616,9.1063829787234045,0,0,0,0,null,79.340425531914889,212.12765957446808,155.74468085106383,21.404255319148938,76.191489361702125,298.36170212765956,15.23404255319149,41.48936170212766,146.61702127659575,226.12765957446808,13.425531914893616,9.1063829787234045,0,0,0,0,null,291.468085106383,155.74468085106383,21.404255319148938,76.191489361702125,298.36170212765956,15.23404255319149,41.48936170212766,146.61702127659575,226.12765957446808,13.425531914893616,9.1063829787234045,0,0,0,0,null,null,null,null,null,null,null,null,null,null,null,null,null,null,null,null,null,null,null,46,159.13043478260869,21.869565217391305,77.847826086956516,304.8478260869565,15.565217391304348,42.391304347826086,149.80434782608697,231.04347826086956,13.717391304347826,9.304347826086957,0,0,0,0,null,81.065217391304344,216.7391304347826,159.13043478260869,21.869565217391305,77.847826086956516,304.8478260869565,15.565217391304348,42.391304347826086,149.80434782608697,231.04347826086956,13.717391304347826,9.304347826086957,0,0,0,0]
[null,48,152.5,20.958333333333332,74.604166666666671,292.14583333333331,14.916666666666666,40.625,143.5625,{"$f":"$J$6/B54","v":221.41666666666666},13.145833333333334,8.9166666666666661,0,0,0,0,null,77.6875,207.70833333333334,152.5,20.958333333333332,74.604166666666671,292.14583333333331,14.916666666666666,40.625,143.5625,221.41666666666666,13.145833333333334,8.9166666666666661,0,0,0,0,null,285.39583333333331,152.5,20.958333333333332,74.604166666666671,292.14583333333331,14.916666666666666,40.625,143.5625,221.41666666666666,13.145833333333334,8.9166666666666661,0,0,0,0,null,null,null,null,null,null,null,null,null,null,null,null,null,null,null,null,null,null,null,47,155.74468085106383,21.404255319148938,76.191489361702125,298.36170212765956,15.23404255319149,41.48936170212766,146.61702127659575,226.12765957446808,13.425531914893616,9.1063829787234045,0,0,0,0,null,79.340425531914889,212.12765957446808,155.74468085106383,21.404255319148938,76.191489361702125,298.36170212765956,15.23404255319149,41.48936170212766,146.61702127659575,226.12765957446808,13.425531914893616,9.1063829787234045,0,0,0,0]
[null,49,149.38775510204081,20.530612244897959,73.08163265306122,286.18367346938777,14.612244897959183,39.795918367346935,140.63265306122449,216.89795918367346,12.877551020408163,8.7346938775510203,0,0,0,0,null,76.102040816326536,203.46938775510205,149.38775510204081,20.530612244897959,73.08163265306122,286.18367346938777,14.612244897959183,39.795918367346935,140.63265306122449,216.89795918367346,12.877551020408163,8.7346938775510203,0,0,0,{"$f":"P55","v":0},null,279.57142857142856,149.38775510204081,20.530612244897959,73.08163265306122,286.18367346938777,14.612244897959183,39.795918367346935,140.63265306122449,216.89795918367346,12.877551020408163,8.7346938775510203,0,0,0,{"$f":"P55","v":0},null,null,null,null,null,null,null,null,null,null,null,null,null,null,null,null,null,null,null,48,152.5,20.958333333333332,74.604166666666671,292.14583333333331,14.916666666666666,40.625,143.5625,221.41666666666666,13.145833333333334,8.9166666666666661,0,0,0,0,null,77.6875,207.70833333333334,152.5,20.958333333333332,74.604166666666671,292.14583333333331,14.916666666666666,40.625,143.5625,221.41666666666666,13.145833333333334,8.9166666666666661,0,0,0,0]
[null,50,146.4,20.12,71.62,280.45999999999998,14.32,39,137.82,212.56,12.62,8.56,0,0,0,0,null,74.58,199.4,146.4,20.12,71.62,280.45999999999998,14.32,39,137.82,212.56,12.62,8.56,{"$f":"M56","v":0},0,0,0,null,273.98,146.4,20.12,71.62,280.45999999999998,14.32,39,137.82,212.56,12.62,8.56,{"$f":"M56","v":0},0,0,0,null,null,null,null,null,null,null,null,null,null,null,null,null,null,null,null,null,null,null,49,149.38775510204081,20.530612244897959,73.08163265306122,286.18367346938777,14.612244897959183,39.795918367346935,140.63265306122449,216.89795918367346,12.877551020408163,8.7346938775510203,0,0,0,0,null,76.102040816326536,203.46938775510205,149.38775510204081,20.530612244897959,73.08163265306122,286.18367346938777,14.612244897959183,39.795918367346935,140.63265306122449,216.89795918367346,12.877551020408163,8.7346938775510203,0,0,0,0]
[null,51,143.52941176470588,19.725490196078432,70.215686274509807,274.96078431372547,14.03921568627451,38.235294117647058,135.11764705882354,208.39215686274511,12.372549019607844,8.3921568627450984,0,0,0,0,null,73.117647058823536,195.49019607843138,143.52941176470588,19.725490196078432,70.215686274509807,274.96078431372547,14.03921568627451,38.235294117647058,135.11764705882354,208.39215686274511,12.372549019607844,8.3921568627450984,0,0,0,0,null,268.60784313725492,143.52941176470588,19.725490196078432,70.215686274509807,274.96078431372547,14.03921568627451,38.235294117647058,135.11764705882354,208.39215686274511,12.372549019607844,8.3921568627450984,0,0,0,0,null,null,null,null,null,null,null,null,null,null,null,null,null,null,null,null,null,null,null,50,146.4,20.12,71.62,280.45999999999998,14.32,39,137.82,212.56,12.62,8.56,0,0,0,0,null,74.58,199.4,146.4,20.12,71.62,280.45999999999998,14.32,39,137.82,212.56,12.62,8.56,0,0,0,0]
[null,52,140.76923076923077,19.346153846153847,68.865384615384613,269.67307692307691,13.76923076923077,37.5,132.51923076923077,204.38461538461539,12.134615384615385,8.2307692307692299,0,0,0,0,null,71.711538461538467,191.73076923076923,140.76923076923077,19.346153846153847,68.865384615384613,269.67307692307691,13.76923076923077,37.5,132.51923076923077,204.38461538461539,12.134615384615385,8.2307692307692299,0,0,0,0,null,263.44230769230768,140.76923076923077,19.346153846153847,68.865384615384613,269.67307692307691,13.76923076923077,37.5,132.51923076923077,204.38461538461539,12.134615384615385,8.2307692307692299,0,0,0,0,null,null,null,null,null,null,null,null,null,null,null,null,null,null,null,null,null,null,null,51,143.52941176470588,19.725490196078432,70.215686274509807,274.96078431372547,14.03921568627451,38.235294117647058,135.11764705882354,208.39215686274511,12.372549019607844,8.3921568627450984,0,0,0,0,null,73.117647058823536,195.49019607843138,143.52941176470588,19.725490196078432,70.215686274509807,274.96078431372547,14.03921568627451,38.235294117647058,135.11764705882354,208.39215686274511,12.372549019607844,8.3921568627450984,0,0,0,0]
[null,53,{"$f":"$C$6/B59","v":138.11320754716982},{"$f":"$D$6/B59","v":18.981132075471699},{"$f":"$E$6/B59","v":67.566037735849051},{"$f":"$F$6/B59","v":264.58490566037733},{"$f":"$G$6/B59","v":13.509433962264151},{"$f":"$H$6/B59","v":36.79245283018868},{"$f":"$I$6/B59","v":130.01886792452831},200.52830188679246,{"$f":"$K$6/B59","v":11.90566037735849},{"$f":"$L$6/B59","v":8.0754716981132084},0,0,{"$f":"$O$6/B59","v":0},{"$f":"$P$6/B59","v":0},null,{"$f":"$R$6/B59","v":70.35849056603773},{"$f":"$S$6/B59","v":188.11320754716982},{"$f":"C59","v":138.11320754716982},18.981132075471699,67.566037735849051,264.58490566037733,13.509433962264151,36.79245283018868,130.01886792452831,200.52830188679246,11.90566037735849,8.0754716981132084,0,0,0,0,null,{"$f":"$AI$6/B59","v":258.47169811320754},{"$f":"C59","v":138.11320754716982},18.981132075471699,67.566037735849051,264.58490566037733,13.509433962264151,36.79245283018868,130.01886792452831,200.52830188679246,11.90566037735849,8.0754716981132084,0,0,0,0,null,null,null,null,null,null,null,null,null,null,null,null,null,null,null,null,null,null,null,52,{"$f":"$C$6/BQ59","v":140.76923076923077},{"$f":"$D$6/BQ59","v":19.346153846153847},{"$f":"$E$6/BQ59","v":68.865384615384613},{"$f":"$F$6/BQ59","v":269.67307692307691},{"$f":"$G$6/BQ59","v":13.76923076923077},{"$f":"$H$6/BQ59","v":37.5},{"$f":"$I$6/BQ59","v":132.51923076923077},204.38461538461539,{"$f":"$K$6/BQ59","v":12.134615384615385},{"$f":"$L$6/BQ59","v":8.2307692307692299},0,0,{"$f":"$O$6/BQ59","v":0},{"$f":"$P$6/BQ59","v":0},null,{"$f":"$R$6/BQ59","v":71.711538461538467},{"$f":"$S$6/BQ59","v":191.73076923076923},140.76923076923077,19.346153846153847,68.865384615384613,269.67307692307691,13.76923076923077,37.5,132.51923076923077,204.38461538461539,12.134615384615385,8.2307692307692299,0,0,0,0]
[null,54,{"$f":"$C$6/B60","v":135.55555555555554},{"$f":"$D$6/B60","v":18.62962962962963},{"$f":"$E$6/B60","v":66.31481481481481},{"$f":"$F$6/B60","v":259.68518518518516},{"$f":"$G$6/B60","v":13.25925925925926},{"$f":"$H$6/B60","v":36.111111111111114},{"$f":"$I$6/B60","v":127.61111111111111},196.81481481481481,{"$f":"$K$6/B60","v":11.685185185185185},{"$f":"$L$6/B60","v":7.9259259259259256},{"$f":"$M$6/B60","v":0},{"$f":"$N$6/B60","v":0},{"$f":"$O$6/B60","v":0},{"$f":"$P$6/B60","v":0},null,{"$f":"$R$6/B60","v":69.055555555555557},{"$f":"$S$6/B60","v":184.62962962962962},135.55555555555554,18.62962962962963,66.31481481481481,259.68518518518516,13.25925925925926,36.111111111111114,127.61111111111111,196.81481481481481,11.685185185185185,7.9259259259259256,0,0,0,0,null,{"$f":"$AI$6/B60","v":253.68518518518519},135.55555555555554,18.62962962962963,66.31481481481481,259.68518518518516,13.25925925925926,36.111111111111114,127.61111111111111,196.81481481481481,11.685185185185185,7.9259259259259256,0,0,0,0,null,null,null,null,null,null,null,null,null,null,null,null,null,null,null,null,null,null,null,53,{"$f":"$C$6/BQ60","v":138.11320754716982},{"$f":"$D$6/BQ60","v":18.981132075471699},{"$f":"$E$6/BQ60","v":67.566037735849051},{"$f":"$F$6/BQ60","v":264.58490566037733},{"$f":"$G$6/BQ60","v":13.509433962264151},{"$f":"$H$6/BQ60","v":36.79245283018868},{"$f":"$I$6/BQ60","v":130.01886792452831},200.52830188679246,{"$f":"$K$6/BQ60","v":11.90566037735849},{"$f":"$L$6/BQ60","v":8.0754716981132084},{"$f":"$M$6/BQ60","v":0},{"$f":"$N$6/BQ60","v":0},{"$f":"$O$6/BQ60","v":0},{"$f":"$P$6/BQ60","v":0},null,{"$f":"$R$6/BQ60","v":70.35849056603773},{"$f":"$S$6/BQ60","v":188.11320754716982},138.11320754716982,18.981132075471699,67.566037735849051,264.58490566037733,13.509433962264151,36.79245283018868,130.01886792452831,200.52830188679246,11.90566037735849,8.0754716981132084,0,0,0,0]
[]
[]
[null,"Nombre d'inscrits",60873]
[null,"Bulletins déposés",50903]
[null,"Blancs & Nuls",3729]
[null,"Votes valables",47174]
[null,"Nombre de sièges",47]
[]
[]
[]
[]
[null,"Liste unique\nMajorité\nabsolue",{"$f":"SUM($C$73:$P$73)","v":0},null,null,null,null,null,null,null,null,null,null,null,null,null,null,{"$f":"SUM($R$73:$AG$73)","v":0},null,null,null,null,null,null,null,null,null,null,null,null,null,null,null,null,{"$f":"SUM($AI$73:$AW$73)","v":0}]
[null,null,{"$f":"IF(C7>($C$67/2),1,0)","v":0},{"$f":"IF(D7>($C$67/2),1,0)","v":0},{"$f":"IF(E7>($C$67/2),1,0)","v":0},{"$f":"IF(F7>($C$67/2),1,0)","v":0},{"$f":"IF(G7>($C$67/2),1,0)","v":0},{"$f":"IF(H7>($C$67/2),1,0)","v":0},{"$f":"IF(I7>($C$67/2),1,0)","v":0},{"$f":"IF(J7>($C$67/2),1,0)","v":0},{"$f":"IF(K7>($C$67/2),1,0)","v":0},{"$f":"IF(L7>($C$67/2),1,0)","v":0},{"$f":"IF(M7>($C$67/2),1,0)","v":0},{"$f":"IF(N7>($C$67/2),1,0)","v":0},{"$f":"IF(O7>($C$67/2),1,0)","v":0},{"$f":"IF(P7>($C$67/2),1,0)","v":0},null,{"$f":"IF(R7>($C$67/2),1,0)","v":0},{"$f":"IF(S7>($C$67/2),1,0)","v":0},{"$f":"IF(T7>($C$67/2),1,0)","v":0},{"$f":"IF(U7>($C$67/2),1,0)","v":0},{"$f":"IF(V7>($C$67/2),1,0)","v":0},{"$f":"IF(W7>($C$67/2),1,0)","v":0},{"$f":"IF(X7>($C$67/2),1,0)","v":0},{"$f":"IF(Y7>($C$67/2),1,0)","v":0},{"$f":"IF(Z7>($C$67/2),1,0)","v":0},{"$f":"IF(AA7>($C$67/2),1,0)","v":0},{"$f":"IF(AB7>($C$67/2),1,0)","v":0},{"$f":"IF(AC7>($C$67/2),1,0)","v":0},{"$f":"IF(AD7>($C$67/2),1,0)","v":0},{"$f":"IF(AE7>($C$67/2),1,0)","v":0},{"$f":"IF(AF7>($C$67/2),1,0)","v":0},{"$f":"IF(AG7>($C$67/2),1,0)","v":0},null,{"$f":"IF(AI7>($C$67/2),1,0)","v":0},{"$f":"IF(AJ7>($C$67/2),1,0)","v":0},{"$f":"IF(AK7>($C$67/2),1,0)","v":0},{"$f":"IF(AL7>($C$67/2),1,0)","v":0},{"$f":"IF(AM7>($C$67/2),1,0)","v":0},{"$f":"IF(AN7>($C$67/2),1,0)","v":0},{"$f":"IF(AO7>($C$67/2),1,0)","v":0},{"$f":"IF(AP7>($C$67/2),1,0)","v":0},{"$f":"IF(AQ7>($C$67/2),1,0)","v":0},{"$f":"IF(AR7>($C$67/2),1,0)","v":0},{"$f":"IF(AS7>($C$67/2),1,0)","v":0},{"$f":"IF(AT7>($C$67/2),1,0)","v":0},{"$f":"IF(AU7>($C$67/2),1,0)","v":0},{"$f":"IF(AV7>($C$67/2),1,0)","v":0},{"$f":"IF(AW7>($C$67/2),1,0)","v":0}]
[]
[null,"Liste unique\nMajorité\nabsolue\nnombre de voix",{"$f":"SUM($C$76:$P$76)","v":0},null,null,null,null,null,null,null,null,null,null,null,null,null,null,{"$f":"SUM(R76:AG76)","v":0},null,null,null,null,null,null,null,null,null,null,null,null,null,null,null,null,{"$f":"SUM(AI76:AW76)","v":0}]
[null,null,{"$f":"IF(C73>0,C6,0)","v":0},{"$f":"IF(D73>0,D6,0)","v":0},{"$f":"IF(E73>0,E6,0)","v":0},{"$f":"IF(F73>0,F6,0)","v":0},{"$f":"IF(G73>0,G6,0)","v":0},{"$f":"IF(H73>0,H6,0)","v":0},{"$f":"IF(I73>0,I6,0)","v":0},{"$f":"IF(J73>0,J6,0)","v":0},{"$f":"IF(K73>0,K6,0)","v":0},{"$f":"IF(L73>0,L6,0)","v":0},{"$f":"IF(M73>0,M6,0)","v":0},{"$f":"IF(N73>0,N6,0)","v":0},{"$f":"IF(O73>0,O6,0)","v":0},{"$f":"IF(P73>0,P6,0)","v":0},null,{"$f":"IF(R73>0,R6,0)","v":0},{"$f":"IF(S73>0,S6,0)","v":0},{"$f":"IF(T73>0,T6,0)","v":0},{"$f":"IF(U73>0,U6,0)","v":0},{"$f":"IF(V73>0,V6,0)","v":0},{"$f":"IF(W73>0,W6,0)","v":0},{"$f":"IF(X73>0,X6,0)","v":0},{"$f":"IF(Y73>0,Y6,0)","v":0},{"$f":"IF(Z73>0,Z6,0)","v":0},{"$f":"IF(AA73>0,AA6,0)","v":0},{"$f":"IF(AB73>0,AB6,0)","v":0},{"$f":"IF(AC73>0,AC6,0)","v":0},{"$f":"IF(AD73>0,AD6,0)","v":0},{"$f":"IF(AE73>0,AE6,0)","v":0},{"$f":"IF(AF73>0,AF6,0)","v":0},{"$f":"IF(AG73>0,AG6,0)","v":0},null,{"$f":"IF(AI73>0,AI6,0)","v":0},{"$f":"IF(AJ73>0,AJ6,0)","v":0},{"$f":"IF(AK73>0,AK6,0)","v":0},{"$f":"IF(AL73>0,AL6,0)","v":0},{"$f":"IF(AM73>0,AM6,0)","v":0},{"$f":"IF(AN73>0,AN6,0)","v":0},{"$f":"IF(AO73>0,AO6,0)","v":0},{"$f":"IF(AP73>0,AP6,0)","v":0},{"$f":"IF(AQ73>0,AQ6,0)","v":0},{"$f":"IF(AR73>0,AR6,0)","v":0},{"$f":"IF(AS73>0,AS6,0)","v":0},{"$f":"IF(AT73>0,AT6,0)","v":0},{"$f":"IF(AU73>0,AU6,0)","v":0},{"$f":"IF(AV73>0,AV6,0)","v":0},{"$f":"IF(AW73>0,AW6,0)","v":0}]
[]
[null,"Nbr voix\nCoalition",{"$f":"SUMIF(C4:P4,\"x\",C6:P6)","v":24924}]
[]
[null,"% Coalition",{"$f":"100/C63*C78","v":40.944261002414862}]
[null,"% Majorité",{"$f":"100/C63*C75","v":0}]
[]
[null,"Coalition",{"$f":"COUNTA(C4:P4)","v":3},{"$f":"IF(C83>0,1,0)","v":1}]
[]
[]
[]
[]
[]
[]
[]
[]
[]
[]
[]
[]
[null,null,null,null,null,null,null,null,null,null,null,null,null,null,null,"ANDERLECHT"]
[]
[null,null,null,null,null,null,null,null,null,null,null,null,null,null,null,null,null,{"$f":"R5","v":"Blancs & Nuls"},{"$f":"S5","v":"Non-déposés"},{"$f":"T5","v":"Ecolo-Groen"},{"$f":"U5","v":"VLAAMS BELANG"},{"$f":"V5","v":"DéFI"},{"$f":"W5","v":"PS-sp.a-cdH"},{"$f":"X5","v":"CD&V Plus"},{"$f":"Y5","v":"N-VA"},{"$f":"Z5","v":"PTB*PVDA"},{"$f":"AA5","v":"MR-Open Vld-IC"},{"$f":"AB5","v":"LA DROITE"},{"$f":"AC5","v":"NATION"},{"$f":"AD5","v":0},{"$f":"AE5","v":0},{"$f":"AF5","v":0},{"$f":"AG5","v":0}]
[null,null,null,null,null,null,null,null,null,null,null,null,null,null,null,"Chiffres\nélectoraux",null,{"$f":"R6","v":3729},{"$f":"S6","v":9970},{"$f":"T6","v":7320},{"$f":"U6","v":1006},{"$f":"V6","v":3581},{"$f":"W6","v":14023},{"$f":"X6","v":716},{"$f":"Y6","v":1950},{"$f":"Z6","v":6891},{"$f":"AA6","v":10628},{"$f":"AB6","v":631},{"$f":"AC6","v":428},{"$f":"AD6","v":0},{"$f":"AE6","v":0},{"$f":"AF6","v":0},{"$f":"AG6","v":0}]
[null,null,null,null,null,null,null,null,null,null,null,null,null,null,null,"Impériali",null,0,0,{"$f":"C7","v":8},{"$f":"D7","v":0},{"$f":"E7","v":3},{"$f":"F7","v":16},{"$f":"G7","v":0},{"$f":"H7","v":1},{"$f":"I7","v":7},{"$f":"J7","v":12},{"$f":"K7","v":0},{"$f":"L7","v":0},{"$f":"M7","v":0},{"$f":"N7","v":0},{"$f":"O7","v":0},{"$f":"P7","v":0}]
[null,null,null,null,null,null,null,null,null,null,null,null,null,null,null,"Impériali\n+ proportionnelle",null,{"$f":"R7","v":2},{"$f":"S7","v":9},{"$f":"T7","v":6},{"$f":"U7","v":0},{"$f":"V7","v":2},{"$f":"W7","v":13},{"$f":"X7","v":0},{"$f":"Y7","v":0},{"$f":"Z7","v":6},{"$f":"AA7","v":9},{"$f":"AB7","v":0},{"$f":"AC7","v":0},{"$f":"AD7","v":0},{"$f":"AE7","v":0},{"$f":"AF7","v":0},{"$f":"AG7","v":0}]
[null,null,null,null,null,null,null,null,null,null,null,null,null,null,null,"D'Hondt",null,0,0,{"$f":"BR7","v":8},{"$f":"BS7","v":1},{"$f":"BT7","v":3},{"$f":"BU7","v":15},{"$f":"BV7","v":0},{"$f":"BW7","v":2},{"$f":"BX7","v":7},{"$f":"BY7","v":11},{"$f":"BZ7","v":0},{"$f":"CA7","v":0},{"$f":"CB7","v":0},{"$f":"CC7","v":0},{"$f":"CD7","v":0},{"$f":"CE7","v":0}]
[null,null,null,null,null,null,null,null,null,null,null,null,null,null,null,"D'Hondt\n+ proportionnelle",null,{"$f":"CG7","v":3},{"$f":"CH7","v":8},{"$f":"CI7","v":6},{"$f":"CJ7","v":0},{"$f":"CK7","v":3},{"$f":"CL7","v":12},{"$f":"CM7","v":0},{"$f":"CN7","v":1},{"$f":"CO7","v":5},{"$f":"CP7","v":9},{"$f":"CQ7","v":0},{"$f":"CR7","v":0},{"$f":"CS7","v":0},{"$f":"CT7","v":0},{"$f":"CU7","v":0},{"$f":"CV7","v":0}]
[null,null,null,null,null,null,null,null,null,null,null,null,null,null,null,"Proportionnelle\npure",null,{"$f":"AZ7","v":2.879158247498891},{"$f":"BA7","v":7.6978299081694672},{"$f":"BB7","v":5.6517667931595286},{"$f":"BC7","v":0.77673188441509367},{"$f":"BD7","v":2.7648875527738075},{"$f":"BE7","v":10.827148325201648},{"$f":"BF7","v":0.55282309069702495},{"$f":"BG7","v":1.5055936129318415},{"$f":"BH7","v":5.3205361983145236},{"$f":"BI7","v":8.2058712401228782},{"$f":"BJ7","v":0.48719465115897026},{"$f":"BK7","v":0.33045849555632217},{"$f":"BL7","v":0},{"$f":"BM7","v":0},{"$f":"BN7","v":0},{"$f":"BO7","v":0}]
[]
[null,null,null,null,null,null,null,null,null,null,null,null,null,null,null,null,"Nombre de sièges à distribuer :",null,null,null,{"$f":"C67","v":47},null,"Est-ce une liste unique en majorité absolue en termes de sièges ?",null,null,null,null,null,null,{"$f":"IF(C72>0,\"Oui\",\"Non\")","v":"Non"}]
[]
[null,null,null,null,null,null,null,null,null,null,null,null,null,null,null,null,"Nombre d'inscrits :",null,null,null,{"$f":"C63","v":60873},null,"Est-ce une liste unique en majorité absolue en termes de voix ?",null,null,null,null,null,null,{"$f":"IF(C75>0,\"Oui\",\"Non\")","v":"Non"}]
[]
[null,null,null,null,null,null,null,null,null,null,null,null,null,null,null,null,"Nombre de bulletins déposés :",null,null,null,{"$f":"C64","v":50903},null,"La majorité est-elle formée par une coalition ?",null,null,null,null,null,null,{"$f":"IF(B4>0,\"Oui\",\"Non\")","v":"Oui"}]
[]
[null,null,null,null,null,null,null,null,null,null,null,null,null,null,null,null,"Nombre de votes valables :",null,null,null,{"$f":"C66","v":47174},null,"Quelle est la proportion de l'électorat représentée par la majorité ?",null,null,null,null,null,null,{"$f":"IF(D83>0,C80,C81)","v":40.944261002414862}]
[]
[null,null,null,null,null,null,null,null,null,null,null,null,null,null,null,"Comparaison\nClef Impériali\n-\nClef D'Hondt",null,{"$f":"R100-R102","v":0},{"$f":"S100-S102","v":0},0,-1,0,1,0,-1,0,1,0,0,0,0,0,0]

{"sheet":"AUDERGHEM","index":5,"n_rows":114,"n_cols":100,"rows_kept":114,"cut":false,"hidden":false,"merged":[[1,1,1,48],[1,68,1,99],[1,50,1,66],[71,1,72,1],[113,15,113,16],[107,16,107,19],[109,16,109,19],[111,16,111,19],[74,1,75,1],[95,15,95,32],[105,22,105,27],[107,22,107,27],[109,22,109,27],[111,22,111,27],[105,16,105,19]]}
[]
[null,"IMPÉRIALI",null,null,null,null,null,null,null,null,null,null,null,null,null,null,null,null,null,null,null,null,null,null,null,null,null,null,null,null,null,null,null,null,null,null,null,null,null,null,null,null,null,null,null,null,null,null,null,null,"PROPORTIONNELLE PURE",null,null,null,null,null,null,null,null,null,null,null,null,null,null,null,null,null,"D'HONDT"]
[]
[null,"Coalition",null,"x","x"]
[null,{"$f":"COUNTA(C5:P5)","v":8},"LISTE CITOYENNE 1160","Ecolo-Groen","Liste du Bourgmestre","PS","N-VA","MR-OpenVLD","SAMEN","PP Parti Populaire",null,null,null,null,null,null,null,"Blancs & Nuls","Non-déposés",{"$f":"C5","v":"LISTE CITOYENNE 1160"},{"$f":"D5","v":"Ecolo-Groen"},{"$f":"E5","v":"Liste du Bourgmestre"},{"$f":"F5","v":"PS"},{"$f":"G5","v":"N-VA"},{"$f":"H5","v":"MR-OpenVLD"},{"$f":"I5","v":"SAMEN"},{"$f":"J5","v":"PP Parti Populaire"},{"$f":"K5","v":0},{"$f":"L5","v":0},{"$f":"M5","v":0},{"$f":"N5","v":0},{"$f":"O5","v":0},{"$f":"P5","v":0},null,"Non-valables",{"$f":"C5","v":"LISTE CITOYENNE 1160"},{"$f":"D5","v":"Ecolo-Groen"},{"$f":"E5","v":"Liste du Bourgmestre"},{"$f":"F5","v":"PS"},{"$f":"G5","v":"N-VA"},{"$f":"H5","v":"MR-OpenVLD"},{"$f":"I5","v":"SAMEN"},{"$f":"J5","v":"PP Parti Populaire"},{"$f":"K5","v":0},{"$f":"L5","v":0},{"$f":"M5","v":0},{"$f":"N5","v":0},{"$f":"O5","v":0},{"$f":"P5","v":0},null,"New Key","Blancs & Nuls","Non-déposés",{"$f":"C5","v":"LISTE CITOYENNE 1160"},{"$f":"D5","v":"Ecolo-Groen"},"Liste du Bourgmestre","PS","N-VA","MR-OpenVLD","SAMEN","PP Parti Populaire",0,0,0,0,0,0,null,null,{"$f":"C5","v":"LISTE CITOYENNE 1160"},{"$f":"D5","v":"Ecolo-Groen"},"Liste du Bourgmestre","PS","N-VA","MR-OpenVLD","SAMEN","PP Parti Populaire",0,0,0,0,0,0,null,"Blancs & Nuls","Non-déposés",{"$f":"C5","v":"LISTE CITOYENNE 1160"},{"$f":"D5","v":"Ecolo-Groen"},"Liste du Bourgmestre","PS","N-VA","MR-OpenVLD","SAMEN","PP Parti Populaire",0,0,0,0,0,0]
[null,"Chiffres\nélectoraux",892,3809,8001,1141,382,1590,611,367,0,0,0,0,0,0,null,{"$f":"C65","v":794},{"$f":"C63-C64","v":2511},892,3809,8001,1141,382,1590,611,367,0,0,0,0,0,0,null,{"$f":"R6+S6","v":3305},892,3809,8001,1141,382,1590,611,367,0,0,0,0,0,0,null,null,{"$f":"C65","v":794},{"$f":"C63-C64","v":2511},{"$f":"C6","v":892},3809,8001,1141,382,1590,611,367,0,0,0,0,0,0,null,"Chiffres\nélectoraux",{"$f":"C6","v":892},3809,8001,1141,382,1590,611,367,0,0,0,0,0,0,null,{"$f":"C65","v":794},{"$f":"C63-C64","v":2511},{"$f":"C6","v":892},3809,8001,1141,382,1590,611,367,0,0,0,0,0,0]
[null,"Sièges",1,8,19,1,0,2,0,0,0,0,0,0,0,0,null,0,4,1,7,16,1,0,2,0,0,0,0,0,0,0,0,null,6,0,7,15,1,0,2,0,0,0,0,0,0,0,0,null,648.32258064516134,1.2246989750223902,3.8730719474574582,1.3758582943576474,5.8751617076325999,12.341078714299929,1.7599263608319236,0.58921285700069659,2.4524828341128471,0.94243208279430779,0.56607622649019795,0,0,0,0,0,0,null,"Sièges",1,8,16,2,0,3,1,0,0,0,0,0,0,0,null,1,4,1,6,14,2,0,2,1,0,0,0,0,0,0,0]
[null,2,{"$f":"$C$6/B8","v":446},{"$f":"$D$6/B8","v":1904.5},{"$f":"$E$6/B8","v":4000.5},{"$f":"$F$6/B8","v":570.5},{"$f":"$G$6/B8","v":191},{"$f":"$H$6/B8","v":795},{"$f":"$I$6/B8","v":305.5},{"$f":"$J$6/B8","v":183.5},{"$f":"$K$6/B8","v":0},{"$f":"$L$6/B8","v":0},{"$f":"$M$6/B8","v":0},{"$f":"$N$6/B8","v":0},{"$f":"$O$6/B8","v":0},{"$f":"$P$6/B8","v":0},null,{"$f":"$R$6/B8","v":397},{"$f":"$S$6/B8","v":1255.5},{"$f":"C8","v":446},1904.5,4000.5,570.5,191,795,305.5,183.5,0,0,0,0,0,0,null,{"$f":"$AI$6/B8","v":1652.5},{"$f":"C8","v":446},1904.5,4000.5,570.5,191,795,305.5,183.5,0,0,0,0,0,0,null,null,null,null,null,null,null,null,null,null,null,null,null,null,null,null,null,null,null,1,{"$f":"$C$6/BQ8","v":892},{"$f":"$D$6/BQ8","v":3809},{"$f":"$E$6/BQ8","v":8001},{"$f":"$F$6/BQ8","v":1141},{"$f":"$G$6/BQ8","v":382},{"$f":"$H$6/BQ8","v":1590},{"$f":"$I$6/BQ8","v":611},{"$f":"$J$6/BQ8","v":367},{"$f":"$K$6/BQ8","v":0},{"$f":"$L$6/BQ8","v":0},{"$f":"$M$6/BQ8","v":0},{"$f":"$N$6/BQ8","v":0},{"$f":"$O$6/BQ8","v":0},{"$f":"$P$6/BQ8","v":0},null,{"$f":"$R$6/BQ8","v":794},{"$f":"$S$6/BQ8","v":2511},{"$f":"BR8","v":892},3809,8001,1141,382,1590,611,367,0,0,0,0,0,0]
[null,3,{"$f":"$C$6/B9","v":297.33333333333331},1269.6666666666667,{"$f":"$E$6/B9","v":2667},380.33333333333331,127.33333333333333,{"$f":"$H$6/B9","v":530},{"$f":"$I$6/B9","v":203.66666666666666},{"$f":"$J$6/B9","v":122.33333333333333},{"$f":"$K$6/B9","v":0},{"$f":"$L$6/B9","v":0},0,0,{"$f":"$O$6/B9","v":0},0,null,264.66666666666669,837,297.33333333333331,1269.6666666666667,2667,380.33333333333331,127.33333333333333,530,203.66666666666666,122.33333333333333,0,0,0,0,0,0,null,1101.6666666666667,297.33333333333331,1269.6666666666667,2667,380.33333333333331,127.33333333333333,530,203.66666666666666,122.33333333333333,0,0,0,0,0,0,null,null,null,null,null,null,null,null,null,null,null,null,null,null,null,null,null,null,null,2,{"$f":"$C$6/BQ9","v":446},1904.5,{"$f":"$E$6/BQ9","v":4000.5},570.5,191,{"$f":"$H$6/BQ9","v":795},{"$f":"$I$6/BQ9","v":305.5},{"$f":"$J$6/BQ9","v":183.5},{"$f":"$K$6/BQ9","v":0},{"$f":"$L$6/BQ9","v":0},0,0,{"$f":"$O$6/BQ9","v":0},0,null,397,1255.5,446,1904.5,4000.5,570.5,191,795,305.5,183.5,0,0,0,0,0,0]
[null,4,223,952.25,2000.25,285.25,95.5,397.5,152.75,91.75,0,0,0,0,0,0,null,198.5,627.75,223,952.25,2000.25,285.25,95.5,397.5,152.75,91.75,0,0,0,0,0,0,null,826.25,223,952.25,2000.25,285.25,95.5,397.5,152.75,91.75,0,0,0,0,0,0,null,null,null,null,null,null,null,null,null,null,null,null,null,null,null,null,null,null,null,3,297.33333333333331,1269.6666666666667,2667,380.33333333333331,127.33333333333333,530,203.66666666666666,122.33333333333333,0,0,0,0,0,0,null,264.66666666666669,837,297.33333333333331,1269.6666666666667,2667,380.33333333333331,127.33333333333333,530,203.66666666666666,122.33333333333333,0,0,0,0,0,0]
[null,5,178.4,761.8,1600.2,228.2,76.400000000000006,318,122.2,73.400000000000006,0,0,0,0,0,0,null,158.80000000000001,502.2,178.4,761.8,1600.2,228.2,76.400000000000006,318,122.2,73.400000000000006,0,0,0,0,0,0,null,661,178.4,761.8,1600.2,228.2,76.400000000000006,318,122.2,73.400000000000006,0,0,0,0,0,0,null,null,null,null,null,null,null,null,null,null,null,null,null,null,null,null,null,null,null,4,223,952.25,2000.25,285.25,95.5,397.5,152.75,91.75,0,0,0,0,0,0,null,198.5,627.75,223,952.25,2000.25,285.25,95.5,397.5,152.75,91.75,0,0,0,0,0,0]
[null,6,148.66666666666666,634.83333333333337,1333.5,190.16666666666666,63.666666666666664,265,101.83333333333333,61.166666666666664,0,0,0,0,0,0,null,132.33333333333334,418.5,148.66666666666666,634.83333333333337,1333.5,190.16666666666666,63.666666666666664,265,101.83333333333333,61.166666666666664,0,0,0,0,0,0,null,550.83333333333337,148.66666666666666,634.83333333333337,1333.5,190.16666666666666,63.666666666666664,265,101.83333333333333,61.166666666666664,0,0,0,0,0,0,null,null,null,null,null,null,null,null,null,null,null,null,null,null,null,null,null,null,null,5,178.4,761.8,1600.2,228.2,76.400000000000006,318,122.2,73.400000000000006,0,0,0,0,0,0,null,158.80000000000001,502.2,178.4,761.8,1600.2,228.2,76.400000000000006,318,122.2,73.400000000000006,0,0,0,0,0,0]
[null,7,127.42857142857143,544.14285714285711,1143,163,54.571428571428569,227.14285714285714,87.285714285714292,52.428571428571431,0,0,0,0,0,0,null,113.42857142857143,358.71428571428572,127.42857142857143,544.14285714285711,1143,163,54.571428571428569,227.14285714285714,87.285714285714292,52.428571428571431,0,0,0,0,0,0,null,472.14285714285717,127.42857142857143,544.14285714285711,1143,163,54.571428571428569,227.14285714285714,87.285714285714292,52.428571428571431,0,0,0,0,0,0,null,null,null,null,null,null,null,null,null,null,null,null,null,null,null,null,null,null,null,6,148.66666666666666,634.83333333333337,1333.5,190.16666666666666,63.666666666666664,265,101.83333333333333,61.166666666666664,0,0,0,0,0,0,null,132.33333333333334,418.5,148.66666666666666,634.83333333333337,1333.5,190.16666666666666,63.666666666666664,265,101.83333333333333,61.166666666666664,0,0,0,0,0,0]
[null,8,111.5,476.125,1000.125,142.625,47.75,198.75,76.375,45.875,0,0,0,0,0,0,null,99.25,313.875,111.5,476.125,1000.125,142.625,47.75,198.75,76.375,45.875,0,0,0,0,0,0,null,413.125,111.5,476.125,1000.125,142.625,47.75,198.75,76.375,45.875,0,0,0,0,0,0,null,null,null,null,null,null,null,null,null,null,null,null,null,null,null,null,null,null,null,7,127.42857142857143,544.14285714285711,1143,163,54.571428571428569,227.14285714285714,87.285714285714292,52.428571428571431,0,0,0,0,0,0,null,113.42857142857143,358.71428571428572,127.42857142857143,544.14285714285711,1143,163,54.571428571428569,227.14285714285714,87.285714285714292,52.428571428571431,0,0,0,0,0,0]
[null,9,99.111111111111114,423.22222222222223,889,126.77777777777777,42.444444444444443,176.66666666666666,67.888888888888886,40.777777777777779,0,0,0,0,0,0,null,88.222222222222229,279,99.111111111111114,423.22222222222223,889,126.77777777777777,42.444444444444443,176.66666666666666,67.888888888888886,40.777777777777779,0,0,0,0,0,0,null,367.22222222222223,99.111111111111114,423.22222222222223,889,126.77777777777777,42.444444444444443,176.66666666666666,67.888888888888886,40.777777777777779,0,0,0,0,0,0,null,null,null,null,null,null,null,null,null,null,null,null,null,null,null,null,null,null,null,8,111.5,476.125,1000.125,142.625,47.75,198.75,76.375,45.875,0,0,0,0,0,0,null,99.25,313.875,111.5,476.125,1000.125,142.625,47.75,198.75,76.375,45.875,0,0,0,0,0,0]
[null,10,89.2,380.9,800.1,114.1,38.200000000000003,159,61.1,36.700000000000003,0,0,0,0,0,0,null,79.400000000000006,251.1,89.2,380.9,800.1,114.1,38.200000000000003,159,61.1,36.700000000000003,0,0,0,0,0,0,null,330.5,89.2,380.9,800.1,114.1,38.200000000000003,159,61.1,36.700000000000003,0,0,0,0,0,0,null,null,null,null,null,null,null,null,null,null,null,null,null,null,null,null,null,null,null,9,99.111111111111114,423.22222222222223,889,126.77777777777777,42.444444444444443,176.66666666666666,67.888888888888886,40.777777777777779,0,0,0,0,0,0,null,88.222222222222229,279,99.111111111111114,423.22222222222223,889,126.77777777777777,42.444444444444443,176.66666666666666,67.888888888888886,40.777777777777779,0,0,0,0,0,0]
[null,11,81.090909090909093,346.27272727272725,727.36363636363637,103.72727272727273,34.727272727272727,144.54545454545453,55.545454545454547,33.363636363636367,0,0,0,0,0,0,null,72.181818181818187,228.27272727272728,81.090909090909093,346.27272727272725,727.36363636363637,103.72727272727273,34.727272727272727,144.54545454545453,55.545454545454547,33.363636363636367,0,0,0,0,0,0,null,300.45454545454544,81.090909090909093,346.27272727272725,727.36363636363637,103.72727272727273,34.727272727272727,144.54545454545453,55.545454545454547,33.363636363636367,0,0,0,0,0,0,null,null,null,null,null,null,null,null,null,null,null,null,null,null,null,null,null,null,null,10,89.2,380.9,800.1,114.1,38.200000000000003,159,61.1,36.700000000000003,0,0,0,0,0,0,null,79.400000000000006,251.1,89.2,380.9,800.1,114.1,38.200000000000003,159,61.1,36.700000000000003,0,0,0,0,0,0]
[null,12,74.333333333333329,317.41666666666669,666.75,95.083333333333329,31.833333333333332,132.5,50.916666666666664,30.583333333333332,0,0,0,0,0,0,null,66.166666666666671,209.25,74.333333333333329,317.41666666666669,666.75,95.083333333333329,31.833333333333332,132.5,50.916666666666664,30.583333333333332,0,0,0,0,0,0,null,275.41666666666669,74.333333333333329,317.41666666666669,666.75,95.083333333333329,31.833333333333332,132.5,50.916666666666664,30.583333333333332,0,0,0,0,0,0,null,null,null,null,null,null,null,null,null,null,null,null,null,null,null,null,null,null,null,11,81.090909090909093,346.27272727272725,727.36363636363637,103.72727272727273,34.727272727272727,144.54545454545453,55.545454545454547,33.363636363636367,0,0,0,0,0,0,null,72.181818181818187,228.27272727272728,81.090909090909093,346.27272727272725,727.36363636363637,103.72727272727273,34.727272727272727,144.54545454545453,55.545454545454547,33.363636363636367,0,0,0,0,0,0]
[null,13,68.615384615384613,293,615.46153846153845,87.769230769230774,29.384615384615383,122.30769230769231,47,28.23076923076923,0,0,0,0,0,0,null,61.07692307692308,193.15384615384616,68.615384615384613,293,615.46153846153845,87.769230769230774,29.384615384615383,122.30769230769231,47,28.23076923076923,0,0,0,0,0,0,null,254.23076923076923,68.615384615384613,293,615.46153846153845,87.769230769230774,29.384615384615383,122.30769230769231,47,28.23076923076923,0,0,0,0,0,0,null,null,null,null,null,null,null,null,null,null,null,null,null,null,null,null,null,null,null,12,74.333333333333329,317.41666666666669,666.75,95.083333333333329,31.833333333333332,132.5,50.916666666666664,30.583333333333332,0,0,0,0,0,0,null,66.166666666666671,209.25,74.333333333333329,317.41666666666669,666.75,95.083333333333329,31.833333333333332,132.5,50.916666666666664,30.583333333333332,0,0,0,0,0,0]
[null,14,63.714285714285715,272.07142857142856,571.5,81.5,27.285714285714285,113.57142857142857,43.642857142857146,26.214285714285715,0,0,0,0,0,0,null,56.714285714285715,179.35714285714286,63.714285714285715,272.07142857142856,571.5,81.5,27.285714285714285,113.57142857142857,43.642857142857146,26.214285714285715,0,0,0,0,0,0,null,236.07142857142858,63.714285714285715,272.07142857142856,571.5,81.5,27.285714285714285,113.57142857142857,43.642857142857146,26.214285714285715,0,0,0,0,0,0,null,null,null,null,null,null,null,null,null,null,null,null,null,null,null,null,null,null,null,13,68.615384615384613,293,615.46153846153845,87.769230769230774,29.384615384615383,122.30769230769231,47,28.23076923076923,0,0,0,0,0,0,null,61.07692307692308,193.15384615384616,68.615384615384613,293,615.46153846153845,87.769230769230774,29.384615384615383,122.30769230769231,47,28.23076923076923,0,0,0,0,0,0]
[null,15,59.466666666666669,253.93333333333334,533.4,76.066666666666663,25.466666666666665,106,40.733333333333334,24.466666666666665,0,0,0,0,0,0,null,52.93333333333333,167.4,59.466666666666669,253.93333333333334,533.4,76.066666666666663,25.466666666666665,106,40.733333333333334,24.466666666666665,0,0,0,0,0,0,null,220.33333333333334,59.466666666666669,253.93333333333334,533.4,76.066666666666663,25.466666666666665,106,40.733333333333334,24.466666666666665,0,0,0,0,0,0,null,null,null,null,null,null,null,null,null,null,null,null,null,null,null,null,null,null,null,14,63.714285714285715,272.07142857142856,571.5,81.5,27.285714285714285,113.57142857142857,43.642857142857146,26.214285714285715,0,0,0,0,0,0,null,56.714285714285715,179.35714285714286,63.714285714285715,272.07142857142856,571.5,81.5,27.285714285714285,113.57142857142857,43.642857142857146,26.214285714285715,0,0,0,0,0,0]
[null,16,55.75,238.0625,500.0625,71.3125,23.875,99.375,38.1875,22.9375,0,0,0,0,0,0,null,49.625,156.9375,55.75,238.0625,500.0625,71.3125,23.875,99.375,38.1875,22.9375,0,0,0,0,0,0,null,206.5625,55.75,238.0625,500.0625,71.3125,23.875,99.375,38.1875,22.9375,0,0,0,0,0,0,null,null,null,null,null,null,null,null,null,null,null,null,null,null,null,null,null,null,null,15,59.466666666666669,253.93333333333334,533.4,76.066666666666663,25.466666666666665,106,40.733333333333334,24.466666666666665,0,0,0,0,0,0,null,52.93333333333333,167.4,59.466666666666669,253.93333333333334,533.4,76.066666666666663,25.466666666666665,106,40.733333333333334,24.466666666666665,0,0,0,0,0,0]
[null,17,52.470588235294116,224.05882352941177,470.64705882352939,67.117647058823536,22.470588235294116,93.529411764705884,35.941176470588232,21.588235294117649,0,0,0,0,0,0,null,46.705882352941174,147.70588235294119,52.470588235294116,224.05882352941177,470.64705882352939,67.117647058823536,22.470588235294116,93.529411764705884,35.941176470588232,21.588235294117649,0,0,0,0,0,0,null,194.41176470588235,52.470588235294116,224.05882352941177,470.64705882352939,67.117647058823536,22.470588235294116,93.529411764705884,35.941176470588232,21.588235294117649,0,0,0,0,0,0,null,null,null,null,null,null,null,null,null,null,null,null,null,null,null,null,null,null,null,16,55.75,238.0625,500.0625,71.3125,23.875,99.375,38.1875,22.9375,0,0,0,0,0,0,null,49.625,156.9375,55.75,238.0625,500.0625,71.3125,23.875,99.375,38.1875,22.9375,0,0,0,0,0,0]
[null,18,49.555555555555557,211.61111111111111,444.5,63.388888888888886,21.222222222222221,88.333333333333329,33.944444444444443,20.388888888888889,0,0,0,0,0,0,null,44.111111111111114,139.5,49.555555555555557,211.61111111111111,444.5,63.388888888888886,21.222222222222221,88.333333333333329,33.944444444444443,20.388888888888889,0,0,0,0,0,0,null,183.61111111111111,49.555555555555557,211.61111111111111,444.5,63.388888888888886,21.222222222222221,88.333333333333329,33.944444444444443,20.388888888888889,0,0,0,0,0,0,null,null,null,null,null,null,null,null,null,null,null,null,null,null,null,null,null,null,null,17,52.470588235294116,224.05882352941177,470.64705882352939,67.117647058823536,22.470588235294116,93.529411764705884,35.941176470588232,21.588235294117649,0,0,0,0,0,0,null,46.705882352941174,147.70588235294119,52.470588235294116,224.05882352941177,470.64705882352939,67.117647058823536,22.470588235294116,93.529411764705884,35.941176470588232,21.588235294117649,0,0,0,0,0,0]
[null,19,46.94736842105263,200.47368421052633,421.10526315789474,60.05263157894737,20.105263157894736,83.684210526315795,32.157894736842103,19.315789473684209,0,0,0,0,0,0,null,41.789473684210527,132.15789473684211,46.94736842105263,200.47368421052633,421.10526315789474,60.05263157894737,20.105263157894736,83.684210526315795,32.157894736842103,19.315789473684209,0,0,0,0,0,0,null,173.94736842105263,46.94736842105263,200.47368421052633,421.10526315789474,60.05263157894737,20.105263157894736,83.684210526315795,32.157894736842103,19.315789473684209,0,0,0,0,0,0,null,null,null,null,null,null,null,null,null,null,null,null,null,null,null,null,null,null,null,18,49.555555555555557,211.61111111111111,444.5,63.388888888888886,21.222222222222221,88.333333333333329,33.944444444444443,20.388888888888889,0,0,0,0,0,0,null,44.111111111111114,139.5,49.555555555555557,211.61111111111111,444.5,63.388888888888886,21.222222222222221,88.333333333333329,33.944444444444443,20.388888888888889,0,0,0,0,0,0]
[null,20,44.6,190.45,400.05,57.05,19.100000000000001,79.5,30.55,18.350000000000001,0,0,0,0,0,0,null,39.700000000000003,125.55,44.6,190.45,400.05,{"$f":"F26","v":57.05},19.100000000000001,79.5,30.55,18.350000000000001,0,0,0,0,0,0,null,165.25,44.6,190.45,400.05,{"$f":"F26","v":57.05},19.100000000000001,79.5,30.55,18.350000000000001,0,0,0,0,0,0,null,null,null,null,null,null,null,null,null,null,null,null,null,null,null,null,null,null,null,19,46.94736842105263,200.47368421052633,421.10526315789474,60.05263157894737,20.105263157894736,83.684210526315795,32.157894736842103,19.315789473684209,0,0,0,0,0,0,null,41.789473684210527,132.15789473684211,46.94736842105263,200.47368421052633,421.10526315789474,{"$f":"BU26","v":60.05263157894737},20.105263157894736,83.684210526315795,32.157894736842103,19.315789473684209,0,0,0,0,0,0]
[null,21,42.476190476190474,181.38095238095238,381,54.333333333333336,18.19047619047619,75.714285714285708,29.095238095238095,17.476190476190474,0,0,0,0,0,0,null,37.80952380952381,119.57142857142857,{"$f":"C27","v":42.476190476190474},181.38095238095238,381,54.333333333333336,18.19047619047619,75.714285714285708,29.095238095238095,17.476190476190474,0,0,0,0,0,0,null,157.38095238095238,{"$f":"C27","v":42.476190476190474},181.38095238095238,381,54.333333333333336,18.19047619047619,75.714285714285708,29.095238095238095,17.476190476190474,0,0,0,0,0,0,null,null,null,null,null,null,null,null,null,null,null,null,null,null,null,null,null,null,null,20,44.6,190.45,400.05,57.05,19.100000000000001,79.5,30.55,18.350000000000001,0,0,0,0,0,0,null,39.700000000000003,125.55,{"$f":"BR27","v":44.6},{"$f":"BS27","v":190.45},{"$f":"BT27","v":400.05},57.05,19.100000000000001,79.5,30.55,18.350000000000001,0,0,0,0,0,0]
[null,22,40.545454545454547,173.13636363636363,363.68181818181819,51.863636363636367,17.363636363636363,72.272727272727266,27.772727272727273,16.681818181818183,0,0,0,0,0,0,null,36.090909090909093,114.13636363636364,40.545454545454547,173.13636363636363,363.68181818181819,51.863636363636367,17.363636363636363,72.272727272727266,27.772727272727273,16.681818181818183,0,0,0,0,0,0,null,150.22727272727272,40.545454545454547,173.13636363636363,363.68181818181819,51.863636363636367,17.363636363636363,72.272727272727266,27.772727272727273,16.681818181818183,0,0,0,0,0,0,null,null,null,null,null,null,null,null,null,null,null,null,null,null,null,null,null,null,null,21,42.476190476190474,181.38095238095238,381,54.333333333333336,18.19047619047619,75.714285714285708,29.095238095238095,17.476190476190474,0,0,0,0,0,0,null,37.80952380952381,119.57142857142857,42.476190476190474,181.38095238095238,381,54.333333333333336,18.19047619047619,75.714285714285708,29.095238095238095,17.476190476190474,0,0,0,0,0,0]
[null,23,38.782608695652172,165.60869565217391,347.86956521739131,49.608695652173914,16.608695652173914,69.130434782608702,26.565217391304348,15.956521739130435,0,0,0,0,0,0,null,34.521739130434781,109.17391304347827,38.782608695652172,165.60869565217391,347.86956521739131,49.608695652173914,16.608695652173914,69.130434782608702,26.565217391304348,15.956521739130435,0,0,0,0,0,0,null,143.69565217391303,38.782608695652172,165.60869565217391,347.86956521739131,49.608695652173914,16.608695652173914,69.130434782608702,26.565217391304348,15.956521739130435,0,0,0,0,0,0,null,null,null,null,null,null,null,null,null,null,null,null,null,null,null,null,null,null,null,22,40.545454545454547,173.13636363636363,363.68181818181819,51.863636363636367,17.363636363636363,72.272727272727266,27.772727272727273,16.681818181818183,0,0,0,0,0,0,null,36.090909090909093,114.13636363636364,40.545454545454547,173.13636363636363,363.68181818181819,51.863636363636367,17.363636363636363,72.272727272727266,27.772727272727273,16.681818181818183,0,0,0,0,0,0]
[null,24,37.166666666666664,158.70833333333334,333.375,47.541666666666664,15.916666666666666,66.25,25.458333333333332,15.291666666666666,0,0,0,0,0,0,null,33.083333333333336,104.625,37.166666666666664,158.70833333333334,333.375,47.541666666666664,15.916666666666666,66.25,25.458333333333332,15.291666666666666,0,0,0,0,0,0,null,137.70833333333334,37.166666666666664,158.70833333333334,333.375,47.541666666666664,15.916666666666666,66.25,25.458333333333332,15.291666666666666,0,0,0,0,0,0,null,null,null,null,null,null,null,null,null,null,null,null,null,null,null,null,null,null,null,23,38.782608695652172,165.60869565217391,347.86956521739131,49.608695652173914,16.608695652173914,69.130434782608702,26.565217391304348,15.956521739130435,0,0,0,0,0,0,null,34.521739130434781,109.17391304347827,38.782608695652172,165.60869565217391,347.86956521739131,49.608695652173914,16.608695652173914,69.130434782608702,26.565217391304348,15.956521739130435,0,0,0,0,0,0]
[null,25,35.68,152.36000000000001,320.04000000000002,45.64,15.28,63.6,24.44,14.68,0,0,0,0,0,0,null,31.76,100.44,35.68,152.36000000000001,320.04000000000002,45.64,15.28,63.6,24.44,14.68,0,0,0,0,0,0,null,132.19999999999999,35.68,152.36000000000001,320.04000000000002,45.64,15.28,63.6,24.44,14.68,0,0,0,0,0,0,null,null,null,null,null,null,null,null,null,null,null,null,null,null,null,null,null,null,null,24,37.166666666666664,158.70833333333334,333.375,47.541666666666664,15.916666666666666,66.25,25.458333333333332,15.291666666666666,0,0,0,0,0,0,null,33.083333333333336,104.625,37.166666666666664,158.70833333333334,333.375,47.541666666666664,15.916666666666666,66.25,25.458333333333332,15.291666666666666,0,0,0,0,0,0]
[null,26,34.307692307692307,146.5,307.73076923076923,43.884615384615387,14.692307692307692,61.153846153846153,23.5,14.115384615384615,0,0,0,0,0,0,null,30.53846153846154,96.57692307692308,34.307692307692307,146.5,307.73076923076923,43.884615384615387,14.692307692307692,61.153846153846153,23.5,14.115384615384615,0,0,0,0,0,0,null,127.11538461538461,34.307692307692307,146.5,307.73076923076923,43.884615384615387,14.692307692307692,61.153846153846153,23.5,14.115384615384615,0,0,0,0,0,0,null,null,null,null,null,null,null,null,null,null,null,null,null,null,null,null,null,null,null,25,35.68,152.36000000000001,320.04000000000002,45.64,15.28,63.6,24.44,14.68,0,0,0,0,0,0,null,31.76,100.44,35.68,152.36000000000001,320.04000000000002,45.64,15.28,63.6,24.44,14.68,0,0,0,0,0,0]
[null,27,33.037037037037038,141.07407407407408,296.33333333333331,42.25925925925926,14.148148148148149,58.888888888888886,22.62962962962963,13.592592592592593,0,0,0,0,0,0,null,29.407407407407408,93,33.037037037037038,141.07407407407408,296.33333333333331,42.25925925925926,14.148148148148149,58.888888888888886,22.62962962962963,13.592592592592593,0,0,0,0,0,0,null,122.4074074074074,33.037037037037038,141.07407407407408,296.33333333333331,42.25925925925926,14.148148148148149,58.888888888888886,22.62962962962963,13.592592592592593,0,0,0,0,0,0,null,null,null,null,null,null,null,null,null,null,null,null,null,null,null,null,null,null,null,26,34.307692307692307,146.5,307.73076923076923,43.884615384615387,14.692307692307692,61.153846153846153,23.5,14.115384615384615,0,0,0,0,0,0,null,30.53846153846154,96.57692307692308,34.307692307692307,146.5,307.73076923076923,43.884615384615387,14.692307692307692,61.153846153846153,23.5,14.115384615384615,0,0,0,0,0,0]
[null,28,31.857142857142858,136.03571428571428,285.75,40.75,13.642857142857142,56.785714285714285,21.821428571428573,13.107142857142858,0,0,0,0,0,0,null,28.357142857142858,89.678571428571431,31.857142857142858,136.03571428571428,285.75,40.75,13.642857142857142,56.785714285714285,21.821428571428573,13.107142857142858,0,0,0,0,0,0,null,118.03571428571429,31.857142857142858,136.03571428571428,285.75,40.75,13.642857142857142,56.785714285714285,21.821428571428573,13.107142857142858,0,0,0,0,0,0,null,null,null,null,null,null,null,null,null,null,null,null,null,null,null,null,null,null,null,27,33.037037037037038,141.07407407407408,296.33333333333331,42.25925925925926,14.148148148148149,58.888888888888886,22.62962962962963,13.592592592592593,0,0,0,0,0,0,null,29.407407407407408,93,33.037037037037038,141.07407407407408,296.33333333333331,42.25925925925926,14.148148148148149,58.888888888888886,22.62962962962963,13.592592592592593,0,0,0,0,0,0]
[null,29,30.758620689655171,131.34482758620689,275.89655172413791,39.344827586206897,13.172413793103448,54.827586206896555,21.068965517241381,12.655172413793103,0,0,0,0,0,0,null,27.379310344827587,86.58620689655173,30.758620689655171,131.34482758620689,275.89655172413791,39.344827586206897,13.172413793103448,54.827586206896555,21.068965517241381,12.655172413793103,0,0,0,0,0,0,null,113.96551724137932,30.758620689655171,131.34482758620689,275.89655172413791,39.344827586206897,13.172413793103448,54.827586206896555,21.068965517241381,12.655172413793103,0,0,0,0,0,0,null,null,null,null,null,null,null,null,null,null,null,null,null,null,null,null,null,null,null,28,31.857142857142858,136.03571428571428,285.75,40.75,13.642857142857142,56.785714285714285,21.821428571428573,13.107142857142858,0,0,0,0,0,0,null,28.357142857142858,89.678571428571431,31.857142857142858,136.03571428571428,285.75,40.75,13.642857142857142,56.785714285714285,21.821428571428573,13.107142857142858,0,0,0,0,0,0]
[null,30,29.733333333333334,126.96666666666667,266.7,38.033333333333331,12.733333333333333,53,20.366666666666667,12.233333333333333,0,0,0,0,0,0,null,26.466666666666665,83.7,29.733333333333334,126.96666666666667,266.7,38.033333333333331,12.733333333333333,53,20.366666666666667,12.233333333333333,0,0,0,0,0,0,null,110.16666666666667,29.733333333333334,126.96666666666667,266.7,38.033333333333331,12.733333333333333,53,20.366666666666667,12.233333333333333,0,0,0,0,0,0,null,null,null,null,null,null,null,null,null,null,null,null,null,null,null,null,null,null,null,29,30.758620689655171,131.34482758620689,275.89655172413791,39.344827586206897,13.172413793103448,54.827586206896555,21.068965517241381,12.655172413793103,0,0,0,0,0,0,null,27.379310344827587,86.58620689655173,30.758620689655171,131.34482758620689,275.89655172413791,39.344827586206897,13.172413793103448,54.827586206896555,21.068965517241381,12.655172413793103,0,0,0,0,0,0]
[null,31,28.774193548387096,122.87096774193549,258.09677419354841,36.806451612903224,12.32258064516129,51.29032258064516,19.70967741935484,11.838709677419354,0,0,0,0,0,0,null,25.612903225806452,81,28.774193548387096,122.87096774193549,258.09677419354841,36.806451612903224,12.32258064516129,51.29032258064516,19.70967741935484,11.838709677419354,0,0,0,0,0,0,null,106.61290322580645,28.774193548387096,122.87096774193549,258.09677419354841,36.806451612903224,12.32258064516129,51.29032258064516,19.70967741935484,11.838709677419354,0,0,0,0,0,0,null,null,null,null,null,null,null,null,null,null,null,null,null,null,null,null,null,null,null,30,29.733333333333334,126.96666666666667,266.7,38.033333333333331,12.733333333333333,53,20.366666666666667,12.233333333333333,0,0,0,0,0,0,null,26.466666666666665,83.7,29.733333333333334,126.96666666666667,266.7,38.033333333333331,12.733333333333333,53,20.366666666666667,12.233333333333333,0,0,0,0,0,0]
[null,32,27.875,119.03125,250.03125,35.65625,11.9375,49.6875,19.09375,11.46875,0,0,0,0,0,0,null,24.8125,78.46875,27.875,119.03125,250.03125,35.65625,11.9375,49.6875,19.09375,11.46875,0,0,0,0,0,0,null,103.28125,27.875,119.03125,250.03125,35.65625,11.9375,49.6875,19.09375,11.46875,0,0,0,0,0,0,null,null,null,null,null,null,null,null,null,null,null,null,null,null,null,null,null,null,null,31,28.774193548387096,122.87096774193549,258.09677419354841,36.806451612903224,12.32258064516129,51.29032258064516,19.70967741935484,11.838709677419354,0,0,0,0,0,0,null,25.612903225806452,81,28.774193548387096,122.87096774193549,258.09677419354841,36.806451612903224,12.32258064516129,51.29032258064516,19.70967741935484,11.838709677419354,0,0,0,0,0,0]
[null,33,27.030303030303031,115.42424242424242,242.45454545454547,34.575757575757578,11.575757575757576,48.18181818181818,18.515151515151516,11.121212121212121,0,0,0,0,0,0,null,24.060606060606062,76.090909090909093,27.030303030303031,115.42424242424242,242.45454545454547,34.575757575757578,11.575757575757576,48.18181818181818,18.515151515151516,11.121212121212121,0,0,0,0,0,0,null,100.15151515151516,27.030303030303031,115.42424242424242,242.45454545454547,34.575757575757578,11.575757575757576,48.18181818181818,18.515151515151516,11.121212121212121,0,0,0,0,0,0,null,null,null,null,null,null,null,null,null,null,null,null,null,null,null,null,null,null,null,32,27.875,119.03125,250.03125,35.65625,11.9375,49.6875,19.09375,11.46875,0,0,0,0,0,0,null,24.8125,78.46875,27.875,119.03125,250.03125,35.65625,11.9375,49.6875,19.09375,11.46875,0,0,0,0,0,0]
[null,34,26.235294117647058,112.02941176470588,235.3235294117647,33.558823529411768,11.235294117647058,46.764705882352942,17.970588235294116,10.794117647058824,0,0,0,0,0,0,null,23.352941176470587,73.852941176470594,26.235294117647058,112.02941176470588,235.3235294117647,33.558823529411768,11.235294117647058,46.764705882352942,17.970588235294116,10.794117647058824,0,0,0,0,0,0,null,97.205882352941174,26.235294117647058,112.02941176470588,235.3235294117647,33.558823529411768,11.235294117647058,46.764705882352942,17.970588235294116,10.794117647058824,0,0,0,0,0,0,null,null,null,null,null,null,null,null,null,null,null,null,null,null,null,null,null,null,null,33,27.030303030303031,115.42424242424242,242.45454545454547,34.575757575757578,11.575757575757576,48.18181818181818,18.515151515151516,11.121212121212121,0,0,0,0,0,0,null,24.060606060606062,76.090909090909093,27.030303030303031,115.42424242424242,242.45454545454547,34.575757575757578,11.575757575757576,48.18181818181818,18.515151515151516,11.121212121212121,0,0,0,0,0,0]
[null,35,25.485714285714284,108.82857142857142,228.6,32.6,10.914285714285715,45.428571428571431,17.457142857142856,10.485714285714286,0,0,0,0,0,0,null,22.685714285714287,71.742857142857147,25.485714285714284,108.82857142857142,228.6,32.6,10.914285714285715,45.428571428571431,17.457142857142856,10.485714285714286,0,0,0,0,0,0,null,94.428571428571431,25.485714285714284,108.82857142857142,228.6,32.6,10.914285714285715,45.428571428571431,17.457142857142856,10.485714285714286,0,0,0,0,0,0,null,null,null,null,null,null,null,null,null,null,null,null,null,null,null,null,null,null,null,34,26.235294117647058,112.02941176470588,235.3235294117647,33.558823529411768,11.235294117647058,46.764705882352942,17.970588235294116,10.794117647058824,0,0,0,0,0,0,null,23.352941176470587,73.852941176470594,26.235294117647058,112.02941176470588,235.3235294117647,33.558823529411768,11.235294117647058,46.764705882352942,17.970588235294116,10.794117647058824,0,0,0,0,0,0]
[null,36,24.777777777777779,105.80555555555556,222.25,31.694444444444443,10.611111111111111,44.166666666666664,16.972222222222221,10.194444444444445,0,0,0,0,0,0,null,22.055555555555557,69.75,24.777777777777779,105.80555555555556,222.25,31.694444444444443,10.611111111111111,44.166666666666664,16.972222222222221,10.194444444444445,0,0,0,0,0,0,null,91.805555555555557,24.777777777777779,105.80555555555556,222.25,31.694444444444443,10.611111111111111,44.166666666666664,16.972222222222221,10.194444444444445,0,0,0,0,0,0,null,null,null,null,null,null,null,null,null,null,null,null,null,null,null,null,null,null,null,35,25.485714285714284,108.82857142857142,228.6,32.6,10.914285714285715,45.428571428571431,17.457142857142856,10.485714285714286,0,0,0,0,0,0,null,22.685714285714287,71.742857142857147,25.485714285714284,108.82857142857142,228.6,32.6,10.914285714285715,45.428571428571431,17.457142857142856,10.485714285714286,0,0,0,0,0,0]
[null,37,24.108108108108109,102.94594594594595,216.24324324324326,30.837837837837839,10.324324324324325,42.972972972972975,16.513513513513512,9.9189189189189193,0,0,0,0,0,0,null,21.45945945945946,67.86486486486487,24.108108108108109,102.94594594594595,216.24324324324326,30.837837837837839,10.324324324324325,42.972972972972975,16.513513513513512,9.9189189189189193,0,0,0,0,0,0,null,89.324324324324323,24.108108108108109,102.94594594594595,216.24324324324326,30.837837837837839,10.324324324324325,42.972972972972975,16.513513513513512,9.9189189189189193,0,0,0,0,0,0,null,null,null,null,null,null,null,null,null,null,null,null,null,null,null,null,null,null,null,36,24.777777777777779,105.80555555555556,222.25,31.694444444444443,10.611111111111111,44.166666666666664,16.972222222222221,10.194444444444445,0,0,0,0,0,0,null,22.055555555555557,69.75,24.777777777777779,105.80555555555556,222.25,31.694444444444443,10.611111111111111,44.166666666666664,16.972222222222221,10.194444444444445,0,0,0,0,0,0]
[null,38,23.473684210526315,100.23684210526316,210.55263157894737,30.026315789473685,10.052631578947368,41.842105263157897,16.078947368421051,9.6578947368421044,0,0,0,0,0,0,null,20.894736842105264,66.078947368421055,23.473684210526315,100.23684210526316,210.55263157894737,30.026315789473685,10.052631578947368,41.842105263157897,16.078947368421051,9.6578947368421044,0,0,0,0,0,0,null,86.973684210526315,23.473684210526315,100.23684210526316,210.55263157894737,30.026315789473685,10.052631578947368,41.842105263157897,16.078947368421051,9.6578947368421044,0,0,0,0,0,0,null,null,null,null,null,null,null,null,null,null,null,null,null,null,null,null,null,null,null,37,24.108108108108109,102.94594594594595,216.24324324324326,30.837837837837839,10.324324324324325,42.972972972972975,16.513513513513512,9.9189189189189193,0,0,0,0,0,0,null,21.45945945945946,67.86486486486487,24.108108108108109,102.94594594594595,216.24324324324326,30.837837837837839,10.324324324324325,42.972972972972975,16.513513513513512,9.9189189189189193,0,0,0,0,0,0]
[null,39,22.871794871794872,97.666666666666671,205.15384615384616,29.256410256410255,9.7948717948717956,40.769230769230766,15.666666666666666,9.4102564102564106,0,0,0,0,0,0,null,20.358974358974358,64.384615384615387,22.871794871794872,97.666666666666671,205.15384615384616,29.256410256410255,9.7948717948717956,40.769230769230766,15.666666666666666,9.4102564102564106,0,0,0,0,0,0,null,84.743589743589737,22.871794871794872,97.666666666666671,205.15384615384616,29.256410256410255,9.7948717948717956,40.769230769230766,15.666666666666666,9.4102564102564106,0,0,0,0,0,0,null,null,null,null,null,null,null,null,null,null,null,null,null,null,null,null,null,null,null,38,23.473684210526315,100.23684210526316,210.55263157894737,30.026315789473685,10.052631578947368,41.842105263157897,16.078947368421051,9.6578947368421044,0,0,0,0,0,0,null,20.894736842105264,66.078947368421055,23.473684210526315,100.23684210526316,210.55263157894737,30.026315789473685,10.052631578947368,41.842105263157897,16.078947368421051,9.6578947368421044,0,0,0,0,0,0]
[null,40,22.3,95.224999999999994,200.02500000000001,28.524999999999999,9.5500000000000007,39.75,15.275,9.1750000000000007,0,0,0,0,0,0,null,19.850000000000001,62.774999999999999,22.3,95.224999999999994,200.02500000000001,28.524999999999999,9.5500000000000007,39.75,15.275,9.1750000000000007,0,0,0,0,0,0,null,82.625,22.3,95.224999999999994,200.02500000000001,28.524999999999999,9.5500000000000007,39.75,15.275,9.1750000000000007,0,0,0,0,0,0,null,null,null,null,null,null,null,null,null,null,null,null,null,null,null,null,null,null,null,39,22.871794871794872,97.666666666666671,205.15384615384616,29.256410256410255,9.7948717948717956,40.769230769230766,15.666666666666666,9.4102564102564106,0,0,0,0,0,0,null,20.358974358974358,64.384615384615387,22.871794871794872,97.666666666666671,205.15384615384616,29.256410256410255,9.7948717948717956,40.769230769230766,15.666666666666666,9.4102564102564106,0,0,0,0,0,0]
[null,41,21.756097560975611,92.902439024390247,195.14634146341464,27.829268292682926,9.3170731707317067,38.780487804878049,14.902439024390244,8.9512195121951219,0,0,0,0,0,0,null,19.365853658536587,61.243902439024389,21.756097560975611,92.902439024390247,195.14634146341464,27.829268292682926,9.3170731707317067,38.780487804878049,14.902439024390244,8.9512195121951219,0,0,0,0,0,0,null,80.609756097560975,21.756097560975611,92.902439024390247,195.14634146341464,27.829268292682926,9.3170731707317067,38.780487804878049,14.902439024390244,8.9512195121951219,0,0,0,0,0,0,null,null,null,null,null,null,null,null,null,null,null,null,null,null,null,null,null,null,null,40,22.3,95.224999999999994,200.02500000000001,28.524999999999999,9.5500000000000007,39.75,15.275,9.1750000000000007,0,0,0,0,0,0,null,19.850000000000001,62.774999999999999,22.3,95.224999999999994,200.02500000000001,28.524999999999999,9.5500000000000007,39.75,15.275,9.1750000000000007,0,0,0,0,0,0]
[null,42,21.238095238095237,90.69047619047619,190.5,27.166666666666668,9.0952380952380949,37.857142857142854,14.547619047619047,8.7380952380952372,0,0,0,0,0,0,null,18.904761904761905,59.785714285714285,21.238095238095237,90.69047619047619,190.5,27.166666666666668,9.0952380952380949,37.857142857142854,14.547619047619047,8.7380952380952372,0,0,0,0,0,0,null,78.69047619047619,21.238095238095237,90.69047619047619,190.5,27.166666666666668,9.0952380952380949,37.857142857142854,14.547619047619047,8.7380952380952372,0,0,0,0,0,0,null,null,null,null,null,null,null,null,null,null,null,null,null,null,null,null,null,null,null,41,21.756097560975611,92.902439024390247,195.14634146341464,27.829268292682926,9.3170731707317067,38.780487804878049,14.902439024390244,8.9512195121951219,0,0,0,0,0,0,null,19.365853658536587,61.243902439024389,21.756097560975611,92.902439024390247,195.14634146341464,27.829268292682926,9.3170731707317067,38.780487804878049,14.902439024390244,8.9512195121951219,0,0,0,0,0,0]
[null,43,20.744186046511629,88.581395348837205,186.06976744186048,26.534883720930232,8.8837209302325579,36.97674418604651,14.209302325581396,8.5348837209302317,0,0,0,0,0,0,null,18.465116279069768,58.395348837209305,20.744186046511629,88.581395348837205,186.06976744186048,26.534883720930232,8.8837209302325579,{"$f":"H49","v":36.97674418604651},14.209302325581396,8.5348837209302317,0,0,0,0,0,0,null,76.860465116279073,20.744186046511629,88.581395348837205,186.06976744186048,26.534883720930232,8.8837209302325579,{"$f":"H49","v":36.97674418604651},14.209302325581396,8.5348837209302317,0,0,0,0,0,0,null,null,null,null,null,null,null,null,null,null,null,null,null,null,null,null,null,null,null,42,21.238095238095237,90.69047619047619,190.5,27.166666666666668,9.0952380952380949,37.857142857142854,14.547619047619047,8.7380952380952372,0,0,0,0,0,0,null,18.904761904761905,59.785714285714285,21.238095238095237,90.69047619047619,190.5,27.166666666666668,9.0952380952380949,{"$f":"BW49","v":37.857142857142854},{"$f":"BX49","v":14.547619047619047},{"$f":"BY49","v":8.7380952380952372},{"$f":"BZ49","v":0},{"$f":"CA49","v":0},{"$f":"CB49","v":0},{"$f":"CC49","v":0},{"$f":"CD49","v":0},{"$f":"CE49","v":0}]
[null,44,20.272727272727273,86.568181818181813,181.84090909090909,25.931818181818183,8.6818181818181817,36.136363636363633,13.886363636363637,8.3409090909090917,0,0,0,0,0,0,null,18.045454545454547,57.06818181818182,20.272727272727273,86.568181818181813,181.84090909090909,25.931818181818183,8.6818181818181817,36.136363636363633,13.886363636363637,8.3409090909090917,0,0,0,0,0,0,null,75.11363636363636,20.272727272727273,86.568181818181813,181.84090909090909,25.931818181818183,8.6818181818181817,36.136363636363633,13.886363636363637,8.3409090909090917,0,0,0,0,0,0,null,null,null,null,null,null,null,null,null,null,null,null,null,null,null,null,null,null,null,43,20.744186046511629,88.581395348837205,186.06976744186048,26.534883720930232,8.8837209302325579,36.97674418604651,14.209302325581396,8.5348837209302317,0,0,0,0,0,0,null,18.465116279069768,58.395348837209305,20.744186046511629,88.581395348837205,186.06976744186048,{"$f":"BU50","v":26.534883720930232},{"$f":"BV50","v":8.8837209302325579},36.97674418604651,14.209302325581396,8.5348837209302317,0,0,0,0,0,0]
[null,45,19.822222222222223,84.644444444444446,177.8,25.355555555555554,8.4888888888888889,35.333333333333336,13.577777777777778,8.155555555555555,0,0,0,0,0,0,null,17.644444444444446,55.8,19.822222222222223,84.644444444444446,177.8,25.355555555555554,8.4888888888888889,35.333333333333336,13.577777777777778,8.155555555555555,0,0,0,0,0,0,null,73.444444444444443,19.822222222222223,84.644444444444446,177.8,25.355555555555554,8.4888888888888889,35.333333333333336,13.577777777777778,8.155555555555555,0,0,0,0,0,0,null,null,null,null,null,null,null,null,null,null,null,null,null,null,null,null,null,null,null,44,20.272727272727273,86.568181818181813,181.84090909090909,25.931818181818183,8.6818181818181817,36.136363636363633,13.886363636363637,8.3409090909090917,0,0,0,0,0,0,null,18.045454545454547,57.06818181818182,20.272727272727273,86.568181818181813,181.84090909090909,25.931818181818183,8.6818181818181817,36.136363636363633,13.886363636363637,8.3409090909090917,0,0,0,0,0,0]
[null,46,19.391304347826086,82.804347826086953,173.93478260869566,24.804347826086957,8.304347826086957,34.565217391304351,13.282608695652174,7.9782608695652177,0,0,0,0,0,0,null,17.260869565217391,54.586956521739133,19.391304347826086,82.804347826086953,173.93478260869566,24.804347826086957,8.304347826086957,34.565217391304351,13.282608695652174,7.9782608695652177,0,0,0,0,0,0,null,71.847826086956516,19.391304347826086,82.804347826086953,173.93478260869566,24.804347826086957,8.304347826086957,34.565217391304351,13.282608695652174,7.9782608695652177,0,0,0,0,0,0,null,null,null,null,null,null,null,null,null,null,null,null,null,null,null,null,null,null,null,45,19.822222222222223,84.644444444444446,177.8,25.355555555555554,8.4888888888888889,35.333333333333336,13.577777777777778,8.155555555555555,0,0,0,0,0,0,null,17.644444444444446,55.8,19.822222222222223,84.644444444444446,177.8,25.355555555555554,8.4888888888888889,35.333333333333336,13.577777777777778,8.155555555555555,0,0,0,0,0,0]
[null,47,18.978723404255319,81.042553191489361,170.2340425531915,24.276595744680851,8.1276595744680851,33.829787234042556,13,7.8085106382978724,0,0,0,0,0,0,null,16.893617021276597,53.425531914893618,18.978723404255319,81.042553191489361,170.2340425531915,24.276595744680851,8.1276595744680851,33.829787234042556,13,7.8085106382978724,0,0,0,0,0,0,null,70.319148936170208,18.978723404255319,81.042553191489361,170.2340425531915,24.276595744680851,8.1276595744680851,33.829787234042556,13,7.8085106382978724,0,0,0,0,0,0,null,null,null,null,null,null,null,null,null,null,null,null,null,null,null,null,null,null,null,46,19.391304347826086,82.804347826086953,173.93478260869566,24.804347826086957,8.304347826086957,34.565217391304351,13.282608695652174,7.9782608695652177,0,0,0,0,0,0,null,17.260869565217391,54.586956521739133,19.391304347826086,82.804347826086953,173.93478260869566,24.804347826086957,8.304347826086957,34.565217391304351,13.282608695652174,7.9782608695652177,0,0,0,0,0,0]
[null,48,18.583333333333332,79.354166666666671,166.6875,23.770833333333332,7.958333333333333,33.125,12.729166666666666,7.645833333333333,0,0,0,0,0,0,null,16.541666666666668,52.3125,18.583333333333332,79.354166666666671,166.6875,23.770833333333332,7.958333333333333,33.125,12.729166666666666,7.645833333333333,0,0,0,0,0,0,null,68.854166666666671,18.583333333333332,79.354166666666671,166.6875,23.770833333333332,7.958333333333333,33.125,12.729166666666666,7.645833333333333,0,0,0,0,0,0,null,null,null,null,null,null,null,null,null,null,null,null,null,null,null,null,null,null,null,47,18.978723404255319,81.042553191489361,170.2340425531915,24.276595744680851,8.1276595744680851,33.829787234042556,13,7.8085106382978724,0,0,0,0,0,0,null,16.893617021276597,53.425531914893618,18.978723404255319,81.042553191489361,170.2340425531915,24.276595744680851,8.1276595744680851,33.829787234042556,13,7.8085106382978724,0,0,0,0,0,0]
[null,49,18.204081632653061,77.734693877551024,163.28571428571428,23.285714285714285,7.795918367346939,32.448979591836732,12.469387755102041,7.4897959183673466,0,0,0,0,0,0,null,16.204081632653061,51.244897959183675,18.204081632653061,77.734693877551024,163.28571428571428,23.285714285714285,7.795918367346939,32.448979591836732,12.469387755102041,7.4897959183673466,0,0,0,0,0,0,null,67.448979591836732,18.204081632653061,77.734693877551024,163.28571428571428,23.285714285714285,7.795918367346939,32.448979591836732,12.469387755102041,7.4897959183673466,0,0,0,0,0,0,null,null,null,null,null,null,null,null,null,null,null,null,null,null,null,null,null,null,null,48,18.583333333333332,79.354166666666671,166.6875,23.770833333333332,7.958333333333333,33.125,12.729166666666666,7.645833333333333,0,0,0,0,0,0,null,16.541666666666668,52.3125,18.583333333333332,79.354166666666671,166.6875,23.770833333333332,7.958333333333333,33.125,12.729166666666666,7.645833333333333,0,0,0,0,0,0]
[null,50,17.84,76.180000000000007,160.02000000000001,22.82,7.64,31.8,12.22,7.34,0,0,0,0,0,0,null,15.88,50.22,17.84,76.180000000000007,160.02000000000001,22.82,7.64,31.8,12.22,7.34,0,0,0,0,0,0,null,66.099999999999994,17.84,76.180000000000007,160.02000000000001,22.82,7.64,31.8,12.22,7.34,0,0,0,0,0,0,null,null,null,null,null,null,null,null,null,null,null,null,null,null,null,null,null,null,null,49,18.204081632653061,77.734693877551024,163.28571428571428,23.285714285714285,7.795918367346939,32.448979591836732,12.469387755102041,7.4897959183673466,0,0,0,0,0,0,null,16.204081632653061,51.244897959183675,18.204081632653061,77.734693877551024,163.28571428571428,23.285714285714285,7.795918367346939,32.448979591836732,12.469387755102041,7.4897959183673466,0,0,0,0,0,0]
[null,51,17.490196078431371,74.686274509803923,156.88235294117646,22.372549019607842,7.4901960784313726,31.176470588235293,11.980392156862745,7.1960784313725492,0,0,0,0,0,0,null,15.568627450980392,49.235294117647058,17.490196078431371,74.686274509803923,156.88235294117646,22.372549019607842,7.4901960784313726,31.176470588235293,11.980392156862745,7.1960784313725492,0,0,0,0,0,0,null,64.803921568627445,17.490196078431371,74.686274509803923,156.88235294117646,22.372549019607842,7.4901960784313726,31.176470588235293,11.980392156862745,7.1960784313725492,0,0,0,0,0,0,null,null,null,null,null,null,null,null,null,null,null,null,null,null,null,null,null,null,null,50,17.84,76.180000000000007,160.02000000000001,22.82,7.64,31.8,12.22,7.34,0,0,0,0,0,0,null,15.88,50.22,17.84,76.180000000000007,160.02000000000001,22.82,7.64,31.8,12.22,7.34,0,0,0,0,0,0]
[null,52,17.153846153846153,73.25,153.86538461538461,21.942307692307693,7.3461538461538458,30.576923076923077,11.75,7.0576923076923075,0,0,0,0,0,0,null,15.26923076923077,48.28846153846154,17.153846153846153,73.25,153.86538461538461,21.942307692307693,7.3461538461538458,30.576923076923077,11.75,7.0576923076923075,0,0,0,0,0,0,null,63.557692307692307,17.153846153846153,73.25,153.86538461538461,21.942307692307693,7.3461538461538458,30.576923076923077,11.75,7.0576923076923075,0,0,0,0,0,0,null,null,null,null,null,null,null,null,null,null,null,null,null,null,null,null,null,null,null,51,17.490196078431371,74.686274509803923,156.88235294117646,22.372549019607842,7.4901960784313726,31.176470588235293,11.980392156862745,7.1960784313725492,0,0,0,0,0,0,null,15.568627450980392,49.235294117647058,17.490196078431371,74.686274509803923,156.88235294117646,22.372549019607842,7.4901960784313726,31.176470588235293,11.980392156862745,7.1960784313725492,0,0,0,0,0,0]
[null,53,{"$f":"$C$6/B59","v":16.830188679245282},{"$f":"$D$6/B59","v":71.867924528301884},{"$f":"$E$6/B59","v":150.96226415094338},{"$f":"$F$6/B59","v":21.528301886792452},{"$f":"$G$6/B59","v":7.2075471698113205},{"$f":"$H$6/B59","v":30},{"$f":"$I$6/B59","v":11.528301886792454},6.9245283018867925,{"$f":"$K$6/B59","v":0},{"$f":"$L$6/B59","v":0},0,0,{"$f":"$O$6/B59","v":0},{"$f":"$P$6/B59","v":0},null,{"$f":"$R$6/B59","v":14.981132075471699},{"$f":"$S$6/B59","v":47.377358490566039},{"$f":"C59","v":16.830188679245282},71.867924528301884,150.96226415094338,21.528301886792452,7.2075471698113205,30,11.528301886792454,6.9245283018867925,0,0,0,0,0,0,null,{"$f":"$AI$6/B59","v":62.358490566037737},{"$f":"C59","v":16.830188679245282},71.867924528301884,150.96226415094338,21.528301886792452,7.2075471698113205,30,11.528301886792454,6.9245283018867925,0,0,0,0,0,0,null,null,null,null,null,null,null,null,null,null,null,null,null,null,null,null,null,null,null,52,{"$f":"$C$6/BQ59","v":17.153846153846153},{"$f":"$D$6/BQ59","v":73.25},{"$f":"$E$6/BQ59","v":153.86538461538461},{"$f":"$F$6/BQ59","v":21.942307692307693},{"$f":"$G$6/BQ59","v":7.3461538461538458},{"$f":"$H$6/BQ59","v":30.576923076923077},{"$f":"$I$6/BQ59","v":11.75},7.0576923076923075,{"$f":"$K$6/BQ59","v":0},{"$f":"$L$6/BQ59","v":0},0,0,{"$f":"$O$6/BQ59","v":0},{"$f":"$P$6/BQ59","v":0},null,{"$f":"$R$6/BQ59","v":15.26923076923077},{"$f":"$S$6/BQ59","v":48.28846153846154},17.153846153846153,73.25,153.86538461538461,21.942307692307693,7.3461538461538458,30.576923076923077,11.75,7.0576923076923075,0,0,0,0,0,0]
[null,54,{"$f":"$C$6/B60","v":16.518518518518519},{"$f":"$D$6/B60","v":70.537037037037038},{"$f":"$E$6/B60","v":148.16666666666666},{"$f":"$F$6/B60","v":21.12962962962963},{"$f":"$G$6/B60","v":7.0740740740740744},{"$f":"$H$6/B60","v":29.444444444444443},{"$f":"$I$6/B60","v":11.314814814814815},6.7962962962962967,{"$f":"$K$6/B60","v":0},{"$f":"$L$6/B60","v":0},{"$f":"$M$6/B60","v":0},{"$f":"$N$6/B60","v":0},{"$f":"$O$6/B60","v":0},{"$f":"$P$6/B60","v":0},null,{"$f":"$R$6/B60","v":14.703703703703704},{"$f":"$S$6/B60","v":46.5},16.518518518518519,70.537037037037038,148.16666666666666,21.12962962962963,7.0740740740740744,29.444444444444443,11.314814814814815,6.7962962962962967,0,0,0,0,0,0,null,{"$f":"$AI$6/B60","v":61.203703703703702},16.518518518518519,70.537037037037038,148.16666666666666,21.12962962962963,7.0740740740740744,29.444444444444443,11.314814814814815,6.7962962962962967,0,0,0,0,0,0,null,null,null,null,null,null,null,null,null,null,null,null,null,null,null,null,null,null,null,53,{"$f":"$C$6/BQ60","v":16.830188679245282},{"$f":"$D$6/BQ60","v":71.867924528301884},{"$f":"$E$6/BQ60","v":150.96226415094338},{"$f":"$F$6/BQ60","v":21.528301886792452},{"$f":"$G$6/BQ60","v":7.2075471698113205},{"$f":"$H$6/BQ60","v":30},{"$f":"$I$6/BQ60","v":11.528301886792454},6.9245283018867925,{"$f":"$K$6/BQ60","v":0},{"$f":"$L$6/BQ60","v":0},{"$f":"$M$6/BQ60","v":0},{"$f":"$N$6/BQ60","v":0},{"$f":"$O$6/BQ60","v":0},{"$f":"$P$6/BQ60","v":0},null,{"$f":"$R$6/BQ60","v":14.981132075471699},{"$f":"$S$6/BQ60","v":47.377358490566039},16.830188679245282,71.867924528301884,150.96226415094338,21.528301886792452,7.2075471698113205,30,11.528301886792454,6.9245283018867925,0,0,0,0,0,0]
[]
[]
[null,"Nombre d'inscrits",20098]
[null,"Bulletins déposés",17587]
[null,"Blancs & Nuls",794]
[null,"Votes valables",16739]
[null,"Nombre de sièges",31]
[]
[]
[]
[]
[null,"Liste unique\nMajorité\nabsolue",{"$f":"SUM($C$73:$P$73)","v":1},null,null,null,null,null,null,null,null,null,null,null,null,null,null,{"$f":"SUM($R$73:$AG$73)","v":1},null,null,null,null,null,null,null,null,null,null,null,null,null,null,null,null,{"$f":"SUM($AI$73:$AW$73)","v":0}]
[null,null,{"$f":"IF(C7>($C$67/2),1,0)","v":0},{"$f":"IF(D7>($C$67/2),1,0)","v":0},{"$f":"IF(E7>($C$67/2),1,0)","v":1},{"$f":"IF(F7>($C$67/2),1,0)","v":0},{"$f":"IF(G7>($C$67/2),1,0)","v":0},{"$f":"IF(H7>($C$67/2),1,0)","v":0},{"$f":"IF(I7>($C$67/2),1,0)","v":0},{"$f":"IF(J7>($C$67/2),1,0)","v":0},{"$f":"IF(K7>($C$67/2),1,0)","v":0},{"$f":"IF(L7>($C$67/2),1,0)","v":0},{"$f":"IF(M7>($C$67/2),1,0)","v":0},{"$f":"IF(N7>($C$67/2),1,0)","v":0},{"$f":"IF(O7>($C$67/2),1,0)","v":0},{"$f":"IF(P7>($C$67/2),1,0)","v":0},null,{"$f":"IF(R7>($C$67/2),1,0)","v":0},{"$f":"IF(S7>($C$67/2),1,0)","v":0},{"$f":"IF(T7>($C$67/2),1,0)","v":0},{"$f":"IF(U7>($C$67/2),1,0)","v":0},{"$f":"IF(V7>($C$67/2),1,0)","v":1},{"$f":"IF(W7>($C$67/2),1,0)","v":0},{"$f":"IF(X7>($C$67/2),1,0)","v":0},{"$f":"IF(Y7>($C$67/2),1,0)","v":0},{"$f":"IF(Z7>($C$67/2),1,0)","v":0},{"$f":"IF(AA7>($C$67/2),1,0)","v":0},{"$f":"IF(AB7>($C$67/2),1,0)","v":0},{"$f":"IF(AC7>($C$67/2),1,0)","v":0},{"$f":"IF(AD7>($C$67/2),1,0)","v":0},{"$f":"IF(AE7>($C$67/2),1,0)","v":0},{"$f":"IF(AF7>($C$67/2),1,0)","v":0},{"$f":"IF(AG7>($C$67/2),1,0)","v":0},null,{"$f":"IF(AI7>($C$67/2),1,0)","v":0},{"$f":"IF(AJ7>($C$67/2),1,0)","v":0},{"$f":"IF(AK7>($C$67/2),1,0)","v":0},{"$f":"IF(AL7>($C$67/2),1,0)","v":0},{"$f":"IF(AM7>($C$67/2),1,0)","v":0},{"$f":"IF(AN7>($C$67/2),1,0)","v":0},{"$f":"IF(AO7>($C$67/2),1,0)","v":0},{"$f":"IF(AP7>($C$67/2),1,0)","v":0},{"$f":"IF(AQ7>($C$67/2),1,0)","v":0},{"$f":"IF(AR7>($C$67/2),1,0)","v":0},{"$f":"IF(AS7>($C$67/2),1,0)","v":0},{"$f":"IF(AT7>($C$67/2),1,0)","v":0},{"$f":"IF(AU7>($C$67/2),1,0)","v":0},{"$f":"IF(AV7>($C$67/2),1,0)","v":0},{"$f":"IF(AW7>($C$67/2),1,0)","v":0}]
[]
[null,"Liste unique\nMajorité\nabsolue\nnombre de voix",{"$f":"SUM($C$76:$P$76)","v":8001},null,null,null,null,null,null,null,null,null,null,null,null,null,null,{"$f":"SUM(R76:AG76)","v":8001},null,null,null,null,null,null,null,null,null,null,null,null,null,null,null,null,{"$f":"SUM(AI76:AW76)","v":0}]
[null,null,{"$f":"IF(C73>0,C6,0)","v":0},{"$f":"IF(D73>0,D6,0)","v":0},{"$f":"IF(E73>0,E6,0)","v":8001},{"$f":"IF(F73>0,F6,0)","v":0},{"$f":"IF(G73>0,G6,0)","v":0},{"$f":"IF(H73>0,H6,0)","v":0},{"$f":"IF(I73>0,I6,0)","v":0},{"$f":"IF(J73>0,J6,0)","v":0},{"$f":"IF(K73>0,K6,0)","v":0},{"$f":"IF(L73>0,L6,0)","v":0},{"$f":"IF(M73>0,M6,0)","v":0},{"$f":"IF(N73>0,N6,0)","v":0},{"$f":"IF(O73>0,O6,0)","v":0},{"$f":"IF(P73>0,P6,0)","v":0},null,{"$f":"IF(R73>0,R6,0)","v":0},{"$f":"IF(S73>0,S6,0)","v":0},{"$f":"IF(T73>0,T6,0)","v":0},{"$f":"IF(U73>0,U6,0)","v":0},{"$f":"IF(V73>0,V6,0)","v":8001},{"$f":"IF(W73>0,W6,0)","v":0},{"$f":"IF(X73>0,X6,0)","v":0},{"$f":"IF(Y73>0,Y6,0)","v":0},{"$f":"IF(Z73>0,Z6,0)","v":0},{"$f":"IF(AA73>0,AA6,0)","v":0},{"$f":"IF(AB73>0,AB6,0)","v":0},{"$f":"IF(AC73>0,AC6,0)","v":0},{"$f":"IF(AD73>0,AD6,0)","v":0},{"$f":"IF(AE73>0,AE6,0)","v":0},{"$f":"IF(AF73>0,AF6,0)","v":0},{"$f":"IF(AG73>0,AG6,0)","v":0},null,{"$f":"IF(AI73>0,AI6,0)","v":0},{"$f":"IF(AJ73>0,AJ6,0)","v":0},{"$f":"IF(AK73>0,AK6,0)","v":0},{"$f":"IF(AL73>0,AL6,0)","v":0},{"$f":"IF(AM73>0,AM6,0)","v":0},{"$f":"IF(AN73>0,AN6,0)","v":0},{"$f":"IF(AO73>0,AO6,0)","v":0},{"$f":"IF(AP73>0,AP6,0)","v":0},{"$f":"IF(AQ73>0,AQ6,0)","v":0},{"$f":"IF(AR73>0,AR6,0)","v":0},{"$f":"IF(AS73>0,AS6,0)","v":0},{"$f":"IF(AT73>0,AT6,0)","v":0},{"$f":"IF(AU73>0,AU6,0)","v":0},{"$f":"IF(AV73>0,AV6,0)","v":0},{"$f":"IF(AW73>0,AW6,0)","v":0}]
[]
[null,"Nbr voix\nCoalition",{"$f":"SUMIF(C4:P4,\"x\",C6:P6)","v":11810}]
[]
[null,"% Coalition",{"$f":"100/C63*C78","v":58.762065877201714}]
[null,"% Majorité",{"$f":"100/C63*C75","v":39.809931336451385}]
[]
[null,"Coalition",{"$f":"COUNTA(C4:P4)","v":2},{"$f":"IF(C83>0,1,0)","v":1}]
[]
[]
[]
[]
[]
[]
[]
[]
[]
[]
[]
[]
[null,null,null,null,null,null,null,null,null,null,null,null,null,null,null,"AUDERGHEM"]
[]
[null,null,null,null,null,null,null,null,null,null,null,null,null,null,null,null,null,{"$f":"R5","v":"Blancs & Nuls"},{"$f":"S5","v":"Non-déposés"},{"$f":"T5","v":"LISTE CITOYENNE 1160"},{"$f":"U5","v":"Ecolo-Groen"},{"$f":"V5","v":"Liste du Bourgmestre"},{"$f":"W5","v":"PS"},{"$f":"X5","v":"N-VA"},{"$f":"Y5","v":"MR-OpenVLD"},{"$f":"Z5","v":"SAMEN"},{"$f":"AA5","v":"PP Parti Populaire"},{"$f":"AB5","v":0},{"$f":"AC5","v":0},{"$f":"AD5","v":0},{"$f":"AE5","v":0},{"$f":"AF5","v":0},{"$f":"AG5","v":0}]
[null,null,null,null,null,null,null,null,null,null,null,null,null,null,null,"Chiffres\nélectoraux",null,{"$f":"R6","v":794},{"$f":"S6","v":2511},{"$f":"T6","v":892},{"$f":"U6","v":3809},{"$f":"V6","v":8001},{"$f":"W6","v":1141},{"$f":"X6","v":382},{"$f":"Y6","v":1590},{"$f":"Z6","v":611},{"$f":"AA6","v":367},{"$f":"AB6","v":0},{"$f":"AC6","v":0},{"$f":"AD6","v":0},{"$f":"AE6","v":0},{"$f":"AF6","v":0},{"$f":"AG6","v":0}]
[null,null,null,null,null,null,null,null,null,null,null,null,null,null,null,"Impériali",null,0,0,{"$f":"C7","v":1},{"$f":"D7","v":8},{"$f":"E7","v":19},{"$f":"F7","v":1},{"$f":"G7","v":0},{"$f":"H7","v":2},{"$f":"I7","v":0},{"$f":"J7","v":0},{"$f":"K7","v":0},{"$f":"L7","v":0},{"$f":"M7","v":0},{"$f":"N7","v":0},{"$f":"O7","v":0},{"$f":"P7","v":0}]
[null,null,null,null,null,null,null,null,null,null,null,null,null,null,null,"Impériali\n+ proportionnelle",null,{"$f":"R7","v":0},{"$f":"S7","v":4},{"$f":"T7","v":1},{"$f":"U7","v":7},{"$f":"V7","v":16},{"$f":"W7","v":1},{"$f":"X7","v":0},{"$f":"Y7","v":2},{"$f":"Z7","v":0},{"$f":"AA7","v":0},{"$f":"AB7","v":0},{"$f":"AC7","v":0},{"$f":"AD7","v":0},{"$f":"AE7","v":0},{"$f":"AF7","v":0},{"$f":"AG7","v":0}]
[null,null,null,null,null,null,null,null,null,null,null,null,null,null,null,"D'Hondt",null,0,0,{"$f":"BR7","v":1},{"$f":"BS7","v":8},{"$f":"BT7","v":16},{"$f":"BU7","v":2},{"$f":"BV7","v":0},{"$f":"BW7","v":3},{"$f":"BX7","v":1},{"$f":"BY7","v":0},{"$f":"BZ7","v":0},{"$f":"CA7","v":0},{"$f":"CB7","v":0},{"$f":"CC7","v":0},{"$f":"CD7","v":0},{"$f":"CE7","v":0}]
[null,null,null,null,null,null,null,null,null,null,null,null,null,null,null,"D'Hondt\n+ proportionnelle",null,{"$f":"CG7","v":1},{"$f":"CH7","v":4},{"$f":"CI7","v":1},{"$f":"CJ7","v":6},{"$f":"CK7","v":14},{"$f":"CL7","v":2},{"$f":"CM7","v":0},{"$f":"CN7","v":2},{"$f":"CO7","v":1},{"$f":"CP7","v":0},{"$f":"CQ7","v":0},{"$f":"CR7","v":0},{"$f":"CS7","v":0},{"$f":"CT7","v":0},{"$f":"CU7","v":0},{"$f":"CV7","v":0}]
[null,null,null,null,null,null,null,null,null,null,null,null,null,null,null,"Proportionnelle\npure",null,{"$f":"AZ7","v":1.2246989750223902},{"$f":"BA7","v":3.8730719474574582},{"$f":"BB7","v":1.3758582943576474},{"$f":"BC7","v":5.8751617076325999},{"$f":"BD7","v":12.341078714299929},{"$f":"BE7","v":1.7599263608319236},{"$f":"BF7","v":0.58921285700069659},{"$f":"BG7","v":2.4524828341128471},{"$f":"BH7","v":0.94243208279430779},{"$f":"BI7","v":0.56607622649019795},{"$f":"BJ7","v":0},{"$f":"BK7","v":0},{"$f":"BL7","v":0},{"$f":"BM7","v":0},{"$f":"BN7","v":0},{"$f":"BO7","v":0}]
[]
[null,null,null,null,null,null,null,null,null,null,null,null,null,null,null,null,"Nombre de sièges à distribuer :",null,null,null,{"$f":"C67","v":31},null,"Est-ce une liste unique en majorité absolue en termes de sièges ?",null,null,null,null,null,null,{"$f":"IF(C72>0,\"Oui\",\"Non\")","v":"Oui"}]
[]
[null,null,null,null,null,null,null,null,null,null,null,null,null,null,null,null,"Nombre d'inscrits :",null,null,null,{"$f":"C63","v":20098},null,"Est-ce une liste unique en majorité absolue en termes de voix ?",null,null,null,null,null,null,{"$f":"IF(C75>0,\"Oui\",\"Non\")","v":"Oui"}]
[]
[null,null,null,null,null,null,null,null,null,null,null,null,null,null,null,null,"Nombre de bulletins déposés :",null,null,null,{"$f":"C64","v":17587},null,"La majorité est-elle formée par une coalition ?",null,null,null,null,null,null,{"$f":"IF(B4>0,\"Oui\",\"Non\")","v":"Oui"}]
[]
[null,null,null,null,null,null,null,null,null,null,null,null,null,null,null,null,"Nombre de votes valables :",null,null,null,{"$f":"C66","v":16739},null,"Quelle est la proportion de l'électorat représentée par la majorité ?",null,null,null,null,null,null,{"$f":"IF(D83>0,C80,C81)","v":58.762065877201714}]
[]
[null,null,null,null,null,null,null,null,null,null,null,null,null,null,null,"Comparaison\nClef Impériali\n-\nClef D'Hondt",null,{"$f":"R100-R102","v":0},{"$f":"S100-S102","v":0},0,0,3,-1,0,-1,-1,0,0,0,0,0,0,0]

{"sheet":"BERCHEM-SAINTE-AGATHE","index":6,"n_rows":114,"n_cols":100,"rows_kept":114,"cut":false,"hidden":false,"merged":[[1,1,1,48],[1,68,1,99],[1,50,1,66],[71,1,72,1],[113,15,113,16],[107,16,107,19],[109,16,109,19],[111,16,111,19],[74,1,75,1],[95,15,95,32],[105,22,105,27],[107,22,107,27],[109,22,109,27],[111,22,111,27],[105,16,105,19]]}
[]
[null,"IMPÉRIALI",null,null,null,null,null,null,null,null,null,null,null,null,null,null,null,null,null,null,null,null,null,null,null,null,null,null,null,null,null,null,null,null,null,null,null,null,null,null,null,null,null,null,null,null,null,null,null,null,"PROPORTIONNELLE PURE",null,null,null,null,null,null,null,null,null,null,null,null,null,null,null,null,null,"D'HONDT"]
[]
[null,"Coalition","x",null,null,"x",null,null,"x"]
[null,{"$f":"COUNTA(C5:P5)","v":7},"ECOLO-GROEN","VLAAMS BELANG","DéFI","PS-sp.a+","N-VA","Open MR","LBR",null,null,null,null,null,null,null,null,"Blancs & Nuls","Non-déposés",{"$f":"C5","v":"ECOLO-GROEN"},{"$f":"D5","v":"VLAAMS BELANG"},{"$f":"E5","v":"DéFI"},{"$f":"F5","v":"PS-sp.a+"},{"$f":"G5","v":"N-VA"},{"$f":"H5","v":"Open MR"},{"$f":"I5","v":"LBR"},{"$f":"J5","v":0},{"$f":"K5","v":0},{"$f":"L5","v":0},{"$f":"M5","v":0},{"$f":"N5","v":0},{"$f":"O5","v":0},{"$f":"P5","v":0},null,"Non-valables",{"$f":"C5","v":"ECOLO-GROEN"},{"$f":"D5","v":"VLAAMS BELANG"},{"$f":"E5","v":"DéFI"},{"$f":"F5","v":"PS-sp.a+"},{"$f":"G5","v":"N-VA"},{"$f":"H5","v":"Open MR"},{"$f":"I5","v":"LBR"},{"$f":"J5","v":0},{"$f":"K5","v":0},{"$f":"L5","v":0},{"$f":"M5","v":0},{"$f":"N5","v":0},{"$f":"O5","v":0},{"$f":"P5","v":0},null,"New Key","Blancs & Nuls","Non-déposés",{"$f":"C5","v":"ECOLO-GROEN"},{"$f":"D5","v":"VLAAMS BELANG"},"DéFI","PS-sp.a+","N-VA","Open MR","LBR",0,0,0,0,0,0,0,null,null,{"$f":"C5","v":"ECOLO-GROEN"},{"$f":"D5","v":"VLAAMS BELANG"},"DéFI","PS-sp.a+","N-VA","Open MR","LBR",0,0,0,0,0,0,0,null,"Blancs & Nuls","Non-déposés",{"$f":"C5","v":"ECOLO-GROEN"},{"$f":"D5","v":"VLAAMS BELANG"},"DéFI","PS-sp.a+","N-VA","Open MR","LBR",0,0,0,0,0,0,0]
[null,"Chiffres\nélectoraux",1805,250,1189,2236,826,2767,3182,0,0,0,0,0,0,0,null,{"$f":"C65","v":934},{"$f":"C63-C64","v":2237},1805,250,1189,2236,826,2767,3182,0,0,0,0,0,0,0,null,{"$f":"R6+S6","v":3171},1805,250,1189,2236,826,2767,3182,0,0,0,0,0,0,0,null,null,{"$f":"C65","v":934},{"$f":"C63-C64","v":2237},{"$f":"C6","v":1805},250,1189,2236,826,2767,3182,0,0,0,0,0,0,0,null,"Chiffres\nélectoraux",{"$f":"C6","v":1805},250,1189,2236,826,2767,3182,0,0,0,0,0,0,0,null,{"$f":"C65","v":934},{"$f":"C63-C64","v":2237},{"$f":"C6","v":1805},250,1189,2236,826,2767,3182,0,0,0,0,0,0,0]
[null,"Sièges",4,0,2,5,1,7,8,0,0,0,0,0,0,0,null,1,4,3,0,2,4,1,5,7,0,0,0,0,0,0,0,null,6,3,0,1,4,1,5,7,0,0,0,0,0,0,0,null,571.33333333333337,1.6347724620770128,3.9154025670945156,3.1592765460910148,0.4375729288214702,2.0810968494749122,3.9136522753792296,1.4457409568261377,4.8430571761960319,5.5694282380396727,0,0,0,0,0,0,0,null,"Sièges",4,0,2,5,2,6,8,0,0,0,0,0,0,0,null,2,4,3,0,2,4,1,5,6,0,0,0,0,0,0,0]
[null,2,{"$f":"$C$6/B8","v":902.5},{"$f":"$D$6/B8","v":125},{"$f":"$E$6/B8","v":594.5},{"$f":"$F$6/B8","v":1118},{"$f":"$G$6/B8","v":413},{"$f":"$H$6/B8","v":1383.5},{"$f":"$I$6/B8","v":1591},{"$f":"$J$6/B8","v":0},{"$f":"$K$6/B8","v":0},{"$f":"$L$6/B8","v":0},{"$f":"$M$6/B8","v":0},{"$f":"$N$6/B8","v":0},{"$f":"$O$6/B8","v":0},{"$f":"$P$6/B8","v":0},null,{"$f":"$R$6/B8","v":467},{"$f":"$S$6/B8","v":1118.5},{"$f":"C8","v":902.5},{"$f":"D8","v":125},{"$f":"E8","v":594.5},{"$f":"F8","v":1118},{"$f":"G8","v":413},{"$f":"H8","v":1383.5},{"$f":"I8","v":1591},{"$f":"J8","v":0},{"$f":"K8","v":0},{"$f":"L8","v":0},{"$f":"M8","v":0},0,0,{"$f":"P8","v":0},null,{"$f":"$AI$6/B8","v":1585.5},{"$f":"C8","v":902.5},{"$f":"D8","v":125},{"$f":"E8","v":594.5},{"$f":"F8","v":1118},{"$f":"G8","v":413},{"$f":"H8","v":1383.5},{"$f":"I8","v":1591},{"$f":"J8","v":0},{"$f":"K8","v":0},{"$f":"L8","v":0},{"$f":"M8","v":0},{"$f":"N8","v":0},0,0,null,null,null,null,null,null,null,null,null,null,null,null,null,null,null,null,null,null,null,1,{"$f":"$C$6/BQ8","v":1805},{"$f":"$D$6/BQ8","v":250},{"$f":"$E$6/BQ8","v":1189},{"$f":"$F$6/BQ8","v":2236},{"$f":"$G$6/BQ8","v":826},{"$f":"$H$6/BQ8","v":2767},{"$f":"$I$6/BQ8","v":3182},{"$f":"$J$6/BQ8","v":0},{"$f":"$K$6/BQ8","v":0},{"$f":"$L$6/BQ8","v":0},{"$f":"$M$6/BQ8","v":0},{"$f":"$N$6/BQ8","v":0},{"$f":"$O$6/BQ8","v":0},{"$f":"$P$6/BQ8","v":0},null,{"$f":"$R$6/BQ8","v":934},{"$f":"$S$6/BQ8","v":2237},{"$f":"BR8","v":1805},{"$f":"BS8","v":250},{"$f":"BT8","v":1189},{"$f":"BU8","v":2236},{"$f":"BV8","v":826},{"$f":"BW8","v":2767},{"$f":"BX8","v":3182},{"$f":"BY8","v":0},{"$f":"BZ8","v":0},{"$f":"CA8","v":0},{"$f":"CB8","v":0},{"$f":"CC8","v":0},{"$f":"CD8","v":0},{"$f":"CE8","v":0}]
[null,3,{"$f":"$C$6/B9","v":601.66666666666663},83.333333333333329,{"$f":"$E$6/B9","v":396.33333333333331},745.33333333333337,275.33333333333331,{"$f":"$H$6/B9","v":922.33333333333337},{"$f":"$I$6/B9","v":1060.6666666666667},{"$f":"$J$6/B9","v":0},{"$f":"$K$6/B9","v":0},{"$f":"$L$6/B9","v":0},{"$f":"$M$6/B9","v":0},0,{"$f":"$O$6/B9","v":0},{"$f":"$P$6/B9","v":0},null,{"$f":"$R$6/B9","v":311.33333333333331},{"$f":"$S$6/B9","v":745.66666666666663},601.66666666666663,83.333333333333329,396.33333333333331,745.33333333333337,275.33333333333331,922.33333333333337,1060.6666666666667,0,0,0,0,0,0,0,null,{"$f":"$AI$6/B9","v":1057},601.66666666666663,83.333333333333329,396.33333333333331,745.33333333333337,275.33333333333331,922.33333333333337,1060.6666666666667,0,0,0,0,0,0,0,null,null,null,null,null,null,null,null,null,null,null,null,null,null,null,null,null,null,null,2,{"$f":"$C$6/BQ9","v":902.5},125,{"$f":"$E$6/BQ9","v":594.5},1118,413,{"$f":"$H$6/BQ9","v":1383.5},{"$f":"$I$6/BQ9","v":1591},{"$f":"$J$6/BQ9","v":0},{"$f":"$K$6/BQ9","v":0},{"$f":"$L$6/BQ9","v":0},{"$f":"$M$6/BQ9","v":0},0,{"$f":"$O$6/BQ9","v":0},{"$f":"$P$6/BQ9","v":0},null,{"$f":"$R$6/BQ9","v":467},{"$f":"$S$6/BQ9","v":1118.5},902.5,125,594.5,1118,413,1383.5,1591,0,0,0,0,0,0,0]
[null,4,451.25,62.5,297.25,559,206.5,691.75,795.5,0,0,0,0,0,0,0,null,233.5,559.25,451.25,62.5,297.25,559,206.5,691.75,795.5,0,0,0,0,0,0,0,null,792.75,451.25,62.5,297.25,559,206.5,691.75,795.5,0,0,0,0,0,0,0,null,null,null,null,null,null,null,null,null,null,null,null,null,null,null,null,null,null,null,3,601.66666666666663,83.333333333333329,396.33333333333331,745.33333333333337,275.33333333333331,922.33333333333337,1060.6666666666667,0,0,0,0,0,0,0,null,311.33333333333331,745.66666666666663,601.66666666666663,83.333333333333329,396.33333333333331,745.33333333333337,275.33333333333331,922.33333333333337,1060.6666666666667,0,0,0,0,0,0,0]
[null,5,361,50,237.8,447.2,165.2,553.4,636.4,0,0,0,0,0,0,0,null,186.8,447.4,361,50,237.8,447.2,165.2,553.4,636.4,0,0,0,0,0,0,0,null,634.20000000000005,361,50,237.8,447.2,165.2,553.4,636.4,0,0,0,0,0,0,0,null,null,null,null,null,null,null,null,null,null,null,null,null,null,null,null,null,null,null,4,451.25,62.5,297.25,559,206.5,691.75,795.5,0,0,0,0,0,0,0,null,233.5,559.25,451.25,62.5,297.25,559,206.5,691.75,795.5,0,0,0,0,0,0,0]
[null,6,300.83333333333331,41.666666666666664,198.16666666666666,372.66666666666669,137.66666666666666,461.16666666666669,530.33333333333337,0,0,0,0,0,0,0,null,155.66666666666666,372.83333333333331,300.83333333333331,41.666666666666664,198.16666666666666,372.66666666666669,137.66666666666666,461.16666666666669,530.33333333333337,0,0,0,0,0,0,0,null,528.5,300.83333333333331,41.666666666666664,198.16666666666666,372.66666666666669,137.66666666666666,461.16666666666669,530.33333333333337,0,0,0,0,0,0,0,null,null,null,null,null,null,null,null,null,null,null,null,null,null,null,null,null,null,null,5,361,50,237.8,447.2,165.2,553.4,636.4,0,0,0,0,0,0,0,null,186.8,447.4,361,50,237.8,447.2,165.2,553.4,636.4,0,0,0,0,0,0,0]
[null,7,257.85714285714283,35.714285714285715,169.85714285714286,319.42857142857144,118,395.28571428571428,454.57142857142856,0,0,0,0,0,0,0,null,133.42857142857142,319.57142857142856,257.85714285714283,35.714285714285715,169.85714285714286,319.42857142857144,118,395.28571428571428,454.57142857142856,0,0,0,0,0,0,0,null,453,257.85714285714283,35.714285714285715,169.85714285714286,319.42857142857144,118,395.28571428571428,454.57142857142856,0,0,0,0,0,0,0,null,null,null,null,null,null,null,null,null,null,null,null,null,null,null,null,null,null,null,6,300.83333333333331,41.666666666666664,198.16666666666666,372.66666666666669,137.66666666666666,461.16666666666669,530.33333333333337,0,0,0,0,0,0,0,null,155.66666666666666,372.83333333333331,300.83333333333331,41.666666666666664,198.16666666666666,372.66666666666669,137.66666666666666,461.16666666666669,530.33333333333337,0,0,0,0,0,0,0]
[null,8,225.625,31.25,148.625,279.5,103.25,345.875,397.75,0,0,0,0,0,0,0,null,116.75,279.625,225.625,31.25,148.625,279.5,103.25,345.875,397.75,0,0,0,0,0,0,0,null,396.375,225.625,31.25,148.625,279.5,103.25,345.875,397.75,0,0,0,0,0,0,0,null,null,null,null,null,null,null,null,null,null,null,null,null,null,null,null,null,null,null,7,257.85714285714283,35.714285714285715,169.85714285714286,319.42857142857144,118,395.28571428571428,454.57142857142856,0,0,0,0,0,0,0,null,133.42857142857142,319.57142857142856,257.85714285714283,35.714285714285715,169.85714285714286,319.42857142857144,118,395.28571428571428,454.57142857142856,0,0,0,0,0,0,0]
[null,9,200.55555555555554,27.777777777777779,132.11111111111111,248.44444444444446,91.777777777777771,307.44444444444446,353.55555555555554,0,0,0,0,0,0,0,null,103.77777777777777,248.55555555555554,200.55555555555554,27.777777777777779,132.11111111111111,248.44444444444446,91.777777777777771,307.44444444444446,353.55555555555554,0,0,0,0,0,0,0,null,352.33333333333331,200.55555555555554,27.777777777777779,132.11111111111111,248.44444444444446,91.777777777777771,307.44444444444446,353.55555555555554,0,0,0,0,0,0,0,null,null,null,null,null,null,null,null,null,null,null,null,null,null,null,null,null,null,null,8,225.625,31.25,148.625,279.5,103.25,345.875,397.75,0,0,0,0,0,0,0,null,116.75,279.625,225.625,31.25,148.625,279.5,103.25,345.875,397.75,0,0,0,0,0,0,0]
[null,10,180.5,25,118.9,223.6,82.6,276.7,318.2,0,0,0,0,0,0,0,null,93.4,223.7,180.5,25,118.9,223.6,82.6,276.7,318.2,0,0,0,0,0,0,0,null,317.10000000000002,180.5,25,118.9,223.6,82.6,276.7,318.2,0,0,0,0,0,0,0,null,null,null,null,null,null,null,null,null,null,null,null,null,null,null,null,null,null,null,9,200.55555555555554,27.777777777777779,132.11111111111111,248.44444444444446,91.777777777777771,307.44444444444446,353.55555555555554,0,0,0,0,0,0,0,null,103.77777777777777,248.55555555555554,200.55555555555554,27.777777777777779,132.11111111111111,248.44444444444446,91.777777777777771,307.44444444444446,353.55555555555554,0,0,0,0,0,0,0]
[null,11,164.09090909090909,22.727272727272727,108.09090909090909,203.27272727272728,75.090909090909093,251.54545454545453,289.27272727272725,0,0,0,0,0,0,0,null,84.909090909090907,203.36363636363637,164.09090909090909,22.727272727272727,108.09090909090909,203.27272727272728,75.090909090909093,251.54545454545453,289.27272727272725,0,0,0,0,0,0,0,null,288.27272727272725,164.09090909090909,22.727272727272727,108.09090909090909,203.27272727272728,75.090909090909093,251.54545454545453,289.27272727272725,0,0,0,0,0,0,0,null,null,null,null,null,null,null,null,null,null,null,null,null,null,null,null,null,null,null,10,180.5,25,118.9,223.6,82.6,276.7,318.2,0,0,0,0,0,0,0,null,93.4,223.7,180.5,25,118.9,223.6,82.6,276.7,318.2,0,0,0,0,0,0,0]
[null,12,150.41666666666666,20.833333333333332,99.083333333333329,186.33333333333334,68.833333333333329,230.58333333333334,265.16666666666669,0,0,0,0,0,0,0,null,77.833333333333329,186.41666666666666,150.41666666666666,20.833333333333332,99.083333333333329,186.33333333333334,68.833333333333329,230.58333333333334,265.16666666666669,0,0,0,0,0,0,0,null,264.25,150.41666666666666,20.833333333333332,99.083333333333329,186.33333333333334,68.833333333333329,230.58333333333334,265.16666666666669,0,0,0,0,0,0,0,null,null,null,null,null,null,null,null,null,null,null,null,null,null,null,null,null,null,null,11,164.09090909090909,22.727272727272727,108.09090909090909,203.27272727272728,75.090909090909093,251.54545454545453,289.27272727272725,0,0,0,0,0,0,0,null,84.909090909090907,203.36363636363637,164.09090909090909,22.727272727272727,108.09090909090909,203.27272727272728,75.090909090909093,251.54545454545453,289.27272727272725,0,0,0,0,0,0,0]
[null,13,138.84615384615384,19.23076923076923,91.461538461538467,172,63.53846153846154,212.84615384615384,244.76923076923077,0,0,0,0,0,0,0,null,71.84615384615384,172.07692307692307,138.84615384615384,19.23076923076923,91.461538461538467,172,63.53846153846154,212.84615384615384,244.76923076923077,0,0,0,0,0,0,0,null,243.92307692307693,138.84615384615384,19.23076923076923,91.461538461538467,172,63.53846153846154,212.84615384615384,244.76923076923077,0,0,0,0,0,0,0,null,null,null,null,null,null,null,null,null,null,null,null,null,null,null,null,null,null,null,12,150.41666666666666,20.833333333333332,99.083333333333329,186.33333333333334,68.833333333333329,230.58333333333334,265.16666666666669,0,0,0,0,0,0,0,null,77.833333333333329,186.41666666666666,150.41666666666666,20.833333333333332,99.083333333333329,186.33333333333334,68.833333333333329,230.58333333333334,265.16666666666669,0,0,0,0,0,0,0]
[null,14,128.92857142857142,17.857142857142858,84.928571428571431,159.71428571428572,59,197.64285714285714,227.28571428571428,0,0,0,0,0,0,0,null,66.714285714285708,159.78571428571428,128.92857142857142,17.857142857142858,84.928571428571431,159.71428571428572,59,197.64285714285714,227.28571428571428,0,0,0,0,0,0,0,null,226.5,128.92857142857142,17.857142857142858,84.928571428571431,159.71428571428572,59,197.64285714285714,227.28571428571428,0,0,0,0,0,0,0,null,null,null,null,null,null,null,null,null,null,null,null,null,null,null,null,null,null,null,13,138.84615384615384,19.23076923076923,91.461538461538467,172,63.53846153846154,212.84615384615384,244.76923076923077,0,0,0,0,0,0,0,null,71.84615384615384,172.07692307692307,138.84615384615384,19.23076923076923,91.461538461538467,172,63.53846153846154,212.84615384615384,244.76923076923077,0,0,0,0,0,0,0]
[null,15,120.33333333333333,16.666666666666668,79.266666666666666,149.06666666666666,55.06666666666667,184.46666666666667,212.13333333333333,0,0,0,0,0,0,0,null,62.266666666666666,149.13333333333333,120.33333333333333,16.666666666666668,79.266666666666666,149.06666666666666,55.06666666666667,184.46666666666667,212.13333333333333,0,0,0,0,0,0,0,null,211.4,120.33333333333333,16.666666666666668,79.266666666666666,149.06666666666666,55.06666666666667,184.46666666666667,212.13333333333333,0,0,0,0,0,0,0,null,null,null,null,null,null,null,null,null,null,null,null,null,null,null,null,null,null,null,14,128.92857142857142,17.857142857142858,84.928571428571431,159.71428571428572,59,197.64285714285714,227.28571428571428,0,0,0,0,0,0,0,null,66.714285714285708,159.78571428571428,128.92857142857142,17.857142857142858,84.928571428571431,159.71428571428572,59,197.64285714285714,227.28571428571428,0,0,0,0,0,0,0]
[null,16,112.8125,15.625,74.3125,139.75,51.625,172.9375,198.875,0,0,0,0,0,0,0,null,58.375,139.8125,112.8125,15.625,74.3125,139.75,51.625,172.9375,198.875,0,0,0,0,0,0,0,null,198.1875,112.8125,15.625,74.3125,139.75,51.625,172.9375,198.875,0,0,0,0,0,0,0,null,null,null,null,null,null,null,null,null,null,null,null,null,null,null,null,null,null,null,15,120.33333333333333,16.666666666666668,79.266666666666666,149.06666666666666,55.06666666666667,184.46666666666667,212.13333333333333,0,0,0,0,0,0,0,null,62.266666666666666,149.13333333333333,120.33333333333333,16.666666666666668,79.266666666666666,149.06666666666666,55.06666666666667,184.46666666666667,212.13333333333333,0,0,0,0,0,0,0]
[null,17,106.17647058823529,14.705882352941176,69.941176470588232,131.52941176470588,48.588235294117645,162.76470588235293,187.1764705882353,0,0,0,0,0,0,0,null,54.941176470588232,131.58823529411765,106.17647058823529,14.705882352941176,69.941176470588232,131.52941176470588,48.588235294117645,162.76470588235293,187.1764705882353,0,0,0,0,0,0,0,null,186.52941176470588,106.17647058823529,14.705882352941176,69.941176470588232,131.52941176470588,48.588235294117645,162.76470588235293,187.1764705882353,0,0,0,0,0,0,0,null,null,null,null,null,null,null,null,null,null,null,null,null,null,null,null,null,null,null,16,112.8125,15.625,74.3125,139.75,51.625,172.9375,198.875,0,0,0,0,0,0,0,null,58.375,139.8125,112.8125,15.625,74.3125,139.75,51.625,172.9375,198.875,0,0,0,0,0,0,0]
[null,18,100.27777777777777,13.888888888888889,66.055555555555557,124.22222222222223,45.888888888888886,153.72222222222223,176.77777777777777,0,0,0,0,0,0,0,null,51.888888888888886,124.27777777777777,100.27777777777777,13.888888888888889,66.055555555555557,124.22222222222223,45.888888888888886,153.72222222222223,176.77777777777777,0,0,0,{"$f":"M24","v":0},0,0,0,null,176.16666666666666,100.27777777777777,13.888888888888889,66.055555555555557,124.22222222222223,45.888888888888886,153.72222222222223,176.77777777777777,0,0,0,0,{"$f":"N24","v":0},0,0,null,null,null,null,null,null,null,null,null,null,null,null,null,null,null,null,null,null,null,17,106.17647058823529,14.705882352941176,69.941176470588232,131.52941176470588,48.588235294117645,162.76470588235293,187.1764705882353,0,0,0,0,0,0,0,null,54.941176470588232,131.58823529411765,106.17647058823529,14.705882352941176,69.941176470588232,131.52941176470588,48.588235294117645,162.76470588235293,187.1764705882353,0,0,0,0,0,0,0]
[null,19,95,13.157894736842104,62.578947368421055,117.68421052631579,43.473684210526315,145.63157894736841,167.47368421052633,0,0,0,0,0,0,0,null,49.157894736842103,117.73684210526316,95,13.157894736842104,62.578947368421055,117.68421052631579,43.473684210526315,145.63157894736841,167.47368421052633,0,0,0,0,0,0,0,null,166.89473684210526,95,13.157894736842104,62.578947368421055,117.68421052631579,43.473684210526315,145.63157894736841,167.47368421052633,0,0,0,0,0,0,0,null,null,null,null,null,null,null,null,null,null,null,null,null,null,null,null,null,null,null,18,100.27777777777777,13.888888888888889,66.055555555555557,124.22222222222223,45.888888888888886,153.72222222222223,176.77777777777777,0,0,0,0,0,0,0,null,51.888888888888886,124.27777777777777,100.27777777777777,13.888888888888889,66.055555555555557,124.22222222222223,45.888888888888886,153.72222222222223,176.77777777777777,0,0,0,0,0,0,0]
[null,20,90.25,12.5,59.45,111.8,41.3,138.35,159.1,0,0,0,0,0,0,0,null,46.7,111.85,90.25,12.5,59.45,111.8,41.3,138.35,159.1,0,0,0,0,0,0,0,null,158.55000000000001,90.25,12.5,59.45,111.8,41.3,138.35,159.1,0,0,0,0,0,0,0,null,null,null,null,null,null,null,null,null,null,null,null,null,null,null,null,null,null,null,19,95,13.157894736842104,62.578947368421055,117.68421052631579,43.473684210526315,145.63157894736841,167.47368421052633,0,0,0,0,0,0,0,null,49.157894736842103,117.73684210526316,95,13.157894736842104,62.578947368421055,117.68421052631579,43.473684210526315,145.63157894736841,167.47368421052633,0,0,0,0,0,0,0]
[null,21,85.952380952380949,11.904761904761905,56.61904761904762,106.47619047619048,39.333333333333336,131.76190476190476,151.52380952380952,0,0,0,0,0,0,0,null,44.476190476190474,106.52380952380952,85.952380952380949,11.904761904761905,56.61904761904762,106.47619047619048,39.333333333333336,131.76190476190476,151.52380952380952,0,0,0,0,0,0,{"$f":"P27","v":0},null,151,85.952380952380949,11.904761904761905,56.61904761904762,106.47619047619048,39.333333333333336,131.76190476190476,151.52380952380952,0,0,0,0,0,0,0,null,null,null,null,null,null,null,null,null,null,null,null,null,null,null,null,null,null,null,20,90.25,12.5,59.45,111.8,41.3,138.35,159.1,0,0,0,0,0,0,0,null,46.7,111.85,90.25,12.5,59.45,111.8,41.3,138.35,159.1,0,0,0,0,0,0,0]
[null,22,82.045454545454547,11.363636363636363,54.045454545454547,101.63636363636364,37.545454545454547,125.77272727272727,144.63636363636363,0,0,0,0,0,0,0,null,42.454545454545453,101.68181818181819,82.045454545454547,11.363636363636363,54.045454545454547,101.63636363636364,37.545454545454547,125.77272727272727,144.63636363636363,0,0,0,0,0,0,0,null,144.13636363636363,82.045454545454547,11.363636363636363,54.045454545454547,101.63636363636364,37.545454545454547,125.77272727272727,144.63636363636363,0,0,0,0,0,0,0,null,null,null,null,null,null,null,null,null,null,null,null,null,null,null,null,null,null,null,21,85.952380952380949,11.904761904761905,56.61904761904762,106.47619047619048,39.333333333333336,131.76190476190476,151.52380952380952,0,0,0,0,0,0,0,null,44.476190476190474,106.52380952380952,85.952380952380949,11.904761904761905,56.61904761904762,106.47619047619048,39.333333333333336,131.76190476190476,151.52380952380952,0,0,0,0,0,0,0]
[null,23,78.478260869565219,10.869565217391305,51.695652173913047,97.217391304347828,35.913043478260867,120.30434782608695,138.34782608695653,0,0,0,0,0,0,0,null,40.608695652173914,97.260869565217391,78.478260869565219,10.869565217391305,51.695652173913047,97.217391304347828,35.913043478260867,120.30434782608695,138.34782608695653,0,0,0,0,0,0,0,null,137.86956521739131,78.478260869565219,10.869565217391305,51.695652173913047,97.217391304347828,35.913043478260867,120.30434782608695,138.34782608695653,0,0,0,0,0,0,0,null,null,null,null,null,null,null,null,null,null,null,null,null,null,null,null,null,null,null,22,82.045454545454547,11.363636363636363,54.045454545454547,101.63636363636364,37.545454545454547,125.77272727272727,144.63636363636363,0,0,0,0,0,0,0,null,42.454545454545453,101.68181818181819,82.045454545454547,11.363636363636363,54.045454545454547,101.63636363636364,37.545454545454547,125.77272727272727,144.63636363636363,0,0,0,0,0,0,0]
[null,24,75.208333333333329,10.416666666666666,49.541666666666664,93.166666666666671,34.416666666666664,115.29166666666667,132.58333333333334,0,0,0,0,0,0,0,null,38.916666666666664,93.208333333333329,75.208333333333329,10.416666666666666,49.541666666666664,93.166666666666671,34.416666666666664,115.29166666666667,132.58333333333334,0,0,0,0,0,0,0,null,132.125,75.208333333333329,10.416666666666666,49.541666666666664,93.166666666666671,34.416666666666664,115.29166666666667,132.58333333333334,0,0,0,0,0,0,0,null,null,null,null,null,null,null,null,null,null,null,null,null,null,null,null,null,null,null,23,78.478260869565219,10.869565217391305,51.695652173913047,97.217391304347828,35.913043478260867,120.30434782608695,138.34782608695653,0,0,0,0,0,0,0,null,40.608695652173914,97.260869565217391,78.478260869565219,10.869565217391305,51.695652173913047,97.217391304347828,35.913043478260867,120.30434782608695,138.34782608695653,0,0,0,0,0,0,0]
[null,25,72.2,10,47.56,89.44,33.04,110.68,127.28,0,0,0,0,0,0,0,null,37.36,89.48,72.2,10,47.56,89.44,33.04,110.68,127.28,0,0,0,0,0,0,0,null,126.84,72.2,10,47.56,89.44,33.04,110.68,127.28,0,0,0,0,0,0,0,null,null,null,null,null,null,null,null,null,null,null,null,null,null,null,null,null,null,null,24,75.208333333333329,10.416666666666666,49.541666666666664,93.166666666666671,34.416666666666664,115.29166666666667,132.58333333333334,0,0,0,0,0,0,0,null,38.916666666666664,93.208333333333329,75.208333333333329,10.416666666666666,49.541666666666664,93.166666666666671,34.416666666666664,115.29166666666667,132.58333333333334,0,0,0,0,0,0,0]
[null,26,69.42307692307692,9.615384615384615,45.730769230769234,86,31.76923076923077,106.42307692307692,122.38461538461539,0,0,0,0,0,0,0,null,35.92307692307692,86.038461538461533,69.42307692307692,9.615384615384615,45.730769230769234,86,31.76923076923077,106.42307692307692,122.38461538461539,0,0,0,0,0,0,0,null,121.96153846153847,69.42307692307692,9.615384615384615,45.730769230769234,86,31.76923076923077,106.42307692307692,122.38461538461539,0,0,0,0,0,0,0,null,null,null,null,null,null,null,null,null,null,null,null,null,null,null,null,null,null,null,25,72.2,10,47.56,89.44,33.04,110.68,127.28,0,0,0,0,0,0,0,null,37.36,89.48,72.2,10,47.56,89.44,33.04,110.68,127.28,0,0,0,0,0,0,0]
[null,27,66.851851851851848,9.2592592592592595,44.037037037037038,82.81481481481481,30.592592592592592,102.48148148148148,117.85185185185185,0,0,0,0,0,0,0,null,34.592592592592595,82.851851851851848,66.851851851851848,9.2592592592592595,44.037037037037038,82.81481481481481,30.592592592592592,102.48148148148148,117.85185185185185,0,0,0,0,0,0,0,null,117.44444444444444,66.851851851851848,9.2592592592592595,44.037037037037038,82.81481481481481,30.592592592592592,102.48148148148148,117.85185185185185,0,0,0,0,0,0,0,null,null,null,null,null,null,null,null,null,null,null,null,null,null,null,null,null,null,null,26,69.42307692307692,9.615384615384615,45.730769230769234,86,31.76923076923077,106.42307692307692,122.38461538461539,0,0,0,0,0,0,0,null,35.92307692307692,86.038461538461533,69.42307692307692,9.615384615384615,45.730769230769234,86,31.76923076923077,106.42307692307692,122.38461538461539,0,0,0,0,0,0,0]
[null,28,64.464285714285708,8.9285714285714288,42.464285714285715,79.857142857142861,29.5,98.821428571428569,113.64285714285714,0,0,0,0,0,0,0,null,33.357142857142854,79.892857142857139,64.464285714285708,8.9285714285714288,42.464285714285715,79.857142857142861,29.5,98.821428571428569,113.64285714285714,0,0,0,0,0,0,0,null,113.25,64.464285714285708,8.9285714285714288,42.464285714285715,79.857142857142861,29.5,98.821428571428569,113.64285714285714,0,0,0,0,0,0,0,null,null,null,null,null,null,null,null,null,null,null,null,null,null,null,null,null,null,null,27,66.851851851851848,9.2592592592592595,44.037037037037038,82.81481481481481,30.592592592592592,102.48148148148148,117.85185185185185,0,0,0,0,0,0,0,null,34.592592592592595,82.851851851851848,66.851851851851848,9.2592592592592595,44.037037037037038,82.81481481481481,30.592592592592592,102.48148148148148,117.85185185185185,0,0,0,0,0,0,0]
[null,29,62.241379310344826,8.6206896551724146,41,77.103448275862064,28.482758620689655,95.41379310344827,109.72413793103448,0,0,0,0,0,0,0,null,32.206896551724135,77.137931034482762,62.241379310344826,8.6206896551724146,41,77.103448275862064,28.482758620689655,95.41379310344827,109.72413793103448,0,0,0,0,0,0,0,null,109.34482758620689,62.241379310344826,8.6206896551724146,41,77.103448275862064,28.482758620689655,95.41379310344827,109.72413793103448,0,0,0,0,0,0,0,null,null,null,null,null,null,null,null,null,null,null,null,null,null,null,null,null,null,null,28,64.464285714285708,8.9285714285714288,42.464285714285715,79.857142857142861,29.5,98.821428571428569,113.64285714285714,0,0,0,0,0,0,0,null,33.357142857142854,79.892857142857139,64.464285714285708,8.9285714285714288,42.464285714285715,79.857142857142861,29.5,98.821428571428569,113.64285714285714,0,0,0,0,0,0,0]
[null,30,60.166666666666664,8.3333333333333339,39.633333333333333,74.533333333333331,27.533333333333335,92.233333333333334,106.06666666666666,0,0,0,0,0,0,0,null,31.133333333333333,74.566666666666663,60.166666666666664,8.3333333333333339,39.633333333333333,74.533333333333331,27.533333333333335,92.233333333333334,106.06666666666666,0,0,0,0,0,0,0,null,105.7,60.166666666666664,8.3333333333333339,39.633333333333333,74.533333333333331,27.533333333333335,92.233333333333334,106.06666666666666,0,0,0,0,0,0,0,null,null,null,null,null,null,null,null,null,null,null,null,null,null,null,null,null,null,null,29,62.241379310344826,8.6206896551724146,41,77.103448275862064,28.482758620689655,95.41379310344827,109.72413793103448,0,0,0,0,0,0,0,null,32.206896551724135,77.137931034482762,62.241379310344826,8.6206896551724146,41,77.103448275862064,28.482758620689655,95.41379310344827,109.72413793103448,0,0,0,0,0,0,0]
[null,31,58.225806451612904,8.064516129032258,38.354838709677416,72.129032258064512,26.64516129032258,89.258064516129039,102.64516129032258,0,0,0,0,0,0,0,null,30.129032258064516,72.161290322580641,58.225806451612904,8.064516129032258,38.354838709677416,72.129032258064512,26.64516129032258,89.258064516129039,102.64516129032258,0,0,0,0,0,0,0,null,102.29032258064517,58.225806451612904,8.064516129032258,38.354838709677416,72.129032258064512,26.64516129032258,89.258064516129039,102.64516129032258,0,0,0,0,0,0,0,null,null,null,null,null,null,null,null,null,null,null,null,null,null,null,null,null,null,null,30,60.166666666666664,8.3333333333333339,39.633333333333333,74.533333333333331,27.533333333333335,92.233333333333334,106.06666666666666,0,0,0,0,0,0,0,null,31.133333333333333,74.566666666666663,60.166666666666664,8.3333333333333339,39.633333333333333,74.533333333333331,27.533333333333335,92.233333333333334,106.06666666666666,0,0,0,0,0,0,0]
[null,32,56.40625,7.8125,37.15625,69.875,25.8125,86.46875,99.4375,0,0,0,0,0,0,0,null,29.1875,69.90625,56.40625,7.8125,37.15625,69.875,25.8125,86.46875,99.4375,0,0,0,0,0,0,0,null,99.09375,56.40625,7.8125,37.15625,69.875,25.8125,86.46875,99.4375,0,0,0,0,0,0,0,null,null,null,null,null,null,null,null,null,null,null,null,null,null,null,null,null,null,null,31,58.225806451612904,8.064516129032258,38.354838709677416,72.129032258064512,26.64516129032258,89.258064516129039,102.64516129032258,0,0,0,0,0,0,0,null,30.129032258064516,72.161290322580641,58.225806451612904,8.064516129032258,38.354838709677416,72.129032258064512,26.64516129032258,89.258064516129039,102.64516129032258,0,0,0,0,0,0,0]
[null,33,54.696969696969695,7.5757575757575761,36.030303030303031,67.757575757575751,25.030303030303031,83.848484848484844,96.424242424242422,0,0,0,0,0,0,0,null,28.303030303030305,67.787878787878782,54.696969696969695,7.5757575757575761,36.030303030303031,67.757575757575751,25.030303030303031,83.848484848484844,96.424242424242422,0,0,0,0,0,0,0,null,96.090909090909093,54.696969696969695,7.5757575757575761,36.030303030303031,67.757575757575751,25.030303030303031,83.848484848484844,96.424242424242422,0,0,0,0,0,0,0,null,null,null,null,null,null,null,null,null,null,null,null,null,null,null,null,null,null,null,32,56.40625,7.8125,37.15625,69.875,25.8125,86.46875,99.4375,0,0,0,0,0,0,0,null,29.1875,69.90625,56.40625,7.8125,37.15625,69.875,25.8125,86.46875,99.4375,0,0,0,0,0,0,0]
[null,34,53.088235294117645,7.3529411764705879,34.970588235294116,65.764705882352942,24.294117647058822,81.382352941176464,93.588235294117652,0,0,0,0,0,0,0,null,27.470588235294116,65.794117647058826,{"$f":"C40","v":53.088235294117645},{"$f":"D40","v":7.3529411764705879},{"$f":"E40","v":34.970588235294116},{"$f":"F40","v":65.764705882352942},{"$f":"G40","v":24.294117647058822},{"$f":"H40","v":81.382352941176464},{"$f":"I40","v":93.588235294117652},{"$f":"J40","v":0},{"$f":"K40","v":0},{"$f":"L40","v":0},{"$f":"M40","v":0},0,0,0,null,93.264705882352942,{"$f":"C40","v":53.088235294117645},{"$f":"D40","v":7.3529411764705879},{"$f":"E40","v":34.970588235294116},{"$f":"F40","v":65.764705882352942},{"$f":"G40","v":24.294117647058822},{"$f":"H40","v":81.382352941176464},{"$f":"I40","v":93.588235294117652},{"$f":"J40","v":0},{"$f":"K40","v":0},{"$f":"L40","v":0},{"$f":"M40","v":0},{"$f":"N40","v":0},0,0,null,null,null,null,null,null,null,null,null,null,null,null,null,null,null,null,null,null,null,33,54.696969696969695,7.5757575757575761,36.030303030303031,67.757575757575751,25.030303030303031,83.848484848484844,96.424242424242422,0,0,0,0,0,0,0,null,28.303030303030305,67.787878787878782,54.696969696969695,7.5757575757575761,36.030303030303031,67.757575757575751,25.030303030303031,83.848484848484844,96.424242424242422,0,0,0,0,0,0,0]
[null,35,51.571428571428569,7.1428571428571432,33.971428571428568,63.885714285714286,23.6,79.057142857142864,90.914285714285711,0,0,0,0,0,0,0,null,26.685714285714287,63.914285714285711,51.571428571428569,7.1428571428571432,33.971428571428568,63.885714285714286,23.6,79.057142857142864,90.914285714285711,0,0,0,0,0,0,0,null,90.6,51.571428571428569,7.1428571428571432,33.971428571428568,63.885714285714286,23.6,79.057142857142864,90.914285714285711,0,0,0,0,0,0,0,null,null,null,null,null,null,null,null,null,null,null,null,null,null,null,null,null,null,null,34,53.088235294117645,7.3529411764705879,34.970588235294116,65.764705882352942,24.294117647058822,81.382352941176464,93.588235294117652,0,0,0,0,0,0,0,null,27.470588235294116,65.794117647058826,53.088235294117645,7.3529411764705879,34.970588235294116,65.764705882352942,24.294117647058822,81.382352941176464,93.588235294117652,0,0,0,0,0,0,0]
[null,36,50.138888888888886,6.9444444444444446,33.027777777777779,62.111111111111114,22.944444444444443,76.861111111111114,88.388888888888886,0,0,0,0,0,0,0,null,25.944444444444443,62.138888888888886,50.138888888888886,6.9444444444444446,33.027777777777779,62.111111111111114,22.944444444444443,76.861111111111114,88.388888888888886,0,0,0,0,0,0,0,null,88.083333333333329,50.138888888888886,6.9444444444444446,33.027777777777779,62.111111111111114,22.944444444444443,76.861111111111114,88.388888888888886,0,0,0,0,0,0,0,null,null,null,null,null,null,null,null,null,null,null,null,null,null,null,null,null,null,null,35,51.571428571428569,7.1428571428571432,33.971428571428568,63.885714285714286,23.6,79.057142857142864,90.914285714285711,0,0,0,0,0,0,0,null,26.685714285714287,63.914285714285711,51.571428571428569,7.1428571428571432,33.971428571428568,63.885714285714286,23.6,79.057142857142864,90.914285714285711,0,0,0,0,0,0,0]
[null,37,48.783783783783782,6.756756756756757,32.135135135135137,60.432432432432435,22.324324324324323,74.78378378378379,86,0,0,0,0,0,0,0,null,25.243243243243242,60.45945945945946,48.783783783783782,6.756756756756757,32.135135135135137,60.432432432432435,22.324324324324323,74.78378378378379,86,0,0,0,0,0,0,0,null,85.702702702702709,48.783783783783782,6.756756756756757,32.135135135135137,60.432432432432435,22.324324324324323,74.78378378378379,86,0,0,0,0,0,0,0,null,null,null,null,null,null,null,null,null,null,null,null,null,null,null,null,null,null,null,36,50.138888888888886,6.9444444444444446,33.027777777777779,62.111111111111114,22.944444444444443,76.861111111111114,88.388888888888886,0,0,0,0,0,0,0,null,25.944444444444443,62.138888888888886,50.138888888888886,6.9444444444444446,33.027777777777779,62.111111111111114,22.944444444444443,76.861111111111114,88.388888888888886,0,0,0,0,0,0,0]
[null,38,47.5,6.5789473684210522,31.289473684210527,58.842105263157897,21.736842105263158,72.815789473684205,83.736842105263165,0,0,0,0,0,0,0,null,24.578947368421051,58.868421052631582,47.5,6.5789473684210522,31.289473684210527,58.842105263157897,21.736842105263158,72.815789473684205,83.736842105263165,0,0,0,0,0,0,0,null,83.44736842105263,47.5,6.5789473684210522,31.289473684210527,58.842105263157897,21.736842105263158,72.815789473684205,83.736842105263165,0,0,0,0,0,0,0,null,null,null,null,null,null,null,null,null,null,null,null,null,null,null,null,null,null,null,37,48.783783783783782,6.756756756756757,32.135135135135137,60.432432432432435,22.324324324324323,74.78378378378379,86,0,0,0,0,0,0,0,null,25.243243243243242,60.45945945945946,48.783783783783782,6.756756756756757,32.135135135135137,60.432432432432435,22.324324324324323,74.78378378378379,86,0,0,0,0,0,0,0]
[null,39,46.282051282051285,6.4102564102564106,30.487179487179485,57.333333333333336,21.179487179487179,70.948717948717942,81.589743589743591,0,0,0,0,0,0,0,null,23.948717948717949,57.358974358974358,46.282051282051285,6.4102564102564106,30.487179487179485,57.333333333333336,21.179487179487179,70.948717948717942,81.589743589743591,0,0,0,0,0,0,0,null,81.307692307692307,46.282051282051285,6.4102564102564106,30.487179487179485,57.333333333333336,21.179487179487179,70.948717948717942,81.589743589743591,0,0,0,0,0,0,0,null,null,null,null,null,null,null,null,null,null,null,null,null,null,null,null,null,null,null,38,47.5,6.5789473684210522,31.289473684210527,58.842105263157897,21.736842105263158,72.815789473684205,83.736842105263165,0,0,0,0,0,0,0,null,24.578947368421051,58.868421052631582,47.5,6.5789473684210522,31.289473684210527,58.842105263157897,21.736842105263158,72.815789473684205,83.736842105263165,0,0,0,0,0,0,0]
[null,40,45.125,6.25,29.725000000000001,55.9,20.65,69.174999999999997,79.55,0,0,0,0,0,0,0,null,23.35,55.924999999999997,45.125,6.25,29.725000000000001,55.9,20.65,69.174999999999997,79.55,0,0,0,0,0,0,0,null,79.275000000000006,45.125,6.25,29.725000000000001,55.9,20.65,69.174999999999997,79.55,0,0,0,0,0,0,0,null,null,null,null,null,null,null,null,null,null,null,null,null,null,null,null,null,null,null,39,46.282051282051285,6.4102564102564106,30.487179487179485,57.333333333333336,21.179487179487179,70.948717948717942,81.589743589743591,0,0,0,0,0,0,0,null,23.948717948717949,57.358974358974358,46.282051282051285,6.4102564102564106,30.487179487179485,57.333333333333336,21.179487179487179,70.948717948717942,81.589743589743591,0,0,0,0,0,0,0]
[null,41,44.024390243902438,6.0975609756097562,29,54.536585365853661,20.146341463414632,67.487804878048777,77.609756097560975,0,0,0,0,0,0,0,null,22.780487804878049,54.560975609756099,44.024390243902438,6.0975609756097562,29,54.536585365853661,20.146341463414632,67.487804878048777,77.609756097560975,0,0,0,0,0,0,0,null,77.341463414634148,44.024390243902438,6.0975609756097562,29,54.536585365853661,20.146341463414632,67.487804878048777,77.609756097560975,0,0,0,0,0,0,0,null,null,null,null,null,null,null,null,null,null,null,null,null,null,null,null,null,null,null,40,45.125,6.25,29.725000000000001,55.9,20.65,69.174999999999997,79.55,0,0,0,0,0,0,0,null,23.35,55.924999999999997,45.125,6.25,29.725000000000001,55.9,20.65,69.174999999999997,79.55,0,0,0,0,0,0,0]
[null,42,42.976190476190474,5.9523809523809526,28.30952380952381,53.238095238095241,19.666666666666668,65.88095238095238,75.761904761904759,0,0,0,0,0,0,0,null,22.238095238095237,53.261904761904759,42.976190476190474,5.9523809523809526,28.30952380952381,53.238095238095241,19.666666666666668,65.88095238095238,75.761904761904759,0,0,0,0,0,0,0,null,75.5,42.976190476190474,5.9523809523809526,28.30952380952381,53.238095238095241,19.666666666666668,65.88095238095238,75.761904761904759,0,0,0,0,0,0,0,null,null,null,null,null,null,null,null,null,null,null,null,null,null,null,null,null,null,null,41,44.024390243902438,6.0975609756097562,29,54.536585365853661,20.146341463414632,67.487804878048777,77.609756097560975,0,0,0,0,0,0,0,null,22.780487804878049,54.560975609756099,44.024390243902438,6.0975609756097562,29,54.536585365853661,20.146341463414632,67.487804878048777,77.609756097560975,0,0,0,0,0,0,0]
[null,43,41.97674418604651,5.8139534883720927,27.651162790697676,52,19.209302325581394,64.348837209302332,74,0,0,0,0,0,0,0,null,21.720930232558139,52.02325581395349,41.97674418604651,5.8139534883720927,27.651162790697676,52,19.209302325581394,64.348837209302332,74,0,0,0,0,0,0,0,null,73.744186046511629,41.97674418604651,5.8139534883720927,27.651162790697676,52,19.209302325581394,64.348837209302332,74,0,0,0,0,0,0,0,null,null,null,null,null,null,null,null,null,null,null,null,null,null,null,null,null,null,null,42,42.976190476190474,5.9523809523809526,28.30952380952381,53.238095238095241,19.666666666666668,65.88095238095238,75.761904761904759,0,0,0,0,0,0,0,null,22.238095238095237,53.261904761904759,42.976190476190474,5.9523809523809526,28.30952380952381,53.238095238095241,19.666666666666668,65.88095238095238,75.761904761904759,0,0,0,0,0,0,0]
[null,44,41.022727272727273,5.6818181818181817,27.022727272727273,50.81818181818182,18.772727272727273,62.886363636363633,72.318181818181813,0,0,0,0,0,0,0,null,21.227272727272727,50.840909090909093,41.022727272727273,5.6818181818181817,27.022727272727273,50.81818181818182,18.772727272727273,62.886363636363633,72.318181818181813,0,0,0,0,0,0,0,null,72.068181818181813,41.022727272727273,5.6818181818181817,27.022727272727273,50.81818181818182,18.772727272727273,62.886363636363633,72.318181818181813,0,0,0,0,0,0,0,null,null,null,null,null,null,null,null,null,null,null,null,null,null,null,null,null,null,null,43,41.97674418604651,5.8139534883720927,27.651162790697676,52,19.209302325581394,64.348837209302332,74,0,0,0,0,0,0,0,null,21.720930232558139,52.02325581395349,41.97674418604651,5.8139534883720927,27.651162790697676,52,19.209302325581394,64.348837209302332,74,0,0,0,0,0,0,0]
[null,45,40.111111111111114,5.5555555555555554,26.422222222222221,49.68888888888889,18.355555555555554,61.488888888888887,70.711111111111109,0,0,0,0,0,0,0,null,20.755555555555556,49.711111111111109,40.111111111111114,5.5555555555555554,26.422222222222221,49.68888888888889,18.355555555555554,61.488888888888887,70.711111111111109,0,0,0,0,0,0,0,null,70.466666666666669,40.111111111111114,5.5555555555555554,26.422222222222221,49.68888888888889,18.355555555555554,61.488888888888887,70.711111111111109,0,0,0,0,0,0,0,null,null,null,null,null,null,null,null,null,null,null,null,null,null,null,null,null,null,null,44,41.022727272727273,5.6818181818181817,27.022727272727273,50.81818181818182,18.772727272727273,62.886363636363633,72.318181818181813,0,0,0,0,0,0,0,null,21.227272727272727,50.840909090909093,41.022727272727273,5.6818181818181817,27.022727272727273,50.81818181818182,18.772727272727273,62.886363636363633,72.318181818181813,0,0,0,0,0,0,0]
[null,46,39.239130434782609,5.4347826086956523,25.847826086956523,48.608695652173914,17.956521739130434,60.152173913043477,69.173913043478265,0,0,0,0,0,0,0,null,20.304347826086957,48.630434782608695,39.239130434782609,5.4347826086956523,25.847826086956523,48.608695652173914,17.956521739130434,60.152173913043477,69.173913043478265,0,0,0,0,0,0,0,null,68.934782608695656,39.239130434782609,5.4347826086956523,25.847826086956523,48.608695652173914,17.956521739130434,60.152173913043477,69.173913043478265,0,0,0,0,0,0,0,null,null,null,null,null,null,null,null,null,null,null,null,null,null,null,null,null,null,null,45,40.111111111111114,5.5555555555555554,26.422222222222221,49.68888888888889,18.355555555555554,61.488888888888887,70.711111111111109,0,0,0,0,0,0,0,null,20.755555555555556,49.711111111111109,40.111111111111114,5.5555555555555554,26.422222222222221,49.68888888888889,18.355555555555554,61.488888888888887,70.711111111111109,0,0,0,0,0,0,0]
[null,47,38.404255319148938,5.3191489361702127,25.297872340425531,47.574468085106382,17.574468085106382,58.872340425531917,67.702127659574472,0,0,0,0,0,0,0,null,19.872340425531913,47.595744680851062,38.404255319148938,5.3191489361702127,25.297872340425531,47.574468085106382,17.574468085106382,58.872340425531917,67.702127659574472,0,0,0,0,0,0,0,null,67.468085106382972,38.404255319148938,5.3191489361702127,25.297872340425531,47.574468085106382,17.574468085106382,58.872340425531917,67.702127659574472,0,0,0,0,0,0,0,null,null,null,null,null,null,null,null,null,null,null,null,null,null,null,null,null,null,null,46,39.239130434782609,5.4347826086956523,25.847826086956523,48.608695652173914,17.956521739130434,60.152173913043477,69.173913043478265,0,0,0,0,0,0,0,null,20.304347826086957,48.630434782608695,39.239130434782609,5.4347826086956523,25.847826086956523,48.608695652173914,17.956521739130434,60.152173913043477,69.173913043478265,0,0,0,0,0,0,0]
[null,48,37.604166666666664,5.208333333333333,24.770833333333332,46.583333333333336,17.208333333333332,57.645833333333336,66.291666666666671,{"$f":"$J$6/B54","v":0},0,0,0,0,0,0,null,19.458333333333332,46.604166666666664,37.604166666666664,5.208333333333333,24.770833333333332,46.583333333333336,17.208333333333332,57.645833333333336,66.291666666666671,0,0,0,0,0,0,0,null,66.0625,37.604166666666664,5.208333333333333,24.770833333333332,46.583333333333336,17.208333333333332,57.645833333333336,66.291666666666671,0,0,0,0,0,0,0,null,null,null,null,null,null,null,null,null,null,null,null,null,null,null,null,null,null,null,47,38.404255319148938,5.3191489361702127,25.297872340425531,47.574468085106382,17.574468085106382,58.872340425531917,67.702127659574472,0,0,0,0,0,0,0,null,19.872340425531913,47.595744680851062,38.404255319148938,5.3191489361702127,25.297872340425531,47.574468085106382,17.574468085106382,58.872340425531917,67.702127659574472,0,0,0,0,0,0,0]
[null,49,36.836734693877553,5.1020408163265305,24.26530612244898,45.632653061224488,16.857142857142858,56.469387755102041,64.938775510204081,0,0,0,0,0,0,0,null,19.061224489795919,45.653061224489797,36.836734693877553,5.1020408163265305,24.26530612244898,45.632653061224488,16.857142857142858,56.469387755102041,64.938775510204081,0,0,0,0,0,0,{"$f":"P55","v":0},null,64.714285714285708,36.836734693877553,5.1020408163265305,24.26530612244898,45.632653061224488,16.857142857142858,56.469387755102041,64.938775510204081,0,0,0,0,0,0,0,null,null,null,null,null,null,null,null,null,null,null,null,null,null,null,null,null,null,null,48,37.604166666666664,5.208333333333333,24.770833333333332,46.583333333333336,17.208333333333332,57.645833333333336,66.291666666666671,0,0,0,0,0,0,0,null,19.458333333333332,46.604166666666664,37.604166666666664,5.208333333333333,24.770833333333332,46.583333333333336,17.208333333333332,57.645833333333336,66.291666666666671,0,0,0,0,0,0,0]
[null,50,36.1,5,23.78,44.72,16.52,55.34,63.64,0,0,0,0,0,0,0,null,18.68,44.74,36.1,5,23.78,44.72,16.52,55.34,63.64,0,0,0,{"$f":"M56","v":0},0,0,0,null,63.42,36.1,5,23.78,44.72,16.52,55.34,63.64,0,0,0,0,{"$f":"N56","v":0},0,0,null,null,null,null,null,null,null,null,null,null,null,null,null,null,null,null,null,null,null,49,36.836734693877553,5.1020408163265305,24.26530612244898,45.632653061224488,16.857142857142858,56.469387755102041,64.938775510204081,0,0,0,0,0,0,0,null,19.061224489795919,45.653061224489797,36.836734693877553,5.1020408163265305,24.26530612244898,45.632653061224488,16.857142857142858,56.469387755102041,64.938775510204081,0,0,0,0,0,0,0]
[null,51,35.392156862745097,4.9019607843137258,23.313725490196077,43.843137254901961,16.196078431372548,54.254901960784316,62.392156862745097,0,0,0,0,0,0,0,null,18.313725490196077,43.862745098039213,35.392156862745097,4.9019607843137258,23.313725490196077,43.843137254901961,16.196078431372548,54.254901960784316,62.392156862745097,0,0,0,0,0,0,0,null,62.176470588235297,35.392156862745097,4.9019607843137258,23.313725490196077,43.843137254901961,16.196078431372548,54.254901960784316,62.392156862745097,0,0,0,0,0,0,0,null,null,null,null,null,null,null,null,null,null,null,null,null,null,null,null,null,null,null,50,36.1,5,23.78,44.72,16.52,55.34,63.64,0,0,0,0,0,0,0,null,18.68,44.74,36.1,5,23.78,44.72,16.52,55.34,63.64,0,0,0,0,0,0,0]
[null,52,34.71153846153846,4.8076923076923075,22.865384615384617,43,15.884615384615385,53.21153846153846,61.192307692307693,0,0,0,0,0,0,0,null,17.96153846153846,43.019230769230766,34.71153846153846,4.8076923076923075,22.865384615384617,43,15.884615384615385,53.21153846153846,61.192307692307693,0,0,0,0,0,0,0,null,60.980769230769234,34.71153846153846,4.8076923076923075,22.865384615384617,43,15.884615384615385,53.21153846153846,61.192307692307693,0,0,0,0,0,0,0,null,null,null,null,null,null,null,null,null,null,null,null,null,null,null,null,null,null,null,51,35.392156862745097,4.9019607843137258,23.313725490196077,43.843137254901961,16.196078431372548,54.254901960784316,62.392156862745097,0,0,0,0,0,0,0,null,18.313725490196077,43.862745098039213,35.392156862745097,4.9019607843137258,23.313725490196077,43.843137254901961,16.196078431372548,54.254901960784316,62.392156862745097,0,0,0,0,0,0,0]
[null,53,{"$f":"$C$6/B59","v":34.056603773584904},{"$f":"$D$6/B59","v":4.716981132075472},{"$f":"$E$6/B59","v":22.433962264150942},{"$f":"$F$6/B59","v":42.188679245283019},{"$f":"$G$6/B59","v":15.584905660377359},{"$f":"$H$6/B59","v":52.20754716981132},{"$f":"$I$6/B59","v":60.037735849056602},0,{"$f":"$K$6/B59","v":0},{"$f":"$L$6/B59","v":0},0,0,0,{"$f":"$P$6/B59","v":0},null,{"$f":"$R$6/B59","v":17.622641509433961},{"$f":"$S$6/B59","v":42.20754716981132},34.056603773584904,4.716981132075472,22.433962264150942,42.188679245283019,15.584905660377359,52.20754716981132,60.037735849056602,0,0,0,0,0,0,0,null,{"$f":"$AI$6/B59","v":59.830188679245282},34.056603773584904,4.716981132075472,22.433962264150942,42.188679245283019,15.584905660377359,52.20754716981132,60.037735849056602,0,0,0,0,0,0,0,null,null,null,null,null,null,null,null,null,null,null,null,null,null,null,null,null,null,null,52,{"$f":"$C$6/BQ59","v":34.71153846153846},{"$f":"$D$6/BQ59","v":4.8076923076923075},{"$f":"$E$6/BQ59","v":22.865384615384617},{"$f":"$F$6/BQ59","v":43},{"$f":"$G$6/BQ59","v":15.884615384615385},{"$f":"$H$6/BQ59","v":53.21153846153846},{"$f":"$I$6/BQ59","v":61.192307692307693},0,{"$f":"$K$6/BQ59","v":0},{"$f":"$L$6/BQ59","v":0},0,0,0,{"$f":"$P$6/BQ59","v":0},null,{"$f":"$R$6/BQ59","v":17.96153846153846},{"$f":"$S$6/BQ59","v":43.019230769230766},34.71153846153846,4.8076923076923075,22.865384615384617,43,15.884615384615385,53.21153846153846,61.192307692307693,0,0,0,0,0,0,0]
[null,54,{"$f":"$C$6/B60","v":33.425925925925924},{"$f":"$D$6/B60","v":4.6296296296296298},{"$f":"$E$6/B60","v":22.018518518518519},{"$f":"$F$6/B60","v":41.407407407407405},{"$f":"$G$6/B60","v":15.296296296296296},{"$f":"$H$6/B60","v":51.24074074074074},{"$f":"$I$6/B60","v":58.925925925925924},0,{"$f":"$K$6/B60","v":0},{"$f":"$L$6/B60","v":0},0,{"$f":"$N$6/B60","v":0},0,{"$f":"$P$6/B60","v":0},null,{"$f":"$R$6/B60","v":17.296296296296298},{"$f":"$S$6/B60","v":41.425925925925924},33.425925925925924,4.6296296296296298,22.018518518518519,41.407407407407405,15.296296296296296,51.24074074074074,58.925925925925924,0,0,0,0,0,0,0,null,{"$f":"$AI$6/B60","v":58.722222222222221},33.425925925925924,4.6296296296296298,22.018518518518519,41.407407407407405,15.296296296296296,51.24074074074074,58.925925925925924,0,0,0,0,0,0,0,null,null,null,null,null,null,null,null,null,null,null,null,null,null,null,null,null,null,null,53,{"$f":"$C$6/BQ60","v":34.056603773584904},{"$f":"$D$6/BQ60","v":4.716981132075472},{"$f":"$E$6/BQ60","v":22.433962264150942},{"$f":"$F$6/BQ60","v":42.188679245283019},{"$f":"$G$6/BQ60","v":15.584905660377359},{"$f":"$H$6/BQ60","v":52.20754716981132},{"$f":"$I$6/BQ60","v":60.037735849056602},0,{"$f":"$K$6/BQ60","v":0},{"$f":"$L$6/BQ60","v":0},0,{"$f":"$N$6/BQ60","v":0},0,{"$f":"$P$6/BQ60","v":0},null,{"$f":"$R$6/BQ60","v":17.622641509433961},{"$f":"$S$6/BQ60","v":42.20754716981132},34.056603773584904,4.716981132075472,22.433962264150942,42.188679245283019,15.584905660377359,52.20754716981132,60.037735849056602,0,0,0,0,0,0,0]
[]
[]
[null,"Nombre d'inscrits",15426]
[null,"Bulletins déposés",13189]
[null,"Blancs & Nuls",934]
[null,"Votes valables",12255]
[null,"Nombre de sièges",27]
[]
[]
[]
[]
[null,"Liste unique\nMajorité\nabsolue",{"$f":"SUM($C$73:$P$73)","v":0},null,null,null,null,null,null,null,null,null,null,null,null,null,null,{"$f":"SUM($R$73:$AG$73)","v":0},null,null,null,null,null,null,null,null,null,null,null,null,null,null,null,null,{"$f":"SUM($AI$73:$AW$73)","v":0}]
[null,null,{"$f":"IF(C7>($C$67/2),1,0)","v":0},{"$f":"IF(D7>($C$67/2),1,0)","v":0},{"$f":"IF(E7>($C$67/2),1,0)","v":0},{"$f":"IF(F7>($C$67/2),1,0)","v":0},{"$f":"IF(G7>($C$67/2),1,0)","v":0},{"$f":"IF(H7>($C$67/2),1,0)","v":0},{"$f":"IF(I7>($C$67/2),1,0)","v":0},{"$f":"IF(J7>($C$67/2),1,0)","v":0},{"$f":"IF(K7>($C$67/2),1,0)","v":0},{"$f":"IF(L7>($C$67/2),1,0)","v":0},{"$f":"IF(M7>($C$67/2),1,0)","v":0},{"$f":"IF(N7>($C$67/2),1,0)","v":0},{"$f":"IF(O7>($C$67/2),1,0)","v":0},{"$f":"IF(P7>($C$67/2),1,0)","v":0},null,{"$f":"IF(R7>($C$67/2),1,0)","v":0},{"$f":"IF(S7>($C$67/2),1,0)","v":0},{"$f":"IF(T7>($C$67/2),1,0)","v":0},{"$f":"IF(U7>($C$67/2),1,0)","v":0},{"$f":"IF(V7>($C$67/2),1,0)","v":0},{"$f":"IF(W7>($C$67/2),1,0)","v":0},{"$f":"IF(X7>($C$67/2),1,0)","v":0},{"$f":"IF(Y7>($C$67/2),1,0)","v":0},{"$f":"IF(Z7>($C$67/2),1,0)","v":0},{"$f":"IF(AA7>($C$67/2),1,0)","v":0},{"$f":"IF(AB7>($C$67/2),1,0)","v":0},{"$f":"IF(AC7>($C$67/2),1,0)","v":0},{"$f":"IF(AD7>($C$67/2),1,0)","v":0},{"$f":"IF(AE7>($C$67/2),1,0)","v":0},{"$f":"IF(AF7>($C$67/2),1,0)","v":0},{"$f":"IF(AG7>($C$67/2),1,0)","v":0},null,{"$f":"IF(AI7>($C$67/2),1,0)","v":0},{"$f":"IF(AJ7>($C$67/2),1,0)","v":0},{"$f":"IF(AK7>($C$67/2),1,0)","v":0},{"$f":"IF(AL7>($C$67/2),1,0)","v":0},{"$f":"IF(AM7>($C$67/2),1,0)","v":0},{"$f":"IF(AN7>($C$67/2),1,0)","v":0},{"$f":"IF(AO7>($C$67/2),1,0)","v":0},{"$f":"IF(AP7>($C$67/2),1,0)","v":0},{"$f":"IF(AQ7>($C$67/2),1,0)","v":0},{"$f":"IF(AR7>($C$67/2),1,0)","v":0},{"$f":"IF(AS7>($C$67/2),1,0)","v":0},{"$f":"IF(AT7>($C$67/2),1,0)","v":0},{"$f":"IF(AU7>($C$67/2),1,0)","v":0},{"$f":"IF(AV7>($C$67/2),1,0)","v":0},{"$f":"IF(AW7>($C$67/2),1,0)","v":0}]
[]
[null,"Liste unique\nMajorité\nabsolue\nnombre de voix",{"$f":"SUM($C$76:$P$76)","v":0},null,null,null,null,null,null,null,null,null,null,null,null,null,null,{"$f":"SUM(R76:AG76)","v":0},null,null,null,null,null,null,null,null,null,null,null,null,null,null,null,null,{"$f":"SUM(AI76:AW76)","v":0}]
[null,null,{"$f":"IF(C73>0,C6,0)","v":0},{"$f":"IF(D73>0,D6,0)","v":0},{"$f":"IF(E73>0,E6,0)","v":0},{"$f":"IF(F73>0,F6,0)","v":0},{"$f":"IF(G73>0,G6,0)","v":0},{"$f":"IF(H73>0,H6,0)","v":0},{"$f":"IF(I73>0,I6,0)","v":0},{"$f":"IF(J73>0,J6,0)","v":0},{"$f":"IF(K73>0,K6,0)","v":0},{"$f":"IF(L73>0,L6,0)","v":0},{"$f":"IF(M73>0,M6,0)","v":0},{"$f":"IF(N73>0,N6,0)","v":0},{"$f":"IF(O73>0,O6,0)","v":0},{"$f":"IF(P73>0,P6,0)","v":0},null,{"$f":"IF(R73>0,R6,0)","v":0},{"$f":"IF(S73>0,S6,0)","v":0},{"$f":"IF(T73>0,T6,0)","v":0},{"$f":"IF(U73>0,U6,0)","v":0},{"$f":"IF(V73>0,V6,0)","v":0},{"$f":"IF(W73>0,W6,0)","v":0},{"$f":"IF(X73>0,X6,0)","v":0},{"$f":"IF(Y73>0,Y6,0)","v":0},{"$f":"IF(Z73>0,Z6,0)","v":0},{"$f":"IF(AA73>0,AA6,0)","v":0},{"$f":"IF(AB73>0,AB6,0)","v":0},{"$f":"IF(AC73>0,AC6,0)","v":0},{"$f":"IF(AD73>0,AD6,0)","v":0},{"$f":"IF(AE73>0,AE6,0)","v":0},{"$f":"IF(AF73>0,AF6,0)","v":0},{"$f":"IF(AG73>0,AG6,0)","v":0},null,{"$f":"IF(AI73>0,AI6,0)","v":0},{"$f":"IF(AJ73>0,AJ6,0)","v":0},{"$f":"IF(AK73>0,AK6,0)","v":0},{"$f":"IF(AL73>0,AL6,0)","v":0},{"$f":"IF(AM73>0,AM6,0)","v":0},{"$f":"IF(AN73>0,AN6,0)","v":0},{"$f":"IF(AO73>0,AO6,0)","v":0},{"$f":"IF(AP73>0,AP6,0)","v":0},{"$f":"IF(AQ73>0,AQ6,0)","v":0},{"$f":"IF(AR73>0,AR6,0)","v":0},{"$f":"IF(AS73>0,AS6,0)","v":0},{"$f":"IF(AT73>0,AT6,0)","v":0},{"$f":"IF(AU73>0,AU6,0)","v":0},{"$f":"IF(AV73>0,AV6,0)","v":0},{"$f":"IF(AW73>0,AW6,0)","v":0}]
[]
[null,"Nbr voix\nCoalition",{"$f":"SUMIF(C4:P4,\"x\",C6:P6)","v":7223}]
[]
[null,"% Coalition",{"$f":"100/C63*C78","v":46.823544664851553}]
[null,"% Majorité",{"$f":"100/C63*C75","v":0}]
[]
[null,"Coalition",{"$f":"COUNTA(C4:P4)","v":3},{"$f":"IF(C83>0,1,0)","v":1}]
[]
[]
[]
[]
[]
[]
[]
[]
[]
[]
[]
[]
[null,null,null,null,null,null,null,null,null,null,null,null,null,null,null,"BERCHEM-SAINTE-AGATHE"]
[]
[null,null,null,null,null,null,null,null,null,null,null,null,null,null,null,null,null,{"$f":"R5","v":"Blancs & Nuls"},{"$f":"S5","v":"Non-déposés"},{"$f":"T5","v":"ECOLO-GROEN"},{"$f":"U5","v":"VLAAMS BELANG"},{"$f":"V5","v":"DéFI"},{"$f":"W5","v":"PS-sp.a+"},{"$f":"X5","v":"N-VA"},{"$f":"Y5","v":"Open MR"},{"$f":"Z5","v":"LBR"},{"$f":"AA5","v":0},{"$f":"AB5","v":0},{"$f":"AC5","v":0},{"$f":"AD5","v":0},{"$f":"AE5","v":0},{"$f":"AF5","v":0},{"$f":"AG5","v":0}]
[null,null,null,null,null,null,null,null,null,null,null,null,null,null,null,"Chiffres\nélectoraux",null,{"$f":"R6","v":934},{"$f":"S6","v":2237},{"$f":"T6","v":1805},{"$f":"U6","v":250},{"$f":"V6","v":1189},{"$f":"W6","v":2236},{"$f":"X6","v":826},{"$f":"Y6","v":2767},{"$f":"Z6","v":3182},{"$f":"AA6","v":0},{"$f":"AB6","v":0},{"$f":"AC6","v":0},{"$f":"AD6","v":0},{"$f":"AE6","v":0},{"$f":"AF6","v":0},{"$f":"AG6","v":0}]
[null,null,null,null,null,null,null,null,null,null,null,null,null,null,null,"Impériali",null,0,0,{"$f":"C7","v":4},{"$f":"D7","v":0},{"$f":"E7","v":2},{"$f":"F7","v":5},{"$f":"G7","v":1},{"$f":"H7","v":7},{"$f":"I7","v":8},{"$f":"J7","v":0},{"$f":"K7","v":0},{"$f":"L7","v":0},{"$f":"M7","v":0},{"$f":"N7","v":0},{"$f":"O7","v":0},{"$f":"P7","v":0}]
[null,null,null,null,null,null,null,null,null,null,null,null,null,null,null,"Impériali\n+ proportionnelle",null,{"$f":"R7","v":1},{"$f":"S7","v":4},{"$f":"T7","v":3},{"$f":"U7","v":0},{"$f":"V7","v":2},{"$f":"W7","v":4},{"$f":"X7","v":1},{"$f":"Y7","v":5},{"$f":"Z7","v":7},{"$f":"AA7","v":0},{"$f":"AB7","v":0},{"$f":"AC7","v":0},{"$f":"AD7","v":0},{"$f":"AE7","v":0},{"$f":"AF7","v":0},{"$f":"AG7","v":0}]
[null,null,null,null,null,null,null,null,null,null,null,null,null,null,null,"D'Hondt",null,0,0,{"$f":"BR7","v":4},{"$f":"BS7","v":0},{"$f":"BT7","v":2},{"$f":"BU7","v":5},{"$f":"BV7","v":2},{"$f":"BW7","v":6},{"$f":"BX7","v":8},{"$f":"BY7","v":0},{"$f":"BZ7","v":0},{"$f":"CA7","v":0},{"$f":"CB7","v":0},{"$f":"CC7","v":0},{"$f":"CD7","v":0},{"$f":"CE7","v":0}]
[null,null,null,null,null,null,null,null,null,null,null,null,null,null,null,"D'Hondt\n+ proportionnelle",null,{"$f":"CG7","v":2},{"$f":"CH7","v":4},{"$f":"CI7","v":3},{"$f":"CJ7","v":0},{"$f":"CK7","v":2},{"$f":"CL7","v":4},{"$f":"CM7","v":1},{"$f":"CN7","v":5},{"$f":"CO7","v":6},{"$f":"CP7","v":0},{"$f":"CQ7","v":0},{"$f":"CR7","v":0},{"$f":"CS7","v":0},{"$f":"CT7","v":0},{"$f":"CU7","v":0},{"$f":"CV7","v":0}]
[null,null,null,null,null,null,null,null,null,null,null,null,null,null,null,"Proportionnelle\npure",null,{"$f":"AZ7","v":1.6347724620770128},{"$f":"BA7","v":3.9154025670945156},{"$f":"BB7","v":3.1592765460910148},{"$f":"BC7","v":0.4375729288214702},{"$f":"BD7","v":2.0810968494749122},{"$f":"BE7","v":3.9136522753792296},{"$f":"BF7","v":1.4457409568261377},{"$f":"BG7","v":4.8430571761960319},{"$f":"BH7","v":5.5694282380396727},{"$f":"BI7","v":0},{"$f":"BJ7","v":0},{"$f":"BK7","v":0},{"$f":"BL7","v":0},{"$f":"BM7","v":0},{"$f":"BN7","v":0},{"$f":"BO7","v":0}]
[]
[null,null,null,null,null,null,null,null,null,null,null,null,null,null,null,null,"Nombre de sièges à distribuer :",null,null,null,{"$f":"C67","v":27},null,"Est-ce une liste unique en majorité absolue en termes de sièges ?",null,null,null,null,null,null,{"$f":"IF(C72>0,\"Oui\",\"Non\")","v":"Non"}]
[]
[null,null,null,null,null,null,null,null,null,null,null,null,null,null,null,null,"Nombre d'inscrits :",null,null,null,{"$f":"C63","v":15426},null,"Est-ce une liste unique en majorité absolue en termes de voix ?",null,null,null,null,null,null,{"$f":"IF(C75>0,\"Oui\",\"Non\")","v":"Non"}]
[]
[null,null,null,null,null,null,null,null,null,null,null,null,null,null,null,null,"Nombre de bulletins déposés :",null,null,null,{"$f":"C64","v":13189},null,"La majorité est-elle formée par une coalition ?",null,null,null,null,null,null,{"$f":"IF(B4>0,\"Oui\",\"Non\")","v":"Oui"}]
[]
[null,null,null,null,null,null,null,null,null,null,null,null,null,null,null,null,"Nombre de votes valables :",null,null,null,{"$f":"C66","v":12255},null,"Quelle est la proportion de l'électorat représentée par la majorité ?",null,null,null,null,null,null,{"$f":"IF(D83>0,C80,C81)","v":46.823544664851553}]
[]
[null,null,null,null,null,null,null,null,null,null,null,null,null,null,null,"Comparaison\nClef Impériali\n-\nClef D'Hondt",null,{"$f":"R100-R102","v":0},{"$f":"S100-S102","v":0},0,0,0,0,-1,1,0,0,0,0,0,0,0,0]

{"sheet":"BRUXELLES","index":7,"n_rows":114,"n_cols":100,"rows_kept":114,"cut":false,"hidden":false,"merged":[[1,1,1,48],[1,68,1,99],[1,50,1,66],[71,1,72,1],[113,15,113,16],[107,16,107,19],[109,16,109,19],[111,16,111,19],[74,1,75,1],[95,15,95,32],[105,22,105,27],[107,22,107,27],[109,22,109,27],[111,22,111,27],[105,16,105,19]]}
[]
[null,"IMPÉRIALI",null,null,null,null,null,null,null,null,null,null,null,null,null,null,null,null,null,null,null,null,null,null,null,null,null,null,null,null,null,null,null,null,null,null,null,null,null,null,null,null,null,null,null,null,null,null,null,null,"PROPORTIONNELLE PURE",null,null,null,null,null,null,null,null,null,null,null,null,null,null,null,null,null,"D'HONDT"]
[]
[null,"Coalition",null,"x",null,"x","x"]
[null,{"$f":"COUNTA(C5:P5)","v":14},"CDH-CD&V+","ECOLO-GROEN","VLAAMS BELANG","DéFI","PS","MR-VLD","N-VA","PTB*PVDA","Change.Brussels","PLAN B","CITOYEN D'EUROPE M3E","ISLAM","LA DROITE","SALEM",null,"Blancs & Nuls","Non-déposés",{"$f":"C5","v":"CDH-CD&V+"},"ECOLO-GROEN","VLAAMS BELANG","DéFI","PS",null,null,null,null,null,null,null,null,null,null,"Non-valables",{"$f":"C5","v":"CDH-CD&V+"},"ECOLO-GROEN","VLAAMS BELANG","DéFI","PS",null,null,null,null,null,null,null,null,null,null,"New Key","Blancs & Nuls","Non-déposés",{"$f":"C5","v":"CDH-CD&V+"},{"$f":"D5","v":"ECOLO-GROEN"},"VLAAMS BELANG","DéFI","PS","MR-VLD","N-VA","PTB*PVDA","Change.Brussels","PLAN B","CITOYEN D'EUROPE M3E","ISLAM","LA DROITE","SALEM",null,null,{"$f":"C5","v":"CDH-CD&V+"},{"$f":"D5","v":"ECOLO-GROEN"},"VLAAMS BELANG","DéFI","PS","MR-VLD","N-VA","PTB*PVDA","Change.Brussels","PLAN B","CITOYEN D'EUROPE M3E","ISLAM","LA DROITE","SALEM",null,"Blancs & Nuls","Non-déposés",{"$f":"C5","v":"CDH-CD&V+"},{"$f":"D5","v":"ECOLO-GROEN"},"VLAAMS BELANG","DéFI","PS","MR-VLD","N-VA","PTB*PVDA","Change.Brussels","PLAN B","CITOYEN D'EUROPE M3E","ISLAM","LA DROITE","SALEM"]
[null,"Chiffres\nélectoraux",6543,11847,1138,5317,19997,9772,2606,8159,2269,612,204,1125,487,391,null,{"$f":"C65","v":4139},{"$f":"C63-C64","v":15443},6543,11847,1138,5317,19997,null,null,null,null,null,null,null,null,null,null,{"$f":"R6+S6","v":19582},6543,11847,1138,5317,19997,null,null,null,null,null,null,null,null,null,null,null,{"$f":"C65","v":4139},{"$f":"C63-C64","v":15443},{"$f":"C6","v":6543},11847,1138,5317,19997,9772,2606,8159,2269,612,204,1125,487,391,null,"Chiffres\nélectoraux",{"$f":"C6","v":6543},11847,1138,5317,19997,9772,2606,8159,2269,612,204,1125,487,391,null,{"$f":"C65","v":4139},{"$f":"C63-C64","v":15443},{"$f":"C6","v":6543},11847,1138,5317,19997,9772,2606,8159,2269,612,204,1125,487,391]
[null,"Sièges",5,9,0,3,17,7,1,6,1,0,0,0,0,0,null,2,10,3,7,0,2,14,6,0,5,0,0,0,0,0,0,null,13,3,7,0,2,13,6,0,5,0,0,0,0,0,0,null,1837.7346938775511,2.2522293418027961,8.4032804362069538,3.5603615809170561,6.4465235593954402,0.61924063565392173,2.8932359048962231,10.881331275194617,5.3174160734711098,1.4180501726837611,4.4397050494730648,1.23467223400593,0.33301868982442889,0.1110062299414763,0.61216670923608252,0.2650001665759753,0.21276194072116292,null,"Sièges",5,9,0,4,15,7,2,6,1,0,0,0,0,0,null,2,9,4,7,0,3,12,5,1,5,1,0,0,0,0,0]
[null,2,{"$f":"$C$6/B8","v":3271.5},{"$f":"$D$6/B8","v":5923.5},{"$f":"$E$6/B8","v":569},{"$f":"$F$6/B8","v":2658.5},{"$f":"$G$6/B8","v":9998.5},{"$f":"$H$6/B8","v":4886},{"$f":"$I$6/B8","v":1303},{"$f":"$J$6/B8","v":4079.5},{"$f":"$K$6/B8","v":1134.5},{"$f":"$L$6/B8","v":306},{"$f":"$M$6/B8","v":102},{"$f":"$N$6/B8","v":562.5},{"$f":"$O$6/B8","v":243.5},{"$f":"$P$6/B8","v":195.5},null,{"$f":"$R$6/B8","v":2069.5},{"$f":"$S$6/B8","v":7721.5},{"$f":"C8","v":3271.5},{"$f":"D8","v":5923.5},{"$f":"E8","v":569},{"$f":"F8","v":2658.5},{"$f":"G8","v":9998.5},{"$f":"H8","v":4886},{"$f":"I8","v":1303},{"$f":"J8","v":4079.5},{"$f":"K8","v":1134.5},{"$f":"L8","v":306},{"$f":"M8","v":102},562.5,{"$f":"O8","v":243.5},{"$f":"P8","v":195.5},null,{"$f":"$AI$6/B8","v":9791},{"$f":"C8","v":3271.5},{"$f":"D8","v":5923.5},{"$f":"E8","v":569},{"$f":"F8","v":2658.5},{"$f":"G8","v":9998.5},{"$f":"H8","v":4886},{"$f":"I8","v":1303},{"$f":"J8","v":4079.5},{"$f":"K8","v":1134.5},{"$f":"L8","v":306},{"$f":"M8","v":102},562.5,{"$f":"O8","v":243.5},{"$f":"P8","v":195.5},null,null,null,null,null,null,null,null,null,null,null,null,null,null,null,null,null,null,null,1,{"$f":"$C$6/BQ8","v":6543},{"$f":"$D$6/BQ8","v":11847},{"$f":"$E$6/BQ8","v":1138},{"$f":"$F$6/BQ8","v":5317},{"$f":"$G$6/BQ8","v":19997},{"$f":"$H$6/BQ8","v":9772},{"$f":"$I$6/BQ8","v":2606},{"$f":"$J$6/BQ8","v":8159},{"$f":"$K$6/BQ8","v":2269},{"$f":"$L$6/BQ8","v":612},{"$f":"$M$6/BQ8","v":204},{"$f":"$N$6/BQ8","v":1125},{"$f":"$O$6/BQ8","v":487},{"$f":"$P$6/BQ8","v":391},null,{"$f":"$R$6/BQ8","v":4139},{"$f":"$S$6/BQ8","v":15443},{"$f":"BR8","v":6543},{"$f":"BS8","v":11847},{"$f":"BT8","v":1138},{"$f":"BU8","v":5317},{"$f":"BV8","v":19997},{"$f":"BW8","v":9772},{"$f":"BX8","v":2606},{"$f":"BY8","v":8159},{"$f":"BZ8","v":2269},{"$f":"CA8","v":612},{"$f":"CB8","v":204},{"$f":"CC8","v":1125},{"$f":"CD8","v":487},{"$f":"CE8","v":391}]
[null,3,{"$f":"$C$6/B9","v":2181},3949,{"$f":"$E$6/B9","v":379.33333333333331},1772.3333333333333,6665.666666666667,{"$f":"$H$6/B9","v":3257.3333333333335},{"$f":"$I$6/B9","v":868.66666666666663},{"$f":"$J$6/B9","v":2719.6666666666665},{"$f":"$K$6/B9","v":756.33333333333337},{"$f":"$L$6/B9","v":204},68,{"$f":"$N$6/B9","v":375},{"$f":"$O$6/B9","v":162.33333333333334},{"$f":"$P$6/B9","v":130.33333333333334},null,{"$f":"$R$6/B9","v":1379.6666666666667},{"$f":"$S$6/B9","v":5147.666666666667},2181,3949,379.33333333333331,1772.3333333333333,6665.666666666667,3257.3333333333335,868.66666666666663,2719.6666666666665,756.33333333333337,204,68,375,162.33333333333334,130.33333333333334,null,{"$f":"$AI$6/B9","v":6527.333333333333},2181,3949,379.33333333333331,1772.3333333333333,6665.666666666667,3257.3333333333335,868.66666666666663,2719.6666666666665,756.33333333333337,204,68,375,162.33333333333334,130.33333333333334,null,null,null,null,null,null,null,null,null,null,null,null,null,null,null,null,null,null,null,2,{"$f":"$C$6/BQ9","v":3271.5},5923.5,{"$f":"$E$6/BQ9","v":569},2658.5,9998.5,{"$f":"$H$6/BQ9","v":4886},{"$f":"$I$6/BQ9","v":1303},{"$f":"$J$6/BQ9","v":4079.5},{"$f":"$K$6/BQ9","v":1134.5},{"$f":"$L$6/BQ9","v":306},102,{"$f":"$N$6/BQ9","v":562.5},{"$f":"$O$6/BQ9","v":243.5},{"$f":"$P$6/BQ9","v":195.5},null,{"$f":"$R$6/BQ9","v":2069.5},{"$f":"$S$6/BQ9","v":7721.5},3271.5,5923.5,569,2658.5,9998.5,4886,1303,4079.5,1134.5,306,102,562.5,243.5,195.5]
[null,4,1635.75,2961.75,284.5,1329.25,4999.25,2443,651.5,2039.75,567.25,153,51,281.25,121.75,97.75,null,1034.75,3860.75,1635.75,2961.75,284.5,1329.25,4999.25,2443,651.5,2039.75,567.25,153,51,281.25,121.75,97.75,null,4895.5,1635.75,2961.75,284.5,1329.25,4999.25,2443,651.5,2039.75,567.25,153,51,281.25,121.75,97.75,null,null,null,null,null,null,null,null,null,null,null,null,null,null,null,null,null,null,null,3,2181,3949,379.33333333333331,1772.3333333333333,6665.666666666667,3257.3333333333335,868.66666666666663,2719.6666666666665,756.33333333333337,204,68,375,162.33333333333334,130.33333333333334,null,1379.6666666666667,5147.666666666667,2181,3949,379.33333333333331,1772.3333333333333,6665.666666666667,3257.3333333333335,868.66666666666663,2719.6666666666665,756.33333333333337,204,68,375,162.33333333333334,130.33333333333334]
[null,5,1308.5999999999999,2369.4,227.6,1063.4000000000001,3999.4,1954.4,521.20000000000005,1631.8,453.8,122.4,40.799999999999997,225,{"$f":"$O$6/B11","v":97.4},78.2,null,827.8,3088.6,1308.5999999999999,2369.4,227.6,1063.4000000000001,3999.4,1954.4,521.20000000000005,1631.8,453.8,122.4,40.799999999999997,225,97.4,78.2,null,3916.4,1308.5999999999999,2369.4,227.6,1063.4000000000001,3999.4,1954.4,521.20000000000005,1631.8,453.8,122.4,40.799999999999997,225,97.4,78.2,null,null,null,null,null,null,null,null,null,null,null,null,null,null,null,null,null,null,null,4,1635.75,2961.75,284.5,1329.25,4999.25,2443,651.5,2039.75,567.25,153,51,281.25,121.75,97.75,null,1034.75,3860.75,1635.75,2961.75,284.5,1329.25,4999.25,2443,651.5,2039.75,567.25,153,51,281.25,121.75,97.75]
[null,6,1090.5,1974.5,189.66666666666666,886.16666666666663,3332.8333333333335,1628.6666666666667,434.33333333333331,1359.8333333333333,378.16666666666669,102,34,187.5,81.166666666666671,65.166666666666671,null,689.83333333333337,2573.8333333333335,1090.5,1974.5,189.66666666666666,886.16666666666663,3332.8333333333335,1628.6666666666667,434.33333333333331,1359.8333333333333,378.16666666666669,102,34,187.5,81.166666666666671,65.166666666666671,null,3263.6666666666665,1090.5,1974.5,189.66666666666666,886.16666666666663,3332.8333333333335,1628.6666666666667,434.33333333333331,1359.8333333333333,378.16666666666669,102,34,187.5,81.166666666666671,65.166666666666671,null,null,null,null,null,null,null,null,null,null,null,null,null,null,null,null,null,null,null,5,1308.5999999999999,2369.4,227.6,1063.4000000000001,3999.4,1954.4,521.20000000000005,1631.8,453.8,122.4,40.799999999999997,225,97.4,78.2,null,827.8,3088.6,1308.5999999999999,2369.4,227.6,1063.4000000000001,3999.4,1954.4,521.20000000000005,1631.8,453.8,122.4,40.799999999999997,225,97.4,78.2]
[null,7,934.71428571428567,1692.4285714285713,162.57142857142858,759.57142857142856,2856.7142857142858,1396,372.28571428571428,1165.5714285714287,324.14285714285717,87.428571428571431,29.142857142857142,160.71428571428572,69.571428571428569,55.857142857142854,null,591.28571428571433,2206.1428571428573,934.71428571428567,1692.4285714285713,162.57142857142858,759.57142857142856,2856.7142857142858,1396,372.28571428571428,1165.5714285714287,324.14285714285717,87.428571428571431,29.142857142857142,160.71428571428572,69.571428571428569,55.857142857142854,null,2797.4285714285716,934.71428571428567,1692.4285714285713,162.57142857142858,759.57142857142856,2856.7142857142858,1396,372.28571428571428,1165.5714285714287,324.14285714285717,87.428571428571431,29.142857142857142,160.71428571428572,69.571428571428569,55.857142857142854,null,null,null,null,null,null,null,null,null,null,null,null,null,null,null,null,null,null,null,6,1090.5,1974.5,189.66666666666666,886.16666666666663,3332.8333333333335,1628.6666666666667,434.33333333333331,1359.8333333333333,378.16666666666669,102,34,187.5,81.166666666666671,65.166666666666671,null,689.83333333333337,2573.8333333333335,1090.5,1974.5,189.66666666666666,886.16666666666663,3332.8333333333335,1628.6666666666667,434.33333333333331,1359.8333333333333,378.16666666666669,102,34,187.5,81.166666666666671,65.166666666666671]
[null,8,817.875,1480.875,142.25,664.625,2499.625,1221.5,325.75,1019.875,283.625,76.5,25.5,140.625,60.875,48.875,null,517.375,1930.375,817.875,1480.875,142.25,664.625,2499.625,1221.5,325.75,1019.875,283.625,76.5,25.5,140.625,60.875,48.875,null,2447.75,817.875,1480.875,142.25,664.625,2499.625,1221.5,325.75,1019.875,283.625,76.5,25.5,140.625,60.875,48.875,null,null,null,null,null,null,null,null,null,null,null,null,null,null,null,null,null,null,null,7,934.71428571428567,1692.4285714285713,162.57142857142858,759.57142857142856,2856.7142857142858,1396,372.28571428571428,1165.5714285714287,324.14285714285717,87.428571428571431,29.142857142857142,160.71428571428572,69.571428571428569,55.857142857142854,null,591.28571428571433,2206.1428571428573,934.71428571428567,1692.4285714285713,162.57142857142858,759.57142857142856,2856.7142857142858,1396,372.28571428571428,1165.5714285714287,324.14285714285717,87.428571428571431,29.142857142857142,160.71428571428572,69.571428571428569,55.857142857142854]
[null,9,727,1316.3333333333333,126.44444444444444,590.77777777777783,2221.8888888888887,1085.7777777777778,289.55555555555554,906.55555555555554,252.11111111111111,68,22.666666666666668,125,54.111111111111114,43.444444444444443,null,459.88888888888891,1715.8888888888889,727,1316.3333333333333,126.44444444444444,590.77777777777783,2221.8888888888887,1085.7777777777778,289.55555555555554,906.55555555555554,252.11111111111111,68,22.666666666666668,125,54.111111111111114,43.444444444444443,null,2175.7777777777778,727,1316.3333333333333,126.44444444444444,590.77777777777783,2221.8888888888887,1085.7777777777778,289.55555555555554,906.55555555555554,252.11111111111111,68,22.666666666666668,125,54.111111111111114,43.444444444444443,null,null,null,null,null,null,null,null,null,null,null,null,null,null,null,null,null,null,null,8,817.875,1480.875,142.25,664.625,2499.625,1221.5,325.75,1019.875,283.625,76.5,25.5,140.625,60.875,48.875,null,517.375,1930.375,817.875,1480.875,142.25,664.625,2499.625,1221.5,325.75,1019.875,283.625,76.5,25.5,140.625,60.875,48.875]
[null,10,654.29999999999995,1184.7,113.8,531.70000000000005,1999.7,977.2,260.60000000000002,815.9,226.9,61.2,20.399999999999999,112.5,48.7,39.1,null,413.9,1544.3,654.29999999999995,1184.7,113.8,531.70000000000005,1999.7,977.2,260.60000000000002,815.9,226.9,61.2,20.399999999999999,112.5,48.7,39.1,null,1958.2,654.29999999999995,1184.7,113.8,531.70000000000005,1999.7,977.2,260.60000000000002,815.9,226.9,61.2,20.399999999999999,112.5,48.7,39.1,null,null,null,null,null,null,null,null,null,null,null,null,null,null,null,null,null,null,null,9,727,1316.3333333333333,126.44444444444444,590.77777777777783,2221.8888888888887,1085.7777777777778,289.55555555555554,906.55555555555554,252.11111111111111,68,22.666666666666668,125,54.111111111111114,43.444444444444443,null,459.88888888888891,1715.8888888888889,727,1316.3333333333333,126.44444444444444,590.77777777777783,2221.8888888888887,1085.7777777777778,289.55555555555554,906.55555555555554,252.11111111111111,68,22.666666666666668,125,54.111111111111114,43.444444444444443]
[null,11,594.81818181818187,1077,103.45454545454545,483.36363636363637,1817.909090909091,888.36363636363637,236.90909090909091,741.72727272727275,206.27272727272728,55.636363636363633,18.545454545454547,102.27272727272727,44.272727272727273,35.545454545454547,null,376.27272727272725,1403.909090909091,594.81818181818187,1077,103.45454545454545,483.36363636363637,1817.909090909091,888.36363636363637,236.90909090909091,741.72727272727275,206.27272727272728,55.636363636363633,18.545454545454547,102.27272727272727,44.272727272727273,35.545454545454547,null,1780.1818181818182,594.81818181818187,1077,103.45454545454545,483.36363636363637,1817.909090909091,888.36363636363637,236.90909090909091,741.72727272727275,206.27272727272728,55.636363636363633,18.545454545454547,102.27272727272727,44.272727272727273,35.545454545454547,null,null,null,null,null,null,null,null,null,null,null,null,null,null,null,null,null,null,null,10,654.29999999999995,1184.7,113.8,531.70000000000005,1999.7,977.2,260.60000000000002,815.9,226.9,61.2,20.399999999999999,112.5,48.7,39.1,null,413.9,1544.3,654.29999999999995,1184.7,113.8,531.70000000000005,1999.7,977.2,260.60000000000002,815.9,226.9,61.2,20.399999999999999,112.5,48.7,39.1]
[null,12,545.25,987.25,94.833333333333329,443.08333333333331,1666.4166666666667,814.33333333333337,217.16666666666666,679.91666666666663,189.08333333333334,51,17,93.75,40.583333333333336,32.583333333333336,null,344.91666666666669,1286.9166666666667,545.25,987.25,94.833333333333329,443.08333333333331,1666.4166666666667,814.33333333333337,217.16666666666666,679.91666666666663,189.08333333333334,51,17,93.75,40.583333333333336,32.583333333333336,null,1631.8333333333333,545.25,987.25,94.833333333333329,443.08333333333331,1666.4166666666667,814.33333333333337,217.16666666666666,679.91666666666663,189.08333333333334,51,17,93.75,40.583333333333336,32.583333333333336,null,null,null,null,null,null,null,null,null,null,null,null,null,null,null,null,null,null,null,11,594.81818181818187,1077,103.45454545454545,483.36363636363637,1817.909090909091,888.36363636363637,236.90909090909091,741.72727272727275,206.27272727272728,55.636363636363633,18.545454545454547,102.27272727272727,44.272727272727273,35.545454545454547,null,376.27272727272725,1403.909090909091,594.81818181818187,1077,103.45454545454545,483.36363636363637,1817.909090909091,888.36363636363637,236.90909090909091,741.72727272727275,206.27272727272728,55.636363636363633,18.545454545454547,102.27272727272727,44.272727272727273,35.545454545454547]
[null,13,503.30769230769232,911.30769230769226,87.538461538461533,409,1538.2307692307693,751.69230769230774,200.46153846153845,627.61538461538464,174.53846153846155,47.07692307692308,15.692307692307692,86.538461538461533,37.46153846153846,30.076923076923077,null,318.38461538461536,1187.9230769230769,503.30769230769232,911.30769230769226,87.538461538461533,409,1538.2307692307693,751.69230769230774,200.46153846153845,627.61538461538464,174.53846153846155,47.07692307692308,15.692307692307692,86.538461538461533,37.46153846153846,30.076923076923077,null,1506.3076923076924,503.30769230769232,911.30769230769226,87.538461538461533,409,1538.2307692307693,751.69230769230774,200.46153846153845,627.61538461538464,174.53846153846155,47.07692307692308,15.692307692307692,86.538461538461533,37.46153846153846,30.076923076923077,null,null,null,null,null,null,null,null,null,null,null,null,null,null,null,null,null,null,null,12,545.25,987.25,94.833333333333329,443.08333333333331,1666.4166666666667,814.33333333333337,217.16666666666666,679.91666666666663,189.08333333333334,51,17,93.75,40.583333333333336,32.583333333333336,null,344.91666666666669,1286.9166666666667,545.25,987.25,94.833333333333329,443.08333333333331,1666.4166666666667,814.33333333333337,217.16666666666666,679.91666666666663,189.08333333333334,51,17,93.75,40.583333333333336,32.583333333333336]
[null,14,467.35714285714283,846.21428571428567,81.285714285714292,379.78571428571428,1428.3571428571429,698,186.14285714285714,582.78571428571433,162.07142857142858,43.714285714285715,14.571428571428571,80.357142857142861,34.785714285714285,27.928571428571427,null,295.64285714285717,1103.0714285714287,467.35714285714283,846.21428571428567,81.285714285714292,379.78571428571428,1428.3571428571429,698,186.14285714285714,582.78571428571433,162.07142857142858,43.714285714285715,14.571428571428571,80.357142857142861,34.785714285714285,27.928571428571427,null,1398.7142857142858,467.35714285714283,846.21428571428567,81.285714285714292,379.78571428571428,1428.3571428571429,698,186.14285714285714,582.78571428571433,162.07142857142858,43.714285714285715,14.571428571428571,80.357142857142861,34.785714285714285,27.928571428571427,null,null,null,null,null,null,null,null,null,null,null,null,null,null,null,null,null,null,null,13,503.30769230769232,911.30769230769226,87.538461538461533,409,1538.2307692307693,751.69230769230774,200.46153846153845,627.61538461538464,174.53846153846155,47.07692307692308,15.692307692307692,86.538461538461533,37.46153846153846,30.076923076923077,null,318.38461538461536,1187.9230769230769,503.30769230769232,911.30769230769226,87.538461538461533,409,1538.2307692307693,751.69230769230774,200.46153846153845,627.61538461538464,174.53846153846155,47.07692307692308,15.692307692307692,86.538461538461533,37.46153846153846,30.076923076923077]
[null,15,436.2,789.8,75.86666666666666,354.46666666666664,1333.1333333333334,651.4666666666667,173.73333333333332,543.93333333333328,151.26666666666668,40.799999999999997,13.6,75,32.466666666666669,26.066666666666666,null,275.93333333333334,1029.5333333333333,436.2,789.8,75.86666666666666,354.46666666666664,1333.1333333333334,651.4666666666667,173.73333333333332,543.93333333333328,151.26666666666668,40.799999999999997,13.6,75,32.466666666666669,26.066666666666666,null,1305.4666666666667,436.2,789.8,75.86666666666666,354.46666666666664,1333.1333333333334,651.4666666666667,173.73333333333332,543.93333333333328,151.26666666666668,40.799999999999997,13.6,75,32.466666666666669,26.066666666666666,null,null,null,null,null,null,null,null,null,null,null,null,null,null,null,null,null,null,null,14,467.35714285714283,846.21428571428567,81.285714285714292,379.78571428571428,1428.3571428571429,698,186.14285714285714,582.78571428571433,162.07142857142858,43.714285714285715,14.571428571428571,80.357142857142861,34.785714285714285,27.928571428571427,null,295.64285714285717,1103.0714285714287,467.35714285714283,846.21428571428567,81.285714285714292,379.78571428571428,1428.3571428571429,698,186.14285714285714,582.78571428571433,162.07142857142858,43.714285714285715,14.571428571428571,80.357142857142861,34.785714285714285,27.928571428571427]
[null,16,408.9375,740.4375,71.125,332.3125,1249.8125,610.75,162.875,509.9375,141.8125,38.25,12.75,70.3125,30.4375,24.4375,null,258.6875,965.1875,408.9375,740.4375,71.125,332.3125,1249.8125,610.75,162.875,509.9375,141.8125,38.25,12.75,70.3125,30.4375,24.4375,null,1223.875,408.9375,740.4375,71.125,332.3125,1249.8125,610.75,162.875,509.9375,141.8125,38.25,12.75,70.3125,30.4375,24.4375,null,null,null,null,null,null,null,null,null,null,null,null,null,null,null,null,null,null,null,15,436.2,789.8,75.86666666666666,354.46666666666664,1333.1333333333334,651.4666666666667,173.73333333333332,543.93333333333328,151.26666666666668,40.799999999999997,13.6,75,32.466666666666669,26.066666666666666,null,275.93333333333334,1029.5333333333333,436.2,789.8,75.86666666666666,354.46666666666664,1333.1333333333334,651.4666666666667,173.73333333333332,543.93333333333328,151.26666666666668,40.799999999999997,13.6,75,32.466666666666669,26.066666666666666]
[null,17,384.88235294117646,696.88235294117646,66.941176470588232,312.76470588235293,1176.2941176470588,574.82352941176475,153.29411764705881,479.94117647058823,133.47058823529412,36,12,66.17647058823529,28.647058823529413,23,null,243.47058823529412,908.41176470588232,384.88235294117646,696.88235294117646,66.941176470588232,312.76470588235293,1176.2941176470588,574.82352941176475,153.29411764705881,479.94117647058823,133.47058823529412,36,12,66.17647058823529,28.647058823529413,23,null,1151.8823529411766,384.88235294117646,696.88235294117646,66.941176470588232,312.76470588235293,1176.2941176470588,574.82352941176475,153.29411764705881,479.94117647058823,133.47058823529412,36,12,66.17647058823529,28.647058823529413,23,null,null,null,null,null,null,null,null,null,null,null,null,null,null,null,null,null,null,null,16,408.9375,740.4375,71.125,332.3125,1249.8125,610.75,162.875,509.9375,141.8125,38.25,12.75,70.3125,30.4375,24.4375,null,258.6875,965.1875,408.9375,740.4375,71.125,332.3125,1249.8125,610.75,162.875,509.9375,141.8125,38.25,12.75,70.3125,30.4375,24.4375]
[null,18,363.5,658.16666666666663,63.222222222222221,295.38888888888891,1110.9444444444443,542.88888888888891,144.77777777777777,453.27777777777777,126.05555555555556,34,11.333333333333334,62.5,27.055555555555557,21.722222222222221,null,229.94444444444446,857.94444444444446,363.5,658.16666666666663,63.222222222222221,295.38888888888891,1110.9444444444443,542.88888888888891,144.77777777777777,453.27777777777777,126.05555555555556,34,{"$f":"M24","v":11.333333333333334},62.5,27.055555555555557,21.722222222222221,null,1087.8888888888889,363.5,658.16666666666663,63.222222222222221,295.38888888888891,1110.9444444444443,542.88888888888891,144.77777777777777,453.27777777777777,126.05555555555556,34,{"$f":"M24","v":11.333333333333334},62.5,27.055555555555557,21.722222222222221,null,null,null,null,null,null,null,null,null,null,null,null,null,null,null,null,null,null,null,17,384.88235294117646,696.88235294117646,66.941176470588232,312.76470588235293,1176.2941176470588,574.82352941176475,153.29411764705881,479.94117647058823,133.47058823529412,36,12,66.17647058823529,28.647058823529413,23,null,243.47058823529412,908.41176470588232,384.88235294117646,696.88235294117646,66.941176470588232,312.76470588235293,1176.2941176470588,574.82352941176475,153.29411764705881,479.94117647058823,133.47058823529412,36,12,66.17647058823529,28.647058823529413,23]
[null,19,344.36842105263156,623.52631578947364,59.89473684210526,279.84210526315792,1052.4736842105262,514.31578947368416,137.15789473684211,429.42105263157896,119.42105263157895,32.210526315789473,10.736842105263158,59.210526315789473,25.631578947368421,20.578947368421051,null,217.84210526315789,812.78947368421052,344.36842105263156,623.52631578947364,59.89473684210526,279.84210526315792,1052.4736842105262,514.31578947368416,137.15789473684211,429.42105263157896,119.42105263157895,32.210526315789473,10.736842105263158,59.210526315789473,25.631578947368421,20.578947368421051,null,1030.6315789473683,344.36842105263156,623.52631578947364,59.89473684210526,279.84210526315792,1052.4736842105262,514.31578947368416,137.15789473684211,429.42105263157896,119.42105263157895,32.210526315789473,10.736842105263158,59.210526315789473,25.631578947368421,20.578947368421051,null,null,null,null,null,null,null,null,null,null,null,null,null,null,null,null,null,null,null,18,363.5,658.16666666666663,63.222222222222221,295.38888888888891,1110.9444444444443,542.88888888888891,144.77777777777777,453.27777777777777,126.05555555555556,34,11.333333333333334,62.5,27.055555555555557,21.722222222222221,null,229.94444444444446,857.94444444444446,363.5,658.16666666666663,63.222222222222221,295.38888888888891,1110.9444444444443,542.88888888888891,144.77777777777777,453.27777777777777,126.05555555555556,34,11.333333333333334,62.5,27.055555555555557,21.722222222222221]
[null,20,327.14999999999998,592.35,56.9,265.85000000000002,999.85,488.6,130.30000000000001,407.95,113.45,30.6,10.199999999999999,56.25,24.35,19.55,null,206.95,772.15,327.14999999999998,592.35,56.9,265.85000000000002,999.85,488.6,130.30000000000001,407.95,113.45,30.6,10.199999999999999,56.25,24.35,19.55,null,979.1,327.14999999999998,592.35,56.9,265.85000000000002,999.85,488.6,130.30000000000001,407.95,113.45,30.6,10.199999999999999,56.25,24.35,19.55,null,null,null,null,null,null,null,null,null,null,null,null,null,null,null,null,null,null,null,19,344.36842105263156,623.52631578947364,59.89473684210526,279.84210526315792,1052.4736842105262,514.31578947368416,137.15789473684211,429.42105263157896,119.42105263157895,32.210526315789473,10.736842105263158,59.210526315789473,25.631578947368421,20.578947368421051,null,217.84210526315789,812.78947368421052,344.36842105263156,623.52631578947364,59.89473684210526,279.84210526315792,1052.4736842105262,514.31578947368416,137.15789473684211,429.42105263157896,119.42105263157895,32.210526315789473,10.736842105263158,59.210526315789473,25.631578947368421,20.578947368421051]
[null,21,311.57142857142856,564.14285714285711,54.19047619047619,253.1904761904762,952.23809523809518,465.33333333333331,124.0952380952381,388.52380952380952,108.04761904761905,29.142857142857142,9.7142857142857135,53.571428571428569,23.19047619047619,18.61904761904762,null,197.0952380952381,735.38095238095241,311.57142857142856,564.14285714285711,54.19047619047619,253.1904761904762,952.23809523809518,465.33333333333331,124.0952380952381,388.52380952380952,108.04761904761905,29.142857142857142,9.7142857142857135,53.571428571428569,23.19047619047619,18.61904761904762,null,932.47619047619048,311.57142857142856,564.14285714285711,54.19047619047619,253.1904761904762,952.23809523809518,465.33333333333331,124.0952380952381,388.52380952380952,108.04761904761905,29.142857142857142,9.7142857142857135,53.571428571428569,23.19047619047619,18.61904761904762,null,null,null,null,null,null,null,null,null,null,null,null,null,null,null,null,null,null,null,20,327.14999999999998,592.35,56.9,265.85000000000002,999.85,488.6,130.30000000000001,407.95,113.45,30.6,10.199999999999999,56.25,24.35,19.55,null,206.95,772.15,327.14999999999998,592.35,56.9,265.85000000000002,999.85,488.6,130.30000000000001,407.95,113.45,30.6,10.199999999999999,56.25,24.35,19.55]
[null,22,297.40909090909093,538.5,51.727272727272727,241.68181818181819,908.9545454545455,444.18181818181819,118.45454545454545,370.86363636363637,103.13636363636364,27.818181818181817,9.2727272727272734,51.136363636363633,22.136363636363637,17.772727272727273,null,188.13636363636363,701.9545454545455,297.40909090909093,538.5,51.727272727272727,241.68181818181819,908.9545454545455,444.18181818181819,118.45454545454545,370.86363636363637,103.13636363636364,27.818181818181817,9.2727272727272734,51.136363636363633,22.136363636363637,17.772727272727273,null,890.09090909090912,297.40909090909093,538.5,51.727272727272727,241.68181818181819,908.9545454545455,444.18181818181819,118.45454545454545,370.86363636363637,103.13636363636364,27.818181818181817,9.2727272727272734,51.136363636363633,22.136363636363637,17.772727272727273,null,null,null,null,null,null,null,null,null,null,null,null,null,null,null,null,null,null,null,21,311.57142857142856,564.14285714285711,54.19047619047619,253.1904761904762,952.23809523809518,465.33333333333331,124.0952380952381,388.52380952380952,108.04761904761905,29.142857142857142,9.7142857142857135,53.571428571428569,23.19047619047619,18.61904761904762,null,197.0952380952381,735.38095238095241,311.57142857142856,564.14285714285711,54.19047619047619,253.1904761904762,952.23809523809518,465.33333333333331,124.0952380952381,388.52380952380952,108.04761904761905,29.142857142857142,9.7142857142857135,53.571428571428569,23.19047619047619,18.61904761904762]
[null,23,284.47826086956519,515.08695652173913,49.478260869565219,231.17391304347825,869.43478260869563,424.86956521739131,113.30434782608695,354.73913043478262,98.652173913043484,26.608695652173914,8.8695652173913047,48.913043478260867,21.173913043478262,17,null,179.95652173913044,671.43478260869563,284.47826086956519,515.08695652173913,49.478260869565219,231.17391304347825,869.43478260869563,424.86956521739131,113.30434782608695,354.73913043478262,98.652173913043484,26.608695652173914,8.8695652173913047,48.913043478260867,21.173913043478262,17,null,851.39130434782612,284.47826086956519,515.08695652173913,49.478260869565219,231.17391304347825,869.43478260869563,424.86956521739131,113.30434782608695,354.73913043478262,98.652173913043484,26.608695652173914,8.8695652173913047,48.913043478260867,21.173913043478262,17,null,null,null,null,null,null,null,null,null,null,null,null,null,null,null,null,null,null,null,22,297.40909090909093,538.5,51.727272727272727,241.68181818181819,908.9545454545455,444.18181818181819,118.45454545454545,370.86363636363637,103.13636363636364,27.818181818181817,9.2727272727272734,51.136363636363633,22.136363636363637,17.772727272727273,null,188.13636363636363,701.9545454545455,297.40909090909093,538.5,51.727272727272727,241.68181818181819,908.9545454545455,444.18181818181819,118.45454545454545,370.86363636363637,103.13636363636364,27.818181818181817,9.2727272727272734,51.136363636363633,22.136363636363637,17.772727272727273]
[null,24,272.625,493.625,47.416666666666664,221.54166666666666,833.20833333333337,407.16666666666669,108.58333333333333,339.95833333333331,94.541666666666671,25.5,8.5,46.875,20.291666666666668,16.291666666666668,null,172.45833333333334,643.45833333333337,272.625,493.625,47.416666666666664,221.54166666666666,833.20833333333337,407.16666666666669,108.58333333333333,339.95833333333331,94.541666666666671,25.5,8.5,46.875,20.291666666666668,16.291666666666668,null,815.91666666666663,272.625,493.625,47.416666666666664,221.54166666666666,833.20833333333337,407.16666666666669,108.58333333333333,339.95833333333331,94.541666666666671,25.5,8.5,46.875,20.291666666666668,16.291666666666668,null,null,null,null,null,null,null,null,null,null,null,null,null,null,null,null,null,null,null,23,284.47826086956519,515.08695652173913,49.478260869565219,231.17391304347825,869.43478260869563,424.86956521739131,113.30434782608695,354.73913043478262,98.652173913043484,26.608695652173914,8.8695652173913047,48.913043478260867,21.173913043478262,17,null,179.95652173913044,671.43478260869563,284.47826086956519,515.08695652173913,49.478260869565219,231.17391304347825,869.43478260869563,424.86956521739131,113.30434782608695,354.73913043478262,98.652173913043484,26.608695652173914,8.8695652173913047,48.913043478260867,21.173913043478262,17]
[null,25,261.72000000000003,473.88,45.52,212.68,799.88,390.88,104.24,326.36,90.76,24.48,8.16,45,19.48,15.64,null,165.56,617.72,261.72000000000003,473.88,45.52,212.68,799.88,390.88,104.24,326.36,90.76,24.48,8.16,45,19.48,15.64,null,783.28,261.72000000000003,473.88,45.52,212.68,799.88,390.88,104.24,326.36,90.76,24.48,8.16,45,19.48,15.64,null,null,null,null,null,null,null,null,null,null,null,null,null,null,null,null,null,null,null,24,272.625,493.625,47.416666666666664,221.54166666666666,833.20833333333337,407.16666666666669,108.58333333333333,339.95833333333331,94.541666666666671,25.5,8.5,46.875,20.291666666666668,16.291666666666668,null,172.45833333333334,643.45833333333337,272.625,493.625,47.416666666666664,221.54166666666666,833.20833333333337,407.16666666666669,108.58333333333333,339.95833333333331,94.541666666666671,25.5,8.5,46.875,20.291666666666668,16.291666666666668]
[null,26,251.65384615384616,455.65384615384613,43.769230769230766,204.5,769.11538461538464,375.84615384615387,100.23076923076923,313.80769230769232,87.269230769230774,23.53846153846154,7.8461538461538458,43.269230769230766,18.73076923076923,15.038461538461538,null,159.19230769230768,593.96153846153845,251.65384615384616,455.65384615384613,43.769230769230766,204.5,769.11538461538464,375.84615384615387,100.23076923076923,313.80769230769232,87.269230769230774,23.53846153846154,7.8461538461538458,43.269230769230766,18.73076923076923,15.038461538461538,null,753.15384615384619,251.65384615384616,455.65384615384613,43.769230769230766,204.5,769.11538461538464,375.84615384615387,100.23076923076923,313.80769230769232,87.269230769230774,23.53846153846154,7.8461538461538458,43.269230769230766,18.73076923076923,15.038461538461538,null,null,null,null,null,null,null,null,null,null,null,null,null,null,null,null,null,null,null,25,261.72000000000003,473.88,45.52,212.68,799.88,390.88,104.24,326.36,90.76,24.48,8.16,45,19.48,15.64,null,165.56,617.72,261.72000000000003,473.88,45.52,212.68,799.88,390.88,104.24,326.36,90.76,24.48,8.16,45,19.48,15.64]
[null,27,242.33333333333334,438.77777777777777,42.148148148148145,196.92592592592592,740.62962962962968,361.92592592592592,96.518518518518519,302.18518518518516,84.037037037037038,22.666666666666668,7.5555555555555554,41.666666666666664,18.037037037037038,14.481481481481481,null,153.2962962962963,571.96296296296293,242.33333333333334,438.77777777777777,42.148148148148145,196.92592592592592,740.62962962962968,361.92592592592592,96.518518518518519,302.18518518518516,84.037037037037038,22.666666666666668,7.5555555555555554,41.666666666666664,18.037037037037038,14.481481481481481,null,725.25925925925924,242.33333333333334,438.77777777777777,42.148148148148145,196.92592592592592,740.62962962962968,361.92592592592592,96.518518518518519,302.18518518518516,84.037037037037038,22.666666666666668,7.5555555555555554,41.666666666666664,18.037037037037038,14.481481481481481,null,null,null,null,null,null,null,null,null,null,null,null,null,null,null,null,null,null,null,26,251.65384615384616,455.65384615384613,43.769230769230766,204.5,769.11538461538464,375.84615384615387,100.23076923076923,313.80769230769232,87.269230769230774,23.53846153846154,7.8461538461538458,43.269230769230766,18.73076923076923,15.038461538461538,null,159.19230769230768,593.96153846153845,251.65384615384616,455.65384615384613,43.769230769230766,204.5,769.11538461538464,375.84615384615387,100.23076923076923,313.80769230769232,87.269230769230774,23.53846153846154,7.8461538461538458,43.269230769230766,18.73076923076923,15.038461538461538]
[null,28,233.67857142857142,423.10714285714283,40.642857142857146,189.89285714285714,714.17857142857144,349,93.071428571428569,291.39285714285717,81.035714285714292,21.857142857142858,7.2857142857142856,40.178571428571431,17.392857142857142,13.964285714285714,null,147.82142857142858,551.53571428571433,233.67857142857142,423.10714285714283,40.642857142857146,189.89285714285714,714.17857142857144,349,93.071428571428569,291.39285714285717,81.035714285714292,21.857142857142858,7.2857142857142856,40.178571428571431,17.392857142857142,13.964285714285714,null,699.35714285714289,233.67857142857142,423.10714285714283,40.642857142857146,189.89285714285714,714.17857142857144,349,93.071428571428569,291.39285714285717,81.035714285714292,21.857142857142858,7.2857142857142856,40.178571428571431,17.392857142857142,13.964285714285714,null,null,null,null,null,null,null,null,null,null,null,null,null,null,null,null,null,null,null,27,242.33333333333334,438.77777777777777,42.148148148148145,196.92592592592592,740.62962962962968,361.92592592592592,96.518518518518519,302.18518518518516,84.037037037037038,22.666666666666668,7.5555555555555554,41.666666666666664,18.037037037037038,14.481481481481481,null,153.2962962962963,571.96296296296293,242.33333333333334,438.77777777777777,42.148148148148145,196.92592592592592,740.62962962962968,361.92592592592592,96.518518518518519,302.18518518518516,84.037037037037038,22.666666666666668,7.5555555555555554,41.666666666666664,18.037037037037038,14.481481481481481]
[null,29,225.62068965517241,408.51724137931035,39.241379310344826,183.34482758620689,689.55172413793105,336.9655172413793,89.862068965517238,281.34482758620692,78.241379310344826,21.103448275862068,7.0344827586206895,38.793103448275865,16.793103448275861,13.482758620689655,null,142.72413793103448,532.51724137931035,225.62068965517241,408.51724137931035,39.241379310344826,183.34482758620689,689.55172413793105,336.9655172413793,89.862068965517238,281.34482758620692,78.241379310344826,21.103448275862068,7.0344827586206895,38.793103448275865,16.793103448275861,13.482758620689655,null,675.24137931034488,225.62068965517241,408.51724137931035,39.241379310344826,183.34482758620689,689.55172413793105,336.9655172413793,89.862068965517238,281.34482758620692,78.241379310344826,21.103448275862068,7.0344827586206895,38.793103448275865,16.793103448275861,13.482758620689655,null,null,null,null,null,null,null,null,null,null,null,null,null,null,null,null,null,null,null,28,233.67857142857142,423.10714285714283,40.642857142857146,189.89285714285714,714.17857142857144,349,93.071428571428569,291.39285714285717,81.035714285714292,21.857142857142858,7.2857142857142856,40.178571428571431,17.392857142857142,13.964285714285714,null,147.82142857142858,551.53571428571433,233.67857142857142,423.10714285714283,40.642857142857146,189.89285714285714,714.17857142857144,349,93.071428571428569,291.39285714285717,81.035714285714292,21.857142857142858,7.2857142857142856,40.178571428571431,17.392857142857142,13.964285714285714]
[null,30,218.1,394.9,37.93333333333333,177.23333333333332,666.56666666666672,325.73333333333335,86.86666666666666,271.96666666666664,75.63333333333334,20.399999999999999,6.8,37.5,16.233333333333334,13.033333333333333,null,137.96666666666667,514.76666666666665,218.1,394.9,37.93333333333333,177.23333333333332,666.56666666666672,325.73333333333335,86.86666666666666,271.96666666666664,75.63333333333334,20.399999999999999,6.8,37.5,16.233333333333334,13.033333333333333,null,652.73333333333335,218.1,394.9,37.93333333333333,177.23333333333332,666.56666666666672,325.73333333333335,86.86666666666666,271.96666666666664,75.63333333333334,20.399999999999999,6.8,37.5,16.233333333333334,13.033333333333333,null,null,null,null,null,null,null,null,null,null,null,null,null,null,null,null,null,null,null,29,225.62068965517241,408.51724137931035,39.241379310344826,183.34482758620689,689.55172413793105,336.9655172413793,89.862068965517238,281.34482758620692,78.241379310344826,21.103448275862068,7.0344827586206895,38.793103448275865,16.793103448275861,13.482758620689655,null,142.72413793103448,532.51724137931035,225.62068965517241,408.51724137931035,39.241379310344826,183.34482758620689,689.55172413793105,336.9655172413793,89.862068965517238,281.34482758620692,78.241379310344826,21.103448275862068,7.0344827586206895,38.793103448275865,16.793103448275861,13.482758620689655]
[null,31,211.06451612903226,382.16129032258067,36.70967741935484,171.51612903225808,645.06451612903231,315.22580645161293,84.064516129032256,263.19354838709677,73.193548387096769,19.741935483870968,6.580645161290323,36.29032258064516,15.709677419354838,12.612903225806452,null,133.51612903225808,498.16129032258067,211.06451612903226,382.16129032258067,36.70967741935484,171.51612903225808,645.06451612903231,315.22580645161293,84.064516129032256,263.19354838709677,73.193548387096769,19.741935483870968,6.580645161290323,36.29032258064516,15.709677419354838,12.612903225806452,null,631.67741935483866,211.06451612903226,382.16129032258067,36.70967741935484,171.51612903225808,645.06451612903231,315.22580645161293,84.064516129032256,263.19354838709677,73.193548387096769,19.741935483870968,6.580645161290323,36.29032258064516,15.709677419354838,12.612903225806452,null,null,null,null,null,null,null,null,null,null,null,null,null,null,null,null,null,null,null,30,218.1,394.9,37.93333333333333,177.23333333333332,666.56666666666672,325.73333333333335,86.86666666666666,271.96666666666664,75.63333333333334,20.399999999999999,6.8,37.5,16.233333333333334,13.033333333333333,null,137.96666666666667,514.76666666666665,218.1,394.9,37.93333333333333,177.23333333333332,666.56666666666672,325.73333333333335,86.86666666666666,271.96666666666664,75.63333333333334,20.399999999999999,6.8,37.5,16.233333333333334,13.033333333333333]
[null,32,204.46875,370.21875,35.5625,166.15625,624.90625,305.375,81.4375,254.96875,70.90625,19.125,6.375,35.15625,15.21875,12.21875,null,129.34375,482.59375,204.46875,370.21875,35.5625,166.15625,624.90625,305.375,81.4375,254.96875,70.90625,19.125,6.375,35.15625,15.21875,12.21875,null,611.9375,204.46875,370.21875,35.5625,166.15625,624.90625,305.375,81.4375,254.96875,70.90625,19.125,6.375,35.15625,15.21875,12.21875,null,null,null,null,null,null,null,null,null,null,null,null,null,null,null,null,null,null,null,31,211.06451612903226,382.16129032258067,36.70967741935484,171.51612903225808,645.06451612903231,315.22580645161293,84.064516129032256,263.19354838709677,73.193548387096769,19.741935483870968,6.580645161290323,36.29032258064516,15.709677419354838,12.612903225806452,null,133.51612903225808,498.16129032258067,211.06451612903226,382.16129032258067,36.70967741935484,171.51612903225808,645.06451612903231,315.22580645161293,84.064516129032256,263.19354838709677,73.193548387096769,19.741935483870968,6.580645161290323,36.29032258064516,15.709677419354838,12.612903225806452]
[null,33,198.27272727272728,359,34.484848484848484,161.12121212121212,605.969696969697,296.12121212121212,78.969696969696969,247.24242424242425,68.757575757575751,18.545454545454547,6.1818181818181817,34.090909090909093,14.757575757575758,11.848484848484848,null,125.42424242424242,467.969696969697,198.27272727272728,359,34.484848484848484,161.12121212121212,605.969696969697,296.12121212121212,78.969696969696969,247.24242424242425,68.757575757575751,18.545454545454547,6.1818181818181817,34.090909090909093,14.757575757575758,11.848484848484848,null,593.39393939393938,198.27272727272728,359,34.484848484848484,161.12121212121212,605.969696969697,296.12121212121212,78.969696969696969,247.24242424242425,68.757575757575751,18.545454545454547,6.1818181818181817,34.090909090909093,14.757575757575758,11.848484848484848,null,null,null,null,null,null,null,null,null,null,null,null,null,null,null,null,null,null,null,32,204.46875,370.21875,35.5625,166.15625,624.90625,305.375,81.4375,254.96875,70.90625,19.125,6.375,35.15625,15.21875,12.21875,null,129.34375,482.59375,204.46875,370.21875,35.5625,166.15625,624.90625,305.375,81.4375,254.96875,70.90625,19.125,6.375,35.15625,15.21875,12.21875]
[null,34,192.44117647058823,348.44117647058823,33.470588235294116,156.38235294117646,588.14705882352939,287.41176470588238,76.647058823529406,239.97058823529412,66.735294117647058,18,6,33.088235294117645,14.323529411764707,11.5,null,121.73529411764706,454.20588235294116,{"$f":"C40","v":192.44117647058823},{"$f":"D40","v":348.44117647058823},{"$f":"E40","v":33.470588235294116},{"$f":"F40","v":156.38235294117646},{"$f":"G40","v":588.14705882352939},{"$f":"H40","v":287.41176470588238},{"$f":"I40","v":76.647058823529406},{"$f":"J40","v":239.97058823529412},{"$f":"K40","v":66.735294117647058},{"$f":"L40","v":18},{"$f":"M40","v":6},33.088235294117645,{"$f":"O40","v":14.323529411764707},{"$f":"P40","v":11.5},null,575.94117647058829,{"$f":"C40","v":192.44117647058823},{"$f":"D40","v":348.44117647058823},{"$f":"E40","v":33.470588235294116},{"$f":"F40","v":156.38235294117646},{"$f":"G40","v":588.14705882352939},{"$f":"H40","v":287.41176470588238},{"$f":"I40","v":76.647058823529406},{"$f":"J40","v":239.97058823529412},{"$f":"K40","v":66.735294117647058},{"$f":"L40","v":18},{"$f":"M40","v":6},33.088235294117645,{"$f":"O40","v":14.323529411764707},{"$f":"P40","v":11.5},null,null,null,null,null,null,null,null,null,null,null,null,null,null,null,null,null,null,null,33,198.27272727272728,359,34.484848484848484,161.12121212121212,605.969696969697,296.12121212121212,78.969696969696969,247.24242424242425,68.757575757575751,18.545454545454547,6.1818181818181817,34.090909090909093,14.757575757575758,11.848484848484848,null,125.42424242424242,467.969696969697,198.27272727272728,359,34.484848484848484,161.12121212121212,605.969696969697,296.12121212121212,78.969696969696969,247.24242424242425,68.757575757575751,18.545454545454547,6.1818181818181817,34.090909090909093,14.757575757575758,11.848484848484848]
[null,35,186.94285714285715,338.48571428571427,32.514285714285712,151.91428571428571,571.34285714285716,279.2,74.457142857142856,233.11428571428573,64.828571428571422,17.485714285714284,5.8285714285714283,32.142857142857146,13.914285714285715,11.171428571428571,null,118.25714285714285,441.22857142857146,186.94285714285715,338.48571428571427,32.514285714285712,151.91428571428571,571.34285714285716,279.2,74.457142857142856,233.11428571428573,64.828571428571422,17.485714285714284,5.8285714285714283,32.142857142857146,13.914285714285715,11.171428571428571,null,559.48571428571427,186.94285714285715,338.48571428571427,32.514285714285712,151.91428571428571,571.34285714285716,279.2,74.457142857142856,233.11428571428573,64.828571428571422,17.485714285714284,5.8285714285714283,32.142857142857146,13.914285714285715,11.171428571428571,null,null,null,null,null,null,null,null,null,null,null,null,null,null,null,null,null,null,null,34,192.44117647058823,348.44117647058823,33.470588235294116,156.38235294117646,588.14705882352939,287.41176470588238,76.647058823529406,239.97058823529412,66.735294117647058,18,6,33.088235294117645,14.323529411764707,11.5,null,121.73529411764706,454.20588235294116,192.44117647058823,348.44117647058823,33.470588235294116,156.38235294117646,588.14705882352939,287.41176470588238,76.647058823529406,239.97058823529412,66.735294117647058,18,6,33.088235294117645,14.323529411764707,11.5]
[null,36,181.75,329.08333333333331,31.611111111111111,147.69444444444446,555.47222222222217,271.44444444444446,72.388888888888886,226.63888888888889,63.027777777777779,17,5.666666666666667,31.25,13.527777777777779,10.861111111111111,null,114.97222222222223,428.97222222222223,181.75,329.08333333333331,31.611111111111111,147.69444444444446,555.47222222222217,271.44444444444446,72.388888888888886,226.63888888888889,63.027777777777779,17,5.666666666666667,31.25,13.527777777777779,10.861111111111111,null,543.94444444444446,181.75,329.08333333333331,31.611111111111111,147.69444444444446,555.47222222222217,271.44444444444446,72.388888888888886,226.63888888888889,63.027777777777779,17,5.666666666666667,31.25,13.527777777777779,10.861111111111111,null,null,null,null,null,null,null,null,null,null,null,null,null,null,null,null,null,null,null,35,186.94285714285715,338.48571428571427,32.514285714285712,151.91428571428571,571.34285714285716,279.2,74.457142857142856,233.11428571428573,64.828571428571422,17.485714285714284,5.8285714285714283,32.142857142857146,13.914285714285715,11.171428571428571,null,118.25714285714285,441.22857142857146,186.94285714285715,338.48571428571427,32.514285714285712,151.91428571428571,571.34285714285716,279.2,74.457142857142856,233.11428571428573,64.828571428571422,17.485714285714284,5.8285714285714283,32.142857142857146,13.914285714285715,11.171428571428571]
[null,37,176.83783783783784,320.18918918918916,30.756756756756758,143.70270270270271,540.45945945945948,264.10810810810813,70.432432432432435,220.51351351351352,61.324324324324323,16.54054054054054,5.5135135135135132,30.405405405405407,13.162162162162161,10.567567567567568,null,111.86486486486487,417.37837837837839,176.83783783783784,320.18918918918916,30.756756756756758,143.70270270270271,540.45945945945948,264.10810810810813,70.432432432432435,220.51351351351352,61.324324324324323,16.54054054054054,5.5135135135135132,30.405405405405407,13.162162162162161,10.567567567567568,null,529.24324324324323,176.83783783783784,320.18918918918916,30.756756756756758,143.70270270270271,540.45945945945948,264.10810810810813,70.432432432432435,220.51351351351352,61.324324324324323,16.54054054054054,5.5135135135135132,30.405405405405407,13.162162162162161,10.567567567567568,null,null,null,null,null,null,null,null,null,null,null,null,null,null,null,null,null,null,null,36,181.75,329.08333333333331,31.611111111111111,147.69444444444446,555.47222222222217,271.44444444444446,72.388888888888886,226.63888888888889,63.027777777777779,17,5.666666666666667,31.25,13.527777777777779,10.861111111111111,null,114.97222222222223,428.97222222222223,181.75,329.08333333333331,31.611111111111111,147.69444444444446,555.47222222222217,271.44444444444446,72.388888888888886,226.63888888888889,63.027777777777779,17,5.666666666666667,31.25,13.527777777777779,10.861111111111111]
[null,38,172.18421052631578,311.76315789473682,29.94736842105263,139.92105263157896,526.23684210526312,257.15789473684208,68.578947368421055,214.71052631578948,59.710526315789473,16.105263157894736,5.3684210526315788,29.605263157894736,12.815789473684211,10.289473684210526,null,108.92105263157895,406.39473684210526,172.18421052631578,311.76315789473682,29.94736842105263,139.92105263157896,526.23684210526312,257.15789473684208,68.578947368421055,214.71052631578948,59.710526315789473,16.105263157894736,5.3684210526315788,29.605263157894736,12.815789473684211,10.289473684210526,null,515.31578947368416,172.18421052631578,311.76315789473682,29.94736842105263,139.92105263157896,526.23684210526312,257.15789473684208,68.578947368421055,214.71052631578948,59.710526315789473,16.105263157894736,5.3684210526315788,29.605263157894736,12.815789473684211,10.289473684210526,null,null,null,null,null,null,null,null,null,null,null,null,null,null,null,null,null,null,null,37,176.83783783783784,320.18918918918916,30.756756756756758,143.70270270270271,540.45945945945948,264.10810810810813,70.432432432432435,220.51351351351352,61.324324324324323,16.54054054054054,5.5135135135135132,30.405405405405407,13.162162162162161,10.567567567567568,null,111.86486486486487,417.37837837837839,176.83783783783784,320.18918918918916,30.756756756756758,143.70270270270271,540.45945945945948,264.10810810810813,70.432432432432435,220.51351351351352,61.324324324324323,16.54054054054054,5.5135135135135132,30.405405405405407,13.162162162162161,10.567567567567568]
[null,39,167.76923076923077,303.76923076923077,29.179487179487179,136.33333333333334,512.74358974358972,250.56410256410257,66.820512820512818,209.2051282051282,58.179487179487182,15.692307692307692,5.2307692307692308,28.846153846153847,12.487179487179487,10.025641025641026,null,106.12820512820512,395.97435897435895,167.76923076923077,303.76923076923077,29.179487179487179,136.33333333333334,512.74358974358972,250.56410256410257,66.820512820512818,209.2051282051282,58.179487179487182,15.692307692307692,5.2307692307692308,28.846153846153847,12.487179487179487,10.025641025641026,null,502.10256410256409,167.76923076923077,303.76923076923077,29.179487179487179,136.33333333333334,512.74358974358972,250.56410256410257,66.820512820512818,209.2051282051282,58.179487179487182,15.692307692307692,5.2307692307692308,28.846153846153847,12.487179487179487,10.025641025641026,null,null,null,null,null,null,null,null,null,null,null,null,null,null,null,null,null,null,null,38,172.18421052631578,311.76315789473682,29.94736842105263,139.92105263157896,526.23684210526312,257.15789473684208,68.578947368421055,214.71052631578948,59.710526315789473,16.105263157894736,5.3684210526315788,29.605263157894736,12.815789473684211,10.289473684210526,null,108.92105263157895,406.39473684210526,172.18421052631578,311.76315789473682,29.94736842105263,139.92105263157896,526.23684210526312,257.15789473684208,68.578947368421055,214.71052631578948,59.710526315789473,16.105263157894736,5.3684210526315788,29.605263157894736,12.815789473684211,10.289473684210526]
[null,40,163.57499999999999,296.17500000000001,28.45,132.92500000000001,499.92500000000001,244.3,65.150000000000006,203.97499999999999,56.725000000000001,15.3,5.0999999999999996,28.125,12.175000000000001,9.7750000000000004,null,103.47499999999999,386.07499999999999,163.57499999999999,296.17500000000001,28.45,132.92500000000001,499.92500000000001,244.3,65.150000000000006,203.97499999999999,56.725000000000001,15.3,5.0999999999999996,28.125,12.175000000000001,9.7750000000000004,null,489.55,163.57499999999999,296.17500000000001,28.45,132.92500000000001,499.92500000000001,244.3,65.150000000000006,203.97499999999999,56.725000000000001,15.3,5.0999999999999996,28.125,12.175000000000001,9.7750000000000004,null,null,null,null,null,null,null,null,null,null,null,null,null,null,null,null,null,null,null,39,167.76923076923077,303.76923076923077,29.179487179487179,136.33333333333334,512.74358974358972,250.56410256410257,66.820512820512818,209.2051282051282,58.179487179487182,15.692307692307692,5.2307692307692308,28.846153846153847,12.487179487179487,10.025641025641026,null,106.12820512820512,395.97435897435895,167.76923076923077,303.76923076923077,29.179487179487179,136.33333333333334,512.74358974358972,250.56410256410257,66.820512820512818,209.2051282051282,58.179487179487182,15.692307692307692,5.2307692307692308,28.846153846153847,12.487179487179487,10.025641025641026]
[null,41,159.58536585365854,288.95121951219511,27.756097560975611,129.6829268292683,487.73170731707319,238.34146341463415,63.560975609756099,199,55.341463414634148,14.926829268292684,4.975609756097561,27.439024390243901,11.878048780487806,9.536585365853659,null,100.95121951219512,376.65853658536588,159.58536585365854,288.95121951219511,27.756097560975611,129.6829268292683,487.73170731707319,238.34146341463415,63.560975609756099,199,55.341463414634148,14.926829268292684,4.975609756097561,27.439024390243901,11.878048780487806,9.536585365853659,null,477.60975609756099,159.58536585365854,288.95121951219511,27.756097560975611,129.6829268292683,487.73170731707319,238.34146341463415,63.560975609756099,199,55.341463414634148,14.926829268292684,4.975609756097561,27.439024390243901,11.878048780487806,9.536585365853659,null,null,null,null,null,null,null,null,null,null,null,null,null,null,null,null,null,null,null,40,163.57499999999999,296.17500000000001,28.45,132.92500000000001,499.92500000000001,244.3,65.150000000000006,203.97499999999999,56.725000000000001,15.3,5.0999999999999996,28.125,12.175000000000001,9.7750000000000004,null,103.47499999999999,386.07499999999999,163.57499999999999,296.17500000000001,28.45,132.92500000000001,499.92500000000001,244.3,65.150000000000006,203.97499999999999,56.725000000000001,15.3,5.0999999999999996,28.125,12.175000000000001,9.7750000000000004]
[null,42,155.78571428571428,282.07142857142856,27.095238095238095,126.5952380952381,476.11904761904759,232.66666666666666,62.047619047619051,194.26190476190476,54.023809523809526,14.571428571428571,4.8571428571428568,26.785714285714285,11.595238095238095,9.3095238095238102,null,98.547619047619051,367.6904761904762,155.78571428571428,282.07142857142856,27.095238095238095,126.5952380952381,476.11904761904759,232.66666666666666,62.047619047619051,194.26190476190476,54.023809523809526,14.571428571428571,4.8571428571428568,26.785714285714285,11.595238095238095,9.3095238095238102,null,466.23809523809524,155.78571428571428,282.07142857142856,27.095238095238095,126.5952380952381,476.11904761904759,232.66666666666666,62.047619047619051,194.26190476190476,54.023809523809526,14.571428571428571,4.8571428571428568,26.785714285714285,11.595238095238095,9.3095238095238102,null,null,null,null,null,null,null,null,null,null,null,null,null,null,null,null,null,null,null,41,159.58536585365854,288.95121951219511,27.756097560975611,129.6829268292683,487.73170731707319,238.34146341463415,63.560975609756099,199,55.341463414634148,14.926829268292684,4.975609756097561,27.439024390243901,11.878048780487806,9.536585365853659,null,100.95121951219512,376.65853658536588,159.58536585365854,288.95121951219511,27.756097560975611,129.6829268292683,487.73170731707319,238.34146341463415,63.560975609756099,199,55.341463414634148,14.926829268292684,4.975609756097561,27.439024390243901,11.878048780487806,9.536585365853659]
[null,43,152.16279069767441,275.51162790697674,26.465116279069768,123.65116279069767,465.04651162790697,227.25581395348837,60.604651162790695,189.74418604651163,52.767441860465119,14.232558139534884,4.7441860465116283,26.162790697674417,11.325581395348838,9.0930232558139537,null,96.255813953488371,359.13953488372096,152.16279069767441,275.51162790697674,26.465116279069768,123.65116279069767,465.04651162790697,227.25581395348837,60.604651162790695,189.74418604651163,52.767441860465119,14.232558139534884,4.7441860465116283,26.162790697674417,11.325581395348838,9.0930232558139537,null,455.39534883720933,152.16279069767441,275.51162790697674,26.465116279069768,123.65116279069767,465.04651162790697,227.25581395348837,60.604651162790695,189.74418604651163,52.767441860465119,14.232558139534884,4.7441860465116283,26.162790697674417,11.325581395348838,9.0930232558139537,null,null,null,null,null,null,null,null,null,null,null,null,null,null,null,null,null,null,null,42,155.78571428571428,282.07142857142856,27.095238095238095,126.5952380952381,476.11904761904759,232.66666666666666,62.047619047619051,194.26190476190476,54.023809523809526,14.571428571428571,4.8571428571428568,26.785714285714285,11.595238095238095,9.3095238095238102,null,98.547619047619051,367.6904761904762,155.78571428571428,282.07142857142856,27.095238095238095,126.5952380952381,476.11904761904759,232.66666666666666,62.047619047619051,194.26190476190476,54.023809523809526,14.571428571428571,4.8571428571428568,26.785714285714285,11.595238095238095,9.3095238095238102]
[null,44,148.70454545454547,269.25,25.863636363636363,120.84090909090909,454.47727272727275,222.09090909090909,59.227272727272727,185.43181818181819,51.56818181818182,13.909090909090908,4.6363636363636367,25.568181818181817,11.068181818181818,8.8863636363636367,null,94.068181818181813,350.97727272727275,148.70454545454547,269.25,25.863636363636363,120.84090909090909,454.47727272727275,222.09090909090909,59.227272727272727,185.43181818181819,51.56818181818182,13.909090909090908,4.6363636363636367,25.568181818181817,11.068181818181818,8.8863636363636367,null,445.04545454545456,148.70454545454547,269.25,25.863636363636363,120.84090909090909,454.47727272727275,222.09090909090909,59.227272727272727,185.43181818181819,51.56818181818182,13.909090909090908,4.6363636363636367,25.568181818181817,11.068181818181818,8.8863636363636367,null,null,null,null,null,null,null,null,null,null,null,null,null,null,null,null,null,null,null,43,152.16279069767441,275.51162790697674,26.465116279069768,123.65116279069767,465.04651162790697,227.25581395348837,60.604651162790695,189.74418604651163,52.767441860465119,14.232558139534884,4.7441860465116283,26.162790697674417,11.325581395348838,9.0930232558139537,null,96.255813953488371,359.13953488372096,152.16279069767441,275.51162790697674,26.465116279069768,123.65116279069767,465.04651162790697,227.25581395348837,60.604651162790695,189.74418604651163,52.767441860465119,14.232558139534884,4.7441860465116283,26.162790697674417,11.325581395348838,9.0930232558139537]
[null,45,145.4,263.26666666666665,25.288888888888888,118.15555555555555,444.37777777777779,217.15555555555557,57.911111111111111,181.3111111111111,50.422222222222224,13.6,4.5333333333333332,25,10.822222222222223,8.6888888888888882,null,91.977777777777774,343.17777777777781,145.4,263.26666666666665,25.288888888888888,118.15555555555555,444.37777777777779,217.15555555555557,57.911111111111111,181.3111111111111,50.422222222222224,13.6,4.5333333333333332,25,10.822222222222223,8.6888888888888882,null,435.15555555555557,145.4,263.26666666666665,25.288888888888888,118.15555555555555,444.37777777777779,217.15555555555557,57.911111111111111,181.3111111111111,50.422222222222224,13.6,4.5333333333333332,25,10.822222222222223,8.6888888888888882,null,null,null,null,null,null,null,null,null,null,null,null,null,null,null,null,null,null,null,44,148.70454545454547,269.25,25.863636363636363,120.84090909090909,454.47727272727275,222.09090909090909,59.227272727272727,185.43181818181819,51.56818181818182,13.909090909090908,4.6363636363636367,25.568181818181817,11.068181818181818,8.8863636363636367,null,94.068181818181813,350.97727272727275,148.70454545454547,269.25,25.863636363636363,120.84090909090909,454.47727272727275,222.09090909090909,59.227272727272727,185.43181818181819,51.56818181818182,13.909090909090908,4.6363636363636367,25.568181818181817,11.068181818181818,8.8863636363636367]
[null,46,142.2391304347826,257.54347826086956,24.739130434782609,115.58695652173913,434.71739130434781,212.43478260869566,56.652173913043477,177.36956521739131,49.326086956521742,13.304347826086957,4.4347826086956523,24.456521739130434,10.586956521739131,8.5,null,89.978260869565219,335.71739130434781,142.2391304347826,257.54347826086956,24.739130434782609,115.58695652173913,434.71739130434781,212.43478260869566,56.652173913043477,177.36956521739131,49.326086956521742,13.304347826086957,4.4347826086956523,24.456521739130434,10.586956521739131,8.5,null,425.69565217391306,142.2391304347826,257.54347826086956,24.739130434782609,115.58695652173913,434.71739130434781,212.43478260869566,56.652173913043477,177.36956521739131,49.326086956521742,13.304347826086957,4.4347826086956523,24.456521739130434,10.586956521739131,8.5,null,null,null,null,null,null,null,null,null,null,null,null,null,null,null,null,null,null,null,45,145.4,263.26666666666665,25.288888888888888,118.15555555555555,444.37777777777779,217.15555555555557,57.911111111111111,181.3111111111111,50.422222222222224,13.6,4.5333333333333332,25,10.822222222222223,8.6888888888888882,null,91.977777777777774,343.17777777777781,145.4,263.26666666666665,25.288888888888888,118.15555555555555,444.37777777777779,217.15555555555557,57.911111111111111,181.3111111111111,50.422222222222224,13.6,4.5333333333333332,25,10.822222222222223,8.6888888888888882]
[null,47,139.21276595744681,252.06382978723406,24.212765957446809,113.12765957446808,425.468085106383,207.91489361702128,55.446808510638299,173.59574468085106,48.276595744680854,13.021276595744681,4.3404255319148932,23.936170212765958,10.361702127659575,8.3191489361702136,null,88.063829787234042,328.57446808510639,139.21276595744681,252.06382978723406,24.212765957446809,113.12765957446808,425.468085106383,207.91489361702128,55.446808510638299,173.59574468085106,48.276595744680854,13.021276595744681,4.3404255319148932,23.936170212765958,10.361702127659575,8.3191489361702136,null,416.63829787234044,139.21276595744681,252.06382978723406,24.212765957446809,113.12765957446808,425.468085106383,207.91489361702128,55.446808510638299,173.59574468085106,48.276595744680854,13.021276595744681,4.3404255319148932,23.936170212765958,10.361702127659575,8.3191489361702136,null,null,null,null,null,null,null,null,null,null,null,null,null,null,null,null,null,null,null,46,142.2391304347826,257.54347826086956,24.739130434782609,115.58695652173913,434.71739130434781,212.43478260869566,56.652173913043477,177.36956521739131,49.326086956521742,13.304347826086957,4.4347826086956523,24.456521739130434,10.586956521739131,8.5,null,89.978260869565219,335.71739130434781,142.2391304347826,257.54347826086956,24.739130434782609,115.58695652173913,434.71739130434781,212.43478260869566,56.652173913043477,177.36956521739131,49.326086956521742,13.304347826086957,4.4347826086956523,24.456521739130434,10.586956521739131,8.5]
[null,48,136.3125,246.8125,23.708333333333332,110.77083333333333,416.60416666666669,203.58333333333334,54.291666666666664,{"$f":"$J$6/B54","v":169.97916666666666},47.270833333333336,12.75,4.25,23.4375,10.145833333333334,8.1458333333333339,null,86.229166666666671,321.72916666666669,136.3125,246.8125,23.708333333333332,110.77083333333333,416.60416666666669,203.58333333333334,54.291666666666664,169.97916666666666,47.270833333333336,12.75,4.25,23.4375,10.145833333333334,8.1458333333333339,null,407.95833333333331,136.3125,246.8125,23.708333333333332,110.77083333333333,416.60416666666669,203.58333333333334,54.291666666666664,169.97916666666666,47.270833333333336,12.75,4.25,23.4375,10.145833333333334,8.1458333333333339,null,null,null,null,null,null,null,null,null,null,null,null,null,null,null,null,null,null,null,47,139.21276595744681,252.06382978723406,24.212765957446809,113.12765957446808,425.468085106383,207.91489361702128,55.446808510638299,173.59574468085106,48.276595744680854,13.021276595744681,4.3404255319148932,23.936170212765958,10.361702127659575,8.3191489361702136,null,88.063829787234042,328.57446808510639,139.21276595744681,252.06382978723406,24.212765957446809,113.12765957446808,425.468085106383,207.91489361702128,55.446808510638299,173.59574468085106,48.276595744680854,13.021276595744681,4.3404255319148932,23.936170212765958,10.361702127659575,8.3191489361702136]
[null,49,133.53061224489795,241.77551020408163,23.224489795918366,108.51020408163265,408.10204081632651,199.42857142857142,53.183673469387756,166.51020408163265,46.306122448979593,12.489795918367347,4.1632653061224492,22.959183673469386,9.9387755102040813,7.9795918367346941,null,84.469387755102048,315.16326530612247,133.53061224489795,241.77551020408163,23.224489795918366,108.51020408163265,408.10204081632651,199.42857142857142,53.183673469387756,166.51020408163265,46.306122448979593,12.489795918367347,4.1632653061224492,22.959183673469386,9.9387755102040813,7.9795918367346941,null,399.63265306122452,133.53061224489795,241.77551020408163,23.224489795918366,108.51020408163265,408.10204081632651,199.42857142857142,53.183673469387756,166.51020408163265,46.306122448979593,12.489795918367347,4.1632653061224492,22.959183673469386,9.9387755102040813,7.9795918367346941,null,null,null,null,null,null,null,null,null,null,null,null,null,null,null,null,null,null,null,48,136.3125,246.8125,23.708333333333332,110.77083333333333,416.60416666666669,203.58333333333334,54.291666666666664,169.97916666666666,47.270833333333336,12.75,4.25,23.4375,10.145833333333334,8.1458333333333339,null,86.229166666666671,321.72916666666669,136.3125,246.8125,23.708333333333332,110.77083333333333,416.60416666666669,203.58333333333334,54.291666666666664,169.97916666666666,47.270833333333336,12.75,4.25,23.4375,10.145833333333334,8.1458333333333339]
[null,50,130.86000000000001,236.94,22.76,106.34,399.94,195.44,52.12,163.18,45.38,12.24,4.08,22.5,9.74,7.82,null,82.78,308.86,130.86000000000001,236.94,22.76,106.34,399.94,195.44,52.12,163.18,45.38,12.24,{"$f":"M56","v":4.08},22.5,9.74,7.82,null,391.64,130.86000000000001,236.94,22.76,106.34,399.94,195.44,52.12,163.18,45.38,12.24,{"$f":"M56","v":4.08},22.5,9.74,7.82,null,null,null,null,null,null,null,null,null,null,null,null,null,null,null,null,null,null,null,49,133.53061224489795,241.77551020408163,23.224489795918366,108.51020408163265,408.10204081632651,199.42857142857142,53.183673469387756,166.51020408163265,46.306122448979593,12.489795918367347,4.1632653061224492,22.959183673469386,9.9387755102040813,7.9795918367346941,null,84.469387755102048,315.16326530612247,133.53061224489795,241.77551020408163,23.224489795918366,108.51020408163265,408.10204081632651,199.42857142857142,53.183673469387756,166.51020408163265,46.306122448979593,12.489795918367347,4.1632653061224492,22.959183673469386,9.9387755102040813,7.9795918367346941]
[null,51,128.29411764705881,232.29411764705881,22.313725490196077,104.25490196078431,392.0980392156863,191.60784313725489,51.098039215686278,159.98039215686273,44.490196078431374,12,4,22.058823529411764,9.5490196078431371,7.666666666666667,null,81.156862745098039,302.80392156862746,128.29411764705881,232.29411764705881,22.313725490196077,104.25490196078431,392.0980392156863,191.60784313725489,51.098039215686278,159.98039215686273,44.490196078431374,12,4,22.058823529411764,9.5490196078431371,7.666666666666667,null,383.96078431372547,128.29411764705881,232.29411764705881,22.313725490196077,104.25490196078431,392.0980392156863,191.60784313725489,51.098039215686278,159.98039215686273,44.490196078431374,12,4,22.058823529411764,9.5490196078431371,7.666666666666667,null,null,null,null,null,null,null,null,null,null,null,null,null,null,null,null,null,null,null,50,130.86000000000001,236.94,22.76,106.34,399.94,195.44,52.12,163.18,45.38,12.24,4.08,22.5,9.74,7.82,null,82.78,308.86,130.86000000000001,236.94,22.76,106.34,399.94,195.44,52.12,163.18,45.38,12.24,4.08,22.5,9.74,7.82]
[null,52,125.82692307692308,227.82692307692307,21.884615384615383,102.25,384.55769230769232,187.92307692307693,50.115384615384613,156.90384615384616,43.634615384615387,11.76923076923077,3.9230769230769229,21.634615384615383,9.365384615384615,7.5192307692307692,null,79.59615384615384,296.98076923076923,125.82692307692308,227.82692307692307,21.884615384615383,102.25,384.55769230769232,187.92307692307693,50.115384615384613,156.90384615384616,43.634615384615387,11.76923076923077,3.9230769230769229,21.634615384615383,9.365384615384615,7.5192307692307692,null,376.57692307692309,125.82692307692308,227.82692307692307,21.884615384615383,102.25,384.55769230769232,187.92307692307693,50.115384615384613,156.90384615384616,43.634615384615387,11.76923076923077,3.9230769230769229,21.634615384615383,9.365384615384615,7.5192307692307692,null,null,null,null,null,null,null,null,null,null,null,null,null,null,null,null,null,null,null,51,128.29411764705881,232.29411764705881,22.313725490196077,104.25490196078431,392.0980392156863,191.60784313725489,51.098039215686278,159.98039215686273,44.490196078431374,12,4,22.058823529411764,9.5490196078431371,7.666666666666667,null,81.156862745098039,302.80392156862746,128.29411764705881,232.29411764705881,22.313725490196077,104.25490196078431,392.0980392156863,191.60784313725489,51.098039215686278,159.98039215686273,44.490196078431374,12,4,22.058823529411764,9.5490196078431371,7.666666666666667]
[null,53,123.45283018867924,{"$f":"$D$6/B59","v":223.52830188679246},{"$f":"$E$6/B59","v":21.471698113207548},{"$f":"$F$6/B59","v":100.32075471698113},{"$f":"$G$6/B59","v":377.30188679245282},{"$f":"$H$6/B59","v":184.37735849056602},{"$f":"$I$6/B59","v":49.169811320754718},153.9433962264151,{"$f":"$K$6/B59","v":42.811320754716981},{"$f":"$L$6/B59","v":11.547169811320755},3.8490566037735849,21.226415094339622,{"$f":"$O$6/B59","v":9.1886792452830193},{"$f":"$P$6/B59","v":7.3773584905660377},null,{"$f":"$R$6/B59","v":78.094339622641513},{"$f":"$S$6/B59","v":291.37735849056605},{"$f":"C59","v":123.45283018867924},223.52830188679246,21.471698113207548,100.32075471698113,377.30188679245282,184.37735849056602,49.169811320754718,153.9433962264151,42.811320754716981,11.547169811320755,3.8490566037735849,21.226415094339622,9.1886792452830193,7.3773584905660377,null,{"$f":"$AI$6/B59","v":369.47169811320754},{"$f":"C59","v":123.45283018867924},223.52830188679246,21.471698113207548,100.32075471698113,377.30188679245282,184.37735849056602,49.169811320754718,153.9433962264151,42.811320754716981,11.547169811320755,3.8490566037735849,21.226415094339622,9.1886792452830193,7.3773584905660377,null,null,null,null,null,null,null,null,null,null,null,null,null,null,null,null,null,null,null,52,125.82692307692308,{"$f":"$D$6/BQ59","v":227.82692307692307},{"$f":"$E$6/BQ59","v":21.884615384615383},{"$f":"$F$6/BQ59","v":102.25},{"$f":"$G$6/BQ59","v":384.55769230769232},{"$f":"$H$6/BQ59","v":187.92307692307693},{"$f":"$I$6/BQ59","v":50.115384615384613},156.90384615384616,{"$f":"$K$6/BQ59","v":43.634615384615387},{"$f":"$L$6/BQ59","v":11.76923076923077},3.9230769230769229,21.634615384615383,{"$f":"$O$6/BQ59","v":9.365384615384615},{"$f":"$P$6/BQ59","v":7.5192307692307692},null,{"$f":"$R$6/BQ59","v":79.59615384615384},{"$f":"$S$6/BQ59","v":296.98076923076923},125.82692307692308,227.82692307692307,21.884615384615383,102.25,384.55769230769232,187.92307692307693,50.115384615384613,156.90384615384616,43.634615384615387,11.76923076923077,3.9230769230769229,21.634615384615383,9.365384615384615,7.5192307692307692]
[null,54,121.16666666666667,{"$f":"$D$6/B60","v":219.38888888888889},{"$f":"$E$6/B60","v":21.074074074074073},{"$f":"$F$6/B60","v":98.462962962962962},{"$f":"$G$6/B60","v":370.31481481481484},{"$f":"$H$6/B60","v":180.96296296296296},{"$f":"$I$6/B60","v":48.25925925925926},151.09259259259258,{"$f":"$K$6/B60","v":42.018518518518519},{"$f":"$L$6/B60","v":11.333333333333334},{"$f":"$M$6/B60","v":3.7777777777777777},20.833333333333332,{"$f":"$O$6/B60","v":9.018518518518519},{"$f":"$P$6/B60","v":7.2407407407407405},null,{"$f":"$R$6/B60","v":76.648148148148152},{"$f":"$S$6/B60","v":285.98148148148147},121.16666666666667,219.38888888888889,21.074074074074073,98.462962962962962,370.31481481481484,180.96296296296296,48.25925925925926,151.09259259259258,42.018518518518519,11.333333333333334,3.7777777777777777,20.833333333333332,9.018518518518519,7.2407407407407405,null,{"$f":"$AI$6/B60","v":362.62962962962962},121.16666666666667,219.38888888888889,21.074074074074073,98.462962962962962,370.31481481481484,180.96296296296296,48.25925925925926,151.09259259259258,42.018518518518519,11.333333333333334,3.7777777777777777,20.833333333333332,9.018518518518519,7.2407407407407405,null,null,null,null,null,null,null,null,null,null,null,null,null,null,null,null,null,null,null,53,123.45283018867924,{"$f":"$D$6/BQ60","v":223.52830188679246},{"$f":"$E$6/BQ60","v":21.471698113207548},{"$f":"$F$6/BQ60","v":100.32075471698113},{"$f":"$G$6/BQ60","v":377.30188679245282},{"$f":"$H$6/BQ60","v":184.37735849056602},{"$f":"$I$6/BQ60","v":49.169811320754718},153.9433962264151,{"$f":"$K$6/BQ60","v":42.811320754716981},{"$f":"$L$6/BQ60","v":11.547169811320755},{"$f":"$M$6/BQ60","v":3.8490566037735849},21.226415094339622,{"$f":"$O$6/BQ60","v":9.1886792452830193},{"$f":"$P$6/BQ60","v":7.3773584905660377},null,{"$f":"$R$6/BQ60","v":78.094339622641513},{"$f":"$S$6/BQ60","v":291.37735849056605},123.45283018867924,223.52830188679246,21.471698113207548,100.32075471698113,377.30188679245282,184.37735849056602,49.169811320754718,153.9433962264151,42.811320754716981,11.547169811320755,3.8490566037735849,21.226415094339622,9.1886792452830193,7.3773584905660377]
[]
[]
[null,"Nombre d'inscrits",90049]
[null,"Bulletins déposés",74606]
[null,"Blancs & Nuls",4139]
[null,"Votes valables",70467]
[null,"Nombre de sièges",49]
[]
[]
[]
[]
[null,"Liste unique\nMajorité\nabsolue",{"$f":"SUM($C$73:$P$73)","v":0},null,null,null,null,null,null,null,null,null,null,null,null,null,null,{"$f":"SUM($R$73:$AG$73)","v":0},null,null,null,null,null,null,null,null,null,null,null,null,null,null,null,null,{"$f":"SUM($AI$73:$AW$73)","v":0}]
[null,null,{"$f":"IF(C7>($C$67/2),1,0)","v":0},{"$f":"IF(D7>($C$67/2),1,0)","v":0},{"$f":"IF(E7>($C$67/2),1,0)","v":0},{"$f":"IF(F7>($C$67/2),1,0)","v":0},{"$f":"IF(G7>($C$67/2),1,0)","v":0},{"$f":"IF(H7>($C$67/2),1,0)","v":0},{"$f":"IF(I7>($C$67/2),1,0)","v":0},{"$f":"IF(J7>($C$67/2),1,0)","v":0},{"$f":"IF(K7>($C$67/2),1,0)","v":0},{"$f":"IF(L7>($C$67/2),1,0)","v":0},{"$f":"IF(M7>($C$67/2),1,0)","v":0},{"$f":"IF(N7>($C$67/2),1,0)","v":0},{"$f":"IF(O7>($C$67/2),1,0)","v":0},{"$f":"IF(P7>($C$67/2),1,0)","v":0},null,{"$f":"IF(R7>($C$67/2),1,0)","v":0},{"$f":"IF(S7>($C$67/2),1,0)","v":0},{"$f":"IF(T7>($C$67/2),1,0)","v":0},{"$f":"IF(U7>($C$67/2),1,0)","v":0},{"$f":"IF(V7>($C$67/2),1,0)","v":0},{"$f":"IF(W7>($C$67/2),1,0)","v":0},{"$f":"IF(X7>($C$67/2),1,0)","v":0},{"$f":"IF(Y7>($C$67/2),1,0)","v":0},{"$f":"IF(Z7>($C$67/2),1,0)","v":0},{"$f":"IF(AA7>($C$67/2),1,0)","v":0},{"$f":"IF(AB7>($C$67/2),1,0)","v":0},{"$f":"IF(AC7>($C$67/2),1,0)","v":0},{"$f":"IF(AD7>($C$67/2),1,0)","v":0},{"$f":"IF(AE7>($C$67/2),1,0)","v":0},{"$f":"IF(AF7>($C$67/2),1,0)","v":0},{"$f":"IF(AG7>($C$67/2),1,0)","v":0},null,{"$f":"IF(AI7>($C$67/2),1,0)","v":0},{"$f":"IF(AJ7>($C$67/2),1,0)","v":0},{"$f":"IF(AK7>($C$67/2),1,0)","v":0},{"$f":"IF(AL7>($C$67/2),1,0)","v":0},{"$f":"IF(AM7>($C$67/2),1,0)","v":0},{"$f":"IF(AN7>($C$67/2),1,0)","v":0},{"$f":"IF(AO7>($C$67/2),1,0)","v":0},{"$f":"IF(AP7>($C$67/2),1,0)","v":0},{"$f":"IF(AQ7>($C$67/2),1,0)","v":0},{"$f":"IF(AR7>($C$67/2),1,0)","v":0},{"$f":"IF(AS7>($C$67/2),1,0)","v":0},{"$f":"IF(AT7>($C$67/2),1,0)","v":0},{"$f":"IF(AU7>($C$67/2),1,0)","v":0},{"$f":"IF(AV7>($C$67/2),1,0)","v":0},{"$f":"IF(AW7>($C$67/2),1,0)","v":0}]
[]
[null,"Liste unique\nMajorité\nabsolue\nnombre de voix",{"$f":"SUM($C$76:$P$76)","v":0},null,null,null,null,null,null,null,null,null,null,null,null,null,null,{"$f":"SUM(R76:AG76)","v":0},null,null,null,null,null,null,null,null,null,null,null,null,null,null,null,null,{"$f":"SUM(AI76:AW76)","v":0}]
[null,null,{"$f":"IF(C73>0,C6,0)","v":0},{"$f":"IF(D73>0,D6,0)","v":0},{"$f":"IF(E73>0,E6,0)","v":0},{"$f":"IF(F73>0,F6,0)","v":0},{"$f":"IF(G73>0,G6,0)","v":0},{"$f":"IF(H73>0,H6,0)","v":0},{"$f":"IF(I73>0,I6,0)","v":0},{"$f":"IF(J73>0,J6,0)","v":0},{"$f":"IF(K73>0,K6,0)","v":0},{"$f":"IF(L73>0,L6,0)","v":0},{"$f":"IF(M73>0,M6,0)","v":0},{"$f":"IF(N73>0,N6,0)","v":0},{"$f":"IF(O73>0,O6,0)","v":0},{"$f":"IF(P73>0,P6,0)","v":0},null,{"$f":"IF(R73>0,R6,0)","v":0},{"$f":"IF(S73>0,S6,0)","v":0},{"$f":"IF(T73>0,T6,0)","v":0},{"$f":"IF(U73>0,U6,0)","v":0},{"$f":"IF(V73>0,V6,0)","v":0},{"$f":"IF(W73>0,W6,0)","v":0},{"$f":"IF(X73>0,X6,0)","v":0},{"$f":"IF(Y73>0,Y6,0)","v":0},{"$f":"IF(Z73>0,Z6,0)","v":0},{"$f":"IF(AA73>0,AA6,0)","v":0},{"$f":"IF(AB73>0,AB6,0)","v":0},{"$f":"IF(AC73>0,AC6,0)","v":0},{"$f":"IF(AD73>0,AD6,0)","v":0},{"$f":"IF(AE73>0,AE6,0)","v":0},{"$f":"IF(AF73>0,AF6,0)","v":0},{"$f":"IF(AG73>0,AG6,0)","v":0},null,{"$f":"IF(AI73>0,AI6,0)","v":0},{"$f":"IF(AJ73>0,AJ6,0)","v":0},{"$f":"IF(AK73>0,AK6,0)","v":0},{"$f":"IF(AL73>0,AL6,0)","v":0},{"$f":"IF(AM73>0,AM6,0)","v":0},{"$f":"IF(AN73>0,AN6,0)","v":0},{"$f":"IF(AO73>0,AO6,0)","v":0},{"$f":"IF(AP73>0,AP6,0)","v":0},{"$f":"IF(AQ73>0,AQ6,0)","v":0},{"$f":"IF(AR73>0,AR6,0)","v":0},{"$f":"IF(AS73>0,AS6,0)","v":0},{"$f":"IF(AT73>0,AT6,0)","v":0},{"$f":"IF(AU73>0,AU6,0)","v":0},{"$f":"IF(AV73>0,AV6,0)","v":0},{"$f":"IF(AW73>0,AW6,0)","v":0}]
[]
[null,"Nbr voix\nCoalition",{"$f":"SUMIF(C4:P4,\"x\",C6:P6)","v":37161}]
[]
[null,"% Coalition",{"$f":"100/C63*C78","v":41.267532121400571}]
[null,"% Majorité",{"$f":"100/C63*C75","v":0}]
[]
[null,"Coalition",{"$f":"COUNTA(C4:P4)","v":3},{"$f":"IF(C83>0,1,0)","v":1}]
[]
[]
[]
[]
[]
[]
[]
[]
[]
[]
[]
[]
[null,null,null,null,null,null,null,null,null,null,null,null,null,null,null,"BRUXELLES"]
[]
[null,null,null,null,null,null,null,null,null,null,null,null,null,null,null,null,null,{"$f":"R5","v":"Blancs & Nuls"},{"$f":"S5","v":"Non-déposés"},{"$f":"T5","v":"CDH-CD&V+"},{"$f":"U5","v":"ECOLO-GROEN"},{"$f":"V5","v":"VLAAMS BELANG"},{"$f":"W5","v":"DéFI"},{"$f":"X5","v":"PS"},{"$f":"Y5","v":0},{"$f":"Z5","v":0},{"$f":"AA5","v":0},{"$f":"AB5","v":0},{"$f":"AC5","v":0},{"$f":"AD5","v":0},{"$f":"AE5","v":0},{"$f":"AF5","v":0},{"$f":"AG5","v":0}]
[null,null,null,null,null,null,null,null,null,null,null,null,null,null,null,"Chiffres\nélectoraux",null,{"$f":"R6","v":4139},{"$f":"S6","v":15443},{"$f":"T6","v":6543},{"$f":"U6","v":11847},{"$f":"V6","v":1138},{"$f":"W6","v":5317},{"$f":"X6","v":19997},{"$f":"Y6","v":0},{"$f":"Z6","v":0},{"$f":"AA6","v":0},{"$f":"AB6","v":0},{"$f":"AC6","v":0},{"$f":"AD6","v":0},{"$f":"AE6","v":0},{"$f":"AF6","v":0},{"$f":"AG6","v":0}]
[null,null,null,null,null,null,null,null,null,null,null,null,null,null,null,"Impériali",null,0,0,{"$f":"C7","v":5},{"$f":"D7","v":9},{"$f":"E7","v":0},{"$f":"F7","v":3},{"$f":"G7","v":17},{"$f":"H7","v":7},{"$f":"I7","v":1},{"$f":"J7","v":6},{"$f":"K7","v":1},{"$f":"L7","v":0},{"$f":"M7","v":0},{"$f":"N7","v":0},{"$f":"O7","v":0},{"$f":"P7","v":0}]
[null,null,null,null,null,null,null,null,null,null,null,null,null,null,null,"Impériali\n+ proportionnelle",null,{"$f":"R7","v":2},{"$f":"S7","v":10},{"$f":"T7","v":3},{"$f":"U7","v":7},{"$f":"V7","v":0},{"$f":"W7","v":2},{"$f":"X7","v":14},{"$f":"Y7","v":6},{"$f":"Z7","v":0},{"$f":"AA7","v":5},{"$f":"AB7","v":0},{"$f":"AC7","v":0},{"$f":"AD7","v":0},{"$f":"AE7","v":0},{"$f":"AF7","v":0},{"$f":"AG7","v":0}]
[null,null,null,null,null,null,null,null,null,null,null,null,null,null,null,"D'Hondt",null,0,0,{"$f":"BR7","v":5},{"$f":"BS7","v":9},{"$f":"BT7","v":0},{"$f":"BU7","v":4},{"$f":"BV7","v":15},{"$f":"BW7","v":7},{"$f":"BX7","v":2},{"$f":"BY7","v":6},{"$f":"BZ7","v":1},{"$f":"CA7","v":0},{"$f":"CB7","v":0},{"$f":"CC7","v":0},{"$f":"CD7","v":0},{"$f":"CE7","v":0}]
[null,null,null,null,null,null,null,null,null,null,null,null,null,null,null,"D'Hondt\n+ proportionnelle",null,{"$f":"CG7","v":2},{"$f":"CH7","v":9},{"$f":"CI7","v":4},{"$f":"CJ7","v":7},{"$f":"CK7","v":0},{"$f":"CL7","v":3},{"$f":"CM7","v":12},{"$f":"CN7","v":5},{"$f":"CO7","v":1},{"$f":"CP7","v":5},{"$f":"CQ7","v":1},{"$f":"CR7","v":0},{"$f":"CS7","v":0},{"$f":"CT7","v":0},{"$f":"CU7","v":0},{"$f":"CV7","v":0}]
[null,null,null,null,null,null,null,null,null,null,null,null,null,null,null,"Proportionnelle\npure",null,{"$f":"AZ7","v":2.2522293418027961},{"$f":"BA7","v":8.4032804362069538},{"$f":"BB7","v":3.5603615809170561},{"$f":"BC7","v":6.4465235593954402},{"$f":"BD7","v":0.61924063565392173},{"$f":"BE7","v":2.8932359048962231},{"$f":"BF7","v":10.881331275194617},{"$f":"BG7","v":5.3174160734711098},{"$f":"BH7","v":1.4180501726837611},{"$f":"BI7","v":4.4397050494730648},{"$f":"BJ7","v":1.23467223400593},{"$f":"BK7","v":0.33301868982442889},{"$f":"BL7","v":0.1110062299414763},{"$f":"BM7","v":0.61216670923608252},{"$f":"BN7","v":0.2650001665759753},{"$f":"BO7","v":0.21276194072116292}]
[]
[null,null,null,null,null,null,null,null,null,null,null,null,null,null,null,null,"Nombre de sièges à distribuer :",null,null,null,{"$f":"C67","v":49},null,"Est-ce une liste unique en majorité absolue en termes de sièges ?",null,null,null,null,null,null,{"$f":"IF(C72>0,\"Oui\",\"Non\")","v":"Non"}]
[]
[null,null,null,null,null,null,null,null,null,null,null,null,null,null,null,null,"Nombre d'inscrits :",null,null,null,{"$f":"C63","v":90049},null,"Est-ce une liste unique en majorité absolue en termes de voix ?",null,null,null,null,null,null,{"$f":"IF(C75>0,\"Oui\",\"Non\")","v":"Non"}]
[]
[null,null,null,null,null,null,null,null,null,null,null,null,null,null,null,null,"Nombre de bulletins déposés :",null,null,null,{"$f":"C64","v":74606},null,"La majorité est-elle formée par une coalition ?",null,null,null,null,null,null,{"$f":"IF(B4>0,\"Oui\",\"Non\")","v":"Oui"}]
[]
[null,null,null,null,null,null,null,null,null,null,null,null,null,null,null,null,"Nombre de votes valables :",null,null,null,{"$f":"C66","v":70467},null,"Quelle est la proportion de l'électorat représentée par la majorité ?",null,null,null,null,null,null,{"$f":"IF(D83>0,C80,C81)","v":41.267532121400571}]
[]
[null,null,null,null,null,null,null,null,null,null,null,null,null,null,null,"Comparaison\nClef Impériali\n-\nClef D'Hondt",null,{"$f":"R100-R102","v":0},{"$f":"S100-S102","v":0},0,0,0,-1,2,0,-1,0,0,0,0,0,0,0]

{"sheet":"ETTERBEEK","index":8,"n_rows":114,"n_cols":100,"rows_kept":114,"cut":false,"hidden":false,"merged":[[1,1,1,48],[1,68,1,99],[1,50,1,66],[71,1,72,1],[113,15,113,16],[107,16,107,19],[109,16,109,19],[111,16,111,19],[74,1,75,1],[95,15,95,32],[105,22,105,27],[107,22,107,27],[109,22,109,27],[111,22,111,27],[105,16,105,19]]}
[]
[null,"IMPÉRIALI",null,null,null,null,null,null,null,null,null,null,null,null,null,null,null,null,null,null,null,null,null,null,null,null,null,null,null,null,null,null,null,null,null,null,null,null,null,null,null,null,null,null,null,null,null,null,null,null,"PROPORTIONNELLE PURE",null,null,null,null,null,null,null,null,null,null,null,null,null,null,null,null,null,"D'HONDT"]
[]
[null,"Coalition",null,"x",null,"x","x"]
[null,{"$f":"COUNTA(C5:P5)","v":6},"Alternative CDH","Ecolo-Groen","DéFI","PS-sp.a+","LB-LISTE BOURGMESTRE","VOLT BELGIË-BELGIQUE",null,null,null,null,null,null,null,null,null,"Blancs & Nuls","Non-déposés",{"$f":"C5","v":"Alternative CDH"},{"$f":"D5","v":"Ecolo-Groen"},{"$f":"E5","v":"DéFI"},{"$f":"F5","v":"PS-sp.a+"},{"$f":"G5","v":"LB-LISTE BOURGMESTRE"},{"$f":"H5","v":"VOLT BELGIË-BELGIQUE"},{"$f":"I5","v":0},{"$f":"J5","v":0},{"$f":"K5","v":0},{"$f":"L5","v":0},{"$f":"M5","v":0},{"$f":"N5","v":0},{"$f":"O5","v":0},{"$f":"P5","v":0},null,"Non-valables",{"$f":"C5","v":"Alternative CDH"},{"$f":"D5","v":"Ecolo-Groen"},{"$f":"E5","v":"DéFI"},{"$f":"F5","v":"PS-sp.a+"},{"$f":"G5","v":"LB-LISTE BOURGMESTRE"},{"$f":"H5","v":"VOLT BELGIË-BELGIQUE"},{"$f":"I5","v":0},{"$f":"J5","v":0},{"$f":"K5","v":0},{"$f":"L5","v":0},{"$f":"M5","v":0},{"$f":"N5","v":0},{"$f":"O5","v":0},{"$f":"P5","v":0},null,"New Key","Blancs & Nuls","Non-déposés",{"$f":"C5","v":"Alternative CDH"},{"$f":"D5","v":"Ecolo-Groen"},"DéFI","PS-sp.a+","LB-LISTE BOURGMESTRE","VOLT BELGIË-BELGIQUE",0,0,0,0,0,0,0,0,null,null,{"$f":"C5","v":"Alternative CDH"},{"$f":"D5","v":"Ecolo-Groen"},"DéFI","PS-sp.a+","LB-LISTE BOURGMESTRE","VOLT BELGIË-BELGIQUE",0,0,0,0,0,0,0,0,null,"Blancs & Nuls","Non-déposés",{"$f":"C5","v":"Alternative CDH"},{"$f":"D5","v":"Ecolo-Groen"},"DéFI","PS-sp.a+","LB-LISTE BOURGMESTRE","VOLT BELGIË-BELGIQUE",0,0,0,0,0,0,0,0]
[null,"Chiffres\nélectoraux",1446,5221,1700,2323,7775,287,0,0,0,0,0,0,0,0,null,{"$f":"C65","v":1134},{"$f":"C63-C64","v":3076},1446,5221,1700,2323,7775,287,0,0,0,0,0,0,0,0,null,{"$f":"R6+S6","v":4210},1446,5221,1700,2323,7775,287,0,0,0,0,0,0,0,0,null,null,{"$f":"C65","v":1134},{"$f":"C63-C64","v":3076},{"$f":"C6","v":1446},5221,1700,2323,7775,287,0,0,0,0,0,0,0,0,null,"Chiffres\nélectoraux",{"$f":"C6","v":1446},5221,1700,2323,7775,287,0,0,0,0,0,0,0,0,null,{"$f":"C65","v":1134},{"$f":"C63-C64","v":3076},{"$f":"C6","v":1446},5221,1700,2323,7775,287,0,0,0,0,0,0,0,0]
[null,"Sièges",2,11,2,4,16,0,0,0,0,0,0,0,0,0,null,1,5,1,9,2,3,14,0,0,0,0,0,0,0,0,0,null,7,1,9,2,3,13,0,0,0,0,0,0,0,0,0,null,656.05714285714282,1.7285079696890515,4.6886159742182736,2.2040762999738699,7.9581482449264005,2.5912376970647157,3.5408501001654908,11.85110182039892,0.43746189356327847,0,0,0,0,0,0,0,0,null,"Sièges",2,10,3,4,16,0,0,0,0,0,0,0,0,0,null,1,5,2,8,2,4,13,0,0,0,0,0,0,0,0,0]
[null,2,{"$f":"$C$6/B8","v":723},{"$f":"$D$6/B8","v":2610.5},{"$f":"$E$6/B8","v":850},{"$f":"$F$6/B8","v":1161.5},{"$f":"$G$6/B8","v":3887.5},{"$f":"$H$6/B8","v":143.5},{"$f":"$I$6/B8","v":0},{"$f":"$J$6/B8","v":0},{"$f":"$K$6/B8","v":0},{"$f":"$L$6/B8","v":0},{"$f":"$M$6/B8","v":0},{"$f":"$N$6/B8","v":0},{"$f":"$O$6/B8","v":0},{"$f":"$P$6/B8","v":0},null,{"$f":"$R$6/B8","v":567},{"$f":"$S$6/B8","v":1538},{"$f":"C8","v":723},{"$f":"D8","v":2610.5},{"$f":"E8","v":850},{"$f":"F8","v":1161.5},{"$f":"G8","v":3887.5},{"$f":"H8","v":143.5},{"$f":"I8","v":0},{"$f":"J8","v":0},{"$f":"K8","v":0},{"$f":"L8","v":0},{"$f":"M8","v":0},{"$f":"N8","v":0},0,{"$f":"P8","v":0},null,{"$f":"$AI$6/B8","v":2105},{"$f":"C8","v":723},{"$f":"D8","v":2610.5},{"$f":"E8","v":850},{"$f":"F8","v":1161.5},{"$f":"G8","v":3887.5},{"$f":"H8","v":143.5},{"$f":"I8","v":0},{"$f":"J8","v":0},{"$f":"K8","v":0},{"$f":"L8","v":0},{"$f":"M8","v":0},{"$f":"N8","v":0},0,{"$f":"P8","v":0},null,null,null,null,null,null,null,null,null,null,null,null,null,null,null,null,null,null,null,1,{"$f":"$C$6/BQ8","v":1446},{"$f":"$D$6/BQ8","v":5221},{"$f":"$E$6/BQ8","v":1700},{"$f":"$F$6/BQ8","v":2323},{"$f":"$G$6/BQ8","v":7775},{"$f":"$H$6/BQ8","v":287},{"$f":"$I$6/BQ8","v":0},{"$f":"$J$6/BQ8","v":0},{"$f":"$K$6/BQ8","v":0},{"$f":"$L$6/BQ8","v":0},{"$f":"$M$6/BQ8","v":0},{"$f":"$N$6/BQ8","v":0},{"$f":"$O$6/BQ8","v":0},{"$f":"$P$6/BQ8","v":0},null,{"$f":"$R$6/BQ8","v":1134},{"$f":"$S$6/BQ8","v":3076},{"$f":"BR8","v":1446},{"$f":"BS8","v":5221},{"$f":"BT8","v":1700},{"$f":"BU8","v":2323},{"$f":"BV8","v":7775},{"$f":"BW8","v":287},{"$f":"BX8","v":0},{"$f":"BY8","v":0},{"$f":"BZ8","v":0},{"$f":"CA8","v":0},{"$f":"CB8","v":0},{"$f":"CC8","v":0},{"$f":"CD8","v":0},{"$f":"CE8","v":0}]
[null,3,{"$f":"$C$6/B9","v":482},1740.3333333333333,{"$f":"$E$6/B9","v":566.66666666666663},774.33333333333337,2591.6666666666665,{"$f":"$H$6/B9","v":95.666666666666671},{"$f":"$I$6/B9","v":0},{"$f":"$J$6/B9","v":0},{"$f":"$K$6/B9","v":0},{"$f":"$L$6/B9","v":0},{"$f":"$M$6/B9","v":0},{"$f":"$N$6/B9","v":0},{"$f":"$O$6/B9","v":0},{"$f":"$P$6/B9","v":0},null,{"$f":"$R$6/B9","v":378},{"$f":"$S$6/B9","v":1025.3333333333333},482,1740.3333333333333,566.66666666666663,774.33333333333337,2591.6666666666665,95.666666666666671,0,0,0,0,0,0,0,0,null,{"$f":"$AI$6/B9","v":1403.3333333333333},482,1740.3333333333333,566.66666666666663,774.33333333333337,2591.6666666666665,95.666666666666671,0,0,0,0,0,0,0,0,null,null,null,null,null,null,null,null,null,null,null,null,null,null,null,null,null,null,null,2,{"$f":"$C$6/BQ9","v":723},2610.5,{"$f":"$E$6/BQ9","v":850},1161.5,3887.5,{"$f":"$H$6/BQ9","v":143.5},{"$f":"$I$6/BQ9","v":0},{"$f":"$J$6/BQ9","v":0},{"$f":"$K$6/BQ9","v":0},{"$f":"$L$6/BQ9","v":0},{"$f":"$M$6/BQ9","v":0},{"$f":"$N$6/BQ9","v":0},{"$f":"$O$6/BQ9","v":0},{"$f":"$P$6/BQ9","v":0},null,{"$f":"$R$6/BQ9","v":567},{"$f":"$S$6/BQ9","v":1538},723,2610.5,850,1161.5,3887.5,143.5,0,0,0,0,0,0,0,0]
[null,4,361.5,1305.25,425,580.75,1943.75,71.75,0,0,0,0,0,0,0,0,null,283.5,769,361.5,1305.25,425,580.75,1943.75,71.75,0,0,0,0,0,0,0,0,null,1052.5,361.5,1305.25,425,580.75,1943.75,71.75,0,0,0,0,0,0,0,0,null,null,null,null,null,null,null,null,null,null,null,null,null,null,null,null,null,null,null,3,482,1740.3333333333333,566.66666666666663,774.33333333333337,2591.6666666666665,95.666666666666671,0,0,0,0,0,0,0,0,null,378,1025.3333333333333,482,1740.3333333333333,566.66666666666663,774.33333333333337,2591.6666666666665,95.666666666666671,0,0,0,0,0,0,0,0]
[null,5,289.2,1044.2,340,464.6,1555,57.4,0,0,0,0,0,0,0,0,null,226.8,615.20000000000005,289.2,1044.2,340,464.6,1555,57.4,0,0,0,0,0,0,0,0,null,842,289.2,1044.2,340,464.6,1555,57.4,0,0,0,0,0,0,0,0,null,null,null,null,null,null,null,null,null,null,null,null,null,null,null,null,null,null,null,4,361.5,1305.25,425,580.75,1943.75,71.75,0,0,0,0,0,0,0,0,null,283.5,769,361.5,1305.25,425,580.75,1943.75,71.75,0,0,0,0,0,0,0,0]
[null,6,241,870.16666666666663,283.33333333333331,387.16666666666669,1295.8333333333333,47.833333333333336,0,0,0,0,0,0,0,0,null,189,512.66666666666663,241,870.16666666666663,283.33333333333331,387.16666666666669,1295.8333333333333,47.833333333333336,0,0,0,0,0,0,0,0,null,701.66666666666663,241,870.16666666666663,283.33333333333331,387.16666666666669,1295.8333333333333,47.833333333333336,0,0,0,0,0,0,0,0,null,null,null,null,null,null,null,null,null,null,null,null,null,null,null,null,null,null,null,5,289.2,1044.2,340,464.6,1555,57.4,0,0,0,0,0,0,0,0,null,226.8,615.20000000000005,289.2,1044.2,340,464.6,1555,57.4,0,0,0,0,0,0,0,0]
[null,7,206.57142857142858,745.85714285714289,242.85714285714286,331.85714285714283,1110.7142857142858,41,0,0,0,0,0,0,0,0,null,162,439.42857142857144,206.57142857142858,745.85714285714289,242.85714285714286,331.85714285714283,1110.7142857142858,41,0,0,0,0,0,0,0,0,null,601.42857142857144,206.57142857142858,745.85714285714289,242.85714285714286,331.85714285714283,1110.7142857142858,41,0,0,0,0,0,0,0,0,null,null,null,null,null,null,null,null,null,null,null,null,null,null,null,null,null,null,null,6,241,870.16666666666663,283.33333333333331,387.16666666666669,1295.8333333333333,47.833333333333336,0,0,0,0,0,0,0,0,null,189,512.66666666666663,241,870.16666666666663,283.33333333333331,387.16666666666669,1295.8333333333333,47.833333333333336,0,0,0,0,0,0,0,0]
[null,8,180.75,652.625,212.5,290.375,971.875,35.875,0,0,0,0,0,0,0,0,null,141.75,384.5,180.75,652.625,212.5,290.375,971.875,35.875,0,0,0,0,0,0,0,0,null,526.25,180.75,652.625,212.5,290.375,971.875,35.875,0,0,0,0,0,0,0,0,null,null,null,null,null,null,null,null,null,null,null,null,null,null,null,null,null,null,null,7,206.57142857142858,745.85714285714289,242.85714285714286,331.85714285714283,1110.7142857142858,41,0,0,0,0,0,0,0,0,null,162,439.42857142857144,206.57142857142858,745.85714285714289,242.85714285714286,331.85714285714283,1110.7142857142858,41,0,0,0,0,0,0,0,0]
[null,9,160.66666666666666,580.11111111111109,188.88888888888889,258.11111111111109,863.88888888888891,31.888888888888889,0,0,0,0,0,0,0,0,null,126,341.77777777777777,160.66666666666666,580.11111111111109,188.88888888888889,258.11111111111109,863.88888888888891,31.888888888888889,0,0,0,0,0,0,0,0,null,467.77777777777777,160.66666666666666,580.11111111111109,188.88888888888889,258.11111111111109,863.88888888888891,31.888888888888889,0,0,0,0,0,0,0,0,null,null,null,null,null,null,null,null,null,null,null,null,null,null,null,null,null,null,null,8,180.75,652.625,212.5,290.375,971.875,35.875,0,0,0,0,0,0,0,0,null,141.75,384.5,180.75,652.625,212.5,290.375,971.875,35.875,0,0,0,0,0,0,0,0]
[null,10,144.6,522.1,170,232.3,777.5,28.7,0,0,0,0,0,0,0,0,null,113.4,307.60000000000002,144.6,522.1,170,232.3,777.5,28.7,0,0,0,0,0,0,0,0,null,421,144.6,522.1,170,232.3,777.5,28.7,0,0,0,0,0,0,0,0,null,null,null,null,null,null,null,null,null,null,null,null,null,null,null,null,null,null,null,9,160.66666666666666,580.11111111111109,188.88888888888889,258.11111111111109,863.88888888888891,31.888888888888889,0,0,0,0,0,0,0,0,null,126,341.77777777777777,160.66666666666666,580.11111111111109,188.88888888888889,258.11111111111109,863.88888888888891,31.888888888888889,0,0,0,0,0,0,0,0]
[null,11,131.45454545454547,474.63636363636363,154.54545454545453,211.18181818181819,706.81818181818187,26.09090909090909,0,0,0,0,0,0,0,0,null,103.09090909090909,279.63636363636363,131.45454545454547,474.63636363636363,154.54545454545453,211.18181818181819,706.81818181818187,26.09090909090909,0,0,0,0,0,0,0,0,null,382.72727272727275,131.45454545454547,474.63636363636363,154.54545454545453,211.18181818181819,706.81818181818187,26.09090909090909,0,0,0,0,0,0,0,0,null,null,null,null,null,null,null,null,null,null,null,null,null,null,null,null,null,null,null,10,144.6,522.1,170,232.3,777.5,28.7,0,0,0,0,0,0,0,0,null,113.4,307.60000000000002,144.6,522.1,170,232.3,777.5,28.7,0,0,0,0,0,0,0,0]
[null,12,120.5,435.08333333333331,141.66666666666666,193.58333333333334,647.91666666666663,23.916666666666668,0,0,0,0,0,0,0,0,null,94.5,256.33333333333331,120.5,435.08333333333331,141.66666666666666,193.58333333333334,647.91666666666663,23.916666666666668,0,0,0,0,0,0,0,0,null,350.83333333333331,120.5,435.08333333333331,141.66666666666666,193.58333333333334,647.91666666666663,23.916666666666668,0,0,0,0,0,0,0,0,null,null,null,null,null,null,null,null,null,null,null,null,null,null,null,null,null,null,null,11,131.45454545454547,474.63636363636363,154.54545454545453,211.18181818181819,706.81818181818187,26.09090909090909,0,0,0,0,0,0,0,0,null,103.09090909090909,279.63636363636363,131.45454545454547,474.63636363636363,154.54545454545453,211.18181818181819,706.81818181818187,26.09090909090909,0,0,0,0,0,0,0,0]
[null,13,111.23076923076923,401.61538461538464,130.76923076923077,178.69230769230768,598.07692307692309,22.076923076923077,0,0,0,0,0,0,0,0,null,87.230769230769226,236.61538461538461,111.23076923076923,401.61538461538464,130.76923076923077,178.69230769230768,598.07692307692309,22.076923076923077,0,0,0,0,0,0,0,0,null,323.84615384615387,111.23076923076923,401.61538461538464,130.76923076923077,178.69230769230768,598.07692307692309,22.076923076923077,0,0,0,0,0,0,0,0,null,null,null,null,null,null,null,null,null,null,null,null,null,null,null,null,null,null,null,12,120.5,435.08333333333331,141.66666666666666,193.58333333333334,647.91666666666663,23.916666666666668,0,0,0,0,0,0,0,0,null,94.5,256.33333333333331,120.5,435.08333333333331,141.66666666666666,193.58333333333334,647.91666666666663,23.916666666666668,0,0,0,0,0,0,0,0]
[null,14,103.28571428571429,372.92857142857144,121.42857142857143,165.92857142857142,555.35714285714289,20.5,0,0,0,0,0,0,0,0,null,81,219.71428571428572,103.28571428571429,372.92857142857144,121.42857142857143,165.92857142857142,555.35714285714289,20.5,0,0,0,0,0,0,0,0,null,300.71428571428572,103.28571428571429,372.92857142857144,121.42857142857143,165.92857142857142,555.35714285714289,20.5,0,0,0,0,0,0,0,0,null,null,null,null,null,null,null,null,null,null,null,null,null,null,null,null,null,null,null,13,111.23076923076923,401.61538461538464,130.76923076923077,178.69230769230768,598.07692307692309,22.076923076923077,0,0,0,0,0,0,0,0,null,87.230769230769226,236.61538461538461,111.23076923076923,401.61538461538464,130.76923076923077,178.69230769230768,598.07692307692309,22.076923076923077,0,0,0,0,0,0,0,0]
[null,15,96.4,348.06666666666666,113.33333333333333,154.86666666666667,518.33333333333337,19.133333333333333,0,0,0,0,0,0,0,0,null,75.599999999999994,205.06666666666666,96.4,348.06666666666666,113.33333333333333,154.86666666666667,518.33333333333337,19.133333333333333,0,0,0,0,0,0,0,0,null,280.66666666666669,96.4,348.06666666666666,113.33333333333333,154.86666666666667,518.33333333333337,19.133333333333333,0,0,0,0,0,0,0,0,null,null,null,null,null,null,null,null,null,null,null,null,null,null,null,null,null,null,null,14,103.28571428571429,372.92857142857144,121.42857142857143,165.92857142857142,555.35714285714289,20.5,0,0,0,0,0,0,0,0,null,81,219.71428571428572,103.28571428571429,372.92857142857144,121.42857142857143,165.92857142857142,555.35714285714289,20.5,0,0,0,0,0,0,0,0]
[null,16,90.375,326.3125,106.25,145.1875,485.9375,17.9375,0,0,0,0,0,0,0,0,null,70.875,192.25,90.375,326.3125,106.25,145.1875,485.9375,17.9375,0,0,0,0,0,0,0,0,null,263.125,90.375,326.3125,106.25,145.1875,485.9375,17.9375,0,0,0,0,0,0,0,0,null,null,null,null,null,null,null,null,null,null,null,null,null,null,null,null,null,null,null,15,96.4,348.06666666666666,113.33333333333333,154.86666666666667,518.33333333333337,19.133333333333333,0,0,0,0,0,0,0,0,null,75.599999999999994,205.06666666666666,96.4,348.06666666666666,113.33333333333333,154.86666666666667,518.33333333333337,19.133333333333333,0,0,0,0,0,0,0,0]
[null,17,85.058823529411768,307.11764705882354,100,136.64705882352942,457.35294117647061,16.882352941176471,0,0,0,0,0,0,0,0,null,66.705882352941174,180.94117647058823,85.058823529411768,307.11764705882354,100,136.64705882352942,457.35294117647061,16.882352941176471,0,0,0,0,0,0,0,0,null,247.64705882352942,85.058823529411768,307.11764705882354,100,136.64705882352942,457.35294117647061,16.882352941176471,0,0,0,0,0,0,0,0,null,null,null,null,null,null,null,null,null,null,null,null,null,null,null,null,null,null,null,16,90.375,326.3125,106.25,145.1875,485.9375,17.9375,0,0,0,0,0,0,0,0,null,70.875,192.25,90.375,326.3125,106.25,145.1875,485.9375,17.9375,0,0,0,0,0,0,0,0]
[null,18,80.333333333333329,290.05555555555554,94.444444444444443,129.05555555555554,431.94444444444446,15.944444444444445,0,0,0,0,0,0,0,0,null,63,170.88888888888889,80.333333333333329,290.05555555555554,94.444444444444443,129.05555555555554,431.94444444444446,15.944444444444445,0,0,0,0,0,{"$f":"N24","v":0},0,0,null,233.88888888888889,80.333333333333329,290.05555555555554,94.444444444444443,129.05555555555554,431.94444444444446,15.944444444444445,0,0,0,0,0,{"$f":"N24","v":0},0,0,null,null,null,null,null,null,null,null,null,null,null,null,null,null,null,null,null,null,null,17,85.058823529411768,307.11764705882354,100,136.64705882352942,457.35294117647061,16.882352941176471,0,0,0,0,0,0,0,0,null,66.705882352941174,180.94117647058823,85.058823529411768,307.11764705882354,100,136.64705882352942,457.35294117647061,16.882352941176471,0,0,0,0,0,0,0,0]
[null,19,76.10526315789474,274.78947368421052,89.473684210526315,122.26315789473684,409.21052631578948,15.105263157894736,0,0,0,0,0,0,0,0,null,59.684210526315788,161.89473684210526,76.10526315789474,274.78947368421052,89.473684210526315,122.26315789473684,409.21052631578948,15.105263157894736,0,0,0,0,0,0,0,0,null,221.57894736842104,76.10526315789474,274.78947368421052,89.473684210526315,122.26315789473684,409.21052631578948,15.105263157894736,0,0,0,0,0,0,0,0,null,null,null,null,null,null,null,null,null,null,null,null,null,null,null,null,null,null,null,18,80.333333333333329,290.05555555555554,94.444444444444443,129.05555555555554,431.94444444444446,15.944444444444445,0,0,0,0,0,0,0,0,null,63,170.88888888888889,80.333333333333329,290.05555555555554,94.444444444444443,129.05555555555554,431.94444444444446,15.944444444444445,0,0,0,0,0,0,0,0]
[null,20,72.3,261.05,85,116.15,388.75,14.35,0,0,0,0,0,0,0,0,null,56.7,153.80000000000001,72.3,261.05,85,116.15,388.75,14.35,0,0,0,0,0,0,0,0,null,210.5,72.3,261.05,85,116.15,388.75,14.35,0,0,0,0,0,0,0,0,null,null,null,null,null,null,null,null,null,null,null,null,null,null,null,null,null,null,null,19,76.10526315789474,274.78947368421052,89.473684210526315,122.26315789473684,409.21052631578948,15.105263157894736,0,0,0,0,0,0,0,0,null,59.684210526315788,161.89473684210526,76.10526315789474,274.78947368421052,89.473684210526315,122.26315789473684,409.21052631578948,15.105263157894736,0,0,0,0,0,0,0,0]
[null,21,68.857142857142861,248.61904761904762,80.952380952380949,110.61904761904762,370.23809523809524,13.666666666666666,0,0,0,0,0,0,0,0,null,54,146.47619047619048,68.857142857142861,248.61904761904762,80.952380952380949,110.61904761904762,370.23809523809524,13.666666666666666,0,0,0,0,0,0,0,{"$f":"P27","v":0},null,200.47619047619048,68.857142857142861,248.61904761904762,80.952380952380949,110.61904761904762,370.23809523809524,13.666666666666666,0,0,0,0,0,0,0,{"$f":"P27","v":0},null,null,null,null,null,null,null,null,null,null,null,null,null,null,null,null,null,null,null,20,72.3,261.05,85,116.15,388.75,14.35,0,0,0,0,0,0,0,0,null,56.7,153.80000000000001,72.3,261.05,85,116.15,388.75,14.35,0,0,0,0,0,0,0,0]
[null,22,65.727272727272734,237.31818181818181,77.272727272727266,105.59090909090909,353.40909090909093,13.045454545454545,0,0,0,0,0,0,0,0,null,51.545454545454547,139.81818181818181,65.727272727272734,237.31818181818181,77.272727272727266,105.59090909090909,353.40909090909093,13.045454545454545,0,0,0,0,0,0,0,0,null,191.36363636363637,65.727272727272734,237.31818181818181,77.272727272727266,105.59090909090909,353.40909090909093,13.045454545454545,0,0,0,0,0,0,0,0,null,null,null,null,null,null,null,null,null,null,null,null,null,null,null,null,null,null,null,21,68.857142857142861,248.61904761904762,80.952380952380949,110.61904761904762,370.23809523809524,13.666666666666666,0,0,0,0,0,0,0,0,null,54,146.47619047619048,68.857142857142861,248.61904761904762,80.952380952380949,110.61904761904762,370.23809523809524,13.666666666666666,0,0,0,0,0,0,0,0]
[null,23,62.869565217391305,227,73.913043478260875,101,338.04347826086956,12.478260869565217,0,0,0,0,0,0,0,0,null,49.304347826086953,133.7391304347826,62.869565217391305,227,73.913043478260875,101,338.04347826086956,12.478260869565217,0,0,0,0,0,0,0,0,null,183.04347826086956,62.869565217391305,227,73.913043478260875,101,338.04347826086956,12.478260869565217,0,0,0,0,0,0,0,0,null,null,null,null,null,null,null,null,null,null,null,null,null,null,null,null,null,null,null,22,65.727272727272734,237.31818181818181,77.272727272727266,105.59090909090909,353.40909090909093,13.045454545454545,0,0,0,0,0,0,0,0,null,51.545454545454547,139.81818181818181,65.727272727272734,237.31818181818181,77.272727272727266,105.59090909090909,353.40909090909093,13.045454545454545,0,0,0,0,0,0,0,0]
[null,24,60.25,217.54166666666666,70.833333333333329,96.791666666666671,323.95833333333331,11.958333333333334,0,0,0,0,0,0,0,0,null,47.25,128.16666666666666,60.25,217.54166666666666,70.833333333333329,96.791666666666671,323.95833333333331,11.958333333333334,0,0,0,0,0,0,0,0,null,175.41666666666666,60.25,217.54166666666666,70.833333333333329,96.791666666666671,323.95833333333331,11.958333333333334,0,0,0,0,0,0,0,0,null,null,null,null,null,null,null,null,null,null,null,null,null,null,null,null,null,null,null,23,62.869565217391305,227,73.913043478260875,101,338.04347826086956,12.478260869565217,0,0,0,0,0,0,0,0,null,49.304347826086953,133.7391304347826,62.869565217391305,227,73.913043478260875,101,338.04347826086956,12.478260869565217,0,0,0,0,0,0,0,0]
[null,25,57.84,208.84,68,92.92,311,11.48,0,0,0,0,0,0,0,0,null,45.36,123.04,57.84,208.84,68,92.92,311,11.48,0,0,0,0,0,0,0,0,null,168.4,57.84,208.84,68,92.92,311,11.48,0,0,0,0,0,0,0,0,null,null,null,null,null,null,null,null,null,null,null,null,null,null,null,null,null,null,null,24,60.25,217.54166666666666,70.833333333333329,96.791666666666671,323.95833333333331,11.958333333333334,0,0,0,0,0,0,0,0,null,47.25,128.16666666666666,60.25,217.54166666666666,70.833333333333329,96.791666666666671,323.95833333333331,11.958333333333334,0,0,0,0,0,0,0,0]
[null,26,55.615384615384613,200.80769230769232,65.384615384615387,89.34615384615384,299.03846153846155,11.038461538461538,0,0,0,0,0,0,0,0,null,43.615384615384613,118.30769230769231,55.615384615384613,200.80769230769232,65.384615384615387,89.34615384615384,299.03846153846155,11.038461538461538,0,0,0,0,0,0,0,0,null,161.92307692307693,55.615384615384613,200.80769230769232,65.384615384615387,89.34615384615384,299.03846153846155,11.038461538461538,0,0,0,0,0,0,0,0,null,null,null,null,null,null,null,null,null,null,null,null,null,null,null,null,null,null,null,25,57.84,208.84,68,92.92,311,11.48,0,0,0,0,0,0,0,0,null,45.36,123.04,57.84,208.84,68,92.92,311,11.48,0,0,0,0,0,0,0,0]
[null,27,53.555555555555557,193.37037037037038,62.962962962962962,86.037037037037038,287.96296296296299,10.62962962962963,0,0,0,0,0,0,0,0,null,42,113.92592592592592,53.555555555555557,193.37037037037038,62.962962962962962,86.037037037037038,287.96296296296299,10.62962962962963,0,0,0,0,0,0,0,0,null,155.92592592592592,53.555555555555557,193.37037037037038,62.962962962962962,86.037037037037038,287.96296296296299,10.62962962962963,0,0,0,0,0,0,0,0,null,null,null,null,null,null,null,null,null,null,null,null,null,null,null,null,null,null,null,26,55.615384615384613,200.80769230769232,65.384615384615387,89.34615384615384,299.03846153846155,11.038461538461538,0,0,0,0,0,0,0,0,null,43.615384615384613,118.30769230769231,55.615384615384613,200.80769230769232,65.384615384615387,89.34615384615384,299.03846153846155,11.038461538461538,0,0,0,0,0,0,0,0]
[null,28,51.642857142857146,186.46428571428572,60.714285714285715,82.964285714285708,277.67857142857144,10.25,0,0,0,0,0,0,0,0,null,40.5,109.85714285714286,51.642857142857146,186.46428571428572,60.714285714285715,82.964285714285708,277.67857142857144,10.25,0,0,0,0,0,0,0,0,null,150.35714285714286,51.642857142857146,186.46428571428572,60.714285714285715,82.964285714285708,277.67857142857144,10.25,0,0,0,0,0,0,0,0,null,null,null,null,null,null,null,null,null,null,null,null,null,null,null,null,null,null,null,27,53.555555555555557,193.37037037037038,62.962962962962962,86.037037037037038,287.96296296296299,10.62962962962963,0,0,0,0,0,0,0,0,null,42,113.92592592592592,53.555555555555557,193.37037037037038,62.962962962962962,86.037037037037038,287.96296296296299,10.62962962962963,0,0,0,0,0,0,0,0]
[null,29,49.862068965517238,180.0344827586207,58.620689655172413,80.103448275862064,268.10344827586209,9.8965517241379306,0,0,0,0,0,0,0,0,null,39.103448275862071,106.06896551724138,49.862068965517238,180.0344827586207,58.620689655172413,80.103448275862064,268.10344827586209,9.8965517241379306,0,0,0,0,0,0,0,0,null,145.17241379310346,49.862068965517238,180.0344827586207,58.620689655172413,80.103448275862064,268.10344827586209,9.8965517241379306,0,0,0,0,0,0,0,0,null,null,null,null,null,null,null,null,null,null,null,null,null,null,null,null,null,null,null,28,51.642857142857146,186.46428571428572,60.714285714285715,82.964285714285708,277.67857142857144,10.25,0,0,0,0,0,0,0,0,null,40.5,109.85714285714286,51.642857142857146,186.46428571428572,60.714285714285715,82.964285714285708,277.67857142857144,10.25,0,0,0,0,0,0,0,0]
[null,30,48.2,174.03333333333333,56.666666666666664,77.433333333333337,259.16666666666669,9.5666666666666664,0,0,0,0,0,0,0,0,null,37.799999999999997,102.53333333333333,48.2,174.03333333333333,56.666666666666664,77.433333333333337,259.16666666666669,9.5666666666666664,0,0,0,0,0,0,0,0,null,140.33333333333334,48.2,174.03333333333333,56.666666666666664,77.433333333333337,259.16666666666669,9.5666666666666664,0,0,0,0,0,0,0,0,null,null,null,null,null,null,null,null,null,null,null,null,null,null,null,null,null,null,null,29,49.862068965517238,180.0344827586207,58.620689655172413,80.103448275862064,268.10344827586209,9.8965517241379306,0,0,0,0,0,0,0,0,null,39.103448275862071,106.06896551724138,49.862068965517238,180.0344827586207,58.620689655172413,80.103448275862064,268.10344827586209,9.8965517241379306,0,0,0,0,0,0,0,0]
[null,31,46.645161290322584,168.41935483870967,54.838709677419352,74.935483870967744,250.80645161290323,9.258064516129032,0,0,0,0,0,0,0,0,null,36.58064516129032,99.225806451612897,46.645161290322584,168.41935483870967,54.838709677419352,74.935483870967744,250.80645161290323,9.258064516129032,0,0,0,0,0,0,0,0,null,135.80645161290323,46.645161290322584,168.41935483870967,54.838709677419352,74.935483870967744,250.80645161290323,9.258064516129032,0,0,0,0,0,0,0,0,null,null,null,null,null,null,null,null,null,null,null,null,null,null,null,null,null,null,null,30,48.2,174.03333333333333,56.666666666666664,77.433333333333337,259.16666666666669,9.5666666666666664,0,0,0,0,0,0,0,0,null,37.799999999999997,102.53333333333333,48.2,174.03333333333333,56.666666666666664,77.433333333333337,259.16666666666669,9.5666666666666664,0,0,0,0,0,0,0,0]
[null,32,45.1875,163.15625,53.125,72.59375,242.96875,8.96875,0,0,0,0,0,0,0,0,null,35.4375,96.125,45.1875,163.15625,53.125,72.59375,242.96875,8.96875,0,0,0,0,0,0,0,0,null,131.5625,45.1875,163.15625,53.125,72.59375,242.96875,8.96875,0,0,0,0,0,0,0,0,null,null,null,null,null,null,null,null,null,null,null,null,null,null,null,null,null,null,null,31,46.645161290322584,168.41935483870967,54.838709677419352,74.935483870967744,250.80645161290323,9.258064516129032,0,0,0,0,0,0,0,0,null,36.58064516129032,99.225806451612897,46.645161290322584,168.41935483870967,54.838709677419352,74.935483870967744,250.80645161290323,9.258064516129032,0,0,0,0,0,0,0,0]
[null,33,43.81818181818182,158.21212121212122,51.515151515151516,70.393939393939391,235.60606060606059,8.6969696969696972,0,0,0,0,0,0,0,0,null,34.363636363636367,93.212121212121218,43.81818181818182,158.21212121212122,51.515151515151516,70.393939393939391,235.60606060606059,8.6969696969696972,0,0,0,0,0,0,0,0,null,127.57575757575758,43.81818181818182,158.21212121212122,51.515151515151516,70.393939393939391,235.60606060606059,8.6969696969696972,0,0,0,0,0,0,0,0,null,null,null,null,null,null,null,null,null,null,null,null,null,null,null,null,null,null,null,32,45.1875,163.15625,53.125,72.59375,242.96875,8.96875,0,0,0,0,0,0,0,0,null,35.4375,96.125,45.1875,163.15625,53.125,72.59375,242.96875,8.96875,0,0,0,0,0,0,0,0]
[null,34,42.529411764705884,153.55882352941177,50,68.32352941176471,228.6764705882353,8.4411764705882355,0,0,0,0,0,0,0,0,null,33.352941176470587,90.470588235294116,{"$f":"C40","v":42.529411764705884},{"$f":"D40","v":153.55882352941177},{"$f":"E40","v":50},{"$f":"F40","v":68.32352941176471},{"$f":"G40","v":228.6764705882353},{"$f":"H40","v":8.4411764705882355},{"$f":"I40","v":0},{"$f":"J40","v":0},{"$f":"K40","v":0},{"$f":"L40","v":0},{"$f":"M40","v":0},{"$f":"N40","v":0},0,0,null,123.82352941176471,{"$f":"C40","v":42.529411764705884},{"$f":"D40","v":153.55882352941177},{"$f":"E40","v":50},{"$f":"F40","v":68.32352941176471},{"$f":"G40","v":228.6764705882353},{"$f":"H40","v":8.4411764705882355},{"$f":"I40","v":0},{"$f":"J40","v":0},{"$f":"K40","v":0},{"$f":"L40","v":0},{"$f":"M40","v":0},{"$f":"N40","v":0},0,0,null,null,null,null,null,null,null,null,null,null,null,null,null,null,null,null,null,null,null,33,43.81818181818182,158.21212121212122,51.515151515151516,70.393939393939391,235.60606060606059,8.6969696969696972,0,0,0,0,0,0,0,0,null,34.363636363636367,93.212121212121218,43.81818181818182,158.21212121212122,51.515151515151516,70.393939393939391,235.60606060606059,8.6969696969696972,0,0,0,0,0,0,0,0]
[null,35,41.314285714285717,149.17142857142858,48.571428571428569,66.371428571428567,222.14285714285714,8.1999999999999993,0,0,0,0,0,0,0,0,null,32.4,87.885714285714286,41.314285714285717,149.17142857142858,48.571428571428569,66.371428571428567,222.14285714285714,8.1999999999999993,0,0,0,0,0,0,0,0,null,120.28571428571429,41.314285714285717,149.17142857142858,48.571428571428569,66.371428571428567,222.14285714285714,8.1999999999999993,0,0,0,0,0,0,0,0,null,null,null,null,null,null,null,null,null,null,null,null,null,null,null,null,null,null,null,34,42.529411764705884,153.55882352941177,50,68.32352941176471,228.6764705882353,8.4411764705882355,0,0,0,0,0,0,0,0,null,33.352941176470587,90.470588235294116,42.529411764705884,153.55882352941177,50,68.32352941176471,228.6764705882353,8.4411764705882355,0,0,0,0,0,0,0,0]
[null,36,40.166666666666664,145.02777777777777,47.222222222222221,64.527777777777771,215.97222222222223,7.9722222222222223,0,0,0,0,0,0,0,0,null,31.5,85.444444444444443,40.166666666666664,145.02777777777777,47.222222222222221,64.527777777777771,215.97222222222223,7.9722222222222223,0,0,0,0,0,0,0,0,null,116.94444444444444,40.166666666666664,145.02777777777777,47.222222222222221,64.527777777777771,215.97222222222223,7.9722222222222223,0,0,0,0,0,0,0,0,null,null,null,null,null,null,null,null,null,null,null,null,null,null,null,null,null,null,null,35,41.314285714285717,149.17142857142858,48.571428571428569,66.371428571428567,222.14285714285714,8.1999999999999993,0,0,0,0,0,0,0,0,null,32.4,87.885714285714286,41.314285714285717,149.17142857142858,48.571428571428569,66.371428571428567,222.14285714285714,8.1999999999999993,0,0,0,0,0,0,0,0]
[null,37,39.081081081081081,141.1081081081081,45.945945945945944,62.783783783783782,210.13513513513513,7.756756756756757,0,0,0,0,0,0,0,0,null,30.648648648648649,83.13513513513513,39.081081081081081,141.1081081081081,45.945945945945944,62.783783783783782,210.13513513513513,7.756756756756757,0,0,0,0,0,0,0,0,null,113.78378378378379,39.081081081081081,141.1081081081081,45.945945945945944,62.783783783783782,210.13513513513513,7.756756756756757,0,0,0,0,0,0,0,0,null,null,null,null,null,null,null,null,null,null,null,null,null,null,null,null,null,null,null,36,40.166666666666664,145.02777777777777,47.222222222222221,64.527777777777771,215.97222222222223,7.9722222222222223,0,0,0,0,0,0,0,0,null,31.5,85.444444444444443,40.166666666666664,145.02777777777777,47.222222222222221,64.527777777777771,215.97222222222223,7.9722222222222223,0,0,0,0,0,0,0,0]
[null,38,38.05263157894737,137.39473684210526,44.736842105263158,61.131578947368418,204.60526315789474,7.5526315789473681,0,0,0,0,0,0,0,0,null,29.842105263157894,80.94736842105263,38.05263157894737,137.39473684210526,44.736842105263158,61.131578947368418,204.60526315789474,7.5526315789473681,0,0,0,0,0,0,0,0,null,110.78947368421052,38.05263157894737,137.39473684210526,44.736842105263158,61.131578947368418,204.60526315789474,7.5526315789473681,0,0,0,0,0,0,0,0,null,null,null,null,null,null,null,null,null,null,null,null,null,null,null,null,null,null,null,37,39.081081081081081,141.1081081081081,45.945945945945944,62.783783783783782,210.13513513513513,7.756756756756757,0,0,0,0,0,0,0,0,null,30.648648648648649,83.13513513513513,39.081081081081081,141.1081081081081,45.945945945945944,62.783783783783782,210.13513513513513,7.756756756756757,0,0,0,0,0,0,0,0]
[null,39,37.07692307692308,133.87179487179486,43.589743589743591,59.564102564102562,199.35897435897436,7.3589743589743586,0,0,0,0,0,0,0,0,null,29.076923076923077,78.871794871794876,37.07692307692308,133.87179487179486,43.589743589743591,59.564102564102562,199.35897435897436,7.3589743589743586,0,0,0,0,0,0,0,0,null,107.94871794871794,37.07692307692308,133.87179487179486,43.589743589743591,59.564102564102562,199.35897435897436,7.3589743589743586,0,0,0,0,0,0,0,0,null,null,null,null,null,null,null,null,null,null,null,null,null,null,null,null,null,null,null,38,38.05263157894737,137.39473684210526,44.736842105263158,61.131578947368418,204.60526315789474,7.5526315789473681,0,0,0,0,0,0,0,0,null,29.842105263157894,80.94736842105263,38.05263157894737,137.39473684210526,44.736842105263158,61.131578947368418,204.60526315789474,7.5526315789473681,0,0,0,0,0,0,0,0]
[null,40,36.15,130.52500000000001,42.5,58.075000000000003,194.375,7.1749999999999998,0,0,0,0,0,0,0,0,null,28.35,76.900000000000006,36.15,130.52500000000001,42.5,58.075000000000003,194.375,7.1749999999999998,0,0,0,0,0,0,0,0,null,105.25,36.15,130.52500000000001,42.5,58.075000000000003,194.375,7.1749999999999998,0,0,0,0,0,0,0,0,null,null,null,null,null,null,null,null,null,null,null,null,null,null,null,null,null,null,null,39,37.07692307692308,133.87179487179486,43.589743589743591,59.564102564102562,199.35897435897436,7.3589743589743586,0,0,0,0,0,0,0,0,null,29.076923076923077,78.871794871794876,37.07692307692308,133.87179487179486,43.589743589743591,59.564102564102562,199.35897435897436,7.3589743589743586,0,0,0,0,0,0,0,0]
[null,41,35.268292682926827,127.34146341463415,41.463414634146339,56.658536585365852,189.63414634146341,7,0,0,0,0,0,0,0,0,null,27.658536585365855,75.024390243902445,35.268292682926827,127.34146341463415,41.463414634146339,56.658536585365852,189.63414634146341,7,0,0,0,0,0,0,0,0,null,102.6829268292683,35.268292682926827,127.34146341463415,41.463414634146339,56.658536585365852,189.63414634146341,7,0,0,0,0,0,0,0,0,null,null,null,null,null,null,null,null,null,null,null,null,null,null,null,null,null,null,null,40,36.15,130.52500000000001,42.5,58.075000000000003,194.375,7.1749999999999998,0,0,0,0,0,0,0,0,null,28.35,76.900000000000006,36.15,130.52500000000001,42.5,58.075000000000003,194.375,7.1749999999999998,0,0,0,0,0,0,0,0]
[null,42,34.428571428571431,124.30952380952381,40.476190476190474,55.30952380952381,185.11904761904762,6.833333333333333,0,0,0,0,0,0,0,0,null,27,73.238095238095241,34.428571428571431,124.30952380952381,40.476190476190474,55.30952380952381,185.11904761904762,6.833333333333333,0,0,0,0,0,0,0,0,null,100.23809523809524,34.428571428571431,124.30952380952381,40.476190476190474,55.30952380952381,185.11904761904762,6.833333333333333,0,0,0,0,0,0,0,0,null,null,null,null,null,null,null,null,null,null,null,null,null,null,null,null,null,null,null,41,35.268292682926827,127.34146341463415,41.463414634146339,56.658536585365852,189.63414634146341,7,0,0,0,0,0,0,0,0,null,27.658536585365855,75.024390243902445,35.268292682926827,127.34146341463415,41.463414634146339,56.658536585365852,189.63414634146341,7,0,0,0,0,0,0,0,0]
[null,43,33.627906976744185,121.41860465116279,39.534883720930232,54.02325581395349,180.81395348837211,6.6744186046511631,0,0,0,0,0,0,0,0,null,26.372093023255815,71.534883720930239,33.627906976744185,121.41860465116279,39.534883720930232,54.02325581395349,180.81395348837211,6.6744186046511631,0,0,0,0,0,0,0,0,null,97.906976744186053,33.627906976744185,121.41860465116279,39.534883720930232,54.02325581395349,180.81395348837211,6.6744186046511631,0,0,0,0,0,0,0,0,null,null,null,null,null,null,null,null,null,null,null,null,null,null,null,null,null,null,null,42,34.428571428571431,124.30952380952381,40.476190476190474,55.30952380952381,185.11904761904762,6.833333333333333,0,0,0,0,0,0,0,0,null,27,73.238095238095241,34.428571428571431,124.30952380952381,40.476190476190474,55.30952380952381,185.11904761904762,6.833333333333333,0,0,0,0,0,0,0,0]
[null,44,32.863636363636367,118.65909090909091,38.636363636363633,52.795454545454547,176.70454545454547,6.5227272727272725,0,0,0,0,0,0,0,0,null,25.772727272727273,69.909090909090907,32.863636363636367,118.65909090909091,38.636363636363633,52.795454545454547,176.70454545454547,6.5227272727272725,0,0,0,0,0,0,0,0,null,95.681818181818187,32.863636363636367,118.65909090909091,38.636363636363633,52.795454545454547,176.70454545454547,6.5227272727272725,0,0,0,0,0,0,0,0,null,null,null,null,null,null,null,null,null,null,null,null,null,null,null,null,null,null,null,43,33.627906976744185,121.41860465116279,39.534883720930232,54.02325581395349,180.81395348837211,6.6744186046511631,0,0,0,0,0,0,0,0,null,26.372093023255815,71.534883720930239,33.627906976744185,121.41860465116279,39.534883720930232,54.02325581395349,180.81395348837211,6.6744186046511631,0,0,0,0,0,0,0,0]
[null,45,32.133333333333333,116.02222222222223,37.777777777777779,51.62222222222222,172.77777777777777,6.3777777777777782,0,0,0,0,0,0,0,0,null,25.2,68.355555555555554,32.133333333333333,116.02222222222223,37.777777777777779,51.62222222222222,172.77777777777777,6.3777777777777782,0,0,0,0,0,0,0,0,null,93.555555555555557,32.133333333333333,116.02222222222223,37.777777777777779,51.62222222222222,172.77777777777777,6.3777777777777782,0,0,0,0,0,0,0,0,null,null,null,null,null,null,null,null,null,null,null,null,null,null,null,null,null,null,null,44,32.863636363636367,118.65909090909091,38.636363636363633,52.795454545454547,176.70454545454547,6.5227272727272725,0,0,0,0,0,0,0,0,null,25.772727272727273,69.909090909090907,32.863636363636367,118.65909090909091,38.636363636363633,52.795454545454547,176.70454545454547,6.5227272727272725,0,0,0,0,0,0,0,0]
[null,46,31.434782608695652,113.5,36.956521739130437,50.5,169.02173913043478,6.2391304347826084,0,0,0,0,0,0,0,0,null,24.652173913043477,66.869565217391298,31.434782608695652,113.5,36.956521739130437,50.5,169.02173913043478,6.2391304347826084,0,0,0,0,0,0,0,0,null,91.521739130434781,31.434782608695652,113.5,36.956521739130437,50.5,169.02173913043478,6.2391304347826084,0,0,0,0,0,0,0,0,null,null,null,null,null,null,null,null,null,null,null,null,null,null,null,null,null,null,null,45,32.133333333333333,116.02222222222223,37.777777777777779,51.62222222222222,172.77777777777777,6.3777777777777782,0,0,0,0,0,0,0,0,null,25.2,68.355555555555554,32.133333333333333,116.02222222222223,37.777777777777779,51.62222222222222,172.77777777777777,6.3777777777777782,0,0,0,0,0,0,0,0]
[null,47,30.76595744680851,111.08510638297872,36.170212765957444,49.425531914893618,165.42553191489361,6.1063829787234045,0,0,0,0,0,0,0,0,null,24.127659574468087,65.446808510638292,30.76595744680851,111.08510638297872,36.170212765957444,49.425531914893618,165.42553191489361,6.1063829787234045,0,0,0,0,0,0,0,0,null,89.574468085106389,30.76595744680851,111.08510638297872,36.170212765957444,49.425531914893618,165.42553191489361,6.1063829787234045,0,0,0,0,0,0,0,0,null,null,null,null,null,null,null,null,null,null,null,null,null,null,null,null,null,null,null,46,31.434782608695652,113.5,36.956521739130437,50.5,169.02173913043478,6.2391304347826084,0,0,0,0,0,0,0,0,null,24.652173913043477,66.869565217391298,31.434782608695652,113.5,36.956521739130437,50.5,169.02173913043478,6.2391304347826084,0,0,0,0,0,0,0,0]
[null,48,30.125,108.77083333333333,35.416666666666664,48.395833333333336,161.97916666666666,5.979166666666667,0,{"$f":"$J$6/B54","v":0},0,0,0,0,0,0,null,23.625,64.083333333333329,30.125,108.77083333333333,35.416666666666664,48.395833333333336,161.97916666666666,5.979166666666667,0,0,0,0,0,0,0,0,null,87.708333333333329,30.125,108.77083333333333,35.416666666666664,48.395833333333336,161.97916666666666,5.979166666666667,0,0,0,0,0,0,0,0,null,null,null,null,null,null,null,null,null,null,null,null,null,null,null,null,null,null,null,47,30.76595744680851,111.08510638297872,36.170212765957444,49.425531914893618,165.42553191489361,6.1063829787234045,0,0,0,0,0,0,0,0,null,24.127659574468087,65.446808510638292,30.76595744680851,111.08510638297872,36.170212765957444,49.425531914893618,165.42553191489361,6.1063829787234045,0,0,0,0,0,0,0,0]
[null,49,29.510204081632654,106.55102040816327,34.693877551020407,47.408163265306122,158.67346938775509,5.8571428571428568,0,0,0,0,0,0,0,0,null,23.142857142857142,62.775510204081634,29.510204081632654,106.55102040816327,34.693877551020407,47.408163265306122,158.67346938775509,5.8571428571428568,0,0,0,0,0,0,0,{"$f":"P55","v":0},null,85.91836734693878,29.510204081632654,106.55102040816327,34.693877551020407,47.408163265306122,158.67346938775509,5.8571428571428568,0,0,0,0,0,0,0,{"$f":"P55","v":0},null,null,null,null,null,null,null,null,null,null,null,null,null,null,null,null,null,null,null,48,30.125,108.77083333333333,35.416666666666664,48.395833333333336,161.97916666666666,5.979166666666667,0,0,0,0,0,0,0,0,null,23.625,64.083333333333329,30.125,108.77083333333333,35.416666666666664,48.395833333333336,161.97916666666666,5.979166666666667,0,0,0,0,0,0,0,0]
[null,50,28.92,104.42,34,46.46,155.5,5.74,0,0,0,0,0,0,0,0,null,22.68,61.52,28.92,104.42,34,46.46,155.5,5.74,0,0,0,0,0,{"$f":"N56","v":0},0,0,null,84.2,28.92,104.42,34,46.46,155.5,5.74,0,0,0,0,0,{"$f":"N56","v":0},0,0,null,null,null,null,null,null,null,null,null,null,null,null,null,null,null,null,null,null,null,49,29.510204081632654,106.55102040816327,34.693877551020407,47.408163265306122,158.67346938775509,5.8571428571428568,0,0,0,0,0,0,0,0,null,23.142857142857142,62.775510204081634,29.510204081632654,106.55102040816327,34.693877551020407,47.408163265306122,158.67346938775509,5.8571428571428568,0,0,0,0,0,0,0,0]
[null,51,28.352941176470587,102.37254901960785,33.333333333333336,45.549019607843135,152.45098039215685,5.6274509803921573,0,0,0,0,0,0,0,0,null,22.235294117647058,60.313725490196077,28.352941176470587,102.37254901960785,33.333333333333336,45.549019607843135,152.45098039215685,5.6274509803921573,0,0,0,0,0,0,0,0,null,82.549019607843135,28.352941176470587,102.37254901960785,33.333333333333336,45.549019607843135,152.45098039215685,5.6274509803921573,0,0,0,0,0,0,0,0,null,null,null,null,null,null,null,null,null,null,null,null,null,null,null,null,null,null,null,50,28.92,104.42,34,46.46,155.5,5.74,0,0,0,0,0,0,0,0,null,22.68,61.52,28.92,104.42,34,46.46,155.5,5.74,0,0,0,0,0,0,0,0]
[null,52,27.807692307692307,100.40384615384616,32.692307692307693,44.67307692307692,149.51923076923077,5.5192307692307692,0,0,0,0,0,0,0,0,null,21.807692307692307,59.153846153846153,27.807692307692307,100.40384615384616,32.692307692307693,44.67307692307692,149.51923076923077,5.5192307692307692,0,0,0,0,0,0,0,0,null,80.961538461538467,27.807692307692307,100.40384615384616,32.692307692307693,44.67307692307692,149.51923076923077,5.5192307692307692,0,0,0,0,0,0,0,0,null,null,null,null,null,null,null,null,null,null,null,null,null,null,null,null,null,null,null,51,28.352941176470587,102.37254901960785,33.333333333333336,45.549019607843135,152.45098039215685,5.6274509803921573,0,0,0,0,0,0,0,0,null,22.235294117647058,60.313725490196077,28.352941176470587,102.37254901960785,33.333333333333336,45.549019607843135,152.45098039215685,5.6274509803921573,0,0,0,0,0,0,0,0]
[null,53,{"$f":"$C$6/B59","v":27.283018867924529},{"$f":"$D$6/B59","v":98.509433962264154},{"$f":"$E$6/B59","v":32.075471698113205},{"$f":"$F$6/B59","v":43.830188679245282},{"$f":"$G$6/B59","v":146.69811320754718},{"$f":"$H$6/B59","v":5.4150943396226419},{"$f":"$I$6/B59","v":0},0,{"$f":"$K$6/B59","v":0},{"$f":"$L$6/B59","v":0},0,0,0,{"$f":"$P$6/B59","v":0},null,{"$f":"$R$6/B59","v":21.39622641509434},{"$f":"$S$6/B59","v":58.037735849056602},27.283018867924529,98.509433962264154,32.075471698113205,43.830188679245282,146.69811320754718,5.4150943396226419,0,0,0,0,0,0,0,0,null,{"$f":"$AI$6/B59","v":79.433962264150949},27.283018867924529,98.509433962264154,32.075471698113205,43.830188679245282,146.69811320754718,5.4150943396226419,0,0,0,0,0,0,0,0,null,null,null,null,null,null,null,null,null,null,null,null,null,null,null,null,null,null,null,52,{"$f":"$C$6/BQ59","v":27.807692307692307},{"$f":"$D$6/BQ59","v":100.40384615384616},{"$f":"$E$6/BQ59","v":32.692307692307693},{"$f":"$F$6/BQ59","v":44.67307692307692},{"$f":"$G$6/BQ59","v":149.51923076923077},{"$f":"$H$6/BQ59","v":5.5192307692307692},{"$f":"$I$6/BQ59","v":0},0,{"$f":"$K$6/BQ59","v":0},{"$f":"$L$6/BQ59","v":0},0,0,0,{"$f":"$P$6/BQ59","v":0},null,{"$f":"$R$6/BQ59","v":21.807692307692307},{"$f":"$S$6/BQ59","v":59.153846153846153},27.807692307692307,100.40384615384616,32.692307692307693,44.67307692307692,149.51923076923077,5.5192307692307692,0,0,0,0,0,0,0,0]
[null,54,{"$f":"$C$6/B60","v":26.777777777777779},{"$f":"$D$6/B60","v":96.68518518518519},{"$f":"$E$6/B60","v":31.481481481481481},{"$f":"$F$6/B60","v":43.018518518518519},{"$f":"$G$6/B60","v":143.9814814814815},{"$f":"$H$6/B60","v":5.3148148148148149},{"$f":"$I$6/B60","v":0},0,{"$f":"$K$6/B60","v":0},{"$f":"$L$6/B60","v":0},0,0,0,{"$f":"$P$6/B60","v":0},null,{"$f":"$R$6/B60","v":21},{"$f":"$S$6/B60","v":56.962962962962962},26.777777777777779,96.68518518518519,31.481481481481481,43.018518518518519,143.9814814814815,5.3148148148148149,0,0,0,0,0,0,0,0,null,{"$f":"$AI$6/B60","v":77.962962962962962},26.777777777777779,96.68518518518519,31.481481481481481,43.018518518518519,143.9814814814815,5.3148148148148149,0,0,0,0,0,0,0,0,null,null,null,null,null,null,null,null,null,null,null,null,null,null,null,null,null,null,null,53,{"$f":"$C$6/BQ60","v":27.283018867924529},{"$f":"$D$6/BQ60","v":98.509433962264154},{"$f":"$E$6/BQ60","v":32.075471698113205},{"$f":"$F$6/BQ60","v":43.830188679245282},{"$f":"$G$6/BQ60","v":146.69811320754718},{"$f":"$H$6/BQ60","v":5.4150943396226419},{"$f":"$I$6/BQ60","v":0},0,{"$f":"$K$6/BQ60","v":0},{"$f":"$L$6/BQ60","v":0},0,0,0,{"$f":"$P$6/BQ60","v":0},null,{"$f":"$R$6/BQ60","v":21.39622641509434},{"$f":"$S$6/BQ60","v":58.037735849056602},27.283018867924529,98.509433962264154,32.075471698113205,43.830188679245282,146.69811320754718,5.4150943396226419,0,0,0,0,0,0,0,0]
[]
[]
[null,"Nombre d'inscrits",22962]
[null,"Bulletins déposés",19886]
[null,"Blancs & Nuls",1134]
[null,"Votes valables",18752]
[null,"Nombre de sièges",35]
[]
[]
[]
[]
[null,"Liste unique\nMajorité\nabsolue",{"$f":"SUM($C$73:$P$73)","v":0},null,null,null,null,null,null,null,null,null,null,null,null,null,null,{"$f":"SUM($R$73:$AG$73)","v":0},null,null,null,null,null,null,null,null,null,null,null,null,null,null,null,null,{"$f":"SUM($AI$73:$AW$73)","v":0}]
[null,null,{"$f":"IF(C7>($C$67/2),1,0)","v":0},{"$f":"IF(D7>($C$67/2),1,0)","v":0},{"$f":"IF(E7>($C$67/2),1,0)","v":0},{"$f":"IF(F7>($C$67/2),1,0)","v":0},{"$f":"IF(G7>($C$67/2),1,0)","v":0},{"$f":"IF(H7>($C$67/2),1,0)","v":0},{"$f":"IF(I7>($C$67/2),1,0)","v":0},{"$f":"IF(J7>($C$67/2),1,0)","v":0},{"$f":"IF(K7>($C$67/2),1,0)","v":0},{"$f":"IF(L7>($C$67/2),1,0)","v":0},{"$f":"IF(M7>($C$67/2),1,0)","v":0},{"$f":"IF(N7>($C$67/2),1,0)","v":0},{"$f":"IF(O7>($C$67/2),1,0)","v":0},{"$f":"IF(P7>($C$67/2),1,0)","v":0},null,{"$f":"IF(R7>($C$67/2),1,0)","v":0},{"$f":"IF(S7>($C$67/2),1,0)","v":0},{"$f":"IF(T7>($C$67/2),1,0)","v":0},{"$f":"IF(U7>($C$67/2),1,0)","v":0},{"$f":"IF(V7>($C$67/2),1,0)","v":0},{"$f":"IF(W7>($C$67/2),1,0)","v":0},{"$f":"IF(X7>($C$67/2),1,0)","v":0},{"$f":"IF(Y7>($C$67/2),1,0)","v":0},{"$f":"IF(Z7>($C$67/2),1,0)","v":0},{"$f":"IF(AA7>($C$67/2),1,0)","v":0},{"$f":"IF(AB7>($C$67/2),1,0)","v":0},{"$f":"IF(AC7>($C$67/2),1,0)","v":0},{"$f":"IF(AD7>($C$67/2),1,0)","v":0},{"$f":"IF(AE7>($C$67/2),1,0)","v":0},{"$f":"IF(AF7>($C$67/2),1,0)","v":0},{"$f":"IF(AG7>($C$67/2),1,0)","v":0},null,{"$f":"IF(AI7>($C$67/2),1,0)","v":0},{"$f":"IF(AJ7>($C$67/2),1,0)","v":0},{"$f":"IF(AK7>($C$67/2),1,0)","v":0},{"$f":"IF(AL7>($C$67/2),1,0)","v":0},{"$f":"IF(AM7>($C$67/2),1,0)","v":0},{"$f":"IF(AN7>($C$67/2),1,0)","v":0},{"$f":"IF(AO7>($C$67/2),1,0)","v":0},{"$f":"IF(AP7>($C$67/2),1,0)","v":0},{"$f":"IF(AQ7>($C$67/2),1,0)","v":0},{"$f":"IF(AR7>($C$67/2),1,0)","v":0},{"$f":"IF(AS7>($C$67/2),1,0)","v":0},{"$f":"IF(AT7>($C$67/2),1,0)","v":0},{"$f":"IF(AU7>($C$67/2),1,0)","v":0},{"$f":"IF(AV7>($C$67/2),1,0)","v":0},{"$f":"IF(AW7>($C$67/2),1,0)","v":0}]
[]
[null,"Liste unique\nMajorité\nabsolue\nnombre de voix",{"$f":"SUM($C$76:$P$76)","v":0},null,null,null,null,null,null,null,null,null,null,null,null,null,null,{"$f":"SUM(R76:AG76)","v":0},null,null,null,null,null,null,null,null,null,null,null,null,null,null,null,null,{"$f":"SUM(AI76:AW76)","v":0}]
[null,null,{"$f":"IF(C73>0,C6,0)","v":0},{"$f":"IF(D73>0,D6,0)","v":0},{"$f":"IF(E73>0,E6,0)","v":0},{"$f":"IF(F73>0,F6,0)","v":0},{"$f":"IF(G73>0,G6,0)","v":0},{"$f":"IF(H73>0,H6,0)","v":0},{"$f":"IF(I73>0,I6,0)","v":0},{"$f":"IF(J73>0,J6,0)","v":0},{"$f":"IF(K73>0,K6,0)","v":0},{"$f":"IF(L73>0,L6,0)","v":0},{"$f":"IF(M73>0,M6,0)","v":0},{"$f":"IF(N73>0,N6,0)","v":0},{"$f":"IF(O73>0,O6,0)","v":0},{"$f":"IF(P73>0,P6,0)","v":0},null,{"$f":"IF(R73>0,R6,0)","v":0},{"$f":"IF(S73>0,S6,0)","v":0},{"$f":"IF(T73>0,T6,0)","v":0},{"$f":"IF(U73>0,U6,0)","v":0},{"$f":"IF(V73>0,V6,0)","v":0},{"$f":"IF(W73>0,W6,0)","v":0},{"$f":"IF(X73>0,X6,0)","v":0},{"$f":"IF(Y73>0,Y6,0)","v":0},{"$f":"IF(Z73>0,Z6,0)","v":0},{"$f":"IF(AA73>0,AA6,0)","v":0},{"$f":"IF(AB73>0,AB6,0)","v":0},{"$f":"IF(AC73>0,AC6,0)","v":0},{"$f":"IF(AD73>0,AD6,0)","v":0},{"$f":"IF(AE73>0,AE6,0)","v":0},{"$f":"IF(AF73>0,AF6,0)","v":0},{"$f":"IF(AG73>0,AG6,0)","v":0},null,{"$f":"IF(AI73>0,AI6,0)","v":0},{"$f":"IF(AJ73>0,AJ6,0)","v":0},{"$f":"IF(AK73>0,AK6,0)","v":0},{"$f":"IF(AL73>0,AL6,0)","v":0},{"$f":"IF(AM73>0,AM6,0)","v":0},{"$f":"IF(AN73>0,AN6,0)","v":0},{"$f":"IF(AO73>0,AO6,0)","v":0},{"$f":"IF(AP73>0,AP6,0)","v":0},{"$f":"IF(AQ73>0,AQ6,0)","v":0},{"$f":"IF(AR73>0,AR6,0)","v":0},{"$f":"IF(AS73>0,AS6,0)","v":0},{"$f":"IF(AT73>0,AT6,0)","v":0},{"$f":"IF(AU73>0,AU6,0)","v":0},{"$f":"IF(AV73>0,AV6,0)","v":0},{"$f":"IF(AW73>0,AW6,0)","v":0}]
[]
[null,"Nbr voix\nCoalition",{"$f":"SUMIF(C4:P4,\"x\",C6:P6)","v":15319}]
[]
[null,"% Coalition",{"$f":"100/C63*C78","v":66.714571901402309}]
[null,"% Majorité",{"$f":"100/C63*C75","v":0}]
[]
[null,"Coalition",{"$f":"COUNTA(C4:P4)","v":3},{"$f":"IF(C83>0,1,0)","v":1}]
[]
[]
[]
[]
[]
[]
[]
[]
[]
[]
[]
[]
[null,null,null,null,null,null,null,null,null,null,null,null,null,null,null,"ETTERBEEK"]
[]
[null,null,null,null,null,null,null,null,null,null,null,null,null,null,null,null,null,{"$f":"R5","v":"Blancs & Nuls"},{"$f":"S5","v":"Non-déposés"},{"$f":"T5","v":"Alternative CDH"},{"$f":"U5","v":"Ecolo-Groen"},{"$f":"V5","v":"DéFI"},{"$f":"W5","v":"PS-sp.a+"},{"$f":"X5","v":"LB-LISTE BOURGMESTRE"},{"$f":"Y5","v":"VOLT BELGIË-BELGIQUE"},{"$f":"Z5","v":0},{"$f":"AA5","v":0},{"$f":"AB5","v":0},{"$f":"AC5","v":0},{"$f":"AD5","v":0},{"$f":"AE5","v":0},{"$f":"AF5","v":0},{"$f":"AG5","v":0}]
[null,null,null,null,null,null,null,null,null,null,null,null,null,null,null,"Chiffres\nélectoraux",null,{"$f":"R6","v":1134},{"$f":"S6","v":3076},{"$f":"T6","v":1446},{"$f":"U6","v":5221},{"$f":"V6","v":1700},{"$f":"W6","v":2323},{"$f":"X6","v":7775},{"$f":"Y6","v":287},{"$f":"Z6","v":0},{"$f":"AA6","v":0},{"$f":"AB6","v":0},{"$f":"AC6","v":0},{"$f":"AD6","v":0},{"$f":"AE6","v":0},{"$f":"AF6","v":0},{"$f":"AG6","v":0}]
[null,null,null,null,null,null,null,null,null,null,null,null,null,null,null,"Impériali",null,0,0,{"$f":"C7","v":2},{"$f":"D7","v":11},{"$f":"E7","v":2},{"$f":"F7","v":4},{"$f":"G7","v":16},{"$f":"H7","v":0},{"$f":"I7","v":0},{"$f":"J7","v":0},{"$f":"K7","v":0},{"$f":"L7","v":0},{"$f":"M7","v":0},{"$f":"N7","v":0},{"$f":"O7","v":0},{"$f":"P7","v":0}]
[null,null,null,null,null,null,null,null,null,null,null,null,null,null,null,"Impériali\n+ proportionnelle",null,{"$f":"R7","v":1},{"$f":"S7","v":5},{"$f":"T7","v":1},{"$f":"U7","v":9},{"$f":"V7","v":2},{"$f":"W7","v":3},{"$f":"X7","v":14},{"$f":"Y7","v":0},{"$f":"Z7","v":0},{"$f":"AA7","v":0},{"$f":"AB7","v":0},{"$f":"AC7","v":0},{"$f":"AD7","v":0},{"$f":"AE7","v":0},{"$f":"AF7","v":0},{"$f":"AG7","v":0}]
[null,null,null,null,null,null,null,null,null,null,null,null,null,null,null,"D'Hondt",null,0,0,{"$f":"BR7","v":2},{"$f":"BS7","v":10},{"$f":"BT7","v":3},{"$f":"BU7","v":4},{"$f":"BV7","v":16},{"$f":"BW7","v":0},{"$f":"BX7","v":0},{"$f":"BY7","v":0},{"$f":"BZ7","v":0},{"$f":"CA7","v":0},{"$f":"CB7","v":0},{"$f":"CC7","v":0},{"$f":"CD7","v":0},{"$f":"CE7","v":0}]
[null,null,null,null,null,null,null,null,null,null,null,null,null,null,null,"D'Hondt\n+ proportionnelle",null,{"$f":"CG7","v":1},{"$f":"CH7","v":5},{"$f":"CI7","v":2},{"$f":"CJ7","v":8},{"$f":"CK7","v":2},{"$f":"CL7","v":4},{"$f":"CM7","v":13},{"$f":"CN7","v":0},{"$f":"CO7","v":0},{"$f":"CP7","v":0},{"$f":"CQ7","v":0},{"$f":"CR7","v":0},{"$f":"CS7","v":0},{"$f":"CT7","v":0},{"$f":"CU7","v":0},{"$f":"CV7","v":0}]
[null,null,null,null,null,null,null,null,null,null,null,null,null,null,null,"Proportionnelle\npure",null,{"$f":"AZ7","v":1.7285079696890515},{"$f":"BA7","v":4.6886159742182736},{"$f":"BB7","v":2.2040762999738699},{"$f":"BC7","v":7.9581482449264005},{"$f":"BD7","v":2.5912376970647157},{"$f":"BE7","v":3.5408501001654908},{"$f":"BF7","v":11.85110182039892},{"$f":"BG7","v":0.43746189356327847},{"$f":"BH7","v":0},{"$f":"BI7","v":0},{"$f":"BJ7","v":0},{"$f":"BK7","v":0},{"$f":"BL7","v":0},{"$f":"BM7","v":0},{"$f":"BN7","v":0},{"$f":"BO7","v":0}]
[]
[null,null,null,null,null,null,null,null,null,null,null,null,null,null,null,null,"Nombre de sièges à distribuer :",null,null,null,{"$f":"C67","v":35},null,"Est-ce une liste unique en majorité absolue en termes de sièges ?",null,null,null,null,null,null,{"$f":"IF(C72>0,\"Oui\",\"Non\")","v":"Non"}]
[]
[null,null,null,null,null,null,null,null,null,null,null,null,null,null,null,null,"Nombre d'inscrits :",null,null,null,{"$f":"C63","v":22962},null,"Est-ce une liste unique en majorité absolue en termes de voix ?",null,null,null,null,null,null,{"$f":"IF(C75>0,\"Oui\",\"Non\")","v":"Non"}]
[]
[null,null,null,null,null,null,null,null,null,null,null,null,null,null,null,null,"Nombre de bulletins déposés :",null,null,null,{"$f":"C64","v":19886},null,"La majorité est-elle formée par une coalition ?",null,null,null,null,null,null,{"$f":"IF(B4>0,\"Oui\",\"Non\")","v":"Oui"}]
[]
[null,null,null,null,null,null,null,null,null,null,null,null,null,null,null,null,"Nombre de votes valables :",null,null,null,{"$f":"C66","v":18752},null,"Quelle est la proportion de l'électorat représentée par la majorité ?",null,null,null,null,null,null,{"$f":"IF(D83>0,C80,C81)","v":66.714571901402309}]
[]
[null,null,null,null,null,null,null,null,null,null,null,null,null,null,null,"Comparaison\nClef Impériali\n-\nClef D'Hondt",null,{"$f":"R100-R102","v":0},{"$f":"S100-S102","v":0},0,1,-1,0,0,0,0,0,0,0,0,0,0,0]

{"sheet":"EVERE","index":9,"n_rows":114,"n_cols":100,"rows_kept":114,"cut":false,"hidden":false,"merged":[[1,1,1,48],[1,68,1,99],[1,50,1,66],[71,1,72,1],[113,15,113,16],[107,16,107,19],[109,16,109,19],[111,16,111,19],[74,1,75,1],[95,15,95,32],[105,22,105,27],[107,22,107,27],[109,22,109,27],[111,22,111,27],[105,16,105,19]]}
[]
[null,"IMPÉRIALI",null,null,null,null,null,null,null,null,null,null,null,null,null,null,null,null,null,null,null,null,null,null,null,null,null,null,null,null,null,null,null,null,null,null,null,null,null,null,null,null,null,null,null,null,null,null,null,null,"PROPORTIONNELLE PURE",null,null,null,null,null,null,null,null,null,null,null,null,null,null,null,null,null,"D'HONDT"]
[]
[null,"Coalition",null,null,"x",null,null,"x"]
[null,{"$f":"COUNTA(C5:P5)","v":8},"HUMANISTES EVEROIS","ECOLO-GROEN","DéFI","N-VA","MR","LISTE DU BOURGMESTRE","NATION","PP Parti Populaire",null,null,null,null,null,null,null,"Blancs & Nuls","Non-déposés",{"$f":"C5","v":"HUMANISTES EVEROIS"},{"$f":"D5","v":"ECOLO-GROEN"},"DéFI","N-VA","MR","LISTE DU BOURGMESTRE","NATION","PP Parti Populaire",0,0,0,0,0,0,null,"Non-valables",{"$f":"C5","v":"HUMANISTES EVEROIS"},{"$f":"D5","v":"ECOLO-GROEN"},"DéFI","N-VA","MR","LISTE DU BOURGMESTRE","NATION","PP Parti Populaire",0,0,0,0,0,0,null,"New Key","Blancs & Nuls","Non-déposés",{"$f":"C5","v":"HUMANISTES EVEROIS"},{"$f":"D5","v":"ECOLO-GROEN"},"DéFI","N-VA","MR","LISTE DU BOURGMESTRE","NATION","PP Parti Populaire",0,0,0,0,0,0,null,null,{"$f":"C5","v":"HUMANISTES EVEROIS"},{"$f":"D5","v":"ECOLO-GROEN"},"DéFI","N-VA","MR","LISTE DU BOURGMESTRE","NATION","PP Parti Populaire",0,0,0,0,0,0,null,"Blancs & Nuls","Non-déposés",{"$f":"C5","v":"HUMANISTES EVEROIS"},{"$f":"D5","v":"ECOLO-GROEN"},"DéFI","N-VA","MR","LISTE DU BOURGMESTRE","NATION","PP Parti Populaire",0,0,0,0,0,0]
[null,"Chiffres\nélectoraux",1093,3046,2212,868,2960,6812,425,662,0,0,0,0,0,0,null,{"$f":"C65","v":1716},{"$f":"C63-C64","v":3849},{"$f":"C6","v":1093},3046,2212,868,2960,6812,425,662,0,0,0,0,0,0,null,{"$f":"R6+S6","v":5565},{"$f":"C6","v":1093},3046,2212,868,2960,6812,425,662,0,0,0,0,0,0,null,null,{"$f":"C65","v":1716},{"$f":"C63-C64","v":3849},{"$f":"C6","v":1093},3046,2212,868,2960,6812,425,662,0,0,0,0,0,0,null,"Chiffres\nélectoraux",{"$f":"C6","v":1093},3046,2212,868,2960,6812,425,662,0,0,0,0,0,0,null,{"$f":"C65","v":1716},{"$f":"C63-C64","v":3849},{"$f":"C6","v":1093},3046,2212,868,2960,6812,425,662,0,0,0,0,0,0]
[null,"Sièges",1,7,4,1,6,16,0,0,0,0,0,0,0,0,null,2,6,1,5,3,0,5,13,0,0,0,0,0,0,0,0,null,10,1,5,3,0,4,12,0,0,0,0,0,0,0,0,null,675.51428571428573,2.5402867656388781,5.6978809795711198,1.6180264771814068,4.5091570443683118,3.2745421477815841,1.2849469187497355,4.3818466353677623,10.08416867571797,0.62915027703760096,0.97999407858562781,0,0,0,0,0,0,null,"Sièges",2,6,4,1,6,15,0,1,0,0,0,0,0,0,null,2,6,1,5,3,1,5,11,0,1,0,0,0,0,0,0]
[null,2,{"$f":"$C$6/B8","v":546.5},{"$f":"$D$6/B8","v":1523},{"$f":"$E$6/B8","v":1106},{"$f":"$F$6/B8","v":434},{"$f":"$G$6/B8","v":1480},{"$f":"$H$6/B8","v":3406},{"$f":"$I$6/B8","v":212.5},{"$f":"$J$6/B8","v":331},{"$f":"$K$6/B8","v":0},{"$f":"$L$6/B8","v":0},{"$f":"$M$6/B8","v":0},{"$f":"$N$6/B8","v":0},{"$f":"$O$6/B8","v":0},{"$f":"$P$6/B8","v":0},null,{"$f":"$R$6/B8","v":858},{"$f":"$S$6/B8","v":1924.5},{"$f":"C8","v":546.5},1523,1106,434,1480,3406,212.5,331,0,0,0,0,0,{"$f":"P8","v":0},null,{"$f":"$AI$6/B8","v":2782.5},{"$f":"C8","v":546.5},1523,1106,434,1480,3406,212.5,331,0,0,0,{"$f":"N8","v":0},0,{"$f":"P8","v":0},null,null,null,null,null,null,null,null,null,null,null,null,null,null,null,null,null,null,null,1,{"$f":"$C$6/BQ8","v":1093},{"$f":"$D$6/BQ8","v":3046},{"$f":"$E$6/BQ8","v":2212},{"$f":"$F$6/BQ8","v":868},{"$f":"$G$6/BQ8","v":2960},{"$f":"$H$6/BQ8","v":6812},{"$f":"$I$6/BQ8","v":425},{"$f":"$J$6/BQ8","v":662},{"$f":"$K$6/BQ8","v":0},{"$f":"$L$6/BQ8","v":0},{"$f":"$M$6/BQ8","v":0},{"$f":"$N$6/BQ8","v":0},{"$f":"$O$6/BQ8","v":0},{"$f":"$P$6/BQ8","v":0},null,{"$f":"$R$6/BQ8","v":1716},{"$f":"$S$6/BQ8","v":3849},{"$f":"BR8","v":1093},{"$f":"BS8","v":3046},{"$f":"BT8","v":2212},{"$f":"BU8","v":868},{"$f":"BV8","v":2960},{"$f":"BW8","v":6812},{"$f":"BX8","v":425},{"$f":"BY8","v":662},{"$f":"BZ8","v":0},{"$f":"CA8","v":0},{"$f":"CB8","v":0},{"$f":"CC8","v":0},{"$f":"CD8","v":0},{"$f":"CE8","v":0}]
[null,3,{"$f":"$C$6/B9","v":364.33333333333331},1015.3333333333334,{"$f":"$E$6/B9","v":737.33333333333337},289.33333333333331,986.66666666666663,{"$f":"$H$6/B9","v":2270.6666666666665},{"$f":"$I$6/B9","v":141.66666666666666},{"$f":"$J$6/B9","v":220.66666666666666},{"$f":"$K$6/B9","v":0},{"$f":"$L$6/B9","v":0},{"$f":"$M$6/B9","v":0},0,{"$f":"$O$6/B9","v":0},{"$f":"$P$6/B9","v":0},null,{"$f":"$R$6/B9","v":572},{"$f":"$S$6/B9","v":1283},{"$f":"C9","v":364.33333333333331},{"$f":"D9","v":1015.3333333333334},{"$f":"E9","v":737.33333333333337},{"$f":"F9","v":289.33333333333331},{"$f":"G9","v":986.66666666666663},{"$f":"H9","v":2270.6666666666665},{"$f":"I9","v":141.66666666666666},{"$f":"J9","v":220.66666666666666},{"$f":"K9","v":0},{"$f":"L9","v":0},{"$f":"M9","v":0},{"$f":"N9","v":0},{"$f":"O9","v":0},0,null,{"$f":"$AI$6/B9","v":1855},{"$f":"C9","v":364.33333333333331},{"$f":"D9","v":1015.3333333333334},{"$f":"E9","v":737.33333333333337},{"$f":"F9","v":289.33333333333331},{"$f":"G9","v":986.66666666666663},{"$f":"H9","v":2270.6666666666665},{"$f":"I9","v":141.66666666666666},{"$f":"J9","v":220.66666666666666},{"$f":"K9","v":0},{"$f":"L9","v":0},{"$f":"M9","v":0},0,0,0,null,null,null,null,null,null,null,null,null,null,null,null,null,null,null,null,null,null,null,2,{"$f":"$C$6/BQ9","v":546.5},1523,{"$f":"$E$6/BQ9","v":1106},434,1480,{"$f":"$H$6/BQ9","v":3406},{"$f":"$I$6/BQ9","v":212.5},{"$f":"$J$6/BQ9","v":331},{"$f":"$K$6/BQ9","v":0},{"$f":"$L$6/BQ9","v":0},{"$f":"$M$6/BQ9","v":0},0,{"$f":"$O$6/BQ9","v":0},{"$f":"$P$6/BQ9","v":0},null,{"$f":"$R$6/BQ9","v":858},{"$f":"$S$6/BQ9","v":1924.5},546.5,1523,1106,434,1480,3406,212.5,331,0,0,0,0,0,0]
[null,4,273.25,761.5,553,217,740,1703,106.25,165.5,0,0,0,0,0,0,null,429,962.25,273.25,761.5,553,217,740,1703,106.25,165.5,0,0,0,0,0,0,null,1391.25,273.25,761.5,553,217,740,1703,106.25,165.5,0,0,0,0,0,0,null,null,null,null,null,null,null,null,null,null,null,null,null,null,null,null,null,null,null,3,364.33333333333331,1015.3333333333334,737.33333333333337,289.33333333333331,986.66666666666663,2270.6666666666665,141.66666666666666,220.66666666666666,0,0,0,0,0,0,null,572,1283,364.33333333333331,1015.3333333333334,737.33333333333337,289.33333333333331,986.66666666666663,2270.6666666666665,141.66666666666666,220.66666666666666,0,0,0,0,0,0]
[null,5,218.6,609.20000000000005,442.4,173.6,592,1362.4,85,132.4,0,0,0,0,0,0,null,343.2,769.8,218.6,609.20000000000005,442.4,173.6,592,1362.4,85,132.4,0,0,0,0,0,0,null,1113,218.6,609.20000000000005,442.4,173.6,592,1362.4,85,132.4,0,0,0,0,0,0,null,null,null,null,null,null,null,null,null,null,null,null,null,null,null,null,null,null,null,4,273.25,761.5,553,217,740,1703,106.25,165.5,0,0,0,0,0,0,null,429,962.25,273.25,761.5,553,217,740,1703,106.25,165.5,0,0,0,0,0,0]
[null,6,182.16666666666666,507.66666666666669,368.66666666666669,144.66666666666666,493.33333333333331,1135.3333333333333,70.833333333333329,110.33333333333333,0,0,0,0,0,0,null,286,641.5,182.16666666666666,507.66666666666669,368.66666666666669,144.66666666666666,493.33333333333331,1135.3333333333333,70.833333333333329,110.33333333333333,0,0,0,0,0,0,null,927.5,182.16666666666666,507.66666666666669,368.66666666666669,144.66666666666666,493.33333333333331,1135.3333333333333,70.833333333333329,110.33333333333333,0,0,0,0,0,0,null,null,null,null,null,null,null,null,null,null,null,null,null,null,null,null,null,null,null,5,218.6,609.20000000000005,442.4,173.6,592,1362.4,85,132.4,0,0,0,0,0,0,null,343.2,769.8,218.6,609.20000000000005,442.4,173.6,592,1362.4,85,132.4,0,0,0,0,0,0]
[null,7,156.14285714285714,435.14285714285717,316,124,422.85714285714283,973.14285714285711,60.714285714285715,94.571428571428569,0,0,0,0,0,0,null,245.14285714285714,549.85714285714289,156.14285714285714,435.14285714285717,316,124,422.85714285714283,973.14285714285711,60.714285714285715,94.571428571428569,0,0,0,0,0,0,null,795,156.14285714285714,435.14285714285717,316,124,422.85714285714283,973.14285714285711,60.714285714285715,94.571428571428569,0,0,0,0,0,0,null,null,null,null,null,null,null,null,null,null,null,null,null,null,null,null,null,null,null,6,182.16666666666666,507.66666666666669,368.66666666666669,144.66666666666666,493.33333333333331,1135.3333333333333,70.833333333333329,110.33333333333333,0,0,0,0,0,0,null,286,641.5,182.16666666666666,507.66666666666669,368.66666666666669,144.66666666666666,493.33333333333331,1135.3333333333333,70.833333333333329,110.33333333333333,0,0,0,0,0,0]
[null,8,136.625,380.75,276.5,108.5,370,851.5,53.125,82.75,0,0,0,0,0,0,null,214.5,481.125,136.625,380.75,276.5,108.5,370,851.5,53.125,82.75,0,0,0,0,0,0,null,695.625,136.625,380.75,276.5,108.5,370,851.5,53.125,82.75,0,0,0,0,0,0,null,null,null,null,null,null,null,null,null,null,null,null,null,null,null,null,null,null,null,7,156.14285714285714,435.14285714285717,316,124,422.85714285714283,973.14285714285711,60.714285714285715,94.571428571428569,0,0,0,0,0,0,null,245.14285714285714,549.85714285714289,156.14285714285714,435.14285714285717,316,124,422.85714285714283,973.14285714285711,60.714285714285715,94.571428571428569,0,0,0,0,0,0]
[null,9,121.44444444444444,338.44444444444446,245.77777777777777,96.444444444444443,328.88888888888891,756.88888888888891,47.222222222222221,73.555555555555557,0,0,0,0,0,0,null,190.66666666666666,427.66666666666669,121.44444444444444,338.44444444444446,245.77777777777777,96.444444444444443,328.88888888888891,756.88888888888891,47.222222222222221,73.555555555555557,0,0,0,0,0,0,null,618.33333333333337,121.44444444444444,338.44444444444446,245.77777777777777,96.444444444444443,328.88888888888891,756.88888888888891,47.222222222222221,73.555555555555557,0,0,0,0,0,0,null,null,null,null,null,null,null,null,null,null,null,null,null,null,null,null,null,null,null,8,136.625,380.75,276.5,108.5,370,851.5,53.125,82.75,0,0,0,0,0,0,null,214.5,481.125,136.625,380.75,276.5,108.5,370,851.5,53.125,82.75,0,0,0,0,0,0]
[null,10,109.3,304.60000000000002,221.2,86.8,296,681.2,42.5,66.2,0,0,0,0,0,0,null,171.6,384.9,109.3,304.60000000000002,221.2,86.8,296,681.2,42.5,66.2,0,0,0,0,0,0,null,556.5,109.3,304.60000000000002,221.2,86.8,296,681.2,42.5,66.2,0,0,0,0,0,0,null,null,null,null,null,null,null,null,null,null,null,null,null,null,null,null,null,null,null,9,121.44444444444444,338.44444444444446,245.77777777777777,96.444444444444443,328.88888888888891,756.88888888888891,47.222222222222221,73.555555555555557,0,0,0,0,0,0,null,190.66666666666666,427.66666666666669,121.44444444444444,338.44444444444446,245.77777777777777,96.444444444444443,328.88888888888891,756.88888888888891,47.222222222222221,73.555555555555557,0,0,0,0,0,0]
[null,11,99.36363636363636,276.90909090909093,201.09090909090909,78.909090909090907,269.09090909090907,619.27272727272725,38.636363636363633,60.18181818181818,0,0,0,0,0,0,null,156,349.90909090909093,99.36363636363636,276.90909090909093,201.09090909090909,78.909090909090907,269.09090909090907,619.27272727272725,38.636363636363633,60.18181818181818,0,0,0,0,0,0,null,505.90909090909093,99.36363636363636,276.90909090909093,201.09090909090909,78.909090909090907,269.09090909090907,619.27272727272725,38.636363636363633,60.18181818181818,0,0,0,0,0,0,null,null,null,null,null,null,null,null,null,null,null,null,null,null,null,null,null,null,null,10,109.3,304.60000000000002,221.2,86.8,296,681.2,42.5,66.2,0,0,0,0,0,0,null,171.6,384.9,109.3,304.60000000000002,221.2,86.8,296,681.2,42.5,66.2,0,0,0,0,0,0]
[null,12,91.083333333333329,253.83333333333334,184.33333333333334,72.333333333333329,246.66666666666666,567.66666666666663,35.416666666666664,55.166666666666664,0,0,0,0,0,0,null,143,320.75,91.083333333333329,253.83333333333334,184.33333333333334,72.333333333333329,246.66666666666666,567.66666666666663,35.416666666666664,55.166666666666664,0,0,0,0,0,0,null,463.75,91.083333333333329,253.83333333333334,184.33333333333334,72.333333333333329,246.66666666666666,567.66666666666663,35.416666666666664,55.166666666666664,0,0,0,0,0,0,null,null,null,null,null,null,null,null,null,null,null,null,null,null,null,null,null,null,null,11,99.36363636363636,276.90909090909093,201.09090909090909,78.909090909090907,269.09090909090907,619.27272727272725,38.636363636363633,60.18181818181818,0,0,0,0,0,0,null,156,349.90909090909093,99.36363636363636,276.90909090909093,201.09090909090909,78.909090909090907,269.09090909090907,619.27272727272725,38.636363636363633,60.18181818181818,0,0,0,0,0,0]
[null,13,84.07692307692308,234.30769230769232,170.15384615384616,66.769230769230774,227.69230769230768,524,32.692307692307693,50.92307692307692,0,0,0,0,0,0,null,132,296.07692307692309,84.07692307692308,234.30769230769232,170.15384615384616,66.769230769230774,227.69230769230768,524,32.692307692307693,50.92307692307692,0,0,0,0,0,0,null,428.07692307692309,84.07692307692308,234.30769230769232,170.15384615384616,66.769230769230774,227.69230769230768,524,32.692307692307693,50.92307692307692,0,0,0,0,0,0,null,null,null,null,null,null,null,null,null,null,null,null,null,null,null,null,null,null,null,12,91.083333333333329,253.83333333333334,184.33333333333334,72.333333333333329,246.66666666666666,567.66666666666663,35.416666666666664,55.166666666666664,0,0,0,0,0,0,null,143,320.75,91.083333333333329,253.83333333333334,184.33333333333334,72.333333333333329,246.66666666666666,567.66666666666663,35.416666666666664,55.166666666666664,0,0,0,0,0,0]
[null,14,78.071428571428569,217.57142857142858,158,62,211.42857142857142,486.57142857142856,30.357142857142858,47.285714285714285,0,0,0,0,0,0,null,122.57142857142857,274.92857142857144,78.071428571428569,217.57142857142858,158,62,211.42857142857142,486.57142857142856,30.357142857142858,47.285714285714285,0,0,0,0,0,0,null,397.5,78.071428571428569,217.57142857142858,158,62,211.42857142857142,486.57142857142856,30.357142857142858,47.285714285714285,0,0,0,0,0,0,null,null,null,null,null,null,null,null,null,null,null,null,null,null,null,null,null,null,null,13,84.07692307692308,234.30769230769232,170.15384615384616,66.769230769230774,227.69230769230768,524,32.692307692307693,50.92307692307692,0,0,0,0,0,0,null,132,296.07692307692309,84.07692307692308,234.30769230769232,170.15384615384616,66.769230769230774,227.69230769230768,524,32.692307692307693,50.92307692307692,0,0,0,0,0,0]
[null,15,72.86666666666666,203.06666666666666,147.46666666666667,57.866666666666667,197.33333333333334,454.13333333333333,28.333333333333332,44.133333333333333,0,0,0,0,0,0,null,114.4,256.60000000000002,72.86666666666666,203.06666666666666,147.46666666666667,57.866666666666667,197.33333333333334,454.13333333333333,28.333333333333332,44.133333333333333,0,0,0,0,0,0,null,371,72.86666666666666,203.06666666666666,147.46666666666667,57.866666666666667,197.33333333333334,454.13333333333333,28.333333333333332,44.133333333333333,0,0,0,0,0,0,null,null,null,null,null,null,null,null,null,null,null,null,null,null,null,null,null,null,null,14,78.071428571428569,217.57142857142858,158,62,211.42857142857142,486.57142857142856,30.357142857142858,47.285714285714285,0,0,0,0,0,0,null,122.57142857142857,274.92857142857144,78.071428571428569,217.57142857142858,158,62,211.42857142857142,486.57142857142856,30.357142857142858,47.285714285714285,0,0,0,0,0,0]
[null,16,68.3125,190.375,138.25,54.25,185,425.75,26.5625,41.375,0,0,0,0,0,0,null,107.25,240.5625,68.3125,190.375,138.25,54.25,185,425.75,26.5625,41.375,0,0,0,0,0,0,null,347.8125,68.3125,190.375,138.25,54.25,185,425.75,26.5625,41.375,0,0,0,0,0,0,null,null,null,null,null,null,null,null,null,null,null,null,null,null,null,null,null,null,null,15,72.86666666666666,203.06666666666666,147.46666666666667,57.866666666666667,197.33333333333334,454.13333333333333,28.333333333333332,44.133333333333333,0,0,0,0,0,0,null,114.4,256.60000000000002,72.86666666666666,203.06666666666666,147.46666666666667,57.866666666666667,197.33333333333334,454.13333333333333,28.333333333333332,44.133333333333333,0,0,0,0,0,0]
[null,17,64.294117647058826,179.1764705882353,130.11764705882354,51.058823529411768,174.11764705882354,400.70588235294116,25,38.941176470588232,0,0,0,0,0,0,null,100.94117647058823,226.41176470588235,64.294117647058826,179.1764705882353,130.11764705882354,51.058823529411768,174.11764705882354,400.70588235294116,25,38.941176470588232,0,0,0,0,0,0,null,327.35294117647061,64.294117647058826,179.1764705882353,130.11764705882354,51.058823529411768,174.11764705882354,400.70588235294116,25,38.941176470588232,0,0,0,0,0,0,null,null,null,null,null,null,null,null,null,null,null,null,null,null,null,null,null,null,null,16,68.3125,190.375,138.25,54.25,185,425.75,26.5625,41.375,0,0,0,0,0,0,null,107.25,240.5625,68.3125,190.375,138.25,54.25,185,425.75,26.5625,41.375,0,0,0,0,0,0]
[null,18,60.722222222222221,169.22222222222223,122.88888888888889,48.222222222222221,164.44444444444446,378.44444444444446,23.611111111111111,36.777777777777779,0,0,0,0,0,0,null,95.333333333333329,213.83333333333334,60.722222222222221,169.22222222222223,122.88888888888889,48.222222222222221,164.44444444444446,378.44444444444446,23.611111111111111,36.777777777777779,0,0,0,0,0,0,null,309.16666666666669,60.722222222222221,169.22222222222223,122.88888888888889,48.222222222222221,164.44444444444446,378.44444444444446,23.611111111111111,36.777777777777779,0,0,0,{"$f":"N24","v":0},{"$f":"O24","v":0},0,null,null,null,null,null,null,null,null,null,null,null,null,null,null,null,null,null,null,null,17,64.294117647058826,179.1764705882353,130.11764705882354,51.058823529411768,174.11764705882354,400.70588235294116,25,38.941176470588232,0,0,0,0,0,0,null,100.94117647058823,226.41176470588235,64.294117647058826,179.1764705882353,130.11764705882354,51.058823529411768,174.11764705882354,400.70588235294116,25,38.941176470588232,0,0,0,0,0,0]
[null,19,57.526315789473685,160.31578947368422,116.42105263157895,45.684210526315788,155.78947368421052,358.5263157894737,22.368421052631579,34.842105263157897,0,0,0,0,0,0,null,90.315789473684205,202.57894736842104,57.526315789473685,160.31578947368422,116.42105263157895,45.684210526315788,155.78947368421052,358.5263157894737,22.368421052631579,34.842105263157897,0,0,0,0,0,0,null,292.89473684210526,57.526315789473685,160.31578947368422,116.42105263157895,45.684210526315788,155.78947368421052,358.5263157894737,22.368421052631579,34.842105263157897,0,0,0,0,0,0,null,null,null,null,null,null,null,null,null,null,null,null,null,null,null,null,null,null,null,18,60.722222222222221,169.22222222222223,122.88888888888889,48.222222222222221,164.44444444444446,378.44444444444446,23.611111111111111,36.777777777777779,0,0,0,0,0,0,null,95.333333333333329,213.83333333333334,60.722222222222221,169.22222222222223,122.88888888888889,48.222222222222221,164.44444444444446,378.44444444444446,23.611111111111111,36.777777777777779,0,0,0,0,0,0]
[null,20,54.65,152.30000000000001,110.6,43.4,148,340.6,21.25,33.1,0,0,0,0,0,0,null,85.8,192.45,54.65,152.30000000000001,110.6,43.4,148,340.6,21.25,33.1,0,0,0,0,0,0,null,278.25,54.65,152.30000000000001,110.6,43.4,148,340.6,21.25,33.1,0,0,0,0,0,0,null,null,null,null,null,null,null,null,null,null,null,null,null,null,null,null,null,null,null,19,57.526315789473685,160.31578947368422,116.42105263157895,45.684210526315788,155.78947368421052,358.5263157894737,22.368421052631579,34.842105263157897,0,0,0,0,0,0,null,90.315789473684205,202.57894736842104,57.526315789473685,160.31578947368422,116.42105263157895,45.684210526315788,155.78947368421052,358.5263157894737,22.368421052631579,34.842105263157897,0,0,0,0,0,0]
[null,21,52.047619047619051,145.04761904761904,105.33333333333333,41.333333333333336,140.95238095238096,324.38095238095241,20.238095238095237,31.523809523809526,0,0,0,0,0,0,null,81.714285714285708,183.28571428571428,52.047619047619051,145.04761904761904,105.33333333333333,41.333333333333336,140.95238095238096,324.38095238095241,20.238095238095237,31.523809523809526,0,0,0,0,0,{"$f":"P27","v":0},null,265,52.047619047619051,145.04761904761904,105.33333333333333,41.333333333333336,140.95238095238096,324.38095238095241,20.238095238095237,31.523809523809526,0,0,0,0,0,{"$f":"P27","v":0},null,null,null,null,null,null,null,null,null,null,null,null,null,null,null,null,null,null,null,20,54.65,152.30000000000001,110.6,43.4,148,340.6,21.25,33.1,0,0,0,0,0,0,null,85.8,192.45,54.65,152.30000000000001,110.6,43.4,148,340.6,21.25,33.1,0,0,0,0,0,0]
[null,22,49.68181818181818,138.45454545454547,100.54545454545455,39.454545454545453,134.54545454545453,309.63636363636363,19.318181818181817,30.09090909090909,0,0,0,0,0,0,null,78,174.95454545454547,49.68181818181818,138.45454545454547,100.54545454545455,39.454545454545453,134.54545454545453,309.63636363636363,19.318181818181817,30.09090909090909,0,0,0,0,0,0,null,252.95454545454547,49.68181818181818,138.45454545454547,100.54545454545455,39.454545454545453,134.54545454545453,309.63636363636363,19.318181818181817,30.09090909090909,0,0,0,0,0,0,null,null,null,null,null,null,null,null,null,null,null,null,null,null,null,null,null,null,null,21,52.047619047619051,145.04761904761904,105.33333333333333,41.333333333333336,140.95238095238096,324.38095238095241,20.238095238095237,31.523809523809526,0,0,0,0,0,0,null,81.714285714285708,183.28571428571428,52.047619047619051,145.04761904761904,105.33333333333333,41.333333333333336,140.95238095238096,324.38095238095241,20.238095238095237,31.523809523809526,0,0,0,0,0,0]
[null,23,47.521739130434781,132.43478260869566,96.173913043478265,37.739130434782609,128.69565217391303,296.17391304347825,18.478260869565219,28.782608695652176,0,0,0,0,0,0,null,74.608695652173907,167.34782608695653,47.521739130434781,132.43478260869566,96.173913043478265,37.739130434782609,128.69565217391303,296.17391304347825,18.478260869565219,28.782608695652176,0,0,0,0,0,0,null,241.95652173913044,47.521739130434781,132.43478260869566,96.173913043478265,37.739130434782609,128.69565217391303,296.17391304347825,18.478260869565219,28.782608695652176,0,0,0,0,0,0,null,null,null,null,null,null,null,null,null,null,null,null,null,null,null,null,null,null,null,22,49.68181818181818,138.45454545454547,100.54545454545455,39.454545454545453,134.54545454545453,309.63636363636363,19.318181818181817,30.09090909090909,0,0,0,0,0,0,null,78,174.95454545454547,49.68181818181818,138.45454545454547,100.54545454545455,39.454545454545453,134.54545454545453,309.63636363636363,19.318181818181817,30.09090909090909,0,0,0,0,0,0]
[null,24,45.541666666666664,126.91666666666667,92.166666666666671,36.166666666666664,123.33333333333333,283.83333333333331,17.708333333333332,27.583333333333332,0,0,0,0,0,0,null,71.5,160.375,45.541666666666664,126.91666666666667,92.166666666666671,36.166666666666664,123.33333333333333,283.83333333333331,17.708333333333332,27.583333333333332,0,0,0,0,0,0,null,231.875,45.541666666666664,126.91666666666667,92.166666666666671,36.166666666666664,123.33333333333333,283.83333333333331,17.708333333333332,27.583333333333332,0,0,0,0,0,0,null,null,null,null,null,null,null,null,null,null,null,null,null,null,null,null,null,null,null,23,47.521739130434781,132.43478260869566,96.173913043478265,37.739130434782609,128.69565217391303,296.17391304347825,18.478260869565219,28.782608695652176,0,0,0,0,0,0,null,74.608695652173907,167.34782608695653,47.521739130434781,132.43478260869566,96.173913043478265,37.739130434782609,128.69565217391303,296.17391304347825,18.478260869565219,28.782608695652176,0,0,0,0,0,0]
[null,25,43.72,121.84,88.48,34.72,118.4,272.48,17,26.48,0,0,0,0,0,0,null,68.64,153.96,43.72,121.84,88.48,34.72,118.4,272.48,17,26.48,0,0,0,0,0,0,null,222.6,43.72,121.84,88.48,34.72,118.4,272.48,17,26.48,0,0,0,0,0,0,null,null,null,null,null,null,null,null,null,null,null,null,null,null,null,null,null,null,null,24,45.541666666666664,126.91666666666667,92.166666666666671,36.166666666666664,123.33333333333333,283.83333333333331,17.708333333333332,27.583333333333332,0,0,0,0,0,0,null,71.5,160.375,45.541666666666664,126.91666666666667,92.166666666666671,36.166666666666664,123.33333333333333,283.83333333333331,17.708333333333332,27.583333333333332,0,0,0,0,0,0]
[null,26,42.03846153846154,117.15384615384616,85.07692307692308,33.384615384615387,113.84615384615384,262,16.346153846153847,25.46153846153846,0,0,0,0,0,0,null,66,148.03846153846155,42.03846153846154,117.15384615384616,85.07692307692308,33.384615384615387,113.84615384615384,262,16.346153846153847,25.46153846153846,0,0,0,0,0,0,null,214.03846153846155,42.03846153846154,117.15384615384616,85.07692307692308,33.384615384615387,113.84615384615384,262,16.346153846153847,25.46153846153846,0,0,0,0,0,0,null,null,null,null,null,null,null,null,null,null,null,null,null,null,null,null,null,null,null,25,43.72,121.84,88.48,34.72,118.4,272.48,17,26.48,0,0,0,0,0,0,null,68.64,153.96,43.72,121.84,88.48,34.72,118.4,272.48,17,26.48,0,0,0,0,0,0]
[null,27,40.481481481481481,112.81481481481481,81.925925925925924,32.148148148148145,109.62962962962963,252.2962962962963,15.74074074074074,24.518518518518519,0,0,0,0,0,0,null,63.555555555555557,142.55555555555554,40.481481481481481,112.81481481481481,81.925925925925924,32.148148148148145,109.62962962962963,252.2962962962963,15.74074074074074,24.518518518518519,0,0,0,0,0,0,null,206.11111111111111,40.481481481481481,112.81481481481481,81.925925925925924,32.148148148148145,109.62962962962963,252.2962962962963,15.74074074074074,24.518518518518519,0,0,0,0,0,0,null,null,null,null,null,null,null,null,null,null,null,null,null,null,null,null,null,null,null,26,42.03846153846154,117.15384615384616,85.07692307692308,33.384615384615387,113.84615384615384,262,16.346153846153847,25.46153846153846,0,0,0,0,0,0,null,66,148.03846153846155,42.03846153846154,117.15384615384616,85.07692307692308,33.384615384615387,113.84615384615384,262,16.346153846153847,25.46153846153846,0,0,0,0,0,0]
[null,28,39.035714285714285,108.78571428571429,79,31,105.71428571428571,243.28571428571428,15.178571428571429,23.642857142857142,0,0,0,0,0,0,null,61.285714285714285,137.46428571428572,39.035714285714285,108.78571428571429,79,31,105.71428571428571,243.28571428571428,15.178571428571429,23.642857142857142,0,0,0,0,0,0,null,198.75,39.035714285714285,108.78571428571429,79,31,105.71428571428571,243.28571428571428,15.178571428571429,23.642857142857142,0,0,0,0,0,0,null,null,null,null,null,null,null,null,null,null,null,null,null,null,null,null,null,null,null,27,40.481481481481481,112.81481481481481,81.925925925925924,32.148148148148145,109.62962962962963,252.2962962962963,15.74074074074074,24.518518518518519,0,0,0,0,0,0,null,63.555555555555557,142.55555555555554,40.481481481481481,112.81481481481481,81.925925925925924,32.148148148148145,109.62962962962963,252.2962962962963,15.74074074074074,24.518518518518519,0,0,0,0,0,0]
[null,29,37.689655172413794,105.03448275862068,76.275862068965523,29.931034482758619,102.06896551724138,234.89655172413794,14.655172413793103,22.827586206896552,0,0,0,0,0,0,null,59.172413793103445,132.72413793103448,37.689655172413794,105.03448275862068,76.275862068965523,29.931034482758619,102.06896551724138,234.89655172413794,14.655172413793103,22.827586206896552,0,0,0,0,0,0,null,191.89655172413794,37.689655172413794,105.03448275862068,76.275862068965523,29.931034482758619,102.06896551724138,234.89655172413794,14.655172413793103,22.827586206896552,0,0,0,0,0,0,null,null,null,null,null,null,null,null,null,null,null,null,null,null,null,null,null,null,null,28,39.035714285714285,108.78571428571429,79,31,105.71428571428571,243.28571428571428,15.178571428571429,23.642857142857142,0,0,0,0,0,0,null,61.285714285714285,137.46428571428572,39.035714285714285,108.78571428571429,79,31,105.71428571428571,243.28571428571428,15.178571428571429,23.642857142857142,0,0,0,0,0,0]
[null,30,36.43333333333333,101.53333333333333,73.733333333333334,28.933333333333334,98.666666666666671,227.06666666666666,14.166666666666666,22.066666666666666,0,0,0,0,0,0,null,57.2,128.30000000000001,36.43333333333333,101.53333333333333,73.733333333333334,28.933333333333334,98.666666666666671,227.06666666666666,14.166666666666666,22.066666666666666,0,0,0,0,0,0,null,185.5,36.43333333333333,101.53333333333333,73.733333333333334,28.933333333333334,98.666666666666671,227.06666666666666,14.166666666666666,22.066666666666666,0,0,0,0,0,0,null,null,null,null,null,null,null,null,null,null,null,null,null,null,null,null,null,null,null,29,37.689655172413794,105.03448275862068,76.275862068965523,29.931034482758619,102.06896551724138,234.89655172413794,14.655172413793103,22.827586206896552,0,0,0,0,0,0,null,59.172413793103445,132.72413793103448,37.689655172413794,105.03448275862068,76.275862068965523,29.931034482758619,102.06896551724138,234.89655172413794,14.655172413793103,22.827586206896552,0,0,0,0,0,0]
[null,31,35.258064516129032,98.258064516129039,71.354838709677423,28,95.483870967741936,219.74193548387098,13.709677419354838,21.35483870967742,0,0,0,0,0,0,null,55.354838709677416,124.16129032258064,35.258064516129032,98.258064516129039,71.354838709677423,28,95.483870967741936,219.74193548387098,13.709677419354838,21.35483870967742,0,0,0,0,0,0,null,179.51612903225808,35.258064516129032,98.258064516129039,71.354838709677423,28,95.483870967741936,219.74193548387098,13.709677419354838,21.35483870967742,0,0,0,0,0,0,null,null,null,null,null,null,null,null,null,null,null,null,null,null,null,null,null,null,null,30,36.43333333333333,101.53333333333333,73.733333333333334,28.933333333333334,98.666666666666671,227.06666666666666,14.166666666666666,22.066666666666666,0,0,0,0,0,0,null,57.2,128.30000000000001,36.43333333333333,101.53333333333333,73.733333333333334,28.933333333333334,98.666666666666671,227.06666666666666,14.166666666666666,22.066666666666666,0,0,0,0,0,0]
[null,32,34.15625,95.1875,69.125,27.125,92.5,212.875,13.28125,20.6875,0,0,0,0,0,0,null,53.625,120.28125,34.15625,95.1875,69.125,27.125,92.5,212.875,13.28125,20.6875,0,0,0,0,0,0,null,173.90625,34.15625,95.1875,69.125,27.125,92.5,212.875,13.28125,20.6875,0,0,0,0,0,0,null,null,null,null,null,null,null,null,null,null,null,null,null,null,null,null,null,null,null,31,35.258064516129032,98.258064516129039,71.354838709677423,28,95.483870967741936,219.74193548387098,13.709677419354838,21.35483870967742,0,0,0,0,0,0,null,55.354838709677416,124.16129032258064,35.258064516129032,98.258064516129039,71.354838709677423,28,95.483870967741936,219.74193548387098,13.709677419354838,21.35483870967742,0,0,0,0,0,0]
[null,33,33.121212121212125,92.303030303030297,67.030303030303031,26.303030303030305,89.696969696969703,206.42424242424244,12.878787878787879,20.060606060606062,0,0,0,0,0,0,null,52,116.63636363636364,33.121212121212125,92.303030303030297,67.030303030303031,26.303030303030305,89.696969696969703,206.42424242424244,12.878787878787879,20.060606060606062,0,0,0,0,0,0,null,168.63636363636363,33.121212121212125,92.303030303030297,67.030303030303031,26.303030303030305,89.696969696969703,206.42424242424244,12.878787878787879,20.060606060606062,0,0,0,0,0,0,null,null,null,null,null,null,null,null,null,null,null,null,null,null,null,null,null,null,null,32,34.15625,95.1875,69.125,27.125,92.5,212.875,13.28125,20.6875,0,0,0,0,0,0,null,53.625,120.28125,34.15625,95.1875,69.125,27.125,92.5,212.875,13.28125,20.6875,0,0,0,0,0,0]
[null,34,32.147058823529413,89.588235294117652,65.058823529411768,25.529411764705884,87.058823529411768,200.35294117647058,12.5,19.470588235294116,0,0,0,0,0,0,null,50.470588235294116,113.20588235294117,32.147058823529413,89.588235294117652,65.058823529411768,25.529411764705884,87.058823529411768,200.35294117647058,12.5,19.470588235294116,0,0,0,0,0,0,null,163.6764705882353,32.147058823529413,89.588235294117652,65.058823529411768,25.529411764705884,87.058823529411768,200.35294117647058,12.5,19.470588235294116,0,0,0,0,0,0,null,null,null,null,null,null,null,null,null,null,null,null,null,null,null,null,null,null,null,33,33.121212121212125,92.303030303030297,67.030303030303031,26.303030303030305,89.696969696969703,206.42424242424244,12.878787878787879,20.060606060606062,0,0,0,0,0,0,null,52,116.63636363636364,33.121212121212125,92.303030303030297,67.030303030303031,26.303030303030305,89.696969696969703,206.42424242424244,12.878787878787879,20.060606060606062,0,0,0,0,0,0]
[null,35,31.228571428571428,87.028571428571425,63.2,24.8,84.571428571428569,194.62857142857143,12.142857142857142,18.914285714285715,0,0,0,0,0,0,null,49.028571428571432,109.97142857142858,{"$f":"C41","v":31.228571428571428},{"$f":"D41","v":87.028571428571425},{"$f":"E41","v":63.2},{"$f":"F41","v":24.8},{"$f":"G41","v":84.571428571428569},{"$f":"H41","v":194.62857142857143},{"$f":"I41","v":12.142857142857142},{"$f":"J41","v":18.914285714285715},{"$f":"K41","v":0},{"$f":"L41","v":0},{"$f":"M41","v":0},0,0,0,null,159,{"$f":"C41","v":31.228571428571428},{"$f":"D41","v":87.028571428571425},{"$f":"E41","v":63.2},{"$f":"F41","v":24.8},{"$f":"G41","v":84.571428571428569},{"$f":"H41","v":194.62857142857143},{"$f":"I41","v":12.142857142857142},{"$f":"J41","v":18.914285714285715},{"$f":"K41","v":0},{"$f":"L41","v":0},0,0,0,0,null,null,null,null,null,null,null,null,null,null,null,null,null,null,null,null,null,null,null,34,32.147058823529413,89.588235294117652,65.058823529411768,25.529411764705884,87.058823529411768,200.35294117647058,12.5,19.470588235294116,0,0,0,0,0,0,null,50.470588235294116,113.20588235294117,32.147058823529413,89.588235294117652,65.058823529411768,25.529411764705884,87.058823529411768,200.35294117647058,12.5,19.470588235294116,0,0,0,0,0,0]
[null,36,30.361111111111111,84.611111111111114,61.444444444444443,24.111111111111111,82.222222222222229,189.22222222222223,11.805555555555555,18.388888888888889,0,0,0,0,0,0,null,47.666666666666664,106.91666666666667,30.361111111111111,84.611111111111114,61.444444444444443,24.111111111111111,82.222222222222229,189.22222222222223,11.805555555555555,18.388888888888889,0,0,0,0,0,0,null,154.58333333333334,30.361111111111111,84.611111111111114,61.444444444444443,24.111111111111111,82.222222222222229,189.22222222222223,11.805555555555555,18.388888888888889,0,0,0,0,0,0,null,null,null,null,null,null,null,null,null,null,null,null,null,null,null,null,null,null,null,35,31.228571428571428,87.028571428571425,63.2,24.8,84.571428571428569,194.62857142857143,12.142857142857142,18.914285714285715,0,0,0,0,0,0,null,49.028571428571432,109.97142857142858,31.228571428571428,87.028571428571425,63.2,24.8,84.571428571428569,194.62857142857143,12.142857142857142,18.914285714285715,0,0,0,0,0,0]
[null,37,29.54054054054054,82.324324324324323,59.783783783783782,23.45945945945946,80,184.1081081081081,11.486486486486486,17.891891891891891,0,0,0,0,0,0,null,46.378378378378379,104.02702702702703,29.54054054054054,82.324324324324323,59.783783783783782,23.45945945945946,80,184.1081081081081,11.486486486486486,17.891891891891891,0,0,0,0,0,0,null,150.40540540540542,29.54054054054054,82.324324324324323,59.783783783783782,23.45945945945946,80,184.1081081081081,11.486486486486486,17.891891891891891,0,0,0,0,0,0,null,null,null,null,null,null,null,null,null,null,null,null,null,null,null,null,null,null,null,36,30.361111111111111,84.611111111111114,61.444444444444443,24.111111111111111,82.222222222222229,189.22222222222223,11.805555555555555,18.388888888888889,0,0,0,0,0,0,null,47.666666666666664,106.91666666666667,30.361111111111111,84.611111111111114,61.444444444444443,24.111111111111111,82.222222222222229,189.22222222222223,11.805555555555555,18.388888888888889,0,0,0,0,0,0]
[null,38,28.763157894736842,80.15789473684211,58.210526315789473,22.842105263157894,77.89473684210526,179.26315789473685,11.184210526315789,17.421052631578949,0,0,0,0,0,0,null,45.157894736842103,101.28947368421052,28.763157894736842,80.15789473684211,58.210526315789473,22.842105263157894,77.89473684210526,179.26315789473685,11.184210526315789,17.421052631578949,0,0,0,0,0,0,null,146.44736842105263,28.763157894736842,80.15789473684211,58.210526315789473,22.842105263157894,77.89473684210526,179.26315789473685,11.184210526315789,17.421052631578949,0,0,0,0,0,0,null,null,null,null,null,null,null,null,null,null,null,null,null,null,null,null,null,null,null,37,29.54054054054054,82.324324324324323,59.783783783783782,23.45945945945946,80,184.1081081081081,11.486486486486486,17.891891891891891,0,0,0,0,0,0,null,46.378378378378379,104.02702702702703,29.54054054054054,82.324324324324323,59.783783783783782,23.45945945945946,80,184.1081081081081,11.486486486486486,17.891891891891891,0,0,0,0,0,0]
[null,39,28.025641025641026,78.102564102564102,56.717948717948715,22.256410256410255,75.897435897435898,174.66666666666666,10.897435897435898,16.974358974358974,0,0,0,0,0,0,null,44,98.692307692307693,28.025641025641026,78.102564102564102,56.717948717948715,22.256410256410255,75.897435897435898,174.66666666666666,10.897435897435898,16.974358974358974,0,0,0,0,0,0,null,142.69230769230768,28.025641025641026,78.102564102564102,56.717948717948715,22.256410256410255,75.897435897435898,174.66666666666666,10.897435897435898,16.974358974358974,0,0,0,0,0,0,null,null,null,null,null,null,null,null,null,null,null,null,null,null,null,null,null,null,null,38,28.763157894736842,80.15789473684211,58.210526315789473,22.842105263157894,77.89473684210526,179.26315789473685,11.184210526315789,17.421052631578949,0,0,0,0,0,0,null,45.157894736842103,101.28947368421052,28.763157894736842,80.15789473684211,58.210526315789473,22.842105263157894,77.89473684210526,179.26315789473685,11.184210526315789,17.421052631578949,0,0,0,0,0,0]
[null,40,27.324999999999999,76.150000000000006,55.3,21.7,74,170.3,10.625,16.55,0,0,0,0,0,0,null,42.9,96.224999999999994,27.324999999999999,76.150000000000006,55.3,21.7,74,170.3,10.625,16.55,0,0,0,0,0,0,null,139.125,27.324999999999999,76.150000000000006,55.3,21.7,74,170.3,10.625,16.55,0,0,0,0,0,0,null,null,null,null,null,null,null,null,null,null,null,null,null,null,null,null,null,null,null,39,28.025641025641026,78.102564102564102,56.717948717948715,22.256410256410255,75.897435897435898,174.66666666666666,10.897435897435898,16.974358974358974,0,0,0,0,0,0,null,44,98.692307692307693,28.025641025641026,78.102564102564102,56.717948717948715,22.256410256410255,75.897435897435898,174.66666666666666,10.897435897435898,16.974358974358974,0,0,0,0,0,0]
[null,41,26.658536585365855,74.292682926829272,53.951219512195124,21.170731707317074,72.195121951219505,166.14634146341464,10.365853658536585,16.146341463414632,0,0,0,0,0,0,null,41.853658536585364,93.878048780487802,26.658536585365855,74.292682926829272,53.951219512195124,21.170731707317074,72.195121951219505,166.14634146341464,10.365853658536585,16.146341463414632,0,0,0,0,0,0,null,135.73170731707316,26.658536585365855,74.292682926829272,53.951219512195124,21.170731707317074,72.195121951219505,166.14634146341464,10.365853658536585,16.146341463414632,0,0,0,0,0,0,null,null,null,null,null,null,null,null,null,null,null,null,null,null,null,null,null,null,null,40,27.324999999999999,76.150000000000006,55.3,21.7,74,170.3,10.625,16.55,0,0,0,0,0,0,null,42.9,96.224999999999994,27.324999999999999,76.150000000000006,55.3,21.7,74,170.3,10.625,16.55,0,0,0,0,0,0]
[null,42,26.023809523809526,72.523809523809518,52.666666666666664,20.666666666666668,70.476190476190482,162.1904761904762,10.119047619047619,15.761904761904763,0,0,0,0,0,0,null,40.857142857142854,91.642857142857139,26.023809523809526,72.523809523809518,52.666666666666664,20.666666666666668,70.476190476190482,162.1904761904762,10.119047619047619,15.761904761904763,0,0,0,0,0,0,null,132.5,26.023809523809526,72.523809523809518,52.666666666666664,20.666666666666668,70.476190476190482,162.1904761904762,10.119047619047619,15.761904761904763,0,0,0,0,0,0,null,null,null,null,null,null,null,null,null,null,null,null,null,null,null,null,null,null,null,41,26.658536585365855,74.292682926829272,53.951219512195124,21.170731707317074,72.195121951219505,166.14634146341464,10.365853658536585,16.146341463414632,0,0,0,0,0,0,null,41.853658536585364,93.878048780487802,26.658536585365855,74.292682926829272,53.951219512195124,21.170731707317074,72.195121951219505,166.14634146341464,10.365853658536585,16.146341463414632,0,0,0,0,0,0]
[null,43,25.418604651162791,70.837209302325576,51.441860465116278,20.186046511627907,68.837209302325576,158.41860465116278,9.8837209302325579,15.395348837209303,0,0,0,0,0,0,null,39.906976744186046,89.511627906976742,25.418604651162791,70.837209302325576,51.441860465116278,20.186046511627907,68.837209302325576,158.41860465116278,9.8837209302325579,15.395348837209303,0,0,0,0,0,0,null,129.41860465116278,25.418604651162791,70.837209302325576,51.441860465116278,20.186046511627907,68.837209302325576,158.41860465116278,9.8837209302325579,15.395348837209303,0,0,0,0,0,0,null,null,null,null,null,null,null,null,null,null,null,null,null,null,null,null,null,null,null,42,26.023809523809526,72.523809523809518,52.666666666666664,20.666666666666668,70.476190476190482,162.1904761904762,10.119047619047619,15.761904761904763,0,0,0,0,0,0,null,40.857142857142854,91.642857142857139,26.023809523809526,72.523809523809518,52.666666666666664,20.666666666666668,70.476190476190482,162.1904761904762,10.119047619047619,15.761904761904763,0,0,0,0,0,0]
[null,44,24.84090909090909,69.227272727272734,50.272727272727273,19.727272727272727,67.272727272727266,154.81818181818181,9.6590909090909083,15.045454545454545,0,0,0,0,0,0,null,39,87.477272727272734,24.84090909090909,69.227272727272734,50.272727272727273,19.727272727272727,67.272727272727266,154.81818181818181,9.6590909090909083,15.045454545454545,0,0,0,0,0,0,null,126.47727272727273,24.84090909090909,69.227272727272734,50.272727272727273,19.727272727272727,67.272727272727266,154.81818181818181,9.6590909090909083,15.045454545454545,0,0,0,0,0,0,null,null,null,null,null,null,null,null,null,null,null,null,null,null,null,null,null,null,null,43,25.418604651162791,70.837209302325576,51.441860465116278,20.186046511627907,68.837209302325576,158.41860465116278,9.8837209302325579,15.395348837209303,0,0,0,0,0,0,null,39.906976744186046,89.511627906976742,25.418604651162791,70.837209302325576,51.441860465116278,20.186046511627907,68.837209302325576,158.41860465116278,9.8837209302325579,15.395348837209303,0,0,0,0,0,0]
[null,45,24.288888888888888,67.688888888888883,49.155555555555559,19.288888888888888,65.777777777777771,151.37777777777777,9.4444444444444446,14.71111111111111,0,0,0,0,0,0,null,38.133333333333333,85.533333333333331,24.288888888888888,67.688888888888883,49.155555555555559,19.288888888888888,65.777777777777771,151.37777777777777,9.4444444444444446,14.71111111111111,0,0,0,0,0,0,null,123.66666666666667,24.288888888888888,67.688888888888883,49.155555555555559,19.288888888888888,65.777777777777771,151.37777777777777,9.4444444444444446,14.71111111111111,0,0,0,0,0,0,null,null,null,null,null,null,null,null,null,null,null,null,null,null,null,null,null,null,null,44,24.84090909090909,69.227272727272734,50.272727272727273,19.727272727272727,67.272727272727266,154.81818181818181,9.6590909090909083,15.045454545454545,0,0,0,0,0,0,null,39,87.477272727272734,24.84090909090909,69.227272727272734,50.272727272727273,19.727272727272727,67.272727272727266,154.81818181818181,9.6590909090909083,15.045454545454545,0,0,0,0,0,0]
[null,46,23.760869565217391,66.217391304347828,48.086956521739133,18.869565217391305,64.347826086956516,148.08695652173913,9.2391304347826093,14.391304347826088,0,0,0,0,0,0,null,37.304347826086953,83.673913043478265,23.760869565217391,66.217391304347828,48.086956521739133,18.869565217391305,64.347826086956516,148.08695652173913,9.2391304347826093,14.391304347826088,0,0,0,0,0,0,null,120.97826086956522,23.760869565217391,66.217391304347828,48.086956521739133,18.869565217391305,64.347826086956516,148.08695652173913,9.2391304347826093,14.391304347826088,0,0,0,0,0,0,null,null,null,null,null,null,null,null,null,null,null,null,null,null,null,null,null,null,null,45,24.288888888888888,67.688888888888883,49.155555555555559,19.288888888888888,65.777777777777771,151.37777777777777,9.4444444444444446,14.71111111111111,0,0,0,0,0,0,null,38.133333333333333,85.533333333333331,24.288888888888888,67.688888888888883,49.155555555555559,19.288888888888888,65.777777777777771,151.37777777777777,9.4444444444444446,14.71111111111111,0,0,0,0,0,0]
[null,47,23.25531914893617,64.808510638297875,47.063829787234042,18.468085106382979,62.978723404255319,144.93617021276594,9.0425531914893611,14.085106382978724,0,0,0,0,0,0,null,36.51063829787234,81.893617021276597,23.25531914893617,64.808510638297875,47.063829787234042,18.468085106382979,62.978723404255319,144.93617021276594,9.0425531914893611,14.085106382978724,0,0,0,0,0,0,null,118.40425531914893,23.25531914893617,64.808510638297875,47.063829787234042,18.468085106382979,62.978723404255319,144.93617021276594,9.0425531914893611,14.085106382978724,0,0,0,0,0,0,null,null,null,null,null,null,null,null,null,null,null,null,null,null,null,null,null,null,null,46,23.760869565217391,66.217391304347828,48.086956521739133,18.869565217391305,64.347826086956516,148.08695652173913,9.2391304347826093,14.391304347826088,0,0,0,0,0,0,null,37.304347826086953,83.673913043478265,23.760869565217391,66.217391304347828,48.086956521739133,18.869565217391305,64.347826086956516,148.08695652173913,9.2391304347826093,14.391304347826088,0,0,0,0,0,0]
[null,48,22.770833333333332,63.458333333333336,46.083333333333336,18.083333333333332,61.666666666666664,141.91666666666666,8.8541666666666661,{"$f":"$J$6/B54","v":13.791666666666666},0,0,0,0,0,0,null,35.75,80.1875,22.770833333333332,63.458333333333336,46.083333333333336,18.083333333333332,61.666666666666664,141.91666666666666,8.8541666666666661,13.791666666666666,0,0,0,0,0,0,null,115.9375,22.770833333333332,63.458333333333336,46.083333333333336,18.083333333333332,61.666666666666664,141.91666666666666,8.8541666666666661,13.791666666666666,0,0,0,0,0,0,null,null,null,null,null,null,null,null,null,null,null,null,null,null,null,null,null,null,null,47,23.25531914893617,64.808510638297875,47.063829787234042,18.468085106382979,62.978723404255319,144.93617021276594,9.0425531914893611,14.085106382978724,0,0,0,0,0,0,null,36.51063829787234,81.893617021276597,23.25531914893617,64.808510638297875,47.063829787234042,18.468085106382979,62.978723404255319,144.93617021276594,9.0425531914893611,14.085106382978724,0,0,0,0,0,0]
[null,49,22.306122448979593,62.163265306122447,45.142857142857146,17.714285714285715,60.408163265306122,139.0204081632653,8.6734693877551017,13.510204081632653,0,0,0,0,0,0,null,35.020408163265309,78.551020408163268,22.306122448979593,62.163265306122447,45.142857142857146,17.714285714285715,60.408163265306122,139.0204081632653,8.6734693877551017,13.510204081632653,0,0,0,0,0,{"$f":"P55","v":0},null,113.57142857142857,22.306122448979593,62.163265306122447,45.142857142857146,17.714285714285715,60.408163265306122,139.0204081632653,8.6734693877551017,13.510204081632653,0,0,0,0,0,{"$f":"P55","v":0},null,null,null,null,null,null,null,null,null,null,null,null,null,null,null,null,null,null,null,48,22.770833333333332,63.458333333333336,46.083333333333336,18.083333333333332,61.666666666666664,141.91666666666666,8.8541666666666661,13.791666666666666,0,0,0,0,0,0,null,35.75,80.1875,22.770833333333332,63.458333333333336,46.083333333333336,18.083333333333332,61.666666666666664,141.91666666666666,8.8541666666666661,13.791666666666666,0,0,0,0,0,0]
[null,50,21.86,60.92,44.24,17.36,59.2,136.24,8.5,13.24,0,0,0,0,0,0,null,34.32,76.98,21.86,60.92,44.24,17.36,59.2,136.24,8.5,13.24,0,0,0,0,0,0,null,111.3,21.86,60.92,44.24,17.36,59.2,136.24,8.5,13.24,0,0,0,0,0,0,null,null,null,null,null,null,null,null,null,null,null,null,null,null,null,null,null,null,null,49,22.306122448979593,62.163265306122447,45.142857142857146,17.714285714285715,60.408163265306122,139.0204081632653,8.6734693877551017,13.510204081632653,0,0,0,0,0,0,null,35.020408163265309,78.551020408163268,22.306122448979593,62.163265306122447,45.142857142857146,17.714285714285715,60.408163265306122,139.0204081632653,8.6734693877551017,13.510204081632653,0,0,0,0,0,0]
[null,51,21.431372549019606,59.725490196078432,43.372549019607845,17.019607843137255,58.03921568627451,133.56862745098039,8.3333333333333339,12.980392156862745,0,0,0,0,0,0,null,33.647058823529413,75.470588235294116,21.431372549019606,59.725490196078432,43.372549019607845,17.019607843137255,58.03921568627451,133.56862745098039,8.3333333333333339,12.980392156862745,0,0,0,0,0,0,null,109.11764705882354,21.431372549019606,59.725490196078432,43.372549019607845,17.019607843137255,58.03921568627451,133.56862745098039,8.3333333333333339,12.980392156862745,0,0,0,0,0,0,null,null,null,null,null,null,null,null,null,null,null,null,null,null,null,null,null,null,null,50,21.86,60.92,44.24,17.36,59.2,136.24,8.5,13.24,0,0,0,0,0,0,null,34.32,76.98,21.86,60.92,44.24,17.36,59.2,136.24,8.5,13.24,0,0,0,0,0,0]
[null,52,21.01923076923077,58.57692307692308,42.53846153846154,16.692307692307693,56.92307692307692,131,8.1730769230769234,12.73076923076923,0,0,0,0,0,0,null,33,74.019230769230774,21.01923076923077,58.57692307692308,42.53846153846154,16.692307692307693,56.92307692307692,131,8.1730769230769234,12.73076923076923,0,0,0,0,0,0,null,107.01923076923077,21.01923076923077,58.57692307692308,42.53846153846154,16.692307692307693,56.92307692307692,131,8.1730769230769234,12.73076923076923,0,0,0,0,0,0,null,null,null,null,null,null,null,null,null,null,null,null,null,null,null,null,null,null,null,51,21.431372549019606,59.725490196078432,43.372549019607845,17.019607843137255,58.03921568627451,133.56862745098039,8.3333333333333339,12.980392156862745,0,0,0,0,0,0,null,33.647058823529413,75.470588235294116,21.431372549019606,59.725490196078432,43.372549019607845,17.019607843137255,58.03921568627451,133.56862745098039,8.3333333333333339,12.980392156862745,0,0,0,0,0,0]
[null,53,{"$f":"$C$6/B59","v":20.622641509433961},{"$f":"$D$6/B59","v":57.471698113207545},{"$f":"$E$6/B59","v":41.735849056603776},{"$f":"$F$6/B59","v":16.377358490566039},{"$f":"$G$6/B59","v":55.849056603773583},{"$f":"$H$6/B59","v":128.52830188679246},{"$f":"$I$6/B59","v":8.0188679245283012},12.490566037735849,{"$f":"$K$6/B59","v":0},{"$f":"$L$6/B59","v":0},{"$f":"$M$6/B59","v":0},0,0,{"$f":"$P$6/B59","v":0},null,{"$f":"$R$6/B59","v":32.377358490566039},{"$f":"$S$6/B59","v":72.622641509433961},20.622641509433961,57.471698113207545,41.735849056603776,16.377358490566039,55.849056603773583,128.52830188679246,8.0188679245283012,12.490566037735849,0,0,0,0,0,0,null,{"$f":"$AI$6/B59","v":105},20.622641509433961,57.471698113207545,41.735849056603776,16.377358490566039,55.849056603773583,128.52830188679246,8.0188679245283012,12.490566037735849,0,0,0,0,0,0,null,null,null,null,null,null,null,null,null,null,null,null,null,null,null,null,null,null,null,52,{"$f":"$C$6/BQ59","v":21.01923076923077},{"$f":"$D$6/BQ59","v":58.57692307692308},{"$f":"$E$6/BQ59","v":42.53846153846154},{"$f":"$F$6/BQ59","v":16.692307692307693},{"$f":"$G$6/BQ59","v":56.92307692307692},{"$f":"$H$6/BQ59","v":131},{"$f":"$I$6/BQ59","v":8.1730769230769234},12.73076923076923,{"$f":"$K$6/BQ59","v":0},{"$f":"$L$6/BQ59","v":0},{"$f":"$M$6/BQ59","v":0},0,0,{"$f":"$P$6/BQ59","v":0},null,{"$f":"$R$6/BQ59","v":33},{"$f":"$S$6/BQ59","v":74.019230769230774},21.01923076923077,58.57692307692308,42.53846153846154,16.692307692307693,56.92307692307692,131,8.1730769230769234,12.73076923076923,0,0,0,0,0,0]
[null,54,{"$f":"$C$6/B60","v":20.24074074074074},{"$f":"$D$6/B60","v":56.407407407407405},{"$f":"$E$6/B60","v":40.962962962962962},{"$f":"$F$6/B60","v":16.074074074074073},{"$f":"$G$6/B60","v":54.814814814814817},{"$f":"$H$6/B60","v":126.14814814814815},{"$f":"$I$6/B60","v":7.8703703703703702},12.25925925925926,{"$f":"$K$6/B60","v":0},{"$f":"$L$6/B60","v":0},{"$f":"$M$6/B60","v":0},{"$f":"$N$6/B60","v":0},0,{"$f":"$P$6/B60","v":0},null,{"$f":"$R$6/B60","v":31.777777777777779},{"$f":"$S$6/B60","v":71.277777777777771},20.24074074074074,56.407407407407405,40.962962962962962,16.074074074074073,54.814814814814817,126.14814814814815,7.8703703703703702,12.25925925925926,0,0,0,0,0,0,null,{"$f":"$AI$6/B60","v":103.05555555555556},20.24074074074074,56.407407407407405,40.962962962962962,16.074074074074073,54.814814814814817,126.14814814814815,7.8703703703703702,12.25925925925926,0,0,0,0,0,0,null,null,null,null,null,null,null,null,null,null,null,null,null,null,null,null,null,null,null,53,{"$f":"$C$6/BQ60","v":20.622641509433961},{"$f":"$D$6/BQ60","v":57.471698113207545},{"$f":"$E$6/BQ60","v":41.735849056603776},{"$f":"$F$6/BQ60","v":16.377358490566039},{"$f":"$G$6/BQ60","v":55.849056603773583},{"$f":"$H$6/BQ60","v":128.52830188679246},{"$f":"$I$6/BQ60","v":8.0188679245283012},12.490566037735849,{"$f":"$K$6/BQ60","v":0},{"$f":"$L$6/BQ60","v":0},{"$f":"$M$6/BQ60","v":0},{"$f":"$N$6/BQ60","v":0},0,{"$f":"$P$6/BQ60","v":0},null,{"$f":"$R$6/BQ60","v":32.377358490566039},{"$f":"$S$6/BQ60","v":72.622641509433961},20.622641509433961,57.471698113207545,41.735849056603776,16.377358490566039,55.849056603773583,128.52830188679246,8.0188679245283012,12.490566037735849,0,0,0,0,0,0]
[]
[]
[null,"Nombre d'inscrits",23643]
[null,"Bulletins déposés",19794]
[null,"Blancs & Nuls",1716]
[null,"Votes valables",18078]
[null,"Nombre de sièges",35]
[]
[]
[]
[]
[null,"Liste unique\nMajorité\nabsolue",{"$f":"SUM($C$73:$P$73)","v":0},null,null,null,null,null,null,null,null,null,null,null,null,null,null,{"$f":"SUM($R$73:$AG$73)","v":0},null,null,null,null,null,null,null,null,null,null,null,null,null,null,null,null,{"$f":"SUM($AI$73:$AW$73)","v":0}]
[null,null,{"$f":"IF(C7>($C$67/2),1,0)","v":0},{"$f":"IF(D7>($C$67/2),1,0)","v":0},{"$f":"IF(E7>($C$67/2),1,0)","v":0},{"$f":"IF(F7>($C$67/2),1,0)","v":0},{"$f":"IF(G7>($C$67/2),1,0)","v":0},{"$f":"IF(H7>($C$67/2),1,0)","v":0},{"$f":"IF(I7>($C$67/2),1,0)","v":0},{"$f":"IF(J7>($C$67/2),1,0)","v":0},{"$f":"IF(K7>($C$67/2),1,0)","v":0},{"$f":"IF(L7>($C$67/2),1,0)","v":0},{"$f":"IF(M7>($C$67/2),1,0)","v":0},{"$f":"IF(N7>($C$67/2),1,0)","v":0},{"$f":"IF(O7>($C$67/2),1,0)","v":0},{"$f":"IF(P7>($C$67/2),1,0)","v":0},null,{"$f":"IF(R7>($C$67/2),1,0)","v":0},{"$f":"IF(S7>($C$67/2),1,0)","v":0},{"$f":"IF(T7>($C$67/2),1,0)","v":0},{"$f":"IF(U7>($C$67/2),1,0)","v":0},{"$f":"IF(V7>($C$67/2),1,0)","v":0},{"$f":"IF(W7>($C$67/2),1,0)","v":0},{"$f":"IF(X7>($C$67/2),1,0)","v":0},{"$f":"IF(Y7>($C$67/2),1,0)","v":0},{"$f":"IF(Z7>($C$67/2),1,0)","v":0},{"$f":"IF(AA7>($C$67/2),1,0)","v":0},{"$f":"IF(AB7>($C$67/2),1,0)","v":0},{"$f":"IF(AC7>($C$67/2),1,0)","v":0},{"$f":"IF(AD7>($C$67/2),1,0)","v":0},{"$f":"IF(AE7>($C$67/2),1,0)","v":0},{"$f":"IF(AF7>($C$67/2),1,0)","v":0},{"$f":"IF(AG7>($C$67/2),1,0)","v":0},null,{"$f":"IF(AI7>($C$67/2),1,0)","v":0},{"$f":"IF(AJ7>($C$67/2),1,0)","v":0},{"$f":"IF(AK7>($C$67/2),1,0)","v":0},{"$f":"IF(AL7>($C$67/2),1,0)","v":0},{"$f":"IF(AM7>($C$67/2),1,0)","v":0},{"$f":"IF(AN7>($C$67/2),1,0)","v":0},{"$f":"IF(AO7>($C$67/2),1,0)","v":0},{"$f":"IF(AP7>($C$67/2),1,0)","v":0},{"$f":"IF(AQ7>($C$67/2),1,0)","v":0},{"$f":"IF(AR7>($C$67/2),1,0)","v":0},{"$f":"IF(AS7>($C$67/2),1,0)","v":0},{"$f":"IF(AT7>($C$67/2),1,0)","v":0},{"$f":"IF(AU7>($C$67/2),1,0)","v":0},{"$f":"IF(AV7>($C$67/2),1,0)","v":0},{"$f":"IF(AW7>($C$67/2),1,0)","v":0}]
[]
[null,"Liste unique\nMajorité\nabsolue\nnombre de voix",{"$f":"SUM($C$76:$P$76)","v":0},null,null,null,null,null,null,null,null,null,null,null,null,null,null,{"$f":"SUM(R76:AG76)","v":0},null,null,null,null,null,null,null,null,null,null,null,null,null,null,null,null,{"$f":"SUM(AI76:AW76)","v":0}]
[null,null,{"$f":"IF(C73>0,C6,0)","v":0},{"$f":"IF(D73>0,D6,0)","v":0},{"$f":"IF(E73>0,E6,0)","v":0},{"$f":"IF(F73>0,F6,0)","v":0},{"$f":"IF(G73>0,G6,0)","v":0},{"$f":"IF(H73>0,H6,0)","v":0},{"$f":"IF(I73>0,I6,0)","v":0},{"$f":"IF(J73>0,J6,0)","v":0},{"$f":"IF(K73>0,K6,0)","v":0},{"$f":"IF(L73>0,L6,0)","v":0},{"$f":"IF(M73>0,M6,0)","v":0},{"$f":"IF(N73>0,N6,0)","v":0},{"$f":"IF(O73>0,O6,0)","v":0},{"$f":"IF(P73>0,P6,0)","v":0},null,{"$f":"IF(R73>0,R6,0)","v":0},{"$f":"IF(S73>0,S6,0)","v":0},{"$f":"IF(T73>0,T6,0)","v":0},{"$f":"IF(U73>0,U6,0)","v":0},{"$f":"IF(V73>0,V6,0)","v":0},{"$f":"IF(W73>0,W6,0)","v":0},{"$f":"IF(X73>0,X6,0)","v":0},{"$f":"IF(Y73>0,Y6,0)","v":0},{"$f":"IF(Z73>0,Z6,0)","v":0},{"$f":"IF(AA73>0,AA6,0)","v":0},{"$f":"IF(AB73>0,AB6,0)","v":0},{"$f":"IF(AC73>0,AC6,0)","v":0},{"$f":"IF(AD73>0,AD6,0)","v":0},{"$f":"IF(AE73>0,AE6,0)","v":0},{"$f":"IF(AF73>0,AF6,0)","v":0},{"$f":"IF(AG73>0,AG6,0)","v":0},null,{"$f":"IF(AI73>0,AI6,0)","v":0},{"$f":"IF(AJ73>0,AJ6,0)","v":0},{"$f":"IF(AK73>0,AK6,0)","v":0},{"$f":"IF(AL73>0,AL6,0)","v":0},{"$f":"IF(AM73>0,AM6,0)","v":0},{"$f":"IF(AN73>0,AN6,0)","v":0},{"$f":"IF(AO73>0,AO6,0)","v":0},{"$f":"IF(AP73>0,AP6,0)","v":0},{"$f":"IF(AQ73>0,AQ6,0)","v":0},{"$f":"IF(AR73>0,AR6,0)","v":0},{"$f":"IF(AS73>0,AS6,0)","v":0},{"$f":"IF(AT73>0,AT6,0)","v":0},{"$f":"IF(AU73>0,AU6,0)","v":0},{"$f":"IF(AV73>0,AV6,0)","v":0},{"$f":"IF(AW73>0,AW6,0)","v":0}]
[]
[null,"Nbr voix\nCoalition",{"$f":"SUMIF(C4:P4,\"x\",C6:P6)","v":9024}]
[]
[null,"% Coalition",{"$f":"100/C63*C78","v":38.167745209998735}]
[null,"% Majorité",{"$f":"100/C63*C75","v":0}]
[]
[null,"Coalition",{"$f":"COUNTA(C4:P4)","v":2},{"$f":"IF(C83>0,1,0)","v":1}]
[]
[]
[]
[]
[]
[]
[]
[]
[]
[]
[]
[]
[null,null,null,null,null,null,null,null,null,null,null,null,null,null,null,"EVERE"]
[]
[null,null,null,null,null,null,null,null,null,null,null,null,null,null,null,null,null,{"$f":"R5","v":"Blancs & Nuls"},{"$f":"S5","v":"Non-déposés"},{"$f":"T5","v":"HUMANISTES EVEROIS"},{"$f":"U5","v":"ECOLO-GROEN"},{"$f":"V5","v":"DéFI"},{"$f":"W5","v":"N-VA"},{"$f":"X5","v":"MR"},{"$f":"Y5","v":"LISTE DU BOURGMESTRE"},{"$f":"Z5","v":"NATION"},{"$f":"AA5","v":"PP Parti Populaire"},{"$f":"AB5","v":0},{"$f":"AC5","v":0},{"$f":"AD5","v":0},{"$f":"AE5","v":0},{"$f":"AF5","v":0},{"$f":"AG5","v":0}]
[null,null,null,null,null,null,null,null,null,null,null,null,null,null,null,"Chiffres\nélectoraux",null,{"$f":"R6","v":1716},{"$f":"S6","v":3849},{"$f":"T6","v":1093},{"$f":"U6","v":3046},{"$f":"V6","v":2212},{"$f":"W6","v":868},{"$f":"X6","v":2960},{"$f":"Y6","v":6812},{"$f":"Z6","v":425},{"$f":"AA6","v":662},{"$f":"AB6","v":0},{"$f":"AC6","v":0},{"$f":"AD6","v":0},{"$f":"AE6","v":0},{"$f":"AF6","v":0},{"$f":"AG6","v":0}]
[null,null,null,null,null,null,null,null,null,null,null,null,null,null,null,"Impériali",null,0,0,{"$f":"C7","v":1},{"$f":"D7","v":7},{"$f":"E7","v":4},{"$f":"F7","v":1},{"$f":"G7","v":6},{"$f":"H7","v":16},{"$f":"I7","v":0},{"$f":"J7","v":0},{"$f":"K7","v":0},{"$f":"L7","v":0},{"$f":"M7","v":0},{"$f":"N7","v":0},{"$f":"O7","v":0},{"$f":"P7","v":0}]
[null,null,null,null,null,null,null,null,null,null,null,null,null,null,null,"Impériali\n+ proportionnelle",null,{"$f":"R7","v":2},{"$f":"S7","v":6},{"$f":"T7","v":1},{"$f":"U7","v":5},{"$f":"V7","v":3},{"$f":"W7","v":0},{"$f":"X7","v":5},{"$f":"Y7","v":13},{"$f":"Z7","v":0},{"$f":"AA7","v":0},{"$f":"AB7","v":0},{"$f":"AC7","v":0},{"$f":"AD7","v":0},{"$f":"AE7","v":0},{"$f":"AF7","v":0},{"$f":"AG7","v":0}]
[null,null,null,null,null,null,null,null,null,null,null,null,null,null,null,"D'Hondt",null,0,0,{"$f":"BR7","v":2},{"$f":"BS7","v":6},{"$f":"BT7","v":4},{"$f":"BU7","v":1},{"$f":"BV7","v":6},{"$f":"BW7","v":15},{"$f":"BX7","v":0},{"$f":"BY7","v":1},{"$f":"BZ7","v":0},{"$f":"CA7","v":0},{"$f":"CB7","v":0},{"$f":"CC7","v":0},{"$f":"CD7","v":0},{"$f":"CE7","v":0}]
[null,null,null,null,null,null,null,null,null,null,null,null,null,null,null,"D'Hondt\n+ proportionnelle",null,{"$f":"CG7","v":2},{"$f":"CH7","v":6},{"$f":"CI7","v":1},{"$f":"CJ7","v":5},{"$f":"CK7","v":3},{"$f":"CL7","v":1},{"$f":"CM7","v":5},{"$f":"CN7","v":11},{"$f":"CO7","v":0},{"$f":"CP7","v":1},{"$f":"CQ7","v":0},{"$f":"CR7","v":0},{"$f":"CS7","v":0},{"$f":"CT7","v":0},{"$f":"CU7","v":0},{"$f":"CV7","v":0}]
[null,null,null,null,null,null,null,null,null,null,null,null,null,null,null,"Proportionnelle\npure",null,{"$f":"AZ7","v":2.5402867656388781},{"$f":"BA7","v":5.6978809795711198},{"$f":"BB7","v":1.6180264771814068},{"$f":"BC7","v":4.5091570443683118},{"$f":"BD7","v":3.2745421477815841},{"$f":"BE7","v":1.2849469187497355},{"$f":"BF7","v":4.3818466353677623},{"$f":"BG7","v":10.08416867571797},{"$f":"BH7","v":0.62915027703760096},{"$f":"BI7","v":0.97999407858562781},{"$f":"BJ7","v":0},{"$f":"BK7","v":0},{"$f":"BL7","v":0},{"$f":"BM7","v":0},{"$f":"BN7","v":0},{"$f":"BO7","v":0}]
[]
[null,null,null,null,null,null,null,null,null,null,null,null,null,null,null,null,"Nombre de sièges à distribuer :",null,null,null,{"$f":"C67","v":35},null,"Est-ce une liste unique en majorité absolue en termes de sièges ?",null,null,null,null,null,null,{"$f":"IF(C72>0,\"Oui\",\"Non\")","v":"Non"}]
[]
[null,null,null,null,null,null,null,null,null,null,null,null,null,null,null,null,"Nombre d'inscrits :",null,null,null,{"$f":"C63","v":23643},null,"Est-ce une liste unique en majorité absolue en termes de voix ?",null,null,null,null,null,null,{"$f":"IF(C75>0,\"Oui\",\"Non\")","v":"Non"}]
[]
[null,null,null,null,null,null,null,null,null,null,null,null,null,null,null,null,"Nombre de bulletins déposés :",null,null,null,{"$f":"C64","v":19794},null,"La majorité est-elle formée par une coalition ?",null,null,null,null,null,null,{"$f":"IF(B4>0,\"Oui\",\"Non\")","v":"Oui"}]
[]
[null,null,null,null,null,null,null,null,null,null,null,null,null,null,null,null,"Nombre de votes valables :",null,null,null,{"$f":"C66","v":18078},null,"Quelle est la proportion de l'électorat représentée par la majorité ?",null,null,null,null,null,null,{"$f":"IF(D83>0,C80,C81)","v":38.167745209998735}]
[]
[null,null,null,null,null,null,null,null,null,null,null,null,null,null,null,"Comparaison\nClef Impériali\n-\nClef D'Hondt",null,{"$f":"R100-R102","v":0},{"$f":"S100-S102","v":0},-1,1,0,0,0,1,0,-1,0,0,0,0,0,0]

{"sheet":"FOREST","index":10,"n_rows":114,"n_cols":100,"rows_kept":114,"cut":false,"hidden":false,"merged":[[1,1,1,48],[1,68,1,99],[1,50,1,66],[71,1,72,1],[113,15,113,16],[107,16,107,19],[109,16,109,19],[111,16,111,19],[74,1,75,1],[95,15,95,32],[105,22,105,27],[107,22,107,27],[109,22,109,27],[111,22,111,27],[105,16,105,19]]}
[]
[null,"IMPÉRIALI",null,null,null,null,null,null,null,null,null,null,null,null,null,null,null,null,null,null,null,null,null,null,null,null,null,null,null,null,null,null,null,null,null,null,null,null,null,null,null,null,null,null,null,null,null,null,null,null,"PROPORTIONNELLE PURE",null,null,null,null,null,null,null,null,null,null,null,null,null,null,null,null,null,"D'HONDT"]
[]
[null,"Coalition",null,"x",null,"x"]
[null,{"$f":"COUNTA(C5:P5)","v":8},"CDH","ECOLO-GROEN","DéFI","LISTE DU BOURGMESTRE","PTB*PVDA","MR","Forest En Mieux","Chrétien",null,null,null,null,null,null,null,"Blancs & Nuls","Non-déposés",{"$f":"C5","v":"CDH"},{"$f":"D5","v":"ECOLO-GROEN"},{"$f":"E5","v":"DéFI"},{"$f":"F5","v":"LISTE DU BOURGMESTRE"},{"$f":"G5","v":"PTB*PVDA"},{"$f":"H5","v":"MR"},{"$f":"I5","v":"Forest En Mieux"},{"$f":"J5","v":"Chrétien"},{"$f":"K5","v":0},{"$f":"L5","v":0},{"$f":"M5","v":0},{"$f":"N5","v":0},{"$f":"O5","v":0},{"$f":"P5","v":0},null,"Non-valables",{"$f":"C5","v":"CDH"},{"$f":"D5","v":"ECOLO-GROEN"},{"$f":"E5","v":"DéFI"},{"$f":"F5","v":"LISTE DU BOURGMESTRE"},{"$f":"G5","v":"PTB*PVDA"},{"$f":"H5","v":"MR"},{"$f":"I5","v":"Forest En Mieux"},{"$f":"J5","v":"Chrétien"},{"$f":"K5","v":0},{"$f":"L5","v":0},{"$f":"M5","v":0},{"$f":"N5","v":0},{"$f":"O5","v":0},{"$f":"P5","v":0},null,"New Key","Blancs & Nuls","Non-déposés",{"$f":"C5","v":"CDH"},{"$f":"D5","v":"ECOLO-GROEN"},"DéFI","LISTE DU BOURGMESTRE","PTB*PVDA","MR","Forest En Mieux","Chrétien",0,0,0,0,0,0,null,null,{"$f":"C5","v":"CDH"},{"$f":"D5","v":"ECOLO-GROEN"},"DéFI","LISTE DU BOURGMESTRE","PTB*PVDA","MR","Forest En Mieux","Chrétien",0,0,0,0,0,0,null,"Blancs & Nuls","Non-déposés",{"$f":"C5","v":"CDH"},{"$f":"D5","v":"ECOLO-GROEN"},"DéFI","LISTE DU BOURGMESTRE","PTB*PVDA","MR","Forest En Mieux","Chrétien",0,0,0,0,0,0]
[null,"Chiffres\nélectoraux",1795,5999,2778,5870,2567,3640,903,187,0,0,0,0,0,0,null,{"$f":"C65","v":1494},{"$f":"C63-C64","v":4572},1795,5999,2778,5870,2567,3640,903,187,0,0,0,0,0,0,null,{"$f":"R6+S6","v":6066},1795,5999,2778,5870,2567,3640,903,187,0,0,0,0,0,0,null,null,{"$f":"C65","v":1494},{"$f":"C63-C64","v":4572},{"$f":"C6","v":1795},5999,2778,5870,2567,3640,903,187,0,0,0,0,0,0,null,"Chiffres\nélectoraux",{"$f":"C6","v":1795},5999,2778,5870,2567,3640,903,187,0,0,0,0,0,0,null,{"$f":"C65","v":1494},{"$f":"C63-C64","v":4572},{"$f":"C6","v":1795},5999,2778,5870,2567,3640,903,187,0,0,0,0,0,0]
[null,"Sièges",2,11,4,10,4,6,0,0,0,0,0,0,0,0,null,1,6,2,9,3,8,3,5,0,0,0,0,0,0,0,0,null,9,1,8,3,8,3,5,0,0,0,0,0,0,0,0,null,805.78378378378375,1.8540953914268465,5.6739786677399886,2.2276447306634468,7.444925202924801,3.4475749647816465,7.2848326289662575,3.1968873683504397,4.517340846582143,1.1206480177098008,0.23207218085463208,0,0,0,0,0,0,null,"Sièges",3,10,4,9,4,6,1,0,0,0,0,0,0,0,null,2,6,2,8,3,8,3,4,1,0,0,0,0,0,0,0]
[null,2,{"$f":"$C$6/B8","v":897.5},{"$f":"$D$6/B8","v":2999.5},{"$f":"$E$6/B8","v":1389},{"$f":"$F$6/B8","v":2935},{"$f":"$G$6/B8","v":1283.5},{"$f":"$H$6/B8","v":1820},{"$f":"$I$6/B8","v":451.5},{"$f":"$J$6/B8","v":93.5},{"$f":"$K$6/B8","v":0},{"$f":"$L$6/B8","v":0},{"$f":"$M$6/B8","v":0},{"$f":"$N$6/B8","v":0},{"$f":"$O$6/B8","v":0},{"$f":"$P$6/B8","v":0},null,{"$f":"$R$6/B8","v":747},{"$f":"$S$6/B8","v":2286},{"$f":"C8","v":897.5},{"$f":"D8","v":2999.5},{"$f":"E8","v":1389},{"$f":"F8","v":2935},{"$f":"G8","v":1283.5},{"$f":"H8","v":1820},{"$f":"I8","v":451.5},{"$f":"J8","v":93.5},{"$f":"K8","v":0},{"$f":"L8","v":0},{"$f":"M8","v":0},{"$f":"N8","v":0},0,{"$f":"P8","v":0},null,{"$f":"$AI$6/B8","v":3033},{"$f":"C8","v":897.5},{"$f":"D8","v":2999.5},{"$f":"E8","v":1389},{"$f":"F8","v":2935},{"$f":"G8","v":1283.5},{"$f":"H8","v":1820},{"$f":"I8","v":451.5},{"$f":"J8","v":93.5},{"$f":"K8","v":0},{"$f":"L8","v":0},{"$f":"M8","v":0},{"$f":"N8","v":0},0,{"$f":"P8","v":0},null,null,null,null,null,null,null,null,null,null,null,null,null,null,null,null,null,null,null,1,{"$f":"$C$6/BQ8","v":1795},{"$f":"$D$6/BQ8","v":5999},{"$f":"$E$6/BQ8","v":2778},{"$f":"$F$6/BQ8","v":5870},{"$f":"$G$6/BQ8","v":2567},{"$f":"$H$6/BQ8","v":3640},{"$f":"$I$6/BQ8","v":903},{"$f":"$J$6/BQ8","v":187},{"$f":"$K$6/BQ8","v":0},{"$f":"$L$6/BQ8","v":0},{"$f":"$M$6/BQ8","v":0},{"$f":"$N$6/BQ8","v":0},{"$f":"$O$6/BQ8","v":0},{"$f":"$P$6/BQ8","v":0},null,{"$f":"$R$6/BQ8","v":1494},{"$f":"$S$6/BQ8","v":4572},{"$f":"BR8","v":1795},{"$f":"BS8","v":5999},{"$f":"BT8","v":2778},{"$f":"BU8","v":5870},{"$f":"BV8","v":2567},{"$f":"BW8","v":3640},{"$f":"BX8","v":903},{"$f":"BY8","v":187},{"$f":"BZ8","v":0},{"$f":"CA8","v":0},{"$f":"CB8","v":0},{"$f":"CC8","v":0},{"$f":"CD8","v":0},{"$f":"CE8","v":0}]
[null,3,{"$f":"$C$6/B9","v":598.33333333333337},1999.6666666666667,{"$f":"$E$6/B9","v":926},1956.6666666666667,855.66666666666663,{"$f":"$H$6/B9","v":1213.3333333333333},{"$f":"$I$6/B9","v":301},{"$f":"$J$6/B9","v":62.333333333333336},{"$f":"$K$6/B9","v":0},{"$f":"$L$6/B9","v":0},{"$f":"$M$6/B9","v":0},0,{"$f":"$O$6/B9","v":0},{"$f":"$P$6/B9","v":0},null,{"$f":"$R$6/B9","v":498},{"$f":"$S$6/B9","v":1524},598.33333333333337,1999.6666666666667,926,1956.6666666666667,855.66666666666663,1213.3333333333333,301,62.333333333333336,0,0,0,0,0,0,null,{"$f":"$AI$6/B9","v":2022},598.33333333333337,1999.6666666666667,926,1956.6666666666667,855.66666666666663,1213.3333333333333,301,62.333333333333336,0,0,0,0,0,0,null,null,null,null,null,null,null,null,null,null,null,null,null,null,null,null,null,null,null,2,{"$f":"$C$6/BQ9","v":897.5},2999.5,{"$f":"$E$6/BQ9","v":1389},2935,1283.5,{"$f":"$H$6/BQ9","v":1820},{"$f":"$I$6/BQ9","v":451.5},{"$f":"$J$6/BQ9","v":93.5},{"$f":"$K$6/BQ9","v":0},{"$f":"$L$6/BQ9","v":0},{"$f":"$M$6/BQ9","v":0},0,{"$f":"$O$6/BQ9","v":0},{"$f":"$P$6/BQ9","v":0},null,{"$f":"$R$6/BQ9","v":747},{"$f":"$S$6/BQ9","v":2286},897.5,2999.5,1389,2935,1283.5,1820,451.5,93.5,0,0,0,0,0,0]
[null,4,448.75,1499.75,694.5,1467.5,641.75,910,225.75,46.75,0,0,0,0,0,0,null,373.5,1143,448.75,1499.75,694.5,1467.5,641.75,910,225.75,46.75,0,0,0,0,0,0,null,1516.5,448.75,1499.75,694.5,1467.5,641.75,910,225.75,46.75,0,0,0,0,0,0,null,null,null,null,null,null,null,null,null,null,null,null,null,null,null,null,null,null,null,3,598.33333333333337,1999.6666666666667,926,1956.6666666666667,855.66666666666663,1213.3333333333333,301,62.333333333333336,0,0,0,0,0,0,null,498,1524,598.33333333333337,1999.6666666666667,926,1956.6666666666667,855.66666666666663,1213.3333333333333,301,62.333333333333336,0,0,0,0,0,0]
[null,5,359,1199.8,555.6,1174,513.4,728,180.6,37.4,0,0,0,0,0,0,null,298.8,914.4,359,1199.8,555.6,1174,513.4,728,180.6,37.4,0,0,0,0,0,0,null,1213.2,359,1199.8,555.6,1174,513.4,728,180.6,37.4,0,0,0,0,0,0,null,null,null,null,null,null,null,null,null,null,null,null,null,null,null,null,null,null,null,4,448.75,1499.75,694.5,1467.5,641.75,910,225.75,46.75,0,0,0,0,0,0,null,373.5,1143,448.75,1499.75,694.5,1467.5,641.75,910,225.75,46.75,0,0,0,0,0,0]
[null,6,299.16666666666669,999.83333333333337,463,978.33333333333337,427.83333333333331,606.66666666666663,150.5,31.166666666666668,0,0,0,0,0,0,null,249,762,299.16666666666669,999.83333333333337,463,978.33333333333337,427.83333333333331,606.66666666666663,150.5,31.166666666666668,0,0,0,0,0,0,null,1011,299.16666666666669,999.83333333333337,463,978.33333333333337,427.83333333333331,606.66666666666663,150.5,31.166666666666668,0,0,0,0,0,0,null,null,null,null,null,null,null,null,null,null,null,null,null,null,null,null,null,null,null,5,359,1199.8,555.6,1174,513.4,728,180.6,37.4,0,0,0,0,0,0,null,298.8,914.4,359,1199.8,555.6,1174,513.4,728,180.6,37.4,0,0,0,0,0,0]
[null,7,256.42857142857144,857,396.85714285714283,838.57142857142856,366.71428571428572,520,129,26.714285714285715,0,0,0,0,0,0,null,213.42857142857142,653.14285714285711,256.42857142857144,857,396.85714285714283,838.57142857142856,366.71428571428572,520,129,26.714285714285715,0,0,0,0,0,0,null,866.57142857142856,256.42857142857144,857,396.85714285714283,838.57142857142856,366.71428571428572,520,129,26.714285714285715,0,0,0,0,0,0,null,null,null,null,null,null,null,null,null,null,null,null,null,null,null,null,null,null,null,6,299.16666666666669,999.83333333333337,463,978.33333333333337,427.83333333333331,606.66666666666663,150.5,31.166666666666668,0,0,0,0,0,0,null,249,762,299.16666666666669,999.83333333333337,463,978.33333333333337,427.83333333333331,606.66666666666663,150.5,31.166666666666668,0,0,0,0,0,0]
[null,8,224.375,749.875,347.25,733.75,320.875,455,112.875,23.375,0,0,0,0,0,0,null,186.75,571.5,224.375,749.875,347.25,733.75,320.875,455,112.875,23.375,0,0,0,0,0,0,null,758.25,224.375,749.875,347.25,733.75,320.875,455,112.875,23.375,0,0,0,0,0,0,null,null,null,null,null,null,null,null,null,null,null,null,null,null,null,null,null,null,null,7,256.42857142857144,857,396.85714285714283,838.57142857142856,366.71428571428572,520,129,26.714285714285715,0,0,0,0,0,0,null,213.42857142857142,653.14285714285711,256.42857142857144,857,396.85714285714283,838.57142857142856,366.71428571428572,520,129,26.714285714285715,0,0,0,0,0,0]
[null,9,199.44444444444446,666.55555555555554,308.66666666666669,652.22222222222217,285.22222222222223,404.44444444444446,100.33333333333333,20.777777777777779,0,0,0,0,0,0,null,166,508,199.44444444444446,666.55555555555554,308.66666666666669,652.22222222222217,285.22222222222223,404.44444444444446,100.33333333333333,20.777777777777779,0,0,0,0,0,0,null,674,199.44444444444446,666.55555555555554,308.66666666666669,652.22222222222217,285.22222222222223,404.44444444444446,100.33333333333333,20.777777777777779,0,0,0,0,0,0,null,null,null,null,null,null,null,null,null,null,null,null,null,null,null,null,null,null,null,8,224.375,749.875,347.25,733.75,320.875,455,112.875,23.375,0,0,0,0,0,0,null,186.75,571.5,224.375,749.875,347.25,733.75,320.875,455,112.875,23.375,0,0,0,0,0,0]
[null,10,179.5,599.9,277.8,587,256.7,364,90.3,18.7,0,0,0,0,0,0,null,149.4,457.2,179.5,599.9,277.8,587,256.7,364,90.3,18.7,0,0,0,0,0,0,null,606.6,179.5,599.9,277.8,587,256.7,364,90.3,18.7,0,0,0,0,0,0,null,null,null,null,null,null,null,null,null,null,null,null,null,null,null,null,null,null,null,9,199.44444444444446,666.55555555555554,308.66666666666669,652.22222222222217,285.22222222222223,404.44444444444446,100.33333333333333,20.777777777777779,0,0,0,0,0,0,null,166,508,199.44444444444446,666.55555555555554,308.66666666666669,652.22222222222217,285.22222222222223,404.44444444444446,100.33333333333333,20.777777777777779,0,0,0,0,0,0]
[null,11,163.18181818181819,545.36363636363637,252.54545454545453,533.63636363636363,233.36363636363637,330.90909090909093,82.090909090909093,17,0,0,0,0,0,0,null,135.81818181818181,415.63636363636363,163.18181818181819,545.36363636363637,252.54545454545453,533.63636363636363,233.36363636363637,330.90909090909093,82.090909090909093,17,0,0,0,0,0,0,null,551.4545454545455,163.18181818181819,545.36363636363637,252.54545454545453,533.63636363636363,233.36363636363637,330.90909090909093,82.090909090909093,17,0,0,0,0,0,0,null,null,null,null,null,null,null,null,null,null,null,null,null,null,null,null,null,null,null,10,179.5,599.9,277.8,587,256.7,364,90.3,18.7,0,0,0,0,0,0,null,149.4,457.2,179.5,599.9,277.8,587,256.7,364,90.3,18.7,0,0,0,0,0,0]
[null,12,149.58333333333334,499.91666666666669,231.5,489.16666666666669,213.91666666666666,303.33333333333331,75.25,15.583333333333334,0,0,0,0,0,0,null,124.5,381,149.58333333333334,499.91666666666669,231.5,489.16666666666669,213.91666666666666,303.33333333333331,75.25,15.583333333333334,0,0,0,0,0,0,null,505.5,149.58333333333334,499.91666666666669,231.5,489.16666666666669,213.91666666666666,303.33333333333331,75.25,15.583333333333334,0,0,0,0,0,0,null,null,null,null,null,null,null,null,null,null,null,null,null,null,null,null,null,null,null,11,163.18181818181819,545.36363636363637,252.54545454545453,533.63636363636363,233.36363636363637,330.90909090909093,82.090909090909093,17,0,0,0,0,0,0,null,135.81818181818181,415.63636363636363,163.18181818181819,545.36363636363637,252.54545454545453,533.63636363636363,233.36363636363637,330.90909090909093,82.090909090909093,17,0,0,0,0,0,0]
[null,13,138.07692307692307,461.46153846153845,213.69230769230768,451.53846153846155,197.46153846153845,280,69.461538461538467,14.384615384615385,0,0,0,0,0,0,null,114.92307692307692,351.69230769230768,138.07692307692307,461.46153846153845,213.69230769230768,451.53846153846155,197.46153846153845,280,69.461538461538467,14.384615384615385,0,0,0,0,0,0,null,466.61538461538464,138.07692307692307,461.46153846153845,213.69230769230768,451.53846153846155,197.46153846153845,280,69.461538461538467,14.384615384615385,0,0,0,0,0,0,null,null,null,null,null,null,null,null,null,null,null,null,null,null,null,null,null,null,null,12,149.58333333333334,499.91666666666669,231.5,489.16666666666669,213.91666666666666,303.33333333333331,75.25,15.583333333333334,0,0,0,0,0,0,null,124.5,381,149.58333333333334,499.91666666666669,231.5,489.16666666666669,213.91666666666666,303.33333333333331,75.25,15.583333333333334,0,0,0,0,0,0]
[null,14,128.21428571428572,428.5,198.42857142857142,419.28571428571428,183.35714285714286,260,64.5,13.357142857142858,0,0,0,0,0,0,null,106.71428571428571,326.57142857142856,128.21428571428572,428.5,198.42857142857142,419.28571428571428,183.35714285714286,260,64.5,13.357142857142858,0,0,0,0,0,0,null,433.28571428571428,128.21428571428572,428.5,198.42857142857142,419.28571428571428,183.35714285714286,260,64.5,13.357142857142858,0,0,0,0,0,0,null,null,null,null,null,null,null,null,null,null,null,null,null,null,null,null,null,null,null,13,138.07692307692307,461.46153846153845,213.69230769230768,451.53846153846155,197.46153846153845,280,69.461538461538467,14.384615384615385,0,0,0,0,0,0,null,114.92307692307692,351.69230769230768,138.07692307692307,461.46153846153845,213.69230769230768,451.53846153846155,197.46153846153845,280,69.461538461538467,14.384615384615385,0,0,0,0,0,0]
[null,15,119.66666666666667,399.93333333333334,185.2,391.33333333333331,171.13333333333333,242.66666666666666,60.2,12.466666666666667,0,0,0,0,0,0,null,99.6,304.8,119.66666666666667,399.93333333333334,185.2,391.33333333333331,171.13333333333333,242.66666666666666,60.2,12.466666666666667,0,0,0,0,0,0,null,404.4,119.66666666666667,399.93333333333334,185.2,391.33333333333331,171.13333333333333,242.66666666666666,60.2,12.466666666666667,0,0,0,0,0,0,null,null,null,null,null,null,null,null,null,null,null,null,null,null,null,null,null,null,null,14,128.21428571428572,428.5,198.42857142857142,419.28571428571428,183.35714285714286,260,64.5,13.357142857142858,0,0,0,0,0,0,null,106.71428571428571,326.57142857142856,128.21428571428572,428.5,198.42857142857142,419.28571428571428,183.35714285714286,260,64.5,13.357142857142858,0,0,0,0,0,0]
[null,16,112.1875,374.9375,173.625,366.875,160.4375,227.5,56.4375,11.6875,0,0,0,0,0,0,null,93.375,285.75,112.1875,374.9375,173.625,366.875,160.4375,227.5,56.4375,11.6875,0,0,0,0,0,0,null,379.125,112.1875,374.9375,173.625,366.875,160.4375,227.5,56.4375,11.6875,0,0,0,0,0,0,null,null,null,null,null,null,null,null,null,null,null,null,null,null,null,null,null,null,null,15,119.66666666666667,399.93333333333334,185.2,391.33333333333331,171.13333333333333,242.66666666666666,60.2,12.466666666666667,0,0,0,0,0,0,null,99.6,304.8,119.66666666666667,399.93333333333334,185.2,391.33333333333331,171.13333333333333,242.66666666666666,60.2,12.466666666666667,0,0,0,0,0,0]
[null,17,105.58823529411765,352.88235294117646,163.41176470588235,345.29411764705884,151,214.11764705882354,53.117647058823529,11,0,0,0,0,0,0,null,87.882352941176464,268.94117647058823,105.58823529411765,352.88235294117646,163.41176470588235,345.29411764705884,151,214.11764705882354,53.117647058823529,11,0,0,0,0,0,0,null,356.8235294117647,105.58823529411765,352.88235294117646,163.41176470588235,345.29411764705884,151,214.11764705882354,53.117647058823529,11,0,0,0,0,0,0,null,null,null,null,null,null,null,null,null,null,null,null,null,null,null,null,null,null,null,16,112.1875,374.9375,173.625,366.875,160.4375,227.5,56.4375,11.6875,0,0,0,0,0,0,null,93.375,285.75,112.1875,374.9375,173.625,366.875,160.4375,227.5,56.4375,11.6875,0,0,0,0,0,0]
[null,18,99.722222222222229,333.27777777777777,154.33333333333334,326.11111111111109,142.61111111111111,202.22222222222223,50.166666666666664,10.388888888888889,0,0,0,0,0,0,null,83,254,99.722222222222229,333.27777777777777,154.33333333333334,326.11111111111109,142.61111111111111,202.22222222222223,50.166666666666664,10.388888888888889,0,0,0,{"$f":"N24","v":0},0,0,null,337,99.722222222222229,333.27777777777777,154.33333333333334,326.11111111111109,142.61111111111111,202.22222222222223,50.166666666666664,10.388888888888889,0,0,0,{"$f":"N24","v":0},0,0,null,null,null,null,null,null,null,null,null,null,null,null,null,null,null,null,null,null,null,17,105.58823529411765,352.88235294117646,163.41176470588235,345.29411764705884,151,214.11764705882354,53.117647058823529,11,0,0,0,0,0,0,null,87.882352941176464,268.94117647058823,105.58823529411765,352.88235294117646,163.41176470588235,345.29411764705884,151,214.11764705882354,53.117647058823529,11,0,0,0,0,0,0]
[null,19,94.473684210526315,315.73684210526318,146.21052631578948,308.94736842105266,135.10526315789474,191.57894736842104,47.526315789473685,9.8421052631578956,0,0,0,0,0,0,null,78.631578947368425,240.63157894736841,94.473684210526315,315.73684210526318,146.21052631578948,308.94736842105266,135.10526315789474,191.57894736842104,47.526315789473685,9.8421052631578956,0,0,0,0,0,0,null,319.26315789473682,94.473684210526315,315.73684210526318,146.21052631578948,308.94736842105266,135.10526315789474,191.57894736842104,47.526315789473685,9.8421052631578956,0,0,0,0,0,0,null,null,null,null,null,null,null,null,null,null,null,null,null,null,null,null,null,null,null,18,99.722222222222229,333.27777777777777,154.33333333333334,326.11111111111109,142.61111111111111,202.22222222222223,50.166666666666664,10.388888888888889,0,0,0,0,0,0,null,83,254,99.722222222222229,333.27777777777777,154.33333333333334,326.11111111111109,142.61111111111111,202.22222222222223,50.166666666666664,10.388888888888889,0,0,0,0,0,0]
[null,20,89.75,299.95,138.9,293.5,128.35,182,45.15,9.35,0,0,0,0,0,0,null,74.7,228.6,89.75,299.95,138.9,293.5,128.35,182,45.15,9.35,0,0,0,0,0,0,null,303.3,89.75,299.95,138.9,293.5,128.35,182,45.15,9.35,0,0,0,0,0,0,null,null,null,null,null,null,null,null,null,null,null,null,null,null,null,null,null,null,null,19,94.473684210526315,315.73684210526318,146.21052631578948,308.94736842105266,135.10526315789474,191.57894736842104,47.526315789473685,9.8421052631578956,0,0,0,0,0,0,null,78.631578947368425,240.63157894736841,94.473684210526315,315.73684210526318,146.21052631578948,308.94736842105266,135.10526315789474,191.57894736842104,47.526315789473685,9.8421052631578956,0,0,0,0,0,0]
[null,21,85.476190476190482,285.66666666666669,132.28571428571428,279.52380952380952,122.23809523809524,173.33333333333334,43,8.9047619047619051,0,0,0,0,0,0,null,71.142857142857139,217.71428571428572,85.476190476190482,285.66666666666669,132.28571428571428,279.52380952380952,122.23809523809524,173.33333333333334,43,8.9047619047619051,0,0,0,0,0,{"$f":"P27","v":0},null,288.85714285714283,85.476190476190482,285.66666666666669,132.28571428571428,279.52380952380952,122.23809523809524,173.33333333333334,43,8.9047619047619051,0,0,0,0,0,{"$f":"P27","v":0},null,null,null,null,null,null,null,null,null,null,null,null,null,null,null,null,null,null,null,20,89.75,299.95,138.9,293.5,128.35,182,45.15,9.35,0,0,0,0,0,0,null,74.7,228.6,89.75,299.95,138.9,293.5,128.35,182,45.15,9.35,0,0,0,0,0,0]
[null,22,81.590909090909093,272.68181818181819,126.27272727272727,266.81818181818181,116.68181818181819,165.45454545454547,41.045454545454547,8.5,0,0,0,0,0,0,null,67.909090909090907,207.81818181818181,81.590909090909093,272.68181818181819,126.27272727272727,266.81818181818181,116.68181818181819,165.45454545454547,41.045454545454547,8.5,0,0,0,0,0,0,null,275.72727272727275,81.590909090909093,272.68181818181819,126.27272727272727,266.81818181818181,116.68181818181819,165.45454545454547,41.045454545454547,8.5,0,0,0,0,0,0,null,null,null,null,null,null,null,null,null,null,null,null,null,null,null,null,null,null,null,21,85.476190476190482,285.66666666666669,132.28571428571428,279.52380952380952,122.23809523809524,173.33333333333334,43,8.9047619047619051,0,0,0,0,0,0,null,71.142857142857139,217.71428571428572,85.476190476190482,285.66666666666669,132.28571428571428,279.52380952380952,122.23809523809524,173.33333333333334,43,8.9047619047619051,0,0,0,0,0,0]
[null,23,78.043478260869563,260.82608695652175,120.78260869565217,255.21739130434781,111.60869565217391,158.2608695652174,39.260869565217391,8.1304347826086953,0,0,0,0,0,0,null,64.956521739130437,198.78260869565219,78.043478260869563,260.82608695652175,120.78260869565217,255.21739130434781,111.60869565217391,158.2608695652174,39.260869565217391,8.1304347826086953,0,0,0,0,0,0,null,263.73913043478262,78.043478260869563,260.82608695652175,120.78260869565217,255.21739130434781,111.60869565217391,158.2608695652174,39.260869565217391,8.1304347826086953,0,0,0,0,0,0,null,null,null,null,null,null,null,null,null,null,null,null,null,null,null,null,null,null,null,22,81.590909090909093,272.68181818181819,126.27272727272727,266.81818181818181,116.68181818181819,165.45454545454547,41.045454545454547,8.5,0,0,0,0,0,0,null,67.909090909090907,207.81818181818181,81.590909090909093,272.68181818181819,126.27272727272727,266.81818181818181,116.68181818181819,165.45454545454547,41.045454545454547,8.5,0,0,0,0,0,0]
[null,24,74.791666666666671,249.95833333333334,115.75,244.58333333333334,106.95833333333333,151.66666666666666,37.625,7.791666666666667,0,0,0,0,0,0,null,62.25,190.5,74.791666666666671,249.95833333333334,115.75,244.58333333333334,106.95833333333333,151.66666666666666,37.625,7.791666666666667,0,0,0,0,0,0,null,252.75,74.791666666666671,249.95833333333334,115.75,244.58333333333334,106.95833333333333,151.66666666666666,37.625,7.791666666666667,0,0,0,0,0,0,null,null,null,null,null,null,null,null,null,null,null,null,null,null,null,null,null,null,null,23,78.043478260869563,260.82608695652175,120.78260869565217,255.21739130434781,111.60869565217391,158.2608695652174,39.260869565217391,8.1304347826086953,0,0,0,0,0,0,null,64.956521739130437,198.78260869565219,78.043478260869563,260.82608695652175,120.78260869565217,255.21739130434781,111.60869565217391,158.2608695652174,39.260869565217391,8.1304347826086953,0,0,0,0,0,0]
[null,25,71.8,239.96,111.12,234.8,102.68,145.6,36.119999999999997,7.48,0,0,0,0,0,0,null,59.76,182.88,71.8,239.96,111.12,234.8,102.68,145.6,36.119999999999997,7.48,0,0,0,0,0,0,null,242.64,71.8,239.96,111.12,234.8,102.68,145.6,36.119999999999997,7.48,0,0,0,0,0,0,null,null,null,null,null,null,null,null,null,null,null,null,null,null,null,null,null,null,null,24,74.791666666666671,249.95833333333334,115.75,244.58333333333334,106.95833333333333,151.66666666666666,37.625,7.791666666666667,0,0,0,0,0,0,null,62.25,190.5,74.791666666666671,249.95833333333334,115.75,244.58333333333334,106.95833333333333,151.66666666666666,37.625,7.791666666666667,0,0,0,0,0,0]
[null,26,69.038461538461533,230.73076923076923,106.84615384615384,225.76923076923077,98.730769230769226,140,34.730769230769234,7.1923076923076925,0,0,0,0,0,0,null,57.46153846153846,175.84615384615384,69.038461538461533,230.73076923076923,106.84615384615384,225.76923076923077,98.730769230769226,140,34.730769230769234,7.1923076923076925,0,0,0,0,0,0,null,233.30769230769232,69.038461538461533,230.73076923076923,106.84615384615384,225.76923076923077,98.730769230769226,140,34.730769230769234,7.1923076923076925,0,0,0,0,0,0,null,null,null,null,null,null,null,null,null,null,null,null,null,null,null,null,null,null,null,25,71.8,239.96,111.12,234.8,102.68,145.6,36.119999999999997,7.48,0,0,0,0,0,0,null,59.76,182.88,71.8,239.96,111.12,234.8,102.68,145.6,36.119999999999997,7.48,0,0,0,0,0,0]
[null,27,66.481481481481481,222.18518518518519,102.88888888888889,217.40740740740742,95.074074074074076,134.81481481481481,33.444444444444443,6.9259259259259256,0,0,0,0,0,0,null,55.333333333333336,169.33333333333334,66.481481481481481,222.18518518518519,102.88888888888889,217.40740740740742,95.074074074074076,134.81481481481481,33.444444444444443,6.9259259259259256,0,0,0,0,0,0,null,224.66666666666666,66.481481481481481,222.18518518518519,102.88888888888889,217.40740740740742,95.074074074074076,134.81481481481481,33.444444444444443,6.9259259259259256,0,0,0,0,0,0,null,null,null,null,null,null,null,null,null,null,null,null,null,null,null,null,null,null,null,26,69.038461538461533,230.73076923076923,106.84615384615384,225.76923076923077,98.730769230769226,140,34.730769230769234,7.1923076923076925,0,0,0,0,0,0,null,57.46153846153846,175.84615384615384,69.038461538461533,230.73076923076923,106.84615384615384,225.76923076923077,98.730769230769226,140,34.730769230769234,7.1923076923076925,0,0,0,0,0,0]
[null,28,64.107142857142861,214.25,99.214285714285708,209.64285714285714,91.678571428571431,130,32.25,6.6785714285714288,0,0,0,0,0,0,null,53.357142857142854,163.28571428571428,64.107142857142861,214.25,99.214285714285708,209.64285714285714,91.678571428571431,130,32.25,6.6785714285714288,0,0,0,0,0,0,null,216.64285714285714,64.107142857142861,214.25,99.214285714285708,209.64285714285714,91.678571428571431,130,32.25,6.6785714285714288,0,0,0,0,0,0,null,null,null,null,null,null,null,null,null,null,null,null,null,null,null,null,null,null,null,27,66.481481481481481,222.18518518518519,102.88888888888889,217.40740740740742,95.074074074074076,134.81481481481481,33.444444444444443,6.9259259259259256,0,0,0,0,0,0,null,55.333333333333336,169.33333333333334,66.481481481481481,222.18518518518519,102.88888888888889,217.40740740740742,95.074074074074076,134.81481481481481,33.444444444444443,6.9259259259259256,0,0,0,0,0,0]
[null,29,61.896551724137929,206.86206896551724,95.793103448275858,202.41379310344828,88.517241379310349,125.51724137931035,31.137931034482758,6.4482758620689653,0,0,0,0,0,0,null,51.517241379310342,157.65517241379311,61.896551724137929,206.86206896551724,95.793103448275858,202.41379310344828,88.517241379310349,125.51724137931035,31.137931034482758,6.4482758620689653,0,0,0,0,0,0,null,209.17241379310346,61.896551724137929,206.86206896551724,95.793103448275858,202.41379310344828,88.517241379310349,125.51724137931035,31.137931034482758,6.4482758620689653,0,0,0,0,0,0,null,null,null,null,null,null,null,null,null,null,null,null,null,null,null,null,null,null,null,28,64.107142857142861,214.25,99.214285714285708,209.64285714285714,91.678571428571431,130,32.25,6.6785714285714288,0,0,0,0,0,0,null,53.357142857142854,163.28571428571428,64.107142857142861,214.25,99.214285714285708,209.64285714285714,91.678571428571431,130,32.25,6.6785714285714288,0,0,0,0,0,0]
[null,30,59.833333333333336,199.96666666666667,92.6,195.66666666666666,85.566666666666663,121.33333333333333,30.1,6.2333333333333334,0,0,0,0,0,0,null,49.8,152.4,59.833333333333336,199.96666666666667,92.6,195.66666666666666,85.566666666666663,121.33333333333333,30.1,6.2333333333333334,0,0,0,0,0,0,null,202.2,59.833333333333336,199.96666666666667,92.6,195.66666666666666,85.566666666666663,121.33333333333333,30.1,6.2333333333333334,0,0,0,0,0,0,null,null,null,null,null,null,null,null,null,null,null,null,null,null,null,null,null,null,null,29,61.896551724137929,206.86206896551724,95.793103448275858,202.41379310344828,88.517241379310349,125.51724137931035,31.137931034482758,6.4482758620689653,0,0,0,0,0,0,null,51.517241379310342,157.65517241379311,61.896551724137929,206.86206896551724,95.793103448275858,202.41379310344828,88.517241379310349,125.51724137931035,31.137931034482758,6.4482758620689653,0,0,0,0,0,0]
[null,31,57.903225806451616,193.51612903225808,89.612903225806448,189.35483870967741,82.806451612903231,117.41935483870968,29.129032258064516,6.032258064516129,0,0,0,0,0,0,null,48.193548387096776,147.48387096774192,57.903225806451616,193.51612903225808,89.612903225806448,189.35483870967741,82.806451612903231,117.41935483870968,29.129032258064516,6.032258064516129,0,0,0,0,0,0,null,195.67741935483872,57.903225806451616,193.51612903225808,89.612903225806448,189.35483870967741,82.806451612903231,117.41935483870968,29.129032258064516,6.032258064516129,0,0,0,0,0,0,null,null,null,null,null,null,null,null,null,null,null,null,null,null,null,null,null,null,null,30,59.833333333333336,199.96666666666667,92.6,195.66666666666666,85.566666666666663,121.33333333333333,30.1,6.2333333333333334,0,0,0,0,0,0,null,49.8,152.4,59.833333333333336,199.96666666666667,92.6,195.66666666666666,85.566666666666663,121.33333333333333,30.1,6.2333333333333334,0,0,0,0,0,0]
[null,32,56.09375,187.46875,86.8125,183.4375,80.21875,113.75,28.21875,5.84375,0,0,0,0,0,0,null,46.6875,142.875,56.09375,187.46875,86.8125,183.4375,80.21875,113.75,28.21875,5.84375,0,0,0,0,0,0,null,189.5625,56.09375,187.46875,86.8125,183.4375,80.21875,113.75,28.21875,5.84375,0,0,0,0,0,0,null,null,null,null,null,null,null,null,null,null,null,null,null,null,null,null,null,null,null,31,57.903225806451616,193.51612903225808,89.612903225806448,189.35483870967741,82.806451612903231,117.41935483870968,29.129032258064516,6.032258064516129,0,0,0,0,0,0,null,48.193548387096776,147.48387096774192,57.903225806451616,193.51612903225808,89.612903225806448,189.35483870967741,82.806451612903231,117.41935483870968,29.129032258064516,6.032258064516129,0,0,0,0,0,0]
[null,33,54.393939393939391,181.78787878787878,84.181818181818187,177.87878787878788,77.787878787878782,110.3030303030303,27.363636363636363,5.666666666666667,0,0,0,0,0,0,null,45.272727272727273,138.54545454545453,54.393939393939391,181.78787878787878,84.181818181818187,177.87878787878788,77.787878787878782,110.3030303030303,27.363636363636363,5.666666666666667,0,0,0,0,0,0,null,183.81818181818181,54.393939393939391,181.78787878787878,84.181818181818187,177.87878787878788,77.787878787878782,110.3030303030303,27.363636363636363,5.666666666666667,0,0,0,0,0,0,null,null,null,null,null,null,null,null,null,null,null,null,null,null,null,null,null,null,null,32,56.09375,187.46875,86.8125,183.4375,80.21875,113.75,28.21875,5.84375,0,0,0,0,0,0,null,46.6875,142.875,56.09375,187.46875,86.8125,183.4375,80.21875,113.75,28.21875,5.84375,0,0,0,0,0,0]
[null,34,52.794117647058826,176.44117647058823,81.705882352941174,172.64705882352942,75.5,107.05882352941177,26.558823529411764,5.5,0,0,0,0,0,0,null,43.941176470588232,134.47058823529412,{"$f":"C40","v":52.794117647058826},{"$f":"D40","v":176.44117647058823},{"$f":"E40","v":81.705882352941174},{"$f":"F40","v":172.64705882352942},{"$f":"G40","v":75.5},{"$f":"H40","v":107.05882352941177},{"$f":"I40","v":26.558823529411764},{"$f":"J40","v":5.5},{"$f":"K40","v":0},{"$f":"L40","v":0},{"$f":"M40","v":0},{"$f":"N40","v":0},0,0,null,178.41176470588235,{"$f":"C40","v":52.794117647058826},{"$f":"D40","v":176.44117647058823},{"$f":"E40","v":81.705882352941174},{"$f":"F40","v":172.64705882352942},{"$f":"G40","v":75.5},{"$f":"H40","v":107.05882352941177},{"$f":"I40","v":26.558823529411764},{"$f":"J40","v":5.5},{"$f":"K40","v":0},{"$f":"L40","v":0},{"$f":"M40","v":0},{"$f":"N40","v":0},0,0,null,null,null,null,null,null,null,null,null,null,null,null,null,null,null,null,null,null,null,33,54.393939393939391,181.78787878787878,84.181818181818187,177.87878787878788,77.787878787878782,110.3030303030303,27.363636363636363,5.666666666666667,0,0,0,0,0,0,null,45.272727272727273,138.54545454545453,54.393939393939391,181.78787878787878,84.181818181818187,177.87878787878788,77.787878787878782,110.3030303030303,27.363636363636363,5.666666666666667,0,0,0,0,0,0]
[null,35,51.285714285714285,171.4,79.371428571428567,167.71428571428572,73.342857142857142,104,25.8,5.3428571428571425,0,0,0,0,0,0,null,42.685714285714283,130.62857142857143,51.285714285714285,171.4,79.371428571428567,167.71428571428572,73.342857142857142,104,25.8,5.3428571428571425,0,0,0,0,0,0,null,173.31428571428572,51.285714285714285,171.4,79.371428571428567,167.71428571428572,73.342857142857142,104,25.8,5.3428571428571425,0,0,0,0,0,0,null,null,null,null,null,null,null,null,null,null,null,null,null,null,null,null,null,null,null,34,52.794117647058826,176.44117647058823,81.705882352941174,172.64705882352942,75.5,107.05882352941177,26.558823529411764,5.5,0,0,0,0,0,0,null,43.941176470588232,134.47058823529412,52.794117647058826,176.44117647058823,81.705882352941174,172.64705882352942,75.5,107.05882352941177,26.558823529411764,5.5,0,0,0,0,0,0]
[null,36,49.861111111111114,166.63888888888889,77.166666666666671,163.05555555555554,71.305555555555557,101.11111111111111,25.083333333333332,5.1944444444444446,0,0,0,0,0,0,null,41.5,127,49.861111111111114,166.63888888888889,77.166666666666671,163.05555555555554,71.305555555555557,101.11111111111111,25.083333333333332,5.1944444444444446,0,0,0,0,0,0,null,168.5,49.861111111111114,166.63888888888889,77.166666666666671,163.05555555555554,71.305555555555557,101.11111111111111,25.083333333333332,5.1944444444444446,0,0,0,0,0,0,null,null,null,null,null,null,null,null,null,null,null,null,null,null,null,null,null,null,null,35,51.285714285714285,171.4,79.371428571428567,167.71428571428572,73.342857142857142,104,25.8,5.3428571428571425,0,0,0,0,0,0,null,42.685714285714283,130.62857142857143,51.285714285714285,171.4,79.371428571428567,167.71428571428572,73.342857142857142,104,25.8,5.3428571428571425,0,0,0,0,0,0]
[null,37,48.513513513513516,162.13513513513513,75.081081081081081,158.64864864864865,69.378378378378372,98.378378378378372,24.405405405405407,5.0540540540540544,0,0,0,0,0,0,null,40.378378378378379,123.56756756756756,48.513513513513516,162.13513513513513,75.081081081081081,158.64864864864865,69.378378378378372,98.378378378378372,24.405405405405407,5.0540540540540544,0,0,0,0,0,0,null,163.94594594594594,48.513513513513516,162.13513513513513,75.081081081081081,158.64864864864865,69.378378378378372,98.378378378378372,24.405405405405407,5.0540540540540544,0,0,0,0,0,0,null,null,null,null,null,null,null,null,null,null,null,null,null,null,null,null,null,null,null,36,49.861111111111114,166.63888888888889,77.166666666666671,163.05555555555554,71.305555555555557,101.11111111111111,25.083333333333332,5.1944444444444446,0,0,0,0,0,0,null,41.5,127,49.861111111111114,166.63888888888889,77.166666666666671,163.05555555555554,71.305555555555557,101.11111111111111,25.083333333333332,5.1944444444444446,0,0,0,0,0,0]
[null,38,47.236842105263158,157.86842105263159,73.10526315789474,154.47368421052633,67.55263157894737,95.78947368421052,23.763157894736842,4.9210526315789478,0,0,0,0,0,0,null,39.315789473684212,120.31578947368421,47.236842105263158,157.86842105263159,73.10526315789474,154.47368421052633,67.55263157894737,95.78947368421052,23.763157894736842,4.9210526315789478,0,0,0,0,0,0,null,159.63157894736841,47.236842105263158,157.86842105263159,73.10526315789474,154.47368421052633,67.55263157894737,95.78947368421052,23.763157894736842,4.9210526315789478,0,0,0,0,0,0,null,null,null,null,null,null,null,null,null,null,null,null,null,null,null,null,null,null,null,37,48.513513513513516,162.13513513513513,75.081081081081081,158.64864864864865,69.378378378378372,98.378378378378372,24.405405405405407,5.0540540540540544,0,0,0,0,0,0,null,40.378378378378379,123.56756756756756,48.513513513513516,162.13513513513513,75.081081081081081,158.64864864864865,69.378378378378372,98.378378378378372,24.405405405405407,5.0540540540540544,0,0,0,0,0,0]
[null,39,46.025641025641029,153.82051282051282,71.230769230769226,150.51282051282053,65.820512820512818,93.333333333333329,23.153846153846153,4.7948717948717947,0,0,0,0,0,0,null,38.307692307692307,117.23076923076923,46.025641025641029,153.82051282051282,71.230769230769226,150.51282051282053,65.820512820512818,93.333333333333329,23.153846153846153,4.7948717948717947,0,0,0,0,0,0,null,155.53846153846155,46.025641025641029,153.82051282051282,71.230769230769226,150.51282051282053,65.820512820512818,93.333333333333329,23.153846153846153,4.7948717948717947,0,0,0,0,0,0,null,null,null,null,null,null,null,null,null,null,null,null,null,null,null,null,null,null,null,38,47.236842105263158,157.86842105263159,73.10526315789474,154.47368421052633,67.55263157894737,95.78947368421052,23.763157894736842,4.9210526315789478,0,0,0,0,0,0,null,39.315789473684212,120.31578947368421,47.236842105263158,157.86842105263159,73.10526315789474,154.47368421052633,67.55263157894737,95.78947368421052,23.763157894736842,4.9210526315789478,0,0,0,0,0,0]
[null,40,44.875,149.97499999999999,69.45,146.75,64.174999999999997,91,22.574999999999999,4.6749999999999998,0,0,0,0,0,0,null,37.35,114.3,44.875,149.97499999999999,69.45,146.75,64.174999999999997,91,22.574999999999999,4.6749999999999998,0,0,0,0,0,0,null,151.65,44.875,149.97499999999999,69.45,146.75,64.174999999999997,91,22.574999999999999,4.6749999999999998,0,0,0,0,0,0,null,null,null,null,null,null,null,null,null,null,null,null,null,null,null,null,null,null,null,39,46.025641025641029,153.82051282051282,71.230769230769226,150.51282051282053,65.820512820512818,93.333333333333329,23.153846153846153,4.7948717948717947,0,0,0,0,0,0,null,38.307692307692307,117.23076923076923,46.025641025641029,153.82051282051282,71.230769230769226,150.51282051282053,65.820512820512818,93.333333333333329,23.153846153846153,4.7948717948717947,0,0,0,0,0,0]
[null,41,43.780487804878049,146.3170731707317,67.756097560975604,143.17073170731706,62.609756097560975,88.780487804878049,22.024390243902438,4.5609756097560972,0,0,0,0,0,0,null,36.439024390243901,111.51219512195122,43.780487804878049,146.3170731707317,67.756097560975604,143.17073170731706,62.609756097560975,88.780487804878049,22.024390243902438,4.5609756097560972,0,0,0,0,0,0,null,147.95121951219511,43.780487804878049,146.3170731707317,67.756097560975604,143.17073170731706,62.609756097560975,88.780487804878049,22.024390243902438,4.5609756097560972,0,0,0,0,0,0,null,null,null,null,null,null,null,null,null,null,null,null,null,null,null,null,null,null,null,40,44.875,149.97499999999999,69.45,146.75,64.174999999999997,91,22.574999999999999,4.6749999999999998,0,0,0,0,0,0,null,37.35,114.3,44.875,149.97499999999999,69.45,146.75,64.174999999999997,91,22.574999999999999,4.6749999999999998,0,0,0,0,0,0]
[null,42,42.738095238095241,142.83333333333334,66.142857142857139,139.76190476190476,61.11904761904762,86.666666666666671,21.5,4.4523809523809526,0,0,0,0,0,0,null,35.571428571428569,108.85714285714286,42.738095238095241,142.83333333333334,66.142857142857139,139.76190476190476,61.11904761904762,86.666666666666671,21.5,4.4523809523809526,0,0,0,0,0,0,null,144.42857142857142,42.738095238095241,142.83333333333334,66.142857142857139,139.76190476190476,61.11904761904762,86.666666666666671,21.5,4.4523809523809526,0,0,0,0,0,0,null,null,null,null,null,null,null,null,null,null,null,null,null,null,null,null,null,null,null,41,43.780487804878049,146.3170731707317,67.756097560975604,143.17073170731706,62.609756097560975,88.780487804878049,22.024390243902438,4.5609756097560972,0,0,0,0,0,0,null,36.439024390243901,111.51219512195122,43.780487804878049,146.3170731707317,67.756097560975604,143.17073170731706,62.609756097560975,88.780487804878049,22.024390243902438,4.5609756097560972,0,0,0,0,0,0]
[null,43,41.744186046511629,139.51162790697674,64.604651162790702,136.51162790697674,59.697674418604649,84.651162790697668,21,4.3488372093023253,0,0,0,0,0,0,null,34.744186046511629,106.32558139534883,41.744186046511629,139.51162790697674,64.604651162790702,136.51162790697674,59.697674418604649,84.651162790697668,21,4.3488372093023253,0,0,0,0,0,0,null,141.06976744186048,41.744186046511629,139.51162790697674,64.604651162790702,136.51162790697674,59.697674418604649,84.651162790697668,21,4.3488372093023253,0,0,0,0,0,0,null,null,null,null,null,null,null,null,null,null,null,null,null,null,null,null,null,null,null,42,42.738095238095241,142.83333333333334,66.142857142857139,139.76190476190476,61.11904761904762,86.666666666666671,21.5,4.4523809523809526,0,0,0,0,0,0,null,35.571428571428569,108.85714285714286,42.738095238095241,142.83333333333334,66.142857142857139,139.76190476190476,61.11904761904762,86.666666666666671,21.5,4.4523809523809526,0,0,0,0,0,0]
[null,44,40.795454545454547,136.34090909090909,63.136363636363633,133.40909090909091,58.340909090909093,82.727272727272734,20.522727272727273,4.25,0,0,0,0,0,0,null,33.954545454545453,103.90909090909091,40.795454545454547,136.34090909090909,63.136363636363633,133.40909090909091,58.340909090909093,82.727272727272734,20.522727272727273,4.25,0,0,0,0,0,0,null,137.86363636363637,40.795454545454547,136.34090909090909,63.136363636363633,133.40909090909091,58.340909090909093,82.727272727272734,20.522727272727273,4.25,0,0,0,0,0,0,null,null,null,null,null,null,null,null,null,null,null,null,null,null,null,null,null,null,null,43,41.744186046511629,139.51162790697674,64.604651162790702,136.51162790697674,59.697674418604649,84.651162790697668,21,4.3488372093023253,0,0,0,0,0,0,null,34.744186046511629,106.32558139534883,41.744186046511629,139.51162790697674,64.604651162790702,136.51162790697674,59.697674418604649,84.651162790697668,21,4.3488372093023253,0,0,0,0,0,0]
[null,45,39.888888888888886,133.3111111111111,61.733333333333334,130.44444444444446,57.044444444444444,80.888888888888886,20.066666666666666,4.1555555555555559,0,0,0,0,0,0,null,33.200000000000003,101.6,39.888888888888886,133.3111111111111,61.733333333333334,130.44444444444446,57.044444444444444,80.888888888888886,20.066666666666666,4.1555555555555559,0,0,0,0,0,0,null,134.80000000000001,39.888888888888886,133.3111111111111,61.733333333333334,130.44444444444446,57.044444444444444,80.888888888888886,20.066666666666666,4.1555555555555559,0,0,0,0,0,0,null,null,null,null,null,null,null,null,null,null,null,null,null,null,null,null,null,null,null,44,40.795454545454547,136.34090909090909,63.136363636363633,133.40909090909091,58.340909090909093,82.727272727272734,20.522727272727273,4.25,0,0,0,0,0,0,null,33.954545454545453,103.90909090909091,40.795454545454547,136.34090909090909,63.136363636363633,133.40909090909091,58.340909090909093,82.727272727272734,20.522727272727273,4.25,0,0,0,0,0,0]
[null,46,39.021739130434781,130.41304347826087,60.391304347826086,127.60869565217391,55.804347826086953,79.130434782608702,19.630434782608695,4.0652173913043477,0,0,0,0,0,0,null,32.478260869565219,99.391304347826093,39.021739130434781,130.41304347826087,60.391304347826086,127.60869565217391,55.804347826086953,79.130434782608702,19.630434782608695,4.0652173913043477,0,0,0,0,0,0,null,131.86956521739131,39.021739130434781,130.41304347826087,60.391304347826086,127.60869565217391,55.804347826086953,79.130434782608702,19.630434782608695,4.0652173913043477,0,0,0,0,0,0,null,null,null,null,null,null,null,null,null,null,null,null,null,null,null,null,null,null,null,45,39.888888888888886,133.3111111111111,61.733333333333334,130.44444444444446,57.044444444444444,80.888888888888886,20.066666666666666,4.1555555555555559,0,0,0,0,0,0,null,33.200000000000003,101.6,39.888888888888886,133.3111111111111,61.733333333333334,130.44444444444446,57.044444444444444,80.888888888888886,20.066666666666666,4.1555555555555559,0,0,0,0,0,0]
[null,47,38.191489361702125,127.63829787234043,59.106382978723403,124.8936170212766,54.617021276595743,77.446808510638292,19.212765957446809,3.978723404255319,0,0,0,0,0,0,null,31.787234042553191,97.276595744680847,38.191489361702125,127.63829787234043,59.106382978723403,124.8936170212766,54.617021276595743,77.446808510638292,19.212765957446809,3.978723404255319,0,0,0,0,0,0,null,129.06382978723406,38.191489361702125,127.63829787234043,59.106382978723403,124.8936170212766,54.617021276595743,77.446808510638292,19.212765957446809,3.978723404255319,0,0,0,0,0,0,null,null,null,null,null,null,null,null,null,null,null,null,null,null,null,null,null,null,null,46,39.021739130434781,130.41304347826087,60.391304347826086,127.60869565217391,55.804347826086953,79.130434782608702,19.630434782608695,4.0652173913043477,0,0,0,0,0,0,null,32.478260869565219,99.391304347826093,39.021739130434781,130.41304347826087,60.391304347826086,127.60869565217391,55.804347826086953,79.130434782608702,19.630434782608695,4.0652173913043477,0,0,0,0,0,0]
[null,48,37.395833333333336,124.97916666666667,57.875,122.29166666666667,53.479166666666664,75.833333333333329,18.8125,{"$f":"$J$6/B54","v":3.8958333333333335},0,0,0,0,0,0,null,31.125,95.25,37.395833333333336,124.97916666666667,57.875,122.29166666666667,53.479166666666664,75.833333333333329,18.8125,3.8958333333333335,0,0,0,0,0,0,null,126.375,37.395833333333336,124.97916666666667,57.875,122.29166666666667,53.479166666666664,75.833333333333329,18.8125,3.8958333333333335,0,0,0,0,0,0,null,null,null,null,null,null,null,null,null,null,null,null,null,null,null,null,null,null,null,47,38.191489361702125,127.63829787234043,59.106382978723403,124.8936170212766,54.617021276595743,77.446808510638292,19.212765957446809,3.978723404255319,0,0,0,0,0,0,null,31.787234042553191,97.276595744680847,38.191489361702125,127.63829787234043,59.106382978723403,124.8936170212766,54.617021276595743,77.446808510638292,19.212765957446809,3.978723404255319,0,0,0,0,0,0]
[null,49,36.632653061224488,122.42857142857143,56.693877551020407,119.79591836734694,52.387755102040813,74.285714285714292,18.428571428571427,3.8163265306122449,0,0,0,0,0,0,null,30.489795918367346,93.306122448979593,36.632653061224488,122.42857142857143,56.693877551020407,119.79591836734694,52.387755102040813,74.285714285714292,18.428571428571427,3.8163265306122449,0,0,0,0,0,{"$f":"P55","v":0},null,123.79591836734694,36.632653061224488,122.42857142857143,56.693877551020407,119.79591836734694,52.387755102040813,74.285714285714292,18.428571428571427,3.8163265306122449,0,0,0,0,0,{"$f":"P55","v":0},null,null,null,null,null,null,null,null,null,null,null,null,null,null,null,null,null,null,null,48,37.395833333333336,124.97916666666667,57.875,122.29166666666667,53.479166666666664,75.833333333333329,18.8125,3.8958333333333335,0,0,0,0,0,0,null,31.125,95.25,37.395833333333336,124.97916666666667,57.875,122.29166666666667,53.479166666666664,75.833333333333329,18.8125,3.8958333333333335,0,0,0,0,0,0]
[null,50,35.9,119.98,55.56,117.4,51.34,72.8,18.059999999999999,3.74,0,0,0,0,0,0,null,29.88,91.44,35.9,119.98,55.56,117.4,51.34,72.8,18.059999999999999,3.74,0,0,0,{"$f":"N56","v":0},0,0,null,121.32,35.9,119.98,55.56,117.4,51.34,72.8,18.059999999999999,3.74,0,0,0,{"$f":"N56","v":0},0,0,null,null,null,null,null,null,null,null,null,null,null,null,null,null,null,null,null,null,null,49,36.632653061224488,122.42857142857143,56.693877551020407,119.79591836734694,52.387755102040813,74.285714285714292,18.428571428571427,3.8163265306122449,0,0,0,0,0,0,null,30.489795918367346,93.306122448979593,36.632653061224488,122.42857142857143,56.693877551020407,119.79591836734694,52.387755102040813,74.285714285714292,18.428571428571427,3.8163265306122449,0,0,0,0,0,0]
[null,51,35.196078431372548,117.62745098039215,54.470588235294116,115.09803921568627,50.333333333333336,71.372549019607845,17.705882352941178,3.6666666666666665,0,0,0,0,0,0,null,29.294117647058822,89.647058823529406,35.196078431372548,117.62745098039215,54.470588235294116,115.09803921568627,50.333333333333336,71.372549019607845,17.705882352941178,3.6666666666666665,0,0,0,0,0,0,null,118.94117647058823,35.196078431372548,117.62745098039215,54.470588235294116,115.09803921568627,50.333333333333336,71.372549019607845,17.705882352941178,3.6666666666666665,0,0,0,0,0,0,null,null,null,null,null,null,null,null,null,null,null,null,null,null,null,null,null,null,null,50,35.9,119.98,55.56,117.4,51.34,72.8,18.059999999999999,3.74,0,0,0,0,0,0,null,29.88,91.44,35.9,119.98,55.56,117.4,51.34,72.8,18.059999999999999,3.74,0,0,0,0,0,0]
[null,52,34.519230769230766,115.36538461538461,53.42307692307692,112.88461538461539,49.365384615384613,70,17.365384615384617,3.5961538461538463,0,0,0,0,0,0,null,28.73076923076923,87.92307692307692,34.519230769230766,115.36538461538461,53.42307692307692,112.88461538461539,49.365384615384613,70,17.365384615384617,3.5961538461538463,0,0,0,0,0,0,null,116.65384615384616,34.519230769230766,115.36538461538461,53.42307692307692,112.88461538461539,49.365384615384613,70,17.365384615384617,3.5961538461538463,0,0,0,0,0,0,null,null,null,null,null,null,null,null,null,null,null,null,null,null,null,null,null,null,null,51,35.196078431372548,117.62745098039215,54.470588235294116,115.09803921568627,50.333333333333336,71.372549019607845,17.705882352941178,3.6666666666666665,0,0,0,0,0,0,null,29.294117647058822,89.647058823529406,35.196078431372548,117.62745098039215,54.470588235294116,115.09803921568627,50.333333333333336,71.372549019607845,17.705882352941178,3.6666666666666665,0,0,0,0,0,0]
[null,53,{"$f":"$C$6/B59","v":33.867924528301884},{"$f":"$D$6/B59","v":113.18867924528301},{"$f":"$E$6/B59","v":52.415094339622641},{"$f":"$F$6/B59","v":110.75471698113208},{"$f":"$G$6/B59","v":48.433962264150942},{"$f":"$H$6/B59","v":68.679245283018872},{"$f":"$I$6/B59","v":17.037735849056602},3.5283018867924527,{"$f":"$K$6/B59","v":0},{"$f":"$L$6/B59","v":0},{"$f":"$M$6/B59","v":0},0,0,{"$f":"$P$6/B59","v":0},null,{"$f":"$R$6/B59","v":28.188679245283019},{"$f":"$S$6/B59","v":86.264150943396231},33.867924528301884,113.18867924528301,52.415094339622641,110.75471698113208,48.433962264150942,68.679245283018872,17.037735849056602,3.5283018867924527,0,0,0,0,0,0,null,{"$f":"$AI$6/B59","v":114.45283018867924},33.867924528301884,113.18867924528301,52.415094339622641,110.75471698113208,48.433962264150942,68.679245283018872,17.037735849056602,3.5283018867924527,0,0,0,0,0,0,null,null,null,null,null,null,null,null,null,null,null,null,null,null,null,null,null,null,null,52,{"$f":"$C$6/BQ59","v":34.519230769230766},{"$f":"$D$6/BQ59","v":115.36538461538461},{"$f":"$E$6/BQ59","v":53.42307692307692},{"$f":"$F$6/BQ59","v":112.88461538461539},{"$f":"$G$6/BQ59","v":49.365384615384613},{"$f":"$H$6/BQ59","v":70},{"$f":"$I$6/BQ59","v":17.365384615384617},3.5961538461538463,{"$f":"$K$6/BQ59","v":0},{"$f":"$L$6/BQ59","v":0},{"$f":"$M$6/BQ59","v":0},0,0,{"$f":"$P$6/BQ59","v":0},null,{"$f":"$R$6/BQ59","v":28.73076923076923},{"$f":"$S$6/BQ59","v":87.92307692307692},34.519230769230766,115.36538461538461,53.42307692307692,112.88461538461539,49.365384615384613,70,17.365384615384617,3.5961538461538463,0,0,0,0,0,0]
[null,54,{"$f":"$C$6/B60","v":33.24074074074074},{"$f":"$D$6/B60","v":111.0925925925926},{"$f":"$E$6/B60","v":51.444444444444443},{"$f":"$F$6/B60","v":108.70370370370371},{"$f":"$G$6/B60","v":47.537037037037038},{"$f":"$H$6/B60","v":67.407407407407405},{"$f":"$I$6/B60","v":16.722222222222221},3.4629629629629628,{"$f":"$K$6/B60","v":0},{"$f":"$L$6/B60","v":0},{"$f":"$M$6/B60","v":0},{"$f":"$N$6/B60","v":0},0,{"$f":"$P$6/B60","v":0},null,{"$f":"$R$6/B60","v":27.666666666666668},{"$f":"$S$6/B60","v":84.666666666666671},33.24074074074074,111.0925925925926,51.444444444444443,108.70370370370371,47.537037037037038,67.407407407407405,16.722222222222221,3.4629629629629628,0,0,0,0,0,0,null,{"$f":"$AI$6/B60","v":112.33333333333333},33.24074074074074,111.0925925925926,51.444444444444443,108.70370370370371,47.537037037037038,67.407407407407405,16.722222222222221,3.4629629629629628,0,0,0,0,0,0,null,null,null,null,null,null,null,null,null,null,null,null,null,null,null,null,null,null,null,53,{"$f":"$C$6/BQ60","v":33.867924528301884},{"$f":"$D$6/BQ60","v":113.18867924528301},{"$f":"$E$6/BQ60","v":52.415094339622641},{"$f":"$F$6/BQ60","v":110.75471698113208},{"$f":"$G$6/BQ60","v":48.433962264150942},{"$f":"$H$6/BQ60","v":68.679245283018872},{"$f":"$I$6/BQ60","v":17.037735849056602},3.5283018867924527,{"$f":"$K$6/BQ60","v":0},{"$f":"$L$6/BQ60","v":0},{"$f":"$M$6/BQ60","v":0},{"$f":"$N$6/BQ60","v":0},0,{"$f":"$P$6/BQ60","v":0},null,{"$f":"$R$6/BQ60","v":28.188679245283019},{"$f":"$S$6/BQ60","v":86.264150943396231},33.867924528301884,113.18867924528301,52.415094339622641,110.75471698113208,48.433962264150942,68.679245283018872,17.037735849056602,3.5283018867924527,0,0,0,0,0,0]
[]
[]
[null,"Nombre d'inscrits",29814]
[null,"Bulletins déposés",25242]
[null,"Blancs & Nuls",1494]
[null,"Votes valables",23748]
[null,"Nombre de sièges",37]
[]
[]
[]
[]
[null,"Liste unique\nMajorité\nabsolue",{"$f":"SUM($C$73:$P$73)","v":0},null,null,null,null,null,null,null,null,null,null,null,null,null,null,{"$f":"SUM($R$73:$AG$73)","v":0},null,null,null,null,null,null,null,null,null,null,null,null,null,null,null,null,{"$f":"SUM($AI$73:$AW$73)","v":0}]
[null,null,{"$f":"IF(C7>($C$67/2),1,0)","v":0},{"$f":"IF(D7>($C$67/2),1,0)","v":0},{"$f":"IF(E7>($C$67/2),1,0)","v":0},{"$f":"IF(F7>($C$67/2),1,0)","v":0},{"$f":"IF(G7>($C$67/2),1,0)","v":0},{"$f":"IF(H7>($C$67/2),1,0)","v":0},{"$f":"IF(I7>($C$67/2),1,0)","v":0},{"$f":"IF(J7>($C$67/2),1,0)","v":0},{"$f":"IF(K7>($C$67/2),1,0)","v":0},{"$f":"IF(L7>($C$67/2),1,0)","v":0},{"$f":"IF(M7>($C$67/2),1,0)","v":0},{"$f":"IF(N7>($C$67/2),1,0)","v":0},{"$f":"IF(O7>($C$67/2),1,0)","v":0},{"$f":"IF(P7>($C$67/2),1,0)","v":0},null,{"$f":"IF(R7>($C$67/2),1,0)","v":0},{"$f":"IF(S7>($C$67/2),1,0)","v":0},{"$f":"IF(T7>($C$67/2),1,0)","v":0},{"$f":"IF(U7>($C$67/2),1,0)","v":0},{"$f":"IF(V7>($C$67/2),1,0)","v":0},{"$f":"IF(W7>($C$67/2),1,0)","v":0},{"$f":"IF(X7>($C$67/2),1,0)","v":0},{"$f":"IF(Y7>($C$67/2),1,0)","v":0},{"$f":"IF(Z7>($C$67/2),1,0)","v":0},{"$f":"IF(AA7>($C$67/2),1,0)","v":0},{"$f":"IF(AB7>($C$67/2),1,0)","v":0},{"$f":"IF(AC7>($C$67/2),1,0)","v":0},{"$f":"IF(AD7>($C$67/2),1,0)","v":0},{"$f":"IF(AE7>($C$67/2),1,0)","v":0},{"$f":"IF(AF7>($C$67/2),1,0)","v":0},{"$f":"IF(AG7>($C$67/2),1,0)","v":0},null,{"$f":"IF(AI7>($C$67/2),1,0)","v":0},{"$f":"IF(AJ7>($C$67/2),1,0)","v":0},{"$f":"IF(AK7>($C$67/2),1,0)","v":0},{"$f":"IF(AL7>($C$67/2),1,0)","v":0},{"$f":"IF(AM7>($C$67/2),1,0)","v":0},{"$f":"IF(AN7>($C$67/2),1,0)","v":0},{"$f":"IF(AO7>($C$67/2),1,0)","v":0},{"$f":"IF(AP7>($C$67/2),1,0)","v":0},{"$f":"IF(AQ7>($C$67/2),1,0)","v":0},{"$f":"IF(AR7>($C$67/2),1,0)","v":0},{"$f":"IF(AS7>($C$67/2),1,0)","v":0},{"$f":"IF(AT7>($C$67/2),1,0)","v":0},{"$f":"IF(AU7>($C$67/2),1,0)","v":0},{"$f":"IF(AV7>($C$67/2),1,0)","v":0},{"$f":"IF(AW7>($C$67/2),1,0)","v":0}]
[]
[null,"Liste unique\nMajorité\nabsolue\nnombre de voix",{"$f":"SUM($C$76:$P$76)","v":0},null,null,null,null,null,null,null,null,null,null,null,null,null,null,{"$f":"SUM(R76:AG76)","v":0},null,null,null,null,null,null,null,null,null,null,null,null,null,null,null,null,{"$f":"SUM(AI76:AW76)","v":0}]
[null,null,{"$f":"IF(C73>0,C6,0)","v":0},{"$f":"IF(D73>0,D6,0)","v":0},{"$f":"IF(E73>0,E6,0)","v":0},{"$f":"IF(F73>0,F6,0)","v":0},{"$f":"IF(G73>0,G6,0)","v":0},{"$f":"IF(H73>0,H6,0)","v":0},{"$f":"IF(I73>0,I6,0)","v":0},{"$f":"IF(J73>0,J6,0)","v":0},{"$f":"IF(K73>0,K6,0)","v":0},{"$f":"IF(L73>0,L6,0)","v":0},{"$f":"IF(M73>0,M6,0)","v":0},{"$f":"IF(N73>0,N6,0)","v":0},{"$f":"IF(O73>0,O6,0)","v":0},{"$f":"IF(P73>0,P6,0)","v":0},null,{"$f":"IF(R73>0,R6,0)","v":0},{"$f":"IF(S73>0,S6,0)","v":0},{"$f":"IF(T73>0,T6,0)","v":0},{"$f":"IF(U73>0,U6,0)","v":0},{"$f":"IF(V73>0,V6,0)","v":0},{"$f":"IF(W73>0,W6,0)","v":0},{"$f":"IF(X73>0,X6,0)","v":0},{"$f":"IF(Y73>0,Y6,0)","v":0},{"$f":"IF(Z73>0,Z6,0)","v":0},{"$f":"IF(AA73>0,AA6,0)","v":0},{"$f":"IF(AB73>0,AB6,0)","v":0},{"$f":"IF(AC73>0,AC6,0)","v":0},{"$f":"IF(AD73>0,AD6,0)","v":0},{"$f":"IF(AE73>0,AE6,0)","v":0},{"$f":"IF(AF73>0,AF6,0)","v":0},{"$f":"IF(AG73>0,AG6,0)","v":0},null,{"$f":"IF(AI73>0,AI6,0)","v":0},{"$f":"IF(AJ73>0,AJ6,0)","v":0},{"$f":"IF(AK73>0,AK6,0)","v":0},{"$f":"IF(AL73>0,AL6,0)","v":0},{"$f":"IF(AM73>0,AM6,0)","v":0},{"$f":"IF(AN73>0,AN6,0)","v":0},{"$f":"IF(AO73>0,AO6,0)","v":0},{"$f":"IF(AP73>0,AP6,0)","v":0},{"$f":"IF(AQ73>0,AQ6,0)","v":0},{"$f":"IF(AR73>0,AR6,0)","v":0},{"$f":"IF(AS73>0,AS6,0)","v":0},{"$f":"IF(AT73>0,AT6,0)","v":0},{"$f":"IF(AU73>0,AU6,0)","v":0},{"$f":"IF(AV73>0,AV6,0)","v":0},{"$f":"IF(AW73>0,AW6,0)","v":0}]
[]
[null,"Nbr voix\nCoalition",{"$f":"SUMIF(C4:P4,\"x\",C6:P6)","v":11869}]
[]
[null,"% Coalition",{"$f":"100/C63*C78","v":39.810156302408259}]
[null,"% Majorité",{"$f":"100/C63*C75","v":0}]
[]
[null,"Coalition",{"$f":"COUNTA(C4:P4)","v":2},{"$f":"IF(C83>0,1,0)","v":1}]
[]
[]
[]
[]
[]
[]
[]
[]
[]
[]
[]
[]
[null,null,null,null,null,null,null,null,null,null,null,null,null,null,null,"FOREST"]
[]
[null,null,null,null,null,null,null,null,null,null,null,null,null,null,null,null,null,{"$f":"R5","v":"Blancs & Nuls"},{"$f":"S5","v":"Non-déposés"},{"$f":"T5","v":"CDH"},{"$f":"U5","v":"ECOLO-GROEN"},{"$f":"V5","v":"DéFI"},{"$f":"W5","v":"LISTE DU BOURGMESTRE"},{"$f":"X5","v":"PTB*PVDA"},{"$f":"Y5","v":"MR"},{"$f":"Z5","v":"Forest En Mieux"},{"$f":"AA5","v":"Chrétien"},{"$f":"AB5","v":0},{"$f":"AC5","v":0},{"$f":"AD5","v":0},{"$f":"AE5","v":0},{"$f":"AF5","v":0},{"$f":"AG5","v":0}]
[null,null,null,null,null,null,null,null,null,null,null,null,null,null,null,"Chiffres\nélectoraux",null,{"$f":"R6","v":1494},{"$f":"S6","v":4572},{"$f":"T6","v":1795},{"$f":"U6","v":5999},{"$f":"V6","v":2778},{"$f":"W6","v":5870},{"$f":"X6","v":2567},{"$f":"Y6","v":3640},{"$f":"Z6","v":903},{"$f":"AA6","v":187},{"$f":"AB6","v":0},{"$f":"AC6","v":0},{"$f":"AD6","v":0},{"$f":"AE6","v":0},{"$f":"AF6","v":0},{"$f":"AG6","v":0}]
[null,null,null,null,null,null,null,null,null,null,null,null,null,null,null,"Impériali",null,0,0,{"$f":"C7","v":2},{"$f":"D7","v":11},{"$f":"E7","v":4},{"$f":"F7","v":10},{"$f":"G7","v":4},{"$f":"H7","v":6},{"$f":"I7","v":0},{"$f":"J7","v":0},{"$f":"K7","v":0},{"$f":"L7","v":0},{"$f":"M7","v":0},{"$f":"N7","v":0},{"$f":"O7","v":0},{"$f":"P7","v":0}]
[null,null,null,null,null,null,null,null,null,null,null,null,null,null,null,"Impériali\n+ proportionnelle",null,{"$f":"R7","v":1},{"$f":"S7","v":6},{"$f":"T7","v":2},{"$f":"U7","v":9},{"$f":"V7","v":3},{"$f":"W7","v":8},{"$f":"X7","v":3},{"$f":"Y7","v":5},{"$f":"Z7","v":0},{"$f":"AA7","v":0},{"$f":"AB7","v":0},{"$f":"AC7","v":0},{"$f":"AD7","v":0},{"$f":"AE7","v":0},{"$f":"AF7","v":0},{"$f":"AG7","v":0}]
[null,null,null,null,null,null,null,null,null,null,null,null,null,null,null,"D'Hondt",null,0,0,{"$f":"BR7","v":3},{"$f":"BS7","v":10},{"$f":"BT7","v":4},{"$f":"BU7","v":9},{"$f":"BV7","v":4},{"$f":"BW7","v":6},{"$f":"BX7","v":1},{"$f":"BY7","v":0},{"$f":"BZ7","v":0},{"$f":"CA7","v":0},{"$f":"CB7","v":0},{"$f":"CC7","v":0},{"$f":"CD7","v":0},{"$f":"CE7","v":0}]
[null,null,null,null,null,null,null,null,null,null,null,null,null,null,null,"D'Hondt\n+ proportionnelle",null,{"$f":"CG7","v":2},{"$f":"CH7","v":6},{"$f":"CI7","v":2},{"$f":"CJ7","v":8},{"$f":"CK7","v":3},{"$f":"CL7","v":8},{"$f":"CM7","v":3},{"$f":"CN7","v":4},{"$f":"CO7","v":1},{"$f":"CP7","v":0},{"$f":"CQ7","v":0},{"$f":"CR7","v":0},{"$f":"CS7","v":0},{"$f":"CT7","v":0},{"$f":"CU7","v":0},{"$f":"CV7","v":0}]
[null,null,null,null,null,null,null,null,null,null,null,null,null,null,null,"Proportionnelle\npure",null,{"$f":"AZ7","v":1.8540953914268465},{"$f":"BA7","v":5.6739786677399886},{"$f":"BB7","v":2.2276447306634468},{"$f":"BC7","v":7.444925202924801},{"$f":"BD7","v":3.4475749647816465},{"$f":"BE7","v":7.2848326289662575},{"$f":"BF7","v":3.1968873683504397},{"$f":"BG7","v":4.517340846582143},{"$f":"BH7","v":1.1206480177098008},{"$f":"BI7","v":0.23207218085463208},{"$f":"BJ7","v":0},{"$f":"BK7","v":0},{"$f":"BL7","v":0},{"$f":"BM7","v":0},{"$f":"BN7","v":0},{"$f":"BO7","v":0}]
[]
[null,null,null,null,null,null,null,null,null,null,null,null,null,null,null,null,"Nombre de sièges à distribuer :",null,null,null,{"$f":"C67","v":37},null,"Est-ce une liste unique en majorité absolue en termes de sièges ?",null,null,null,null,null,null,{"$f":"IF(C72>0,\"Oui\",\"Non\")","v":"Non"}]
[]
[null,null,null,null,null,null,null,null,null,null,null,null,null,null,null,null,"Nombre d'inscrits :",null,null,null,{"$f":"C63","v":29814},null,"Est-ce une liste unique en majorité absolue en termes de voix ?",null,null,null,null,null,null,{"$f":"IF(C75>0,\"Oui\",\"Non\")","v":"Non"}]
[]
[null,null,null,null,null,null,null,null,null,null,null,null,null,null,null,null,"Nombre de bulletins déposés :",null,null,null,{"$f":"C64","v":25242},null,"La majorité est-elle formée par une coalition ?",null,null,null,null,null,null,{"$f":"IF(B4>0,\"Oui\",\"Non\")","v":"Oui"}]
[]
[null,null,null,null,null,null,null,null,null,null,null,null,null,null,null,null,"Nombre de votes valables :",null,null,null,{"$f":"C66","v":23748},null,"Quelle est la proportion de l'électorat représentée par la majorité ?",null,null,null,null,null,null,{"$f":"IF(D83>0,C80,C81)","v":39.810156302408259}]
[]
[null,null,null,null,null,null,null,null,null,null,null,null,null,null,null,"Comparaison\nClef Impériali\n-\nClef D'Hondt",null,{"$f":"R100-R102","v":0},{"$f":"S100-S102","v":0},-1,1,0,1,0,0,-1,0,0,0,0,0,0,0]

{"sheet":"GANSHOREN","index":11,"n_rows":114,"n_cols":100,"rows_kept":114,"cut":false,"hidden":false,"merged":[[1,1,1,48],[1,68,1,99],[1,50,1,66],[71,1,72,1],[113,15,113,16],[107,16,107,19],[109,16,109,19],[111,16,111,19],[74,1,75,1],[95,15,95,32],[105,22,105,27],[107,22,107,27],[109,22,109,27],[111,22,111,27],[105,16,105,19]]}
[]
[null,"IMPÉRIALI",null,null,null,null,null,null,null,null,null,null,null,null,null,null,null,null,null,null,null,null,null,null,null,null,null,null,null,null,null,null,null,null,null,null,null,null,null,null,null,null,null,null,null,null,null,null,null,null,"PROPORTIONNELLE PURE",null,null,null,null,null,null,null,null,null,null,null,null,null,null,null,null,null,"D'HONDT"]
[]
[null,"Coalition","x",null,"x",null,null,"x"]
[null,{"$f":"COUNTA(C5:P5)","v":6},"PROGANSHOREN","ECOLO-GROEN","DéFI","ENSEMBLE-SAMEN#CARTHÉ","N-VA","LB-LISTE BOURGMESTRE",null,null,null,null,null,null,null,null,null,"Blancs & Nuls","Non-déposés",{"$f":"C5","v":"PROGANSHOREN"},{"$f":"D5","v":"ECOLO-GROEN"},{"$f":"E5","v":"DéFI"},{"$f":"F5","v":"ENSEMBLE-SAMEN#CARTHÉ"},{"$f":"G5","v":"N-VA"},{"$f":"H5","v":"LB-LISTE BOURGMESTRE"},{"$f":"I5","v":0},{"$f":"J5","v":0},{"$f":"K5","v":0},{"$f":"L5","v":0},{"$f":"M5","v":0},{"$f":"N5","v":0},{"$f":"O5","v":0},{"$f":"P5","v":0},null,"Non-valables",{"$f":"C5","v":"PROGANSHOREN"},{"$f":"D5","v":"ECOLO-GROEN"},{"$f":"E5","v":"DéFI"},{"$f":"F5","v":"ENSEMBLE-SAMEN#CARTHÉ"},{"$f":"G5","v":"N-VA"},{"$f":"H5","v":"LB-LISTE BOURGMESTRE"},{"$f":"I5","v":0},{"$f":"J5","v":0},{"$f":"K5","v":0},{"$f":"L5","v":0},{"$f":"M5","v":0},{"$f":"N5","v":0},{"$f":"O5","v":0},{"$f":"P5","v":0},null,"New Key","Blancs & Nuls","Non-déposés",{"$f":"C5","v":"PROGANSHOREN"},{"$f":"D5","v":"ECOLO-GROEN"},"DéFI","ENSEMBLE-SAMEN#CARTHÉ","N-VA","LB-LISTE BOURGMESTRE",0,0,0,0,0,0,0,0,null,null,{"$f":"C5","v":"PROGANSHOREN"},{"$f":"D5","v":"ECOLO-GROEN"},"DéFI","ENSEMBLE-SAMEN#CARTHÉ","N-VA","LB-LISTE BOURGMESTRE",0,0,0,0,0,0,0,0,null,"Blancs & Nuls","Non-déposés",{"$f":"C5","v":"PROGANSHOREN"},{"$f":"D5","v":"ECOLO-GROEN"},"DéFI","ENSEMBLE-SAMEN#CARTHÉ","N-VA","LB-LISTE BOURGMESTRE",0,0,0,0,0,0,0,0]
[null,"Chiffres\nélectoraux",3441,1997,110,2588,809,2197,0,0,0,0,0,0,0,0,null,{"$f":"C65","v":1028},{"$f":"C63-C64","v":2090},3441,1997,110,2588,809,2197,0,0,0,0,0,0,0,0,null,{"$f":"R6+S6","v":3118},3441,1997,110,2588,809,2197,0,0,0,0,0,0,0,0,null,null,{"$f":"C65","v":1028},{"$f":"C63-C64","v":2090},{"$f":"C6","v":3441},1997,110,2588,809,2197,0,0,0,0,0,0,0,0,null,"Chiffres\nélectoraux",{"$f":"C6","v":3441},1997,110,2588,809,2197,0,0,0,0,0,0,0,0,null,{"$f":"C65","v":1028},{"$f":"C63-C64","v":2090},{"$f":"C6","v":3441},1997,110,2588,809,2197,0,0,0,0,0,0,0,0]
[null,"Sièges",9,5,0,7,1,5,0,0,0,0,0,0,0,0,null,1,4,8,4,0,5,1,4,0,0,0,0,0,0,0,0,null,6,7,4,0,5,1,4,0,0,0,0,0,0,0,0,null,565.18518518518522,1.8188728702490169,3.6979030144167755,6.0882699868938399,3.5333551769331586,1.9639580602883353,4.579030144167759,1.4313892529488859,3.8872214941022278,0,0,0,0,0,0,0,0,null,"Sièges",9,5,0,6,2,5,0,0,0,0,0,0,0,0,null,2,4,7,4,0,5,1,4,0,0,0,0,0,0,0,0]
[null,2,{"$f":"$C$6/B8","v":1720.5},{"$f":"$D$6/B8","v":998.5},{"$f":"$E$6/B8","v":55},{"$f":"$F$6/B8","v":1294},{"$f":"$G$6/B8","v":404.5},{"$f":"$H$6/B8","v":1098.5},{"$f":"$I$6/B8","v":0},{"$f":"$J$6/B8","v":0},{"$f":"$K$6/B8","v":0},{"$f":"$L$6/B8","v":0},{"$f":"$M$6/B8","v":0},{"$f":"$N$6/B8","v":0},{"$f":"$O$6/B8","v":0},{"$f":"$P$6/B8","v":0},null,{"$f":"$R$6/B8","v":514},{"$f":"$S$6/B8","v":1045},{"$f":"C8","v":1720.5},{"$f":"D8","v":998.5},{"$f":"E8","v":55},{"$f":"F8","v":1294},{"$f":"G8","v":404.5},{"$f":"H8","v":1098.5},{"$f":"I8","v":0},{"$f":"J8","v":0},{"$f":"K8","v":0},{"$f":"L8","v":0},{"$f":"M8","v":0},{"$f":"N8","v":0},0,{"$f":"P8","v":0},null,{"$f":"$AI$6/B8","v":1559},{"$f":"C8","v":1720.5},{"$f":"D8","v":998.5},{"$f":"E8","v":55},{"$f":"F8","v":1294},{"$f":"G8","v":404.5},{"$f":"H8","v":1098.5},{"$f":"I8","v":0},{"$f":"J8","v":0},{"$f":"K8","v":0},{"$f":"L8","v":0},{"$f":"M8","v":0},{"$f":"N8","v":0},0,{"$f":"P8","v":0},null,null,null,null,null,null,null,null,null,null,null,null,null,null,null,null,null,null,null,1,{"$f":"$C$6/BQ8","v":3441},{"$f":"$D$6/BQ8","v":1997},{"$f":"$E$6/BQ8","v":110},{"$f":"$F$6/BQ8","v":2588},{"$f":"$G$6/BQ8","v":809},{"$f":"$H$6/BQ8","v":2197},{"$f":"$I$6/BQ8","v":0},{"$f":"$J$6/BQ8","v":0},{"$f":"$K$6/BQ8","v":0},{"$f":"$L$6/BQ8","v":0},{"$f":"$M$6/BQ8","v":0},{"$f":"$N$6/BQ8","v":0},{"$f":"$O$6/BQ8","v":0},{"$f":"$P$6/BQ8","v":0},null,{"$f":"$R$6/BQ8","v":1028},{"$f":"$S$6/BQ8","v":2090},{"$f":"BR8","v":3441},{"$f":"BS8","v":1997},{"$f":"BT8","v":110},{"$f":"BU8","v":2588},{"$f":"BV8","v":809},{"$f":"BW8","v":2197},{"$f":"BX8","v":0},{"$f":"BY8","v":0},{"$f":"BZ8","v":0},{"$f":"CA8","v":0},{"$f":"CB8","v":0},{"$f":"CC8","v":0},{"$f":"CD8","v":0},{"$f":"CE8","v":0}]
[null,3,{"$f":"$C$6/B9","v":1147},665.66666666666663,{"$f":"$E$6/B9","v":36.666666666666664},862.66666666666663,269.66666666666669,{"$f":"$H$6/B9","v":732.33333333333337},{"$f":"$I$6/B9","v":0},{"$f":"$J$6/B9","v":0},{"$f":"$K$6/B9","v":0},{"$f":"$L$6/B9","v":0},{"$f":"$M$6/B9","v":0},{"$f":"$N$6/B9","v":0},{"$f":"$O$6/B9","v":0},{"$f":"$P$6/B9","v":0},null,{"$f":"$R$6/B9","v":342.66666666666669},{"$f":"$S$6/B9","v":696.66666666666663},1147,665.66666666666663,36.666666666666664,862.66666666666663,269.66666666666669,732.33333333333337,0,0,0,0,0,0,0,0,null,{"$f":"$AI$6/B9","v":1039.3333333333333},1147,665.66666666666663,36.666666666666664,862.66666666666663,269.66666666666669,732.33333333333337,0,0,0,0,0,0,0,0,null,null,null,null,null,null,null,null,null,null,null,null,null,null,null,null,null,null,null,2,{"$f":"$C$6/BQ9","v":1720.5},998.5,{"$f":"$E$6/BQ9","v":55},1294,404.5,{"$f":"$H$6/BQ9","v":1098.5},{"$f":"$I$6/BQ9","v":0},{"$f":"$J$6/BQ9","v":0},{"$f":"$K$6/BQ9","v":0},{"$f":"$L$6/BQ9","v":0},{"$f":"$M$6/BQ9","v":0},{"$f":"$N$6/BQ9","v":0},{"$f":"$O$6/BQ9","v":0},{"$f":"$P$6/BQ9","v":0},null,{"$f":"$R$6/BQ9","v":514},{"$f":"$S$6/BQ9","v":1045},1720.5,998.5,55,1294,404.5,1098.5,0,0,0,0,0,0,0,0]
[null,4,860.25,499.25,27.5,647,202.25,549.25,0,0,0,0,0,0,0,0,null,257,522.5,860.25,499.25,27.5,647,202.25,549.25,0,0,0,0,0,0,0,0,null,779.5,860.25,499.25,27.5,647,202.25,549.25,0,0,0,0,0,0,0,0,null,null,null,null,null,null,null,null,null,null,null,null,null,null,null,null,null,null,null,3,1147,665.66666666666663,36.666666666666664,862.66666666666663,269.66666666666669,732.33333333333337,0,0,0,0,0,0,0,0,null,342.66666666666669,696.66666666666663,1147,665.66666666666663,36.666666666666664,862.66666666666663,269.66666666666669,732.33333333333337,0,0,0,0,0,0,0,0]
[null,5,688.2,399.4,22,517.6,161.80000000000001,439.4,0,0,0,0,0,0,0,0,null,205.6,418,688.2,399.4,22,517.6,161.80000000000001,439.4,0,0,0,0,0,0,0,0,null,623.6,688.2,399.4,22,517.6,161.80000000000001,439.4,0,0,0,0,0,0,0,0,null,null,null,null,null,null,null,null,null,null,null,null,null,null,null,null,null,null,null,4,860.25,499.25,27.5,647,202.25,549.25,0,0,0,0,0,0,0,0,null,257,522.5,860.25,499.25,27.5,647,202.25,549.25,0,0,0,0,0,0,0,0]
[null,6,573.5,332.83333333333331,18.333333333333332,431.33333333333331,134.83333333333334,366.16666666666669,0,0,0,0,0,0,0,0,null,171.33333333333334,348.33333333333331,573.5,332.83333333333331,18.333333333333332,431.33333333333331,134.83333333333334,366.16666666666669,0,0,0,0,0,0,0,0,null,519.66666666666663,573.5,332.83333333333331,18.333333333333332,431.33333333333331,134.83333333333334,366.16666666666669,0,0,0,0,0,0,0,0,null,null,null,null,null,null,null,null,null,null,null,null,null,null,null,null,null,null,null,5,688.2,399.4,22,517.6,161.80000000000001,439.4,0,0,0,0,0,0,0,0,null,205.6,418,688.2,399.4,22,517.6,161.80000000000001,439.4,0,0,0,0,0,0,0,0]
[null,7,491.57142857142856,285.28571428571428,15.714285714285714,369.71428571428572,115.57142857142857,313.85714285714283,0,0,0,0,0,0,0,0,null,146.85714285714286,298.57142857142856,491.57142857142856,285.28571428571428,15.714285714285714,369.71428571428572,115.57142857142857,313.85714285714283,0,0,0,0,0,0,0,0,null,445.42857142857144,491.57142857142856,285.28571428571428,15.714285714285714,369.71428571428572,115.57142857142857,313.85714285714283,0,0,0,0,0,0,0,0,null,null,null,null,null,null,null,null,null,null,null,null,null,null,null,null,null,null,null,6,573.5,332.83333333333331,18.333333333333332,431.33333333333331,134.83333333333334,366.16666666666669,0,0,0,0,0,0,0,0,null,171.33333333333334,348.33333333333331,573.5,332.83333333333331,18.333333333333332,431.33333333333331,134.83333333333334,366.16666666666669,0,0,0,0,0,0,0,0]
[null,8,430.125,249.625,13.75,323.5,101.125,274.625,0,0,0,0,0,0,0,0,null,128.5,261.25,430.125,249.625,13.75,323.5,101.125,274.625,0,0,0,0,0,0,0,0,null,389.75,430.125,249.625,13.75,323.5,101.125,274.625,0,0,0,0,0,0,0,0,null,null,null,null,null,null,null,null,null,null,null,null,null,null,null,null,null,null,null,7,491.57142857142856,285.28571428571428,15.714285714285714,369.71428571428572,115.57142857142857,313.85714285714283,0,0,0,0,0,0,0,0,null,146.85714285714286,298.57142857142856,491.57142857142856,285.28571428571428,15.714285714285714,369.71428571428572,115.57142857142857,313.85714285714283,0,0,0,0,0,0,0,0]
[null,9,382.33333333333331,221.88888888888889,12.222222222222221,287.55555555555554,89.888888888888886,244.11111111111111,0,0,0,0,0,0,0,0,null,114.22222222222223,232.22222222222223,382.33333333333331,221.88888888888889,12.222222222222221,287.55555555555554,89.888888888888886,244.11111111111111,0,0,0,0,0,0,0,0,null,346.44444444444446,382.33333333333331,221.88888888888889,12.222222222222221,287.55555555555554,89.888888888888886,244.11111111111111,0,0,0,0,0,0,0,0,null,null,null,null,null,null,null,null,null,null,null,null,null,null,null,null,null,null,null,8,430.125,249.625,13.75,323.5,101.125,274.625,0,0,0,0,0,0,0,0,null,128.5,261.25,430.125,249.625,13.75,323.5,101.125,274.625,0,0,0,0,0,0,0,0]
[null,10,344.1,199.7,11,258.8,80.900000000000006,219.7,0,0,0,0,0,0,0,0,null,102.8,209,344.1,199.7,11,258.8,80.900000000000006,219.7,0,0,0,0,0,0,0,0,null,311.8,344.1,199.7,11,258.8,80.900000000000006,219.7,0,0,0,0,0,0,0,0,null,null,null,null,null,null,null,null,null,null,null,null,null,null,null,null,null,null,null,9,382.33333333333331,221.88888888888889,12.222222222222221,287.55555555555554,89.888888888888886,244.11111111111111,0,0,0,0,0,0,0,0,null,114.22222222222223,232.22222222222223,382.33333333333331,221.88888888888889,12.222222222222221,287.55555555555554,89.888888888888886,244.11111111111111,0,0,0,0,0,0,0,0]
[null,11,312.81818181818181,181.54545454545453,10,235.27272727272728,73.545454545454547,199.72727272727272,0,0,0,0,0,0,0,0,null,93.454545454545453,190,312.81818181818181,181.54545454545453,10,235.27272727272728,73.545454545454547,199.72727272727272,0,0,0,0,0,0,0,0,null,283.45454545454544,312.81818181818181,181.54545454545453,10,235.27272727272728,73.545454545454547,199.72727272727272,0,0,0,0,0,0,0,0,null,null,null,null,null,null,null,null,null,null,null,null,null,null,null,null,null,null,null,10,344.1,199.7,11,258.8,80.900000000000006,219.7,0,0,0,0,0,0,0,0,null,102.8,209,344.1,199.7,11,258.8,80.900000000000006,219.7,0,0,0,0,0,0,0,0]
[null,12,286.75,166.41666666666666,9.1666666666666661,215.66666666666666,67.416666666666671,183.08333333333334,0,0,0,0,0,0,0,0,null,85.666666666666671,174.16666666666666,286.75,166.41666666666666,9.1666666666666661,215.66666666666666,67.416666666666671,183.08333333333334,0,0,0,0,0,0,0,0,null,259.83333333333331,286.75,166.41666666666666,9.1666666666666661,215.66666666666666,67.416666666666671,183.08333333333334,0,0,0,0,0,0,0,0,null,null,null,null,null,null,null,null,null,null,null,null,null,null,null,null,null,null,null,11,312.81818181818181,181.54545454545453,10,235.27272727272728,73.545454545454547,199.72727272727272,0,0,0,0,0,0,0,0,null,93.454545454545453,190,312.81818181818181,181.54545454545453,10,235.27272727272728,73.545454545454547,199.72727272727272,0,0,0,0,0,0,0,0]
[null,13,264.69230769230768,153.61538461538461,8.4615384615384617,199.07692307692307,62.230769230769234,169,0,0,0,0,0,0,0,0,null,79.07692307692308,160.76923076923077,264.69230769230768,153.61538461538461,8.4615384615384617,199.07692307692307,62.230769230769234,169,0,0,0,0,0,0,0,0,null,239.84615384615384,264.69230769230768,153.61538461538461,8.4615384615384617,199.07692307692307,62.230769230769234,169,0,0,0,0,0,0,0,0,null,null,null,null,null,null,null,null,null,null,null,null,null,null,null,null,null,null,null,12,286.75,166.41666666666666,9.1666666666666661,215.66666666666666,67.416666666666671,183.08333333333334,0,0,0,0,0,0,0,0,null,85.666666666666671,174.16666666666666,286.75,166.41666666666666,9.1666666666666661,215.66666666666666,67.416666666666671,183.08333333333334,0,0,0,0,0,0,0,0]
[null,14,245.78571428571428,142.64285714285714,7.8571428571428568,184.85714285714286,57.785714285714285,156.92857142857142,0,0,0,0,0,0,0,0,null,73.428571428571431,149.28571428571428,245.78571428571428,142.64285714285714,7.8571428571428568,184.85714285714286,57.785714285714285,156.92857142857142,0,0,0,0,0,0,0,0,null,222.71428571428572,245.78571428571428,142.64285714285714,7.8571428571428568,184.85714285714286,57.785714285714285,156.92857142857142,0,0,0,0,0,0,0,0,null,null,null,null,null,null,null,null,null,null,null,null,null,null,null,null,null,null,null,13,264.69230769230768,153.61538461538461,8.4615384615384617,199.07692307692307,62.230769230769234,169,0,0,0,0,0,0,0,0,null,79.07692307692308,160.76923076923077,264.69230769230768,153.61538461538461,8.4615384615384617,199.07692307692307,62.230769230769234,169,0,0,0,0,0,0,0,0]
[null,15,229.4,133.13333333333333,7.333333333333333,172.53333333333333,53.93333333333333,146.46666666666667,0,0,0,0,0,0,0,0,null,68.533333333333331,139.33333333333334,229.4,133.13333333333333,7.333333333333333,172.53333333333333,53.93333333333333,146.46666666666667,0,0,0,0,0,0,0,0,null,207.86666666666667,229.4,133.13333333333333,7.333333333333333,172.53333333333333,53.93333333333333,146.46666666666667,0,0,0,0,0,0,0,0,null,null,null,null,null,null,null,null,null,null,null,null,null,null,null,null,null,null,null,14,245.78571428571428,142.64285714285714,7.8571428571428568,184.85714285714286,57.785714285714285,156.92857142857142,0,0,0,0,0,0,0,0,null,73.428571428571431,149.28571428571428,245.78571428571428,142.64285714285714,7.8571428571428568,184.85714285714286,57.785714285714285,156.92857142857142,0,0,0,0,0,0,0,0]
[null,16,215.0625,124.8125,6.875,161.75,50.5625,137.3125,0,0,0,0,0,0,0,0,null,64.25,130.625,215.0625,124.8125,6.875,161.75,50.5625,137.3125,0,0,0,0,0,0,0,0,null,194.875,215.0625,124.8125,6.875,161.75,50.5625,137.3125,0,0,0,0,0,0,0,0,null,null,null,null,null,null,null,null,null,null,null,null,null,null,null,null,null,null,null,15,229.4,133.13333333333333,7.333333333333333,172.53333333333333,53.93333333333333,146.46666666666667,0,0,0,0,0,0,0,0,null,68.533333333333331,139.33333333333334,229.4,133.13333333333333,7.333333333333333,172.53333333333333,53.93333333333333,146.46666666666667,0,0,0,0,0,0,0,0]
[null,17,202.41176470588235,117.47058823529412,6.4705882352941178,152.23529411764707,47.588235294117645,129.23529411764707,0,0,0,0,0,0,0,0,null,60.470588235294116,122.94117647058823,202.41176470588235,117.47058823529412,6.4705882352941178,152.23529411764707,47.588235294117645,129.23529411764707,0,0,0,0,0,0,0,0,null,183.41176470588235,202.41176470588235,117.47058823529412,6.4705882352941178,152.23529411764707,47.588235294117645,129.23529411764707,0,0,0,0,0,0,0,0,null,null,null,null,null,null,null,null,null,null,null,null,null,null,null,null,null,null,null,16,215.0625,124.8125,6.875,161.75,50.5625,137.3125,0,0,0,0,0,0,0,0,null,64.25,130.625,215.0625,124.8125,6.875,161.75,50.5625,137.3125,0,0,0,0,0,0,0,0]
[null,18,191.16666666666666,110.94444444444444,6.1111111111111107,143.77777777777777,44.944444444444443,122.05555555555556,0,0,0,0,0,0,0,0,null,57.111111111111114,116.11111111111111,191.16666666666666,110.94444444444444,6.1111111111111107,143.77777777777777,44.944444444444443,122.05555555555556,0,0,0,0,0,{"$f":"N24","v":0},0,0,null,173.22222222222223,191.16666666666666,110.94444444444444,6.1111111111111107,143.77777777777777,44.944444444444443,122.05555555555556,0,0,0,0,0,{"$f":"N24","v":0},0,0,null,null,null,null,null,null,null,null,null,null,null,null,null,null,null,null,null,null,null,17,202.41176470588235,117.47058823529412,6.4705882352941178,152.23529411764707,47.588235294117645,129.23529411764707,0,0,0,0,0,0,0,0,null,60.470588235294116,122.94117647058823,202.41176470588235,117.47058823529412,6.4705882352941178,152.23529411764707,47.588235294117645,129.23529411764707,0,0,0,0,0,0,0,0]
[null,19,181.10526315789474,105.10526315789474,5.7894736842105265,136.21052631578948,42.578947368421055,115.63157894736842,0,0,0,0,0,0,0,0,null,54.10526315789474,110,181.10526315789474,105.10526315789474,5.7894736842105265,136.21052631578948,42.578947368421055,115.63157894736842,0,0,0,0,0,0,0,0,null,164.10526315789474,181.10526315789474,105.10526315789474,5.7894736842105265,136.21052631578948,42.578947368421055,115.63157894736842,0,0,0,0,0,0,0,0,null,null,null,null,null,null,null,null,null,null,null,null,null,null,null,null,null,null,null,18,191.16666666666666,110.94444444444444,6.1111111111111107,143.77777777777777,44.944444444444443,122.05555555555556,0,0,0,0,0,0,0,0,null,57.111111111111114,116.11111111111111,191.16666666666666,110.94444444444444,6.1111111111111107,143.77777777777777,44.944444444444443,122.05555555555556,0,0,0,0,0,0,0,0]
[null,20,172.05,99.85,5.5,129.4,40.450000000000003,109.85,0,0,0,0,0,0,0,0,null,51.4,104.5,172.05,99.85,5.5,129.4,40.450000000000003,109.85,0,0,0,0,0,0,0,0,null,155.9,172.05,99.85,5.5,129.4,40.450000000000003,109.85,0,0,0,0,0,0,0,0,null,null,null,null,null,null,null,null,null,null,null,null,null,null,null,null,null,null,null,19,181.10526315789474,105.10526315789474,5.7894736842105265,136.21052631578948,42.578947368421055,115.63157894736842,0,0,0,0,0,0,0,0,null,54.10526315789474,110,181.10526315789474,105.10526315789474,5.7894736842105265,136.21052631578948,42.578947368421055,115.63157894736842,0,0,0,0,0,0,0,0]
[null,21,163.85714285714286,95.095238095238102,5.2380952380952381,123.23809523809524,38.523809523809526,104.61904761904762,0,0,0,0,0,0,0,0,null,48.952380952380949,99.523809523809518,163.85714285714286,95.095238095238102,5.2380952380952381,123.23809523809524,38.523809523809526,104.61904761904762,0,0,0,0,0,0,0,{"$f":"P27","v":0},null,148.47619047619048,163.85714285714286,95.095238095238102,5.2380952380952381,123.23809523809524,38.523809523809526,104.61904761904762,0,0,0,0,0,0,0,{"$f":"P27","v":0},null,null,null,null,null,null,null,null,null,null,null,null,null,null,null,null,null,null,null,20,172.05,99.85,5.5,129.4,40.450000000000003,109.85,0,0,0,0,0,0,0,0,null,51.4,104.5,172.05,99.85,5.5,129.4,40.450000000000003,109.85,0,0,0,0,0,0,0,0]
[null,22,156.40909090909091,90.772727272727266,5,117.63636363636364,36.772727272727273,99.86363636363636,0,0,0,0,0,0,0,0,null,46.727272727272727,95,156.40909090909091,90.772727272727266,5,117.63636363636364,36.772727272727273,99.86363636363636,0,0,0,0,0,0,0,0,null,141.72727272727272,156.40909090909091,90.772727272727266,5,117.63636363636364,36.772727272727273,99.86363636363636,0,0,0,0,0,0,0,0,null,null,null,null,null,null,null,null,null,null,null,null,null,null,null,null,null,null,null,21,163.85714285714286,95.095238095238102,5.2380952380952381,123.23809523809524,38.523809523809526,104.61904761904762,0,0,0,0,0,0,0,0,null,48.952380952380949,99.523809523809518,163.85714285714286,95.095238095238102,5.2380952380952381,123.23809523809524,38.523809523809526,104.61904761904762,0,0,0,0,0,0,0,0]
[null,23,149.60869565217391,86.826086956521735,4.7826086956521738,112.52173913043478,35.173913043478258,95.521739130434781,0,0,0,0,0,0,0,0,null,44.695652173913047,90.869565217391298,149.60869565217391,86.826086956521735,4.7826086956521738,112.52173913043478,35.173913043478258,95.521739130434781,0,0,0,0,0,0,0,0,null,135.56521739130434,149.60869565217391,86.826086956521735,4.7826086956521738,112.52173913043478,35.173913043478258,95.521739130434781,0,0,0,0,0,0,0,0,null,null,null,null,null,null,null,null,null,null,null,null,null,null,null,null,null,null,null,22,156.40909090909091,90.772727272727266,5,117.63636363636364,36.772727272727273,99.86363636363636,0,0,0,0,0,0,0,0,null,46.727272727272727,95,156.40909090909091,90.772727272727266,5,117.63636363636364,36.772727272727273,99.86363636363636,0,0,0,0,0,0,0,0]
[null,24,143.375,83.208333333333329,4.583333333333333,107.83333333333333,33.708333333333336,91.541666666666671,0,0,0,0,0,0,0,0,null,42.833333333333336,87.083333333333329,143.375,83.208333333333329,4.583333333333333,107.83333333333333,33.708333333333336,91.541666666666671,0,0,0,0,0,0,0,0,null,129.91666666666666,143.375,83.208333333333329,4.583333333333333,107.83333333333333,33.708333333333336,91.541666666666671,0,0,0,0,0,0,0,0,null,null,null,null,null,null,null,null,null,null,null,null,null,null,null,null,null,null,null,23,149.60869565217391,86.826086956521735,4.7826086956521738,112.52173913043478,35.173913043478258,95.521739130434781,0,0,0,0,0,0,0,0,null,44.695652173913047,90.869565217391298,149.60869565217391,86.826086956521735,4.7826086956521738,112.52173913043478,35.173913043478258,95.521739130434781,0,0,0,0,0,0,0,0]
[null,25,137.63999999999999,79.88,4.4000000000000004,103.52,32.36,87.88,0,0,0,0,0,0,0,0,null,41.12,83.6,137.63999999999999,79.88,4.4000000000000004,103.52,32.36,87.88,0,0,0,0,0,0,0,0,null,124.72,137.63999999999999,79.88,4.4000000000000004,103.52,32.36,87.88,0,0,0,0,0,0,0,0,null,null,null,null,null,null,null,null,null,null,null,null,null,null,null,null,null,null,null,24,143.375,83.208333333333329,4.583333333333333,107.83333333333333,33.708333333333336,91.541666666666671,0,0,0,0,0,0,0,0,null,42.833333333333336,87.083333333333329,143.375,83.208333333333329,4.583333333333333,107.83333333333333,33.708333333333336,91.541666666666671,0,0,0,0,0,0,0,0]
[null,26,132.34615384615384,76.807692307692307,4.2307692307692308,99.538461538461533,31.115384615384617,84.5,0,0,0,0,0,0,0,0,null,39.53846153846154,80.384615384615387,132.34615384615384,76.807692307692307,4.2307692307692308,99.538461538461533,31.115384615384617,84.5,0,0,0,0,0,0,0,0,null,119.92307692307692,132.34615384615384,76.807692307692307,4.2307692307692308,99.538461538461533,31.115384615384617,84.5,0,0,0,0,0,0,0,0,null,null,null,null,null,null,null,null,null,null,null,null,null,null,null,null,null,null,null,25,137.63999999999999,79.88,4.4000000000000004,103.52,32.36,87.88,0,0,0,0,0,0,0,0,null,41.12,83.6,137.63999999999999,79.88,4.4000000000000004,103.52,32.36,87.88,0,0,0,0,0,0,0,0]
[null,27,127.44444444444444,73.962962962962962,4.0740740740740744,95.851851851851848,29.962962962962962,81.370370370370367,0,0,0,0,0,0,0,0,null,38.074074074074076,77.407407407407405,127.44444444444444,73.962962962962962,4.0740740740740744,95.851851851851848,29.962962962962962,81.370370370370367,0,0,0,0,0,0,0,0,null,115.48148148148148,127.44444444444444,73.962962962962962,4.0740740740740744,95.851851851851848,29.962962962962962,81.370370370370367,0,0,0,0,0,0,0,0,null,null,null,null,null,null,null,null,null,null,null,null,null,null,null,null,null,null,null,26,132.34615384615384,76.807692307692307,4.2307692307692308,99.538461538461533,31.115384615384617,84.5,0,0,0,0,0,0,0,0,null,39.53846153846154,80.384615384615387,132.34615384615384,76.807692307692307,4.2307692307692308,99.538461538461533,31.115384615384617,84.5,0,0,0,0,0,0,0,0]
[null,28,122.89285714285714,71.321428571428569,3.9285714285714284,92.428571428571431,28.892857142857142,78.464285714285708,0,0,0,0,0,0,0,0,null,36.714285714285715,74.642857142857139,122.89285714285714,71.321428571428569,3.9285714285714284,92.428571428571431,28.892857142857142,78.464285714285708,0,0,0,0,0,0,0,0,null,111.35714285714286,122.89285714285714,71.321428571428569,3.9285714285714284,92.428571428571431,28.892857142857142,78.464285714285708,0,0,0,0,0,0,0,0,null,null,null,null,null,null,null,null,null,null,null,null,null,null,null,null,null,null,null,27,127.44444444444444,73.962962962962962,4.0740740740740744,95.851851851851848,29.962962962962962,81.370370370370367,0,0,0,0,0,0,0,0,null,38.074074074074076,77.407407407407405,127.44444444444444,73.962962962962962,4.0740740740740744,95.851851851851848,29.962962962962962,81.370370370370367,0,0,0,0,0,0,0,0]
[null,29,118.65517241379311,68.862068965517238,3.7931034482758621,89.241379310344826,27.896551724137932,75.758620689655174,0,0,0,0,0,0,0,0,null,35.448275862068968,72.068965517241381,118.65517241379311,68.862068965517238,3.7931034482758621,89.241379310344826,27.896551724137932,75.758620689655174,0,0,0,0,0,0,0,0,null,107.51724137931035,118.65517241379311,68.862068965517238,3.7931034482758621,89.241379310344826,27.896551724137932,75.758620689655174,0,0,0,0,0,0,0,0,null,null,null,null,null,null,null,null,null,null,null,null,null,null,null,null,null,null,null,28,122.89285714285714,71.321428571428569,3.9285714285714284,92.428571428571431,28.892857142857142,78.464285714285708,0,0,0,0,0,0,0,0,null,36.714285714285715,74.642857142857139,122.89285714285714,71.321428571428569,3.9285714285714284,92.428571428571431,28.892857142857142,78.464285714285708,0,0,0,0,0,0,0,0]
[null,30,114.7,66.566666666666663,3.6666666666666665,86.266666666666666,26.966666666666665,73.233333333333334,0,0,0,0,0,0,0,0,null,34.266666666666666,69.666666666666671,114.7,66.566666666666663,3.6666666666666665,86.266666666666666,26.966666666666665,73.233333333333334,0,0,0,0,0,0,0,0,null,103.93333333333334,114.7,66.566666666666663,3.6666666666666665,86.266666666666666,26.966666666666665,73.233333333333334,0,0,0,0,0,0,0,0,null,null,null,null,null,null,null,null,null,null,null,null,null,null,null,null,null,null,null,29,118.65517241379311,68.862068965517238,3.7931034482758621,89.241379310344826,27.896551724137932,75.758620689655174,0,0,0,0,0,0,0,0,null,35.448275862068968,72.068965517241381,118.65517241379311,68.862068965517238,3.7931034482758621,89.241379310344826,27.896551724137932,75.758620689655174,0,0,0,0,0,0,0,0]
[null,31,111,64.41935483870968,3.5483870967741935,83.483870967741936,26.096774193548388,70.870967741935488,0,0,0,0,0,0,0,0,null,33.161290322580648,67.41935483870968,111,64.41935483870968,3.5483870967741935,83.483870967741936,26.096774193548388,70.870967741935488,0,0,0,0,0,0,0,0,null,100.58064516129032,111,64.41935483870968,3.5483870967741935,83.483870967741936,26.096774193548388,70.870967741935488,0,0,0,0,0,0,0,0,null,null,null,null,null,null,null,null,null,null,null,null,null,null,null,null,null,null,null,30,114.7,66.566666666666663,3.6666666666666665,86.266666666666666,26.966666666666665,73.233333333333334,0,0,0,0,0,0,0,0,null,34.266666666666666,69.666666666666671,114.7,66.566666666666663,3.6666666666666665,86.266666666666666,26.966666666666665,73.233333333333334,0,0,0,0,0,0,0,0]
[null,32,107.53125,62.40625,3.4375,80.875,25.28125,68.65625,0,0,0,0,0,0,0,0,null,32.125,65.3125,107.53125,62.40625,3.4375,80.875,25.28125,68.65625,0,0,0,0,0,0,0,0,null,97.4375,107.53125,62.40625,3.4375,80.875,25.28125,68.65625,0,0,0,0,0,0,0,0,null,null,null,null,null,null,null,null,null,null,null,null,null,null,null,null,null,null,null,31,111,64.41935483870968,3.5483870967741935,83.483870967741936,26.096774193548388,70.870967741935488,0,0,0,0,0,0,0,0,null,33.161290322580648,67.41935483870968,111,64.41935483870968,3.5483870967741935,83.483870967741936,26.096774193548388,70.870967741935488,0,0,0,0,0,0,0,0]
[null,33,104.27272727272727,60.515151515151516,3.3333333333333335,78.424242424242422,24.515151515151516,66.575757575757578,0,0,0,0,0,0,0,0,null,31.151515151515152,63.333333333333336,104.27272727272727,60.515151515151516,3.3333333333333335,78.424242424242422,24.515151515151516,66.575757575757578,0,0,0,0,0,0,0,0,null,94.484848484848484,104.27272727272727,60.515151515151516,3.3333333333333335,78.424242424242422,24.515151515151516,66.575757575757578,0,0,0,0,0,0,0,0,null,null,null,null,null,null,null,null,null,null,null,null,null,null,null,null,null,null,null,32,107.53125,62.40625,3.4375,80.875,25.28125,68.65625,0,0,0,0,0,0,0,0,null,32.125,65.3125,107.53125,62.40625,3.4375,80.875,25.28125,68.65625,0,0,0,0,0,0,0,0]
[null,34,101.20588235294117,58.735294117647058,3.2352941176470589,76.117647058823536,23.794117647058822,64.617647058823536,0,0,0,0,0,0,0,0,null,30.235294117647058,61.470588235294116,{"$f":"C40","v":101.20588235294117},{"$f":"D40","v":58.735294117647058},{"$f":"E40","v":3.2352941176470589},{"$f":"F40","v":76.117647058823536},{"$f":"G40","v":23.794117647058822},{"$f":"H40","v":64.617647058823536},{"$f":"I40","v":0},{"$f":"J40","v":0},{"$f":"K40","v":0},{"$f":"L40","v":0},{"$f":"M40","v":0},{"$f":"N40","v":0},0,0,null,91.705882352941174,{"$f":"C40","v":101.20588235294117},{"$f":"D40","v":58.735294117647058},{"$f":"E40","v":3.2352941176470589},{"$f":"F40","v":76.117647058823536},{"$f":"G40","v":23.794117647058822},{"$f":"H40","v":64.617647058823536},{"$f":"I40","v":0},{"$f":"J40","v":0},{"$f":"K40","v":0},{"$f":"L40","v":0},{"$f":"M40","v":0},{"$f":"N40","v":0},0,0,null,null,null,null,null,null,null,null,null,null,null,null,null,null,null,null,null,null,null,33,104.27272727272727,60.515151515151516,3.3333333333333335,78.424242424242422,24.515151515151516,66.575757575757578,0,0,0,0,0,0,0,0,null,31.151515151515152,63.333333333333336,104.27272727272727,60.515151515151516,3.3333333333333335,78.424242424242422,24.515151515151516,66.575757575757578,0,0,0,0,0,0,0,0]
[null,35,98.314285714285717,57.057142857142857,3.1428571428571428,73.942857142857136,23.114285714285714,62.771428571428572,0,0,0,0,0,0,0,0,null,29.37142857142857,59.714285714285715,98.314285714285717,57.057142857142857,3.1428571428571428,73.942857142857136,23.114285714285714,62.771428571428572,0,0,0,0,0,0,0,0,null,89.085714285714289,98.314285714285717,57.057142857142857,3.1428571428571428,73.942857142857136,23.114285714285714,62.771428571428572,0,0,0,0,0,0,0,0,null,null,null,null,null,null,null,null,null,null,null,null,null,null,null,null,null,null,null,34,101.20588235294117,58.735294117647058,3.2352941176470589,76.117647058823536,23.794117647058822,64.617647058823536,0,0,0,0,0,0,0,0,null,30.235294117647058,61.470588235294116,101.20588235294117,58.735294117647058,3.2352941176470589,76.117647058823536,23.794117647058822,64.617647058823536,0,0,0,0,0,0,0,0]
[null,36,95.583333333333329,55.472222222222221,3.0555555555555554,71.888888888888886,22.472222222222221,61.027777777777779,0,0,0,0,0,0,0,0,null,28.555555555555557,58.055555555555557,95.583333333333329,55.472222222222221,3.0555555555555554,71.888888888888886,22.472222222222221,61.027777777777779,0,0,0,0,0,0,0,0,null,86.611111111111114,95.583333333333329,55.472222222222221,3.0555555555555554,71.888888888888886,22.472222222222221,61.027777777777779,0,0,0,0,0,0,0,0,null,null,null,null,null,null,null,null,null,null,null,null,null,null,null,null,null,null,null,35,98.314285714285717,57.057142857142857,3.1428571428571428,73.942857142857136,23.114285714285714,62.771428571428572,0,0,0,0,0,0,0,0,null,29.37142857142857,59.714285714285715,98.314285714285717,57.057142857142857,3.1428571428571428,73.942857142857136,23.114285714285714,62.771428571428572,0,0,0,0,0,0,0,0]
[null,37,93,53.972972972972975,2.9729729729729728,69.945945945945951,21.864864864864863,59.378378378378379,0,0,0,0,0,0,0,0,null,27.783783783783782,56.486486486486484,93,53.972972972972975,2.9729729729729728,69.945945945945951,21.864864864864863,59.378378378378379,0,0,0,0,0,0,0,0,null,84.270270270270274,93,53.972972972972975,2.9729729729729728,69.945945945945951,21.864864864864863,59.378378378378379,0,0,0,0,0,0,0,0,null,null,null,null,null,null,null,null,null,null,null,null,null,null,null,null,null,null,null,36,95.583333333333329,55.472222222222221,3.0555555555555554,71.888888888888886,22.472222222222221,61.027777777777779,0,0,0,0,0,0,0,0,null,28.555555555555557,58.055555555555557,95.583333333333329,55.472222222222221,3.0555555555555554,71.888888888888886,22.472222222222221,61.027777777777779,0,0,0,0,0,0,0,0]
[null,38,90.55263157894737,52.55263157894737,2.8947368421052633,68.10526315789474,21.289473684210527,57.815789473684212,0,0,0,0,0,0,0,0,null,27.05263157894737,55,90.55263157894737,52.55263157894737,2.8947368421052633,68.10526315789474,21.289473684210527,57.815789473684212,0,0,0,0,0,0,0,0,null,82.05263157894737,90.55263157894737,52.55263157894737,2.8947368421052633,68.10526315789474,21.289473684210527,57.815789473684212,0,0,0,0,0,0,0,0,null,null,null,null,null,null,null,null,null,null,null,null,null,null,null,null,null,null,null,37,93,53.972972972972975,2.9729729729729728,69.945945945945951,21.864864864864863,59.378378378378379,0,0,0,0,0,0,0,0,null,27.783783783783782,56.486486486486484,93,53.972972972972975,2.9729729729729728,69.945945945945951,21.864864864864863,59.378378378378379,0,0,0,0,0,0,0,0]
[null,39,88.230769230769226,51.205128205128204,2.8205128205128207,66.358974358974365,20.743589743589745,56.333333333333336,0,0,0,0,0,0,0,0,null,26.358974358974358,53.589743589743591,88.230769230769226,51.205128205128204,2.8205128205128207,66.358974358974365,20.743589743589745,56.333333333333336,0,0,0,0,0,0,0,0,null,79.948717948717942,88.230769230769226,51.205128205128204,2.8205128205128207,66.358974358974365,20.743589743589745,56.333333333333336,0,0,0,0,0,0,0,0,null,null,null,null,null,null,null,null,null,null,null,null,null,null,null,null,null,null,null,38,90.55263157894737,52.55263157894737,2.8947368421052633,68.10526315789474,21.289473684210527,57.815789473684212,0,0,0,0,0,0,0,0,null,27.05263157894737,55,90.55263157894737,52.55263157894737,2.8947368421052633,68.10526315789474,21.289473684210527,57.815789473684212,0,0,0,0,0,0,0,0]
[null,40,86.025000000000006,49.924999999999997,2.75,64.7,20.225000000000001,54.924999999999997,0,0,0,0,0,0,0,0,null,25.7,52.25,86.025000000000006,49.924999999999997,2.75,64.7,20.225000000000001,54.924999999999997,0,0,0,0,0,0,0,0,null,77.95,86.025000000000006,49.924999999999997,2.75,64.7,20.225000000000001,54.924999999999997,0,0,0,0,0,0,0,0,null,null,null,null,null,null,null,null,null,null,null,null,null,null,null,null,null,null,null,39,88.230769230769226,51.205128205128204,2.8205128205128207,66.358974358974365,20.743589743589745,56.333333333333336,0,0,0,0,0,0,0,0,null,26.358974358974358,53.589743589743591,88.230769230769226,51.205128205128204,2.8205128205128207,66.358974358974365,20.743589743589745,56.333333333333336,0,0,0,0,0,0,0,0]
[null,41,83.926829268292678,48.707317073170735,2.6829268292682928,63.121951219512198,19.73170731707317,53.585365853658537,0,0,0,0,0,0,0,0,null,25.073170731707318,50.975609756097562,83.926829268292678,48.707317073170735,2.6829268292682928,63.121951219512198,19.73170731707317,53.585365853658537,0,0,0,0,0,0,0,0,null,76.048780487804876,83.926829268292678,48.707317073170735,2.6829268292682928,63.121951219512198,19.73170731707317,53.585365853658537,0,0,0,0,0,0,0,0,null,null,null,null,null,null,null,null,null,null,null,null,null,null,null,null,null,null,null,40,86.025000000000006,49.924999999999997,2.75,64.7,20.225000000000001,54.924999999999997,0,0,0,0,0,0,0,0,null,25.7,52.25,86.025000000000006,49.924999999999997,2.75,64.7,20.225000000000001,54.924999999999997,0,0,0,0,0,0,0,0]
[null,42,81.928571428571431,47.547619047619051,2.6190476190476191,61.61904761904762,19.261904761904763,52.30952380952381,0,0,0,0,0,0,0,0,null,24.476190476190474,49.761904761904759,81.928571428571431,47.547619047619051,2.6190476190476191,61.61904761904762,19.261904761904763,52.30952380952381,0,0,0,0,0,0,0,0,null,74.238095238095241,81.928571428571431,47.547619047619051,2.6190476190476191,61.61904761904762,19.261904761904763,52.30952380952381,0,0,0,0,0,0,0,0,null,null,null,null,null,null,null,null,null,null,null,null,null,null,null,null,null,null,null,41,83.926829268292678,48.707317073170735,2.6829268292682928,63.121951219512198,19.73170731707317,53.585365853658537,0,0,0,0,0,0,0,0,null,25.073170731707318,50.975609756097562,83.926829268292678,48.707317073170735,2.6829268292682928,63.121951219512198,19.73170731707317,53.585365853658537,0,0,0,0,0,0,0,0]
[null,43,80.023255813953483,46.441860465116278,2.558139534883721,60.186046511627907,18.813953488372093,51.093023255813954,0,0,0,0,0,0,0,0,null,23.906976744186046,48.604651162790695,80.023255813953483,46.441860465116278,2.558139534883721,60.186046511627907,18.813953488372093,51.093023255813954,0,0,0,0,0,0,0,0,null,72.511627906976742,80.023255813953483,46.441860465116278,2.558139534883721,60.186046511627907,18.813953488372093,51.093023255813954,0,0,0,0,0,0,0,0,null,null,null,null,null,null,null,null,null,null,null,null,null,null,null,null,null,null,null,42,81.928571428571431,47.547619047619051,2.6190476190476191,61.61904761904762,19.261904761904763,52.30952380952381,0,0,0,0,0,0,0,0,null,24.476190476190474,49.761904761904759,81.928571428571431,47.547619047619051,2.6190476190476191,61.61904761904762,19.261904761904763,52.30952380952381,0,0,0,0,0,0,0,0]
[null,44,78.204545454545453,45.386363636363633,2.5,58.81818181818182,18.386363636363637,49.93181818181818,0,0,0,0,0,0,0,0,null,23.363636363636363,47.5,78.204545454545453,45.386363636363633,2.5,58.81818181818182,18.386363636363637,49.93181818181818,0,0,0,0,0,0,0,0,null,70.86363636363636,78.204545454545453,45.386363636363633,2.5,58.81818181818182,18.386363636363637,49.93181818181818,0,0,0,0,0,0,0,0,null,null,null,null,null,null,null,null,null,null,null,null,null,null,null,null,null,null,null,43,80.023255813953483,46.441860465116278,2.558139534883721,60.186046511627907,18.813953488372093,51.093023255813954,0,0,0,0,0,0,0,0,null,23.906976744186046,48.604651162790695,80.023255813953483,46.441860465116278,2.558139534883721,60.186046511627907,18.813953488372093,51.093023255813954,0,0,0,0,0,0,0,0]
[null,45,76.466666666666669,44.37777777777778,2.4444444444444446,57.511111111111113,17.977777777777778,48.822222222222223,0,0,0,0,0,0,0,0,null,22.844444444444445,46.444444444444443,76.466666666666669,44.37777777777778,2.4444444444444446,57.511111111111113,17.977777777777778,48.822222222222223,0,0,0,0,0,0,0,0,null,69.288888888888891,76.466666666666669,44.37777777777778,2.4444444444444446,57.511111111111113,17.977777777777778,48.822222222222223,0,0,0,0,0,0,0,0,null,null,null,null,null,null,null,null,null,null,null,null,null,null,null,null,null,null,null,44,78.204545454545453,45.386363636363633,2.5,58.81818181818182,18.386363636363637,49.93181818181818,0,0,0,0,0,0,0,0,null,23.363636363636363,47.5,78.204545454545453,45.386363636363633,2.5,58.81818181818182,18.386363636363637,49.93181818181818,0,0,0,0,0,0,0,0]
[null,46,74.804347826086953,43.413043478260867,2.3913043478260869,56.260869565217391,17.586956521739129,47.760869565217391,0,0,0,0,0,0,0,0,null,22.347826086956523,45.434782608695649,74.804347826086953,43.413043478260867,2.3913043478260869,56.260869565217391,17.586956521739129,47.760869565217391,0,0,0,0,0,0,0,0,null,67.782608695652172,74.804347826086953,43.413043478260867,2.3913043478260869,56.260869565217391,17.586956521739129,47.760869565217391,0,0,0,0,0,0,0,0,null,null,null,null,null,null,null,null,null,null,null,null,null,null,null,null,null,null,null,45,76.466666666666669,44.37777777777778,2.4444444444444446,57.511111111111113,17.977777777777778,48.822222222222223,0,0,0,0,0,0,0,0,null,22.844444444444445,46.444444444444443,76.466666666666669,44.37777777777778,2.4444444444444446,57.511111111111113,17.977777777777778,48.822222222222223,0,0,0,0,0,0,0,0]
[null,47,73.212765957446805,42.48936170212766,2.3404255319148937,55.063829787234042,17.212765957446809,46.744680851063826,0,0,0,0,0,0,0,0,null,21.872340425531913,44.468085106382979,73.212765957446805,42.48936170212766,2.3404255319148937,55.063829787234042,17.212765957446809,46.744680851063826,0,0,0,0,0,0,0,0,null,66.340425531914889,73.212765957446805,42.48936170212766,2.3404255319148937,55.063829787234042,17.212765957446809,46.744680851063826,0,0,0,0,0,0,0,0,null,null,null,null,null,null,null,null,null,null,null,null,null,null,null,null,null,null,null,46,74.804347826086953,43.413043478260867,2.3913043478260869,56.260869565217391,17.586956521739129,47.760869565217391,0,0,0,0,0,0,0,0,null,22.347826086956523,45.434782608695649,74.804347826086953,43.413043478260867,2.3913043478260869,56.260869565217391,17.586956521739129,47.760869565217391,0,0,0,0,0,0,0,0]
[null,48,71.6875,41.604166666666664,2.2916666666666665,53.916666666666664,16.854166666666668,45.770833333333336,0,{"$f":"$J$6/B54","v":0},0,0,0,0,0,0,null,21.416666666666668,43.541666666666664,71.6875,41.604166666666664,2.2916666666666665,53.916666666666664,16.854166666666668,45.770833333333336,0,0,0,0,0,0,0,0,null,64.958333333333329,71.6875,41.604166666666664,2.2916666666666665,53.916666666666664,16.854166666666668,45.770833333333336,0,0,0,0,0,0,0,0,null,null,null,null,null,null,null,null,null,null,null,null,null,null,null,null,null,null,null,47,73.212765957446805,42.48936170212766,2.3404255319148937,55.063829787234042,17.212765957446809,46.744680851063826,0,0,0,0,0,0,0,0,null,21.872340425531913,44.468085106382979,73.212765957446805,42.48936170212766,2.3404255319148937,55.063829787234042,17.212765957446809,46.744680851063826,0,0,0,0,0,0,0,0]
[null,49,70.224489795918373,40.755102040816325,2.2448979591836733,52.816326530612244,16.510204081632654,44.836734693877553,0,0,0,0,0,0,0,0,null,20.979591836734695,42.653061224489797,70.224489795918373,40.755102040816325,2.2448979591836733,52.816326530612244,16.510204081632654,44.836734693877553,0,0,0,0,0,0,0,{"$f":"P55","v":0},null,63.632653061224488,70.224489795918373,40.755102040816325,2.2448979591836733,52.816326530612244,16.510204081632654,44.836734693877553,0,0,0,0,0,0,0,{"$f":"P55","v":0},null,null,null,null,null,null,null,null,null,null,null,null,null,null,null,null,null,null,null,48,71.6875,41.604166666666664,2.2916666666666665,53.916666666666664,16.854166666666668,45.770833333333336,0,0,0,0,0,0,0,0,null,21.416666666666668,43.541666666666664,71.6875,41.604166666666664,2.2916666666666665,53.916666666666664,16.854166666666668,45.770833333333336,0,0,0,0,0,0,0,0]
[null,50,68.819999999999993,39.94,2.2000000000000002,51.76,16.18,43.94,0,0,0,0,0,0,0,0,null,20.56,41.8,68.819999999999993,39.94,2.2000000000000002,51.76,16.18,43.94,0,0,0,0,0,{"$f":"N56","v":0},0,0,null,62.36,68.819999999999993,39.94,2.2000000000000002,51.76,16.18,43.94,0,0,0,0,0,{"$f":"N56","v":0},0,0,null,null,null,null,null,null,null,null,null,null,null,null,null,null,null,null,null,null,null,49,70.224489795918373,40.755102040816325,2.2448979591836733,52.816326530612244,16.510204081632654,44.836734693877553,0,0,0,0,0,0,0,0,null,20.979591836734695,42.653061224489797,70.224489795918373,40.755102040816325,2.2448979591836733,52.816326530612244,16.510204081632654,44.836734693877553,0,0,0,0,0,0,0,0]
[null,51,67.470588235294116,39.156862745098039,2.1568627450980391,50.745098039215684,15.862745098039216,43.078431372549019,0,0,0,0,0,0,0,0,null,20.156862745098039,40.980392156862742,67.470588235294116,39.156862745098039,2.1568627450980391,50.745098039215684,15.862745098039216,43.078431372549019,0,0,0,0,0,0,0,0,null,61.137254901960787,67.470588235294116,39.156862745098039,2.1568627450980391,50.745098039215684,15.862745098039216,43.078431372549019,0,0,0,0,0,0,0,0,null,null,null,null,null,null,null,null,null,null,null,null,null,null,null,null,null,null,null,50,68.819999999999993,39.94,2.2000000000000002,51.76,16.18,43.94,0,0,0,0,0,0,0,0,null,20.56,41.8,68.819999999999993,39.94,2.2000000000000002,51.76,16.18,43.94,0,0,0,0,0,0,0,0]
[null,52,66.17307692307692,38.403846153846153,2.1153846153846154,49.769230769230766,15.557692307692308,42.25,0,0,0,0,0,0,0,0,null,19.76923076923077,40.192307692307693,66.17307692307692,38.403846153846153,2.1153846153846154,49.769230769230766,15.557692307692308,42.25,0,0,0,0,0,0,0,0,null,59.96153846153846,66.17307692307692,38.403846153846153,2.1153846153846154,49.769230769230766,15.557692307692308,42.25,0,0,0,0,0,0,0,0,null,null,null,null,null,null,null,null,null,null,null,null,null,null,null,null,null,null,null,51,67.470588235294116,39.156862745098039,2.1568627450980391,50.745098039215684,15.862745098039216,43.078431372549019,0,0,0,0,0,0,0,0,null,20.156862745098039,40.980392156862742,67.470588235294116,39.156862745098039,2.1568627450980391,50.745098039215684,15.862745098039216,43.078431372549019,0,0,0,0,0,0,0,0]
[null,53,{"$f":"$C$6/B59","v":64.924528301886795},{"$f":"$D$6/B59","v":37.679245283018865},{"$f":"$E$6/B59","v":2.0754716981132075},{"$f":"$F$6/B59","v":48.830188679245282},{"$f":"$G$6/B59","v":15.264150943396226},{"$f":"$H$6/B59","v":41.452830188679243},{"$f":"$I$6/B59","v":0},0,{"$f":"$K$6/B59","v":0},{"$f":"$L$6/B59","v":0},{"$f":"$M$6/B59","v":0},0,0,{"$f":"$P$6/B59","v":0},null,{"$f":"$R$6/B59","v":19.39622641509434},{"$f":"$S$6/B59","v":39.433962264150942},64.924528301886795,37.679245283018865,2.0754716981132075,48.830188679245282,15.264150943396226,41.452830188679243,0,0,0,0,0,0,0,0,null,{"$f":"$AI$6/B59","v":58.830188679245282},64.924528301886795,37.679245283018865,2.0754716981132075,48.830188679245282,15.264150943396226,41.452830188679243,0,0,0,0,0,0,0,0,null,null,null,null,null,null,null,null,null,null,null,null,null,null,null,null,null,null,null,52,{"$f":"$C$6/BQ59","v":66.17307692307692},{"$f":"$D$6/BQ59","v":38.403846153846153},{"$f":"$E$6/BQ59","v":2.1153846153846154},{"$f":"$F$6/BQ59","v":49.769230769230766},{"$f":"$G$6/BQ59","v":15.557692307692308},{"$f":"$H$6/BQ59","v":42.25},{"$f":"$I$6/BQ59","v":0},0,{"$f":"$K$6/BQ59","v":0},{"$f":"$L$6/BQ59","v":0},{"$f":"$M$6/BQ59","v":0},0,0,{"$f":"$P$6/BQ59","v":0},null,{"$f":"$R$6/BQ59","v":19.76923076923077},{"$f":"$S$6/BQ59","v":40.192307692307693},66.17307692307692,38.403846153846153,2.1153846153846154,49.769230769230766,15.557692307692308,42.25,0,0,0,0,0,0,0,0]
[null,54,{"$f":"$C$6/B60","v":63.722222222222221},{"$f":"$D$6/B60","v":36.981481481481481},{"$f":"$E$6/B60","v":2.0370370370370372},{"$f":"$F$6/B60","v":47.925925925925924},{"$f":"$G$6/B60","v":14.981481481481481},{"$f":"$H$6/B60","v":40.685185185185183},{"$f":"$I$6/B60","v":0},0,{"$f":"$K$6/B60","v":0},{"$f":"$L$6/B60","v":0},{"$f":"$M$6/B60","v":0},0,0,{"$f":"$P$6/B60","v":0},null,{"$f":"$R$6/B60","v":19.037037037037038},{"$f":"$S$6/B60","v":38.703703703703702},63.722222222222221,36.981481481481481,2.0370370370370372,47.925925925925924,14.981481481481481,40.685185185185183,0,0,0,0,0,0,0,0,null,{"$f":"$AI$6/B60","v":57.74074074074074},63.722222222222221,36.981481481481481,2.0370370370370372,47.925925925925924,14.981481481481481,40.685185185185183,0,0,0,0,0,0,0,0,null,null,null,null,null,null,null,null,null,null,null,null,null,null,null,null,null,null,null,53,{"$f":"$C$6/BQ60","v":64.924528301886795},{"$f":"$D$6/BQ60","v":37.679245283018865},{"$f":"$E$6/BQ60","v":2.0754716981132075},{"$f":"$F$6/BQ60","v":48.830188679245282},{"$f":"$G$6/BQ60","v":15.264150943396226},{"$f":"$H$6/BQ60","v":41.452830188679243},{"$f":"$I$6/BQ60","v":0},0,{"$f":"$K$6/BQ60","v":0},{"$f":"$L$6/BQ60","v":0},{"$f":"$M$6/BQ60","v":0},0,0,{"$f":"$P$6/BQ60","v":0},null,{"$f":"$R$6/BQ60","v":19.39622641509434},{"$f":"$S$6/BQ60","v":39.433962264150942},64.924528301886795,37.679245283018865,2.0754716981132075,48.830188679245282,15.264150943396226,41.452830188679243,0,0,0,0,0,0,0,0]
[]
[]
[null,"Nombre d'inscrits",15260]
[null,"Bulletins déposés",13170]
[null,"Blancs & Nuls",1028]
[null,"Votes valables",12142]
[null,"Nombre de sièges",27]
[]
[]
[]
[]
[null,"Liste unique\nMajorité\nabsolue",{"$f":"SUM($C$73:$P$73)","v":0},null,null,null,null,null,null,null,null,null,null,null,null,null,null,{"$f":"SUM($R$73:$AG$73)","v":0},null,null,null,null,null,null,null,null,null,null,null,null,null,null,null,null,{"$f":"SUM($AI$73:$AW$73)","v":0}]
[null,null,{"$f":"IF(C7>($C$67/2),1,0)","v":0},{"$f":"IF(D7>($C$67/2),1,0)","v":0},{"$f":"IF(E7>($C$67/2),1,0)","v":0},{"$f":"IF(F7>($C$67/2),1,0)","v":0},{"$f":"IF(G7>($C$67/2),1,0)","v":0},{"$f":"IF(H7>($C$67/2),1,0)","v":0},{"$f":"IF(I7>($C$67/2),1,0)","v":0},{"$f":"IF(J7>($C$67/2),1,0)","v":0},{"$f":"IF(K7>($C$67/2),1,0)","v":0},{"$f":"IF(L7>($C$67/2),1,0)","v":0},{"$f":"IF(M7>($C$67/2),1,0)","v":0},{"$f":"IF(N7>($C$67/2),1,0)","v":0},{"$f":"IF(O7>($C$67/2),1,0)","v":0},{"$f":"IF(P7>($C$67/2),1,0)","v":0},null,{"$f":"IF(R7>($C$67/2),1,0)","v":0},{"$f":"IF(S7>($C$67/2),1,0)","v":0},{"$f":"IF(T7>($C$67/2),1,0)","v":0},{"$f":"IF(U7>($C$67/2),1,0)","v":0},{"$f":"IF(V7>($C$67/2),1,0)","v":0},{"$f":"IF(W7>($C$67/2),1,0)","v":0},{"$f":"IF(X7>($C$67/2),1,0)","v":0},{"$f":"IF(Y7>($C$67/2),1,0)","v":0},{"$f":"IF(Z7>($C$67/2),1,0)","v":0},{"$f":"IF(AA7>($C$67/2),1,0)","v":0},{"$f":"IF(AB7>($C$67/2),1,0)","v":0},{"$f":"IF(AC7>($C$67/2),1,0)","v":0},{"$f":"IF(AD7>($C$67/2),1,0)","v":0},{"$f":"IF(AE7>($C$67/2),1,0)","v":0},{"$f":"IF(AF7>($C$67/2),1,0)","v":0},{"$f":"IF(AG7>($C$67/2),1,0)","v":0},null,{"$f":"IF(AI7>($C$67/2),1,0)","v":0},{"$f":"IF(AJ7>($C$67/2),1,0)","v":0},{"$f":"IF(AK7>($C$67/2),1,0)","v":0},{"$f":"IF(AL7>($C$67/2),1,0)","v":0},{"$f":"IF(AM7>($C$67/2),1,0)","v":0},{"$f":"IF(AN7>($C$67/2),1,0)","v":0},{"$f":"IF(AO7>($C$67/2),1,0)","v":0},{"$f":"IF(AP7>($C$67/2),1,0)","v":0},{"$f":"IF(AQ7>($C$67/2),1,0)","v":0},{"$f":"IF(AR7>($C$67/2),1,0)","v":0},{"$f":"IF(AS7>($C$67/2),1,0)","v":0},{"$f":"IF(AT7>($C$67/2),1,0)","v":0},{"$f":"IF(AU7>($C$67/2),1,0)","v":0},{"$f":"IF(AV7>($C$67/2),1,0)","v":0},{"$f":"IF(AW7>($C$67/2),1,0)","v":0}]
[]
[null,"Liste unique\nMajorité\nabsolue\nnombre de voix",{"$f":"SUM($C$76:$P$76)","v":0},null,null,null,null,null,null,null,null,null,null,null,null,null,null,{"$f":"SUM(R76:AG76)","v":0},null,null,null,null,null,null,null,null,null,null,null,null,null,null,null,null,{"$f":"SUM(AI76:AW76)","v":0}]
[null,null,{"$f":"IF(C73>0,C6,0)","v":0},{"$f":"IF(D73>0,D6,0)","v":0},{"$f":"IF(E73>0,E6,0)","v":0},{"$f":"IF(F73>0,F6,0)","v":0},{"$f":"IF(G73>0,G6,0)","v":0},{"$f":"IF(H73>0,H6,0)","v":0},{"$f":"IF(I73>0,I6,0)","v":0},{"$f":"IF(J73>0,J6,0)","v":0},{"$f":"IF(K73>0,K6,0)","v":0},{"$f":"IF(L73>0,L6,0)","v":0},{"$f":"IF(M73>0,M6,0)","v":0},{"$f":"IF(N73>0,N6,0)","v":0},{"$f":"IF(O73>0,O6,0)","v":0},{"$f":"IF(P73>0,P6,0)","v":0},null,{"$f":"IF(R73>0,R6,0)","v":0},{"$f":"IF(S73>0,S6,0)","v":0},{"$f":"IF(T73>0,T6,0)","v":0},{"$f":"IF(U73>0,U6,0)","v":0},{"$f":"IF(V73>0,V6,0)","v":0},{"$f":"IF(W73>0,W6,0)","v":0},{"$f":"IF(X73>0,X6,0)","v":0},{"$f":"IF(Y73>0,Y6,0)","v":0},{"$f":"IF(Z73>0,Z6,0)","v":0},{"$f":"IF(AA73>0,AA6,0)","v":0},{"$f":"IF(AB73>0,AB6,0)","v":0},{"$f":"IF(AC73>0,AC6,0)","v":0},{"$f":"IF(AD73>0,AD6,0)","v":0},{"$f":"IF(AE73>0,AE6,0)","v":0},{"$f":"IF(AF73>0,AF6,0)","v":0},{"$f":"IF(AG73>0,AG6,0)","v":0},null,{"$f":"IF(AI73>0,AI6,0)","v":0},{"$f":"IF(AJ73>0,AJ6,0)","v":0},{"$f":"IF(AK73>0,AK6,0)","v":0},{"$f":"IF(AL73>0,AL6,0)","v":0},{"$f":"IF(AM73>0,AM6,0)","v":0},{"$f":"IF(AN73>0,AN6,0)","v":0},{"$f":"IF(AO73>0,AO6,0)","v":0},{"$f":"IF(AP73>0,AP6,0)","v":0},{"$f":"IF(AQ73>0,AQ6,0)","v":0},{"$f":"IF(AR73>0,AR6,0)","v":0},{"$f":"IF(AS73>0,AS6,0)","v":0},{"$f":"IF(AT73>0,AT6,0)","v":0},{"$f":"IF(AU73>0,AU6,0)","v":0},{"$f":"IF(AV73>0,AV6,0)","v":0},{"$f":"IF(AW73>0,AW6,0)","v":0}]
[]
[null,"Nbr voix\nCoalition",{"$f":"SUMIF(C4:P4,\"x\",C6:P6)","v":5748}]
[]
[null,"% Coalition",{"$f":"100/C63*C78","v":37.66710353866317}]
[null,"% Majorité",{"$f":"100/C63*C75","v":0}]
[]
[null,"Coalition",{"$f":"COUNTA(C4:P4)","v":3},{"$f":"IF(C83>0,1,0)","v":1}]
[]
[]
[]
[]
[]
[]
[]
[]
[]
[]
[]
[]
[null,null,null,null,null,null,null,null,null,null,null,null,null,null,null,"GANSHOREN"]
[]
[null,null,null,null,null,null,null,null,null,null,null,null,null,null,null,null,null,{"$f":"R5","v":"Blancs & Nuls"},{"$f":"S5","v":"Non-déposés"},{"$f":"T5","v":"PROGANSHOREN"},{"$f":"U5","v":"ECOLO-GROEN"},{"$f":"V5","v":"DéFI"},{"$f":"W5","v":"ENSEMBLE-SAMEN#CARTHÉ"},{"$f":"X5","v":"N-VA"},{"$f":"Y5","v":"LB-LISTE BOURGMESTRE"},{"$f":"Z5","v":0},{"$f":"AA5","v":0},{"$f":"AB5","v":0},{"$f":"AC5","v":0},{"$f":"AD5","v":0},{"$f":"AE5","v":0},{"$f":"AF5","v":0},{"$f":"AG5","v":0}]
[null,null,null,null,null,null,null,null,null,null,null,null,null,null,null,"Chiffres\nélectoraux",null,{"$f":"R6","v":1028},{"$f":"S6","v":2090},{"$f":"T6","v":3441},{"$f":"U6","v":1997},{"$f":"V6","v":110},{"$f":"W6","v":2588},{"$f":"X6","v":809},{"$f":"Y6","v":2197},{"$f":"Z6","v":0},{"$f":"AA6","v":0},{"$f":"AB6","v":0},{"$f":"AC6","v":0},{"$f":"AD6","v":0},{"$f":"AE6","v":0},{"$f":"AF6","v":0},{"$f":"AG6","v":0}]
[null,null,null,null,null,null,null,null,null,null,null,null,null,null,null,"Impériali",null,0,0,{"$f":"C7","v":9},{"$f":"D7","v":5},{"$f":"E7","v":0},{"$f":"F7","v":7},{"$f":"G7","v":1},{"$f":"H7","v":5},{"$f":"I7","v":0},{"$f":"J7","v":0},{"$f":"K7","v":0},{"$f":"L7","v":0},{"$f":"M7","v":0},{"$f":"N7","v":0},{"$f":"O7","v":0},{"$f":"P7","v":0}]
[null,null,null,null,null,null,null,null,null,null,null,null,null,null,null,"Impériali\n+ proportionnelle",null,{"$f":"R7","v":1},{"$f":"S7","v":4},{"$f":"T7","v":8},{"$f":"U7","v":4},{"$f":"V7","v":0},{"$f":"W7","v":5},{"$f":"X7","v":1},{"$f":"Y7","v":4},{"$f":"Z7","v":0},{"$f":"AA7","v":0},{"$f":"AB7","v":0},{"$f":"AC7","v":0},{"$f":"AD7","v":0},{"$f":"AE7","v":0},{"$f":"AF7","v":0},{"$f":"AG7","v":0}]
[null,null,null,null,null,null,null,null,null,null,null,null,null,null,null,"D'Hondt",null,0,0,{"$f":"BR7","v":9},{"$f":"BS7","v":5},{"$f":"BT7","v":0},{"$f":"BU7","v":6},{"$f":"BV7","v":2},{"$f":"BW7","v":5},{"$f":"BX7","v":0},{"$f":"BY7","v":0},{"$f":"BZ7","v":0},{"$f":"CA7","v":0},{"$f":"CB7","v":0},{"$f":"CC7","v":0},{"$f":"CD7","v":0},{"$f":"CE7","v":0}]
[null,null,null,null,null,null,null,null,null,null,null,null,null,null,null,"D'Hondt\n+ proportionnelle",null,{"$f":"CG7","v":2},{"$f":"CH7","v":4},{"$f":"CI7","v":7},{"$f":"CJ7","v":4},{"$f":"CK7","v":0},{"$f":"CL7","v":5},{"$f":"CM7","v":1},{"$f":"CN7","v":4},{"$f":"CO7","v":0},{"$f":"CP7","v":0},{"$f":"CQ7","v":0},{"$f":"CR7","v":0},{"$f":"CS7","v":0},{"$f":"CT7","v":0},{"$f":"CU7","v":0},{"$f":"CV7","v":0}]
[null,null,null,null,null,null,null,null,null,null,null,null,null,null,null,"Proportionnelle\npure",null,{"$f":"AZ7","v":1.8188728702490169},{"$f":"BA7","v":3.6979030144167755},{"$f":"BB7","v":6.0882699868938399},{"$f":"BC7","v":3.5333551769331586},{"$f":"BD7","v":1.9639580602883353},{"$f":"BE7","v":4.579030144167759},{"$f":"BF7","v":1.4313892529488859},{"$f":"BG7","v":3.8872214941022278},{"$f":"BH7","v":0},{"$f":"BI7","v":0},{"$f":"BJ7","v":0},{"$f":"BK7","v":0},{"$f":"BL7","v":0},{"$f":"BM7","v":0},{"$f":"BN7","v":0},{"$f":"BO7","v":0}]
[]
[null,null,null,null,null,null,null,null,null,null,null,null,null,null,null,null,"Nombre de sièges à distribuer :",null,null,null,{"$f":"C67","v":27},null,"Est-ce une liste unique en majorité absolue en termes de sièges ?",null,null,null,null,null,null,{"$f":"IF(C72>0,\"Oui\",\"Non\")","v":"Non"}]
[]
[null,null,null,null,null,null,null,null,null,null,null,null,null,null,null,null,"Nombre d'inscrits :",null,null,null,{"$f":"C63","v":15260},null,"Est-ce une liste unique en majorité absolue en termes de voix ?",null,null,null,null,null,null,{"$f":"IF(C75>0,\"Oui\",\"Non\")","v":"Non"}]
[]
[null,null,null,null,null,null,null,null,null,null,null,null,null,null,null,null,"Nombre de bulletins déposés :",null,null,null,{"$f":"C64","v":13170},null,"La majorité est-elle formée par une coalition ?",null,null,null,null,null,null,{"$f":"IF(B4>0,\"Oui\",\"Non\")","v":"Oui"}]
[]
[null,null,null,null,null,null,null,null,null,null,null,null,null,null,null,null,"Nombre de votes valables :",null,null,null,{"$f":"C66","v":12142},null,"Quelle est la proportion de l'électorat représentée par la majorité ?",null,null,null,null,null,null,{"$f":"IF(D83>0,C80,C81)","v":37.66710353866317}]
[]
[null,null,null,null,null,null,null,null,null,null,null,null,null,null,null,"Comparaison\nClef Impériali\n-\nClef D'Hondt",null,{"$f":"R100-R102","v":0},{"$f":"S100-S102","v":0},0,0,0,1,-1,0,0,0,0,0,0,0,0,0]

{"sheet":"IXELLES","index":12,"n_rows":114,"n_cols":100,"rows_kept":114,"cut":false,"hidden":false,"merged":[[1,1,1,48],[1,68,1,99],[1,50,1,66],[71,1,72,1],[113,15,113,16],[107,16,107,19],[109,16,109,19],[111,16,111,19],[74,1,75,1],[95,15,95,32],[105,22,105,27],[107,22,107,27],[109,22,109,27],[111,22,111,27],[105,16,105,19]]}
[]
[null,"IMPÉRIALI",null,null,null,null,null,null,null,null,null,null,null,null,null,null,null,null,null,null,null,null,null,null,null,null,null,null,null,null,null,null,null,null,null,null,null,null,null,null,null,null,null,null,null,null,null,null,null,null,"PROPORTIONNELLE PURE",null,null,null,null,null,null,null,null,null,null,null,null,null,null,null,null,null,"D'HONDT"]
[]
[null,"Coalition",null,"x",null,"x"]
[null,{"$f":"COUNTA(C5:P5)","v":8},"OBJECTIF XL","ECOLO - GROEN","DéFI","PS - sp.a","N-VA","PTB*PVDA","Liste La Bourgmestre","VOLT BELGIË-BELGIQUE",null,null,null,null,null,null,null,"Blancs & Nuls","Non-déposés",{"$f":"C5","v":"OBJECTIF XL"},{"$f":"D5","v":"ECOLO - GROEN"},{"$f":"E5","v":"DéFI"},{"$f":"F5","v":"PS - sp.a"},{"$f":"G5","v":"N-VA"},{"$f":"H5","v":"PTB*PVDA"},{"$f":"I5","v":"Liste La Bourgmestre"},{"$f":"J5","v":"VOLT BELGIË-BELGIQUE"},{"$f":"K5","v":0},{"$f":"L5","v":0},{"$f":"M5","v":0},{"$f":"N5","v":0},{"$f":"O5","v":0},{"$f":"P5","v":0},null,"Non-valables",{"$f":"C5","v":"OBJECTIF XL"},{"$f":"D5","v":"ECOLO - GROEN"},{"$f":"E5","v":"DéFI"},{"$f":"F5","v":"PS - sp.a"},{"$f":"G5","v":"N-VA"},{"$f":"H5","v":"PTB*PVDA"},{"$f":"I5","v":"Liste La Bourgmestre"},{"$f":"J5","v":"VOLT BELGIË-BELGIQUE"},{"$f":"K5","v":0},{"$f":"L5","v":0},{"$f":"M5","v":0},{"$f":"N5","v":0},{"$f":"O5","v":0},{"$f":"P5","v":0},null,"New Key","Blancs & Nuls","Non-déposés",{"$f":"C5","v":"OBJECTIF XL"},{"$f":"D5","v":"ECOLO - GROEN"},"DéFI","PS - sp.a","N-VA","PTB*PVDA","Liste La Bourgmestre","VOLT BELGIË-BELGIQUE",0,0,0,0,0,0,null,null,{"$f":"C5","v":"OBJECTIF XL"},{"$f":"D5","v":"ECOLO - GROEN"},"DéFI","PS - sp.a","N-VA","PTB*PVDA","Liste La Bourgmestre","VOLT BELGIË-BELGIQUE",0,0,0,0,0,0,null,"Blancs & Nuls","Non-déposés",{"$f":"C5","v":"OBJECTIF XL"},{"$f":"D5","v":"ECOLO - GROEN"},"DéFI","PS - sp.a","N-VA","PTB*PVDA","Liste La Bourgmestre","VOLT BELGIË-BELGIQUE",0,0,0,0,0,0]
[null,"Chiffres\nélectoraux",1817,10817,2342,6190,960,2049,8364,191,0,0,0,0,0,0,null,{"$f":"C65","v":1716},{"$f":"C63-C64","v":7376},1817,10817,2342,6190,960,2049,8364,191,0,0,0,0,0,0,null,{"$f":"R6+S6","v":9092},1817,10817,2342,6190,960,2049,8364,191,0,0,0,0,0,0,null,null,{"$f":"C65","v":1716},{"$f":"C63-C64","v":7376},{"$f":"C6","v":1817},10817,2342,6190,960,2049,8364,191,0,0,0,0,0,0,null,"Chiffres\nélectoraux",{"$f":"C6","v":1817},10817,2342,6190,960,2049,8364,191,0,0,0,0,0,0,null,{"$f":"C65","v":1716},{"$f":"C63-C64","v":7376},{"$f":"C6","v":1817},10817,2342,6190,960,2049,8364,191,0,0,0,0,0,0]
[null,"Sièges",2,16,2,9,0,2,12,0,0,0,0,0,0,0,null,1,8,1,13,2,7,0,1,10,0,0,0,0,0,0,0,null,10,1,13,2,7,0,1,9,0,0,0,0,0,0,0,null,972.60465116279067,1.7643345607574961,7.5837597436755777,1.868179427095787,11.121682368131605,2.4079670986562096,6.3643536894457462,0.98704031371048728,2.1067141695758216,8.5995887332026211,0.19637989574864903,0,0,0,0,0,0,null,"Sièges",2,15,3,8,1,2,12,0,0,0,0,0,0,0,null,1,8,2,12,2,6,1,2,9,0,0,0,0,0,0,0]
[null,2,{"$f":"$C$6/B8","v":908.5},{"$f":"$D$6/B8","v":5408.5},{"$f":"$E$6/B8","v":1171},{"$f":"$F$6/B8","v":3095},{"$f":"$G$6/B8","v":480},{"$f":"$H$6/B8","v":1024.5},{"$f":"$I$6/B8","v":4182},{"$f":"$J$6/B8","v":95.5},{"$f":"$K$6/B8","v":0},{"$f":"$L$6/B8","v":0},{"$f":"$M$6/B8","v":0},{"$f":"$N$6/B8","v":0},{"$f":"$O$6/B8","v":0},{"$f":"$P$6/B8","v":0},null,{"$f":"$R$6/B8","v":858},{"$f":"$S$6/B8","v":3688},{"$f":"C8","v":908.5},{"$f":"D8","v":5408.5},{"$f":"E8","v":1171},{"$f":"F8","v":3095},{"$f":"G8","v":480},{"$f":"H8","v":1024.5},{"$f":"I8","v":4182},{"$f":"J8","v":95.5},{"$f":"K8","v":0},{"$f":"L8","v":0},{"$f":"M8","v":0},{"$f":"N8","v":0},0,{"$f":"P8","v":0},null,{"$f":"$AI$6/B8","v":4546},{"$f":"C8","v":908.5},{"$f":"D8","v":5408.5},{"$f":"E8","v":1171},{"$f":"F8","v":3095},{"$f":"G8","v":480},{"$f":"H8","v":1024.5},{"$f":"I8","v":4182},{"$f":"J8","v":95.5},{"$f":"K8","v":0},{"$f":"L8","v":0},{"$f":"M8","v":0},{"$f":"N8","v":0},0,{"$f":"P8","v":0},null,null,null,null,null,null,null,null,null,null,null,null,null,null,null,null,null,null,null,1,{"$f":"$C$6/BQ8","v":1817},{"$f":"$D$6/BQ8","v":10817},{"$f":"$E$6/BQ8","v":2342},{"$f":"$F$6/BQ8","v":6190},{"$f":"$G$6/BQ8","v":960},{"$f":"$H$6/BQ8","v":2049},{"$f":"$I$6/BQ8","v":8364},{"$f":"$J$6/BQ8","v":191},{"$f":"$K$6/BQ8","v":0},{"$f":"$L$6/BQ8","v":0},{"$f":"$M$6/BQ8","v":0},{"$f":"$N$6/BQ8","v":0},{"$f":"$O$6/BQ8","v":0},{"$f":"$P$6/BQ8","v":0},null,{"$f":"$R$6/BQ8","v":1716},{"$f":"$S$6/BQ8","v":7376},{"$f":"BR8","v":1817},{"$f":"BS8","v":10817},{"$f":"BT8","v":2342},{"$f":"BU8","v":6190},{"$f":"BV8","v":960},{"$f":"BW8","v":2049},{"$f":"BX8","v":8364},{"$f":"BY8","v":191},{"$f":"BZ8","v":0},{"$f":"CA8","v":0},{"$f":"CB8","v":0},{"$f":"CC8","v":0},{"$f":"CD8","v":0},{"$f":"CE8","v":0}]
[null,3,{"$f":"$C$6/B9","v":605.66666666666663},3605.6666666666665,{"$f":"$E$6/B9","v":780.66666666666663},2063.3333333333335,320,{"$f":"$H$6/B9","v":683},{"$f":"$I$6/B9","v":2788},{"$f":"$J$6/B9","v":63.666666666666664},{"$f":"$K$6/B9","v":0},{"$f":"$L$6/B9","v":0},{"$f":"$M$6/B9","v":0},{"$f":"$N$6/B9","v":0},{"$f":"$O$6/B9","v":0},{"$f":"$P$6/B9","v":0},null,{"$f":"$R$6/B9","v":572},{"$f":"$S$6/B9","v":2458.6666666666665},605.66666666666663,3605.6666666666665,780.66666666666663,2063.3333333333335,320,683,2788,63.666666666666664,0,0,0,0,0,0,null,{"$f":"$AI$6/B9","v":3030.6666666666665},605.66666666666663,3605.6666666666665,780.66666666666663,2063.3333333333335,320,683,2788,63.666666666666664,0,0,0,0,0,0,null,null,null,null,null,null,null,null,null,null,null,null,null,null,null,null,null,null,null,2,{"$f":"$C$6/BQ9","v":908.5},5408.5,{"$f":"$E$6/BQ9","v":1171},3095,480,{"$f":"$H$6/BQ9","v":1024.5},{"$f":"$I$6/BQ9","v":4182},{"$f":"$J$6/BQ9","v":95.5},{"$f":"$K$6/BQ9","v":0},{"$f":"$L$6/BQ9","v":0},{"$f":"$M$6/BQ9","v":0},{"$f":"$N$6/BQ9","v":0},{"$f":"$O$6/BQ9","v":0},{"$f":"$P$6/BQ9","v":0},null,{"$f":"$R$6/BQ9","v":858},{"$f":"$S$6/BQ9","v":3688},908.5,5408.5,1171,3095,480,1024.5,4182,95.5,0,0,0,0,0,0]
[null,4,454.25,2704.25,585.5,1547.5,240,512.25,2091,47.75,0,0,0,0,0,0,null,429,1844,454.25,2704.25,585.5,1547.5,240,512.25,2091,47.75,0,0,0,0,0,0,null,2273,454.25,2704.25,585.5,1547.5,240,512.25,2091,47.75,0,0,0,0,0,0,null,null,null,null,null,null,null,null,null,null,null,null,null,null,null,null,null,null,null,3,605.66666666666663,3605.6666666666665,780.66666666666663,2063.3333333333335,320,683,2788,63.666666666666664,0,0,0,0,0,0,null,572,2458.6666666666665,605.66666666666663,3605.6666666666665,780.66666666666663,2063.3333333333335,320,683,2788,63.666666666666664,0,0,0,0,0,0]
[null,5,363.4,2163.4,468.4,1238,192,409.8,1672.8,38.200000000000003,0,0,0,0,0,0,null,343.2,1475.2,363.4,2163.4,468.4,1238,192,409.8,1672.8,38.200000000000003,0,0,0,0,0,0,null,1818.4,363.4,2163.4,468.4,1238,192,409.8,1672.8,38.200000000000003,0,0,0,0,0,0,null,null,null,null,null,null,null,null,null,null,null,null,null,null,null,null,null,null,null,4,454.25,2704.25,585.5,1547.5,240,512.25,2091,47.75,0,0,0,0,0,0,null,429,1844,454.25,2704.25,585.5,1547.5,240,512.25,2091,47.75,0,0,0,0,0,0]
[null,6,302.83333333333331,1802.8333333333333,390.33333333333331,1031.6666666666667,160,341.5,1394,31.833333333333332,0,0,0,0,0,0,null,286,1229.3333333333333,302.83333333333331,1802.8333333333333,390.33333333333331,1031.6666666666667,160,341.5,1394,31.833333333333332,0,0,0,0,0,0,null,1515.3333333333333,302.83333333333331,1802.8333333333333,390.33333333333331,1031.6666666666667,160,341.5,1394,31.833333333333332,0,0,0,0,0,0,null,null,null,null,null,null,null,null,null,null,null,null,null,null,null,null,null,null,null,5,363.4,2163.4,468.4,1238,192,409.8,1672.8,38.200000000000003,0,0,0,0,0,0,null,343.2,1475.2,363.4,2163.4,468.4,1238,192,409.8,1672.8,38.200000000000003,0,0,0,0,0,0]
[null,7,259.57142857142856,1545.2857142857142,334.57142857142856,884.28571428571433,137.14285714285714,292.71428571428572,1194.8571428571429,27.285714285714285,0,0,0,0,0,0,null,245.14285714285714,1053.7142857142858,259.57142857142856,1545.2857142857142,334.57142857142856,884.28571428571433,137.14285714285714,292.71428571428572,1194.8571428571429,27.285714285714285,0,0,0,0,0,0,null,1298.8571428571429,259.57142857142856,1545.2857142857142,334.57142857142856,884.28571428571433,137.14285714285714,292.71428571428572,1194.8571428571429,27.285714285714285,0,0,0,0,0,0,null,null,null,null,null,null,null,null,null,null,null,null,null,null,null,null,null,null,null,6,302.83333333333331,1802.8333333333333,390.33333333333331,1031.6666666666667,160,341.5,1394,31.833333333333332,0,0,0,0,0,0,null,286,1229.3333333333333,302.83333333333331,1802.8333333333333,390.33333333333331,1031.6666666666667,160,341.5,1394,31.833333333333332,0,0,0,0,0,0]
[null,8,227.125,1352.125,292.75,773.75,120,256.125,1045.5,23.875,0,0,0,0,0,0,null,214.5,922,227.125,1352.125,292.75,773.75,120,256.125,1045.5,23.875,0,0,0,0,0,0,null,1136.5,227.125,1352.125,292.75,773.75,120,256.125,1045.5,23.875,0,0,0,0,0,0,null,null,null,null,null,null,null,null,null,null,null,null,null,null,null,null,null,null,null,7,259.57142857142856,1545.2857142857142,334.57142857142856,884.28571428571433,137.14285714285714,292.71428571428572,1194.8571428571429,27.285714285714285,0,0,0,0,0,0,null,245.14285714285714,1053.7142857142858,259.57142857142856,1545.2857142857142,334.57142857142856,884.28571428571433,137.14285714285714,292.71428571428572,1194.8571428571429,27.285714285714285,0,0,0,0,0,0]
[null,9,201.88888888888889,1201.8888888888889,260.22222222222223,687.77777777777783,106.66666666666667,227.66666666666666,929.33333333333337,21.222222222222221,0,0,0,0,0,0,null,190.66666666666666,819.55555555555554,201.88888888888889,1201.8888888888889,260.22222222222223,687.77777777777783,106.66666666666667,227.66666666666666,929.33333333333337,21.222222222222221,0,0,0,0,0,0,null,1010.2222222222222,201.88888888888889,1201.8888888888889,260.22222222222223,687.77777777777783,106.66666666666667,227.66666666666666,929.33333333333337,21.222222222222221,0,0,0,0,0,0,null,null,null,null,null,null,null,null,null,null,null,null,null,null,null,null,null,null,null,8,227.125,1352.125,292.75,773.75,120,256.125,1045.5,23.875,0,0,0,0,0,0,null,214.5,922,227.125,1352.125,292.75,773.75,120,256.125,1045.5,23.875,0,0,0,0,0,0]
[null,10,181.7,1081.7,234.2,619,96,204.9,836.4,19.100000000000001,0,0,0,0,0,0,null,171.6,737.6,181.7,1081.7,234.2,619,96,204.9,836.4,19.100000000000001,0,0,0,0,0,0,null,909.2,181.7,1081.7,234.2,619,96,204.9,836.4,19.100000000000001,0,0,0,0,0,0,null,null,null,null,null,null,null,null,null,null,null,null,null,null,null,null,null,null,null,9,201.88888888888889,1201.8888888888889,260.22222222222223,687.77777777777783,106.66666666666667,227.66666666666666,929.33333333333337,21.222222222222221,0,0,0,0,0,0,null,190.66666666666666,819.55555555555554,201.88888888888889,1201.8888888888889,260.22222222222223,687.77777777777783,106.66666666666667,227.66666666666666,929.33333333333337,21.222222222222221,0,0,0,0,0,0]
[null,11,165.18181818181819,983.36363636363637,212.90909090909091,562.72727272727275,87.272727272727266,186.27272727272728,760.36363636363637,17.363636363636363,0,0,0,0,0,0,null,156,670.5454545454545,165.18181818181819,983.36363636363637,212.90909090909091,562.72727272727275,87.272727272727266,186.27272727272728,760.36363636363637,17.363636363636363,0,0,0,0,0,0,null,826.5454545454545,165.18181818181819,983.36363636363637,212.90909090909091,562.72727272727275,87.272727272727266,186.27272727272728,760.36363636363637,17.363636363636363,0,0,0,0,0,0,null,null,null,null,null,null,null,null,null,null,null,null,null,null,null,null,null,null,null,10,181.7,1081.7,234.2,619,96,204.9,836.4,19.100000000000001,0,0,0,0,0,0,null,171.6,737.6,181.7,1081.7,234.2,619,96,204.9,836.4,19.100000000000001,0,0,0,0,0,0]
[null,12,151.41666666666666,901.41666666666663,195.16666666666666,515.83333333333337,80,170.75,697,15.916666666666666,0,0,0,0,0,0,null,143,614.66666666666663,151.41666666666666,901.41666666666663,195.16666666666666,515.83333333333337,80,170.75,697,15.916666666666666,0,0,0,0,0,0,null,757.66666666666663,151.41666666666666,901.41666666666663,195.16666666666666,515.83333333333337,80,170.75,697,15.916666666666666,0,0,0,0,0,0,null,null,null,null,null,null,null,null,null,null,null,null,null,null,null,null,null,null,null,11,165.18181818181819,983.36363636363637,212.90909090909091,562.72727272727275,87.272727272727266,186.27272727272728,760.36363636363637,17.363636363636363,0,0,0,0,0,0,null,156,670.5454545454545,165.18181818181819,983.36363636363637,212.90909090909091,562.72727272727275,87.272727272727266,186.27272727272728,760.36363636363637,17.363636363636363,0,0,0,0,0,0]
[null,13,139.76923076923077,832.07692307692309,180.15384615384616,476.15384615384613,73.84615384615384,157.61538461538461,643.38461538461536,14.692307692307692,0,0,0,0,0,0,null,132,567.38461538461536,139.76923076923077,832.07692307692309,180.15384615384616,476.15384615384613,73.84615384615384,157.61538461538461,643.38461538461536,14.692307692307692,0,0,0,0,0,0,null,699.38461538461536,139.76923076923077,832.07692307692309,180.15384615384616,476.15384615384613,73.84615384615384,157.61538461538461,643.38461538461536,14.692307692307692,0,0,0,0,0,0,null,null,null,null,null,null,null,null,null,null,null,null,null,null,null,null,null,null,null,12,151.41666666666666,901.41666666666663,195.16666666666666,515.83333333333337,80,170.75,697,15.916666666666666,0,0,0,0,0,0,null,143,614.66666666666663,151.41666666666666,901.41666666666663,195.16666666666666,515.83333333333337,80,170.75,697,15.916666666666666,0,0,0,0,0,0]
[null,14,129.78571428571428,772.64285714285711,167.28571428571428,442.14285714285717,68.571428571428569,146.35714285714286,597.42857142857144,13.642857142857142,0,0,0,0,0,0,null,122.57142857142857,526.85714285714289,129.78571428571428,772.64285714285711,167.28571428571428,442.14285714285717,68.571428571428569,146.35714285714286,597.42857142857144,13.642857142857142,0,0,0,0,0,0,null,649.42857142857144,129.78571428571428,772.64285714285711,167.28571428571428,442.14285714285717,68.571428571428569,146.35714285714286,597.42857142857144,13.642857142857142,0,0,0,0,0,0,null,null,null,null,null,null,null,null,null,null,null,null,null,null,null,null,null,null,null,13,139.76923076923077,832.07692307692309,180.15384615384616,476.15384615384613,73.84615384615384,157.61538461538461,643.38461538461536,14.692307692307692,0,0,0,0,0,0,null,132,567.38461538461536,139.76923076923077,832.07692307692309,180.15384615384616,476.15384615384613,73.84615384615384,157.61538461538461,643.38461538461536,14.692307692307692,0,0,0,0,0,0]
[null,15,121.13333333333334,721.13333333333333,156.13333333333333,412.66666666666669,64,136.6,557.6,12.733333333333333,0,0,0,0,0,0,null,114.4,491.73333333333335,121.13333333333334,721.13333333333333,156.13333333333333,412.66666666666669,64,136.6,557.6,12.733333333333333,0,0,0,0,0,0,null,606.13333333333333,121.13333333333334,721.13333333333333,156.13333333333333,412.66666666666669,64,136.6,557.6,12.733333333333333,0,0,0,0,0,0,null,null,null,null,null,null,null,null,null,null,null,null,null,null,null,null,null,null,null,14,129.78571428571428,772.64285714285711,167.28571428571428,442.14285714285717,68.571428571428569,146.35714285714286,597.42857142857144,13.642857142857142,0,0,0,0,0,0,null,122.57142857142857,526.85714285714289,129.78571428571428,772.64285714285711,167.28571428571428,442.14285714285717,68.571428571428569,146.35714285714286,597.42857142857144,13.642857142857142,0,0,0,0,0,0]
[null,16,113.5625,676.0625,146.375,386.875,60,128.0625,522.75,11.9375,0,0,0,0,0,0,null,107.25,461,113.5625,676.0625,146.375,386.875,60,128.0625,522.75,11.9375,0,0,0,0,0,0,null,568.25,113.5625,676.0625,146.375,386.875,60,128.0625,522.75,11.9375,0,0,0,0,0,0,null,null,null,null,null,null,null,null,null,null,null,null,null,null,null,null,null,null,null,15,121.13333333333334,721.13333333333333,156.13333333333333,412.66666666666669,64,136.6,557.6,12.733333333333333,0,0,0,0,0,0,null,114.4,491.73333333333335,121.13333333333334,721.13333333333333,156.13333333333333,412.66666666666669,64,136.6,557.6,12.733333333333333,0,0,0,0,0,0]
[null,17,106.88235294117646,636.29411764705878,137.76470588235293,364.11764705882354,56.470588235294116,120.52941176470588,492,11.235294117647058,0,0,0,0,0,0,null,100.94117647058823,433.88235294117646,106.88235294117646,636.29411764705878,137.76470588235293,364.11764705882354,56.470588235294116,120.52941176470588,492,11.235294117647058,0,0,0,0,0,0,null,534.82352941176475,106.88235294117646,636.29411764705878,137.76470588235293,364.11764705882354,56.470588235294116,120.52941176470588,492,11.235294117647058,0,0,0,0,0,0,null,null,null,null,null,null,null,null,null,null,null,null,null,null,null,null,null,null,null,16,113.5625,676.0625,146.375,386.875,60,128.0625,522.75,11.9375,0,0,0,0,0,0,null,107.25,461,113.5625,676.0625,146.375,386.875,60,128.0625,522.75,11.9375,0,0,0,0,0,0]
[null,18,100.94444444444444,600.94444444444446,130.11111111111111,343.88888888888891,53.333333333333336,113.83333333333333,464.66666666666669,10.611111111111111,0,0,0,0,0,0,null,95.333333333333329,409.77777777777777,100.94444444444444,600.94444444444446,130.11111111111111,343.88888888888891,53.333333333333336,113.83333333333333,464.66666666666669,10.611111111111111,0,0,0,{"$f":"N24","v":0},0,0,null,505.11111111111109,100.94444444444444,600.94444444444446,130.11111111111111,343.88888888888891,53.333333333333336,113.83333333333333,464.66666666666669,10.611111111111111,0,0,0,{"$f":"N24","v":0},0,0,null,null,null,null,null,null,null,null,null,null,null,null,null,null,null,null,null,null,null,17,106.88235294117646,636.29411764705878,137.76470588235293,364.11764705882354,56.470588235294116,120.52941176470588,492,11.235294117647058,0,0,0,0,0,0,null,100.94117647058823,433.88235294117646,106.88235294117646,636.29411764705878,137.76470588235293,364.11764705882354,56.470588235294116,120.52941176470588,492,11.235294117647058,0,0,0,0,0,0]
[null,19,95.631578947368425,569.31578947368416,123.26315789473684,325.78947368421052,50.526315789473685,107.84210526315789,440.21052631578948,10.052631578947368,0,0,0,0,0,0,null,90.315789473684205,388.21052631578948,95.631578947368425,569.31578947368416,123.26315789473684,325.78947368421052,50.526315789473685,107.84210526315789,440.21052631578948,10.052631578947368,0,0,0,0,0,0,null,478.5263157894737,95.631578947368425,569.31578947368416,123.26315789473684,325.78947368421052,50.526315789473685,107.84210526315789,440.21052631578948,10.052631578947368,0,0,0,0,0,0,null,null,null,null,null,null,null,null,null,null,null,null,null,null,null,null,null,null,null,18,100.94444444444444,600.94444444444446,130.11111111111111,343.88888888888891,53.333333333333336,113.83333333333333,464.66666666666669,10.611111111111111,0,0,0,0,0,0,null,95.333333333333329,409.77777777777777,100.94444444444444,600.94444444444446,130.11111111111111,343.88888888888891,53.333333333333336,113.83333333333333,464.66666666666669,10.611111111111111,0,0,0,0,0,0]
[null,20,90.85,540.85,117.1,309.5,48,102.45,418.2,9.5500000000000007,0,0,0,0,0,0,null,85.8,368.8,90.85,540.85,117.1,309.5,48,102.45,418.2,9.5500000000000007,0,0,0,0,0,0,null,454.6,90.85,540.85,117.1,309.5,48,102.45,418.2,9.5500000000000007,0,0,0,0,0,0,null,null,null,null,null,null,null,null,null,null,null,null,null,null,null,null,null,null,null,19,95.631578947368425,569.31578947368416,123.26315789473684,325.78947368421052,50.526315789473685,107.84210526315789,440.21052631578948,10.052631578947368,0,0,0,0,0,0,null,90.315789473684205,388.21052631578948,95.631578947368425,569.31578947368416,123.26315789473684,325.78947368421052,50.526315789473685,107.84210526315789,440.21052631578948,10.052631578947368,0,0,0,0,0,0]
[null,21,86.523809523809518,515.09523809523807,111.52380952380952,294.76190476190476,45.714285714285715,97.571428571428569,398.28571428571428,9.0952380952380949,0,0,0,0,0,0,null,81.714285714285708,351.23809523809524,86.523809523809518,515.09523809523807,111.52380952380952,294.76190476190476,45.714285714285715,97.571428571428569,398.28571428571428,9.0952380952380949,0,0,0,0,0,{"$f":"P27","v":0},null,432.95238095238096,86.523809523809518,515.09523809523807,111.52380952380952,294.76190476190476,45.714285714285715,97.571428571428569,398.28571428571428,9.0952380952380949,0,0,0,0,0,{"$f":"P27","v":0},null,null,null,null,null,null,null,null,null,null,null,null,null,null,null,null,null,null,null,20,90.85,540.85,117.1,309.5,48,102.45,418.2,9.5500000000000007,0,0,0,0,0,0,null,85.8,368.8,90.85,540.85,117.1,309.5,48,102.45,418.2,9.5500000000000007,0,0,0,0,0,0]
[null,22,82.590909090909093,491.68181818181819,106.45454545454545,281.36363636363637,43.636363636363633,93.13636363636364,380.18181818181819,8.6818181818181817,0,0,0,0,0,0,null,78,335.27272727272725,82.590909090909093,491.68181818181819,106.45454545454545,281.36363636363637,43.636363636363633,93.13636363636364,380.18181818181819,8.6818181818181817,0,0,0,0,0,0,null,413.27272727272725,82.590909090909093,491.68181818181819,106.45454545454545,281.36363636363637,43.636363636363633,93.13636363636364,380.18181818181819,8.6818181818181817,0,0,0,0,0,0,null,null,null,null,null,null,null,null,null,null,null,null,null,null,null,null,null,null,null,21,86.523809523809518,515.09523809523807,111.52380952380952,294.76190476190476,45.714285714285715,97.571428571428569,398.28571428571428,9.0952380952380949,0,0,0,0,0,0,null,81.714285714285708,351.23809523809524,86.523809523809518,515.09523809523807,111.52380952380952,294.76190476190476,45.714285714285715,97.571428571428569,398.28571428571428,9.0952380952380949,0,0,0,0,0,0]
[null,23,79,470.30434782608694,101.82608695652173,269.13043478260869,41.739130434782609,89.086956521739125,363.6521739130435,8.304347826086957,0,0,0,0,0,0,null,74.608695652173907,320.69565217391306,79,470.30434782608694,101.82608695652173,269.13043478260869,41.739130434782609,89.086956521739125,363.6521739130435,8.304347826086957,0,0,0,0,0,0,null,395.30434782608694,79,470.30434782608694,101.82608695652173,269.13043478260869,41.739130434782609,89.086956521739125,363.6521739130435,8.304347826086957,0,0,0,0,0,0,null,null,null,null,null,null,null,null,null,null,null,null,null,null,null,null,null,null,null,22,82.590909090909093,491.68181818181819,106.45454545454545,281.36363636363637,43.636363636363633,93.13636363636364,380.18181818181819,8.6818181818181817,0,0,0,0,0,0,null,78,335.27272727272725,82.590909090909093,491.68181818181819,106.45454545454545,281.36363636363637,43.636363636363633,93.13636363636364,380.18181818181819,8.6818181818181817,0,0,0,0,0,0]
[null,24,75.708333333333329,450.70833333333331,97.583333333333329,257.91666666666669,40,85.375,348.5,7.958333333333333,0,0,0,0,0,0,null,71.5,307.33333333333331,75.708333333333329,450.70833333333331,97.583333333333329,257.91666666666669,40,85.375,348.5,7.958333333333333,0,0,0,0,0,0,null,378.83333333333331,75.708333333333329,450.70833333333331,97.583333333333329,257.91666666666669,40,85.375,348.5,7.958333333333333,0,0,0,0,0,0,null,null,null,null,null,null,null,null,null,null,null,null,null,null,null,null,null,null,null,23,79,470.30434782608694,101.82608695652173,269.13043478260869,41.739130434782609,89.086956521739125,363.6521739130435,8.304347826086957,0,0,0,0,0,0,null,74.608695652173907,320.69565217391306,79,470.30434782608694,101.82608695652173,269.13043478260869,41.739130434782609,89.086956521739125,363.6521739130435,8.304347826086957,0,0,0,0,0,0]
[null,25,72.680000000000007,432.68,93.68,247.6,38.4,81.96,334.56,7.64,0,0,0,0,0,0,null,68.64,295.04000000000002,72.680000000000007,432.68,93.68,247.6,38.4,81.96,334.56,7.64,0,0,0,0,0,0,null,363.68,72.680000000000007,432.68,93.68,247.6,38.4,81.96,334.56,7.64,0,0,0,0,0,0,null,null,null,null,null,null,null,null,null,null,null,null,null,null,null,null,null,null,null,24,75.708333333333329,450.70833333333331,97.583333333333329,257.91666666666669,40,85.375,348.5,7.958333333333333,0,0,0,0,0,0,null,71.5,307.33333333333331,75.708333333333329,450.70833333333331,97.583333333333329,257.91666666666669,40,85.375,348.5,7.958333333333333,0,0,0,0,0,0]
[null,26,69.884615384615387,416.03846153846155,90.07692307692308,238.07692307692307,36.92307692307692,78.807692307692307,321.69230769230768,7.3461538461538458,0,0,0,0,0,0,null,66,283.69230769230768,69.884615384615387,416.03846153846155,90.07692307692308,238.07692307692307,36.92307692307692,78.807692307692307,321.69230769230768,7.3461538461538458,0,0,0,0,0,0,null,349.69230769230768,69.884615384615387,416.03846153846155,90.07692307692308,238.07692307692307,36.92307692307692,78.807692307692307,321.69230769230768,7.3461538461538458,0,0,0,0,0,0,null,null,null,null,null,null,null,null,null,null,null,null,null,null,null,null,null,null,null,25,72.680000000000007,432.68,93.68,247.6,38.4,81.96,334.56,7.64,0,0,0,0,0,0,null,68.64,295.04000000000002,72.680000000000007,432.68,93.68,247.6,38.4,81.96,334.56,7.64,0,0,0,0,0,0]
[null,27,67.296296296296291,400.62962962962962,86.740740740740748,229.25925925925927,35.555555555555557,75.888888888888886,309.77777777777777,7.0740740740740744,0,0,0,0,0,0,null,63.555555555555557,273.18518518518516,67.296296296296291,400.62962962962962,86.740740740740748,229.25925925925927,35.555555555555557,75.888888888888886,309.77777777777777,7.0740740740740744,0,0,0,0,0,0,null,336.74074074074076,67.296296296296291,400.62962962962962,86.740740740740748,229.25925925925927,35.555555555555557,75.888888888888886,309.77777777777777,7.0740740740740744,0,0,0,0,0,0,null,null,null,null,null,null,null,null,null,null,null,null,null,null,null,null,null,null,null,26,69.884615384615387,416.03846153846155,90.07692307692308,238.07692307692307,36.92307692307692,78.807692307692307,321.69230769230768,7.3461538461538458,0,0,0,0,0,0,null,66,283.69230769230768,69.884615384615387,416.03846153846155,90.07692307692308,238.07692307692307,36.92307692307692,78.807692307692307,321.69230769230768,7.3461538461538458,0,0,0,0,0,0]
[null,28,64.892857142857139,386.32142857142856,83.642857142857139,221.07142857142858,34.285714285714285,73.178571428571431,298.71428571428572,6.8214285714285712,0,0,0,0,0,0,null,61.285714285714285,263.42857142857144,64.892857142857139,386.32142857142856,83.642857142857139,221.07142857142858,34.285714285714285,73.178571428571431,298.71428571428572,6.8214285714285712,0,0,0,0,0,0,null,324.71428571428572,64.892857142857139,386.32142857142856,83.642857142857139,221.07142857142858,34.285714285714285,73.178571428571431,298.71428571428572,6.8214285714285712,0,0,0,0,0,0,null,null,null,null,null,null,null,null,null,null,null,null,null,null,null,null,null,null,null,27,67.296296296296291,400.62962962962962,86.740740740740748,229.25925925925927,35.555555555555557,75.888888888888886,309.77777777777777,7.0740740740740744,0,0,0,0,0,0,null,63.555555555555557,273.18518518518516,67.296296296296291,400.62962962962962,86.740740740740748,229.25925925925927,35.555555555555557,75.888888888888886,309.77777777777777,7.0740740740740744,0,0,0,0,0,0]
[null,29,62.655172413793103,373,80.758620689655174,213.44827586206895,33.103448275862071,70.65517241379311,288.41379310344826,6.5862068965517242,0,0,0,0,0,0,null,59.172413793103445,254.34482758620689,62.655172413793103,373,80.758620689655174,213.44827586206895,33.103448275862071,70.65517241379311,288.41379310344826,6.5862068965517242,0,0,0,0,0,0,null,313.51724137931035,62.655172413793103,373,80.758620689655174,213.44827586206895,33.103448275862071,70.65517241379311,288.41379310344826,6.5862068965517242,0,0,0,0,0,0,null,null,null,null,null,null,null,null,null,null,null,null,null,null,null,null,null,null,null,28,64.892857142857139,386.32142857142856,83.642857142857139,221.07142857142858,34.285714285714285,73.178571428571431,298.71428571428572,6.8214285714285712,0,0,0,0,0,0,null,61.285714285714285,263.42857142857144,64.892857142857139,386.32142857142856,83.642857142857139,221.07142857142858,34.285714285714285,73.178571428571431,298.71428571428572,6.8214285714285712,0,0,0,0,0,0]
[null,30,60.56666666666667,360.56666666666666,78.066666666666663,206.33333333333334,32,68.3,278.8,6.3666666666666663,0,0,0,0,0,0,null,57.2,245.86666666666667,60.56666666666667,360.56666666666666,78.066666666666663,206.33333333333334,32,68.3,278.8,6.3666666666666663,0,0,0,0,0,0,null,303.06666666666666,60.56666666666667,360.56666666666666,78.066666666666663,206.33333333333334,32,68.3,278.8,6.3666666666666663,0,0,0,0,0,0,null,null,null,null,null,null,null,null,null,null,null,null,null,null,null,null,null,null,null,29,62.655172413793103,373,80.758620689655174,213.44827586206895,33.103448275862071,70.65517241379311,288.41379310344826,6.5862068965517242,0,0,0,0,0,0,null,59.172413793103445,254.34482758620689,62.655172413793103,373,80.758620689655174,213.44827586206895,33.103448275862071,70.65517241379311,288.41379310344826,6.5862068965517242,0,0,0,0,0,0]
[null,31,58.612903225806448,348.93548387096774,75.548387096774192,199.67741935483872,30.967741935483872,66.096774193548384,269.80645161290323,6.161290322580645,0,0,0,0,0,0,null,55.354838709677416,237.93548387096774,58.612903225806448,348.93548387096774,75.548387096774192,199.67741935483872,30.967741935483872,66.096774193548384,269.80645161290323,6.161290322580645,0,0,0,0,0,0,null,293.29032258064518,58.612903225806448,348.93548387096774,75.548387096774192,199.67741935483872,30.967741935483872,66.096774193548384,269.80645161290323,6.161290322580645,0,0,0,0,0,0,null,null,null,null,null,null,null,null,null,null,null,null,null,null,null,null,null,null,null,30,60.56666666666667,360.56666666666666,78.066666666666663,206.33333333333334,32,68.3,278.8,6.3666666666666663,0,0,0,0,0,0,null,57.2,245.86666666666667,60.56666666666667,360.56666666666666,78.066666666666663,206.33333333333334,32,68.3,278.8,6.3666666666666663,0,0,0,0,0,0]
[null,32,56.78125,338.03125,73.1875,193.4375,30,64.03125,261.375,5.96875,0,0,0,0,0,0,null,53.625,230.5,56.78125,338.03125,73.1875,193.4375,30,64.03125,261.375,5.96875,0,0,0,0,0,0,null,284.125,56.78125,338.03125,73.1875,193.4375,30,64.03125,261.375,5.96875,0,0,0,0,0,0,null,null,null,null,null,null,null,null,null,null,null,null,null,null,null,null,null,null,null,31,58.612903225806448,348.93548387096774,75.548387096774192,199.67741935483872,30.967741935483872,66.096774193548384,269.80645161290323,6.161290322580645,0,0,0,0,0,0,null,55.354838709677416,237.93548387096774,58.612903225806448,348.93548387096774,75.548387096774192,199.67741935483872,30.967741935483872,66.096774193548384,269.80645161290323,6.161290322580645,0,0,0,0,0,0]
[null,33,55.060606060606062,327.78787878787881,70.969696969696969,187.57575757575756,29.09090909090909,62.090909090909093,253.45454545454547,5.7878787878787881,0,0,0,0,0,0,null,52,223.5151515151515,55.060606060606062,327.78787878787881,70.969696969696969,187.57575757575756,29.09090909090909,62.090909090909093,253.45454545454547,5.7878787878787881,0,0,0,0,0,0,null,275.5151515151515,55.060606060606062,327.78787878787881,70.969696969696969,187.57575757575756,29.09090909090909,62.090909090909093,253.45454545454547,5.7878787878787881,0,0,0,0,0,0,null,null,null,null,null,null,null,null,null,null,null,null,null,null,null,null,null,null,null,32,56.78125,338.03125,73.1875,193.4375,30,64.03125,261.375,5.96875,0,0,0,0,0,0,null,53.625,230.5,56.78125,338.03125,73.1875,193.4375,30,64.03125,261.375,5.96875,0,0,0,0,0,0]
[null,34,53.441176470588232,318.14705882352939,68.882352941176464,182.05882352941177,28.235294117647058,60.264705882352942,246,5.617647058823529,0,0,0,0,0,0,null,50.470588235294116,216.94117647058823,{"$f":"C40","v":53.441176470588232},{"$f":"D40","v":318.14705882352939},{"$f":"E40","v":68.882352941176464},{"$f":"F40","v":182.05882352941177},{"$f":"G40","v":28.235294117647058},{"$f":"H40","v":60.264705882352942},{"$f":"I40","v":246},{"$f":"J40","v":5.617647058823529},{"$f":"K40","v":0},{"$f":"L40","v":0},{"$f":"M40","v":0},{"$f":"N40","v":0},0,0,null,267.41176470588238,{"$f":"C40","v":53.441176470588232},{"$f":"D40","v":318.14705882352939},{"$f":"E40","v":68.882352941176464},{"$f":"F40","v":182.05882352941177},{"$f":"G40","v":28.235294117647058},{"$f":"H40","v":60.264705882352942},{"$f":"I40","v":246},{"$f":"J40","v":5.617647058823529},{"$f":"K40","v":0},{"$f":"L40","v":0},{"$f":"M40","v":0},{"$f":"N40","v":0},0,0,null,null,null,null,null,null,null,null,null,null,null,null,null,null,null,null,null,null,null,33,55.060606060606062,327.78787878787881,70.969696969696969,187.57575757575756,29.09090909090909,62.090909090909093,253.45454545454547,5.7878787878787881,0,0,0,0,0,0,null,52,223.5151515151515,55.060606060606062,327.78787878787881,70.969696969696969,187.57575757575756,29.09090909090909,62.090909090909093,253.45454545454547,5.7878787878787881,0,0,0,0,0,0]
[null,35,51.914285714285711,309.05714285714288,66.914285714285711,176.85714285714286,27.428571428571427,58.542857142857144,238.97142857142856,5.4571428571428573,0,0,0,0,0,0,null,49.028571428571432,210.74285714285713,51.914285714285711,309.05714285714288,66.914285714285711,176.85714285714286,27.428571428571427,58.542857142857144,238.97142857142856,5.4571428571428573,0,0,0,0,0,0,null,259.77142857142854,51.914285714285711,309.05714285714288,66.914285714285711,176.85714285714286,27.428571428571427,58.542857142857144,238.97142857142856,5.4571428571428573,0,0,0,0,0,0,null,null,null,null,null,null,null,null,null,null,null,null,null,null,null,null,null,null,null,34,53.441176470588232,318.14705882352939,68.882352941176464,182.05882352941177,28.235294117647058,60.264705882352942,246,5.617647058823529,0,0,0,0,0,0,null,50.470588235294116,216.94117647058823,53.441176470588232,318.14705882352939,68.882352941176464,182.05882352941177,28.235294117647058,60.264705882352942,246,5.617647058823529,0,0,0,0,0,0]
[null,36,50.472222222222221,300.47222222222223,65.055555555555557,171.94444444444446,26.666666666666668,56.916666666666664,232.33333333333334,5.3055555555555554,0,0,0,0,0,0,null,47.666666666666664,204.88888888888889,50.472222222222221,300.47222222222223,65.055555555555557,171.94444444444446,26.666666666666668,56.916666666666664,232.33333333333334,5.3055555555555554,0,0,0,0,0,0,null,252.55555555555554,50.472222222222221,300.47222222222223,65.055555555555557,171.94444444444446,26.666666666666668,56.916666666666664,232.33333333333334,5.3055555555555554,0,0,0,0,0,0,null,null,null,null,null,null,null,null,null,null,null,null,null,null,null,null,null,null,null,35,51.914285714285711,309.05714285714288,66.914285714285711,176.85714285714286,27.428571428571427,58.542857142857144,238.97142857142856,5.4571428571428573,0,0,0,0,0,0,null,49.028571428571432,210.74285714285713,51.914285714285711,309.05714285714288,66.914285714285711,176.85714285714286,27.428571428571427,58.542857142857144,238.97142857142856,5.4571428571428573,0,0,0,0,0,0]
[null,37,49.108108108108105,292.35135135135135,63.297297297297298,167.29729729729729,25.945945945945947,55.378378378378379,226.05405405405406,5.1621621621621623,0,0,0,0,0,0,null,46.378378378378379,199.35135135135135,49.108108108108105,292.35135135135135,63.297297297297298,167.29729729729729,25.945945945945947,55.378378378378379,226.05405405405406,5.1621621621621623,0,0,0,0,0,0,null,245.72972972972974,49.108108108108105,292.35135135135135,63.297297297297298,167.29729729729729,25.945945945945947,55.378378378378379,226.05405405405406,5.1621621621621623,0,0,0,0,0,0,null,null,null,null,null,null,null,null,null,null,null,null,null,null,null,null,null,null,null,36,50.472222222222221,300.47222222222223,65.055555555555557,171.94444444444446,26.666666666666668,56.916666666666664,232.33333333333334,5.3055555555555554,0,0,0,0,0,0,null,47.666666666666664,204.88888888888889,50.472222222222221,300.47222222222223,65.055555555555557,171.94444444444446,26.666666666666668,56.916666666666664,232.33333333333334,5.3055555555555554,0,0,0,0,0,0]
[null,38,47.815789473684212,284.65789473684208,61.631578947368418,162.89473684210526,25.263157894736842,53.921052631578945,220.10526315789474,5.0263157894736841,0,0,0,0,0,0,null,45.157894736842103,194.10526315789474,47.815789473684212,284.65789473684208,61.631578947368418,162.89473684210526,25.263157894736842,53.921052631578945,220.10526315789474,5.0263157894736841,0,0,0,0,0,0,null,239.26315789473685,47.815789473684212,284.65789473684208,61.631578947368418,162.89473684210526,25.263157894736842,53.921052631578945,220.10526315789474,5.0263157894736841,0,0,0,0,0,0,null,null,null,null,null,null,null,null,null,null,null,null,null,null,null,null,null,null,null,37,49.108108108108105,292.35135135135135,63.297297297297298,167.29729729729729,25.945945945945947,55.378378378378379,226.05405405405406,5.1621621621621623,0,0,0,0,0,0,null,46.378378378378379,199.35135135135135,49.108108108108105,292.35135135135135,63.297297297297298,167.29729729729729,25.945945945945947,55.378378378378379,226.05405405405406,5.1621621621621623,0,0,0,0,0,0]
[null,39,46.589743589743591,277.35897435897436,60.051282051282051,158.71794871794873,24.615384615384617,52.53846153846154,214.46153846153845,4.8974358974358978,0,0,0,0,0,0,null,44,189.12820512820514,46.589743589743591,277.35897435897436,60.051282051282051,158.71794871794873,24.615384615384617,52.53846153846154,214.46153846153845,4.8974358974358978,0,0,0,0,0,0,null,233.12820512820514,46.589743589743591,277.35897435897436,60.051282051282051,158.71794871794873,24.615384615384617,52.53846153846154,214.46153846153845,4.8974358974358978,0,0,0,0,0,0,null,null,null,null,null,null,null,null,null,null,null,null,null,null,null,null,null,null,null,38,47.815789473684212,284.65789473684208,61.631578947368418,162.89473684210526,25.263157894736842,53.921052631578945,220.10526315789474,5.0263157894736841,0,0,0,0,0,0,null,45.157894736842103,194.10526315789474,47.815789473684212,284.65789473684208,61.631578947368418,162.89473684210526,25.263157894736842,53.921052631578945,220.10526315789474,5.0263157894736841,0,0,0,0,0,0]
[null,40,45.424999999999997,270.42500000000001,58.55,154.75,24,51.225000000000001,209.1,4.7750000000000004,0,0,0,0,0,0,null,42.9,184.4,45.424999999999997,270.42500000000001,58.55,154.75,24,51.225000000000001,209.1,4.7750000000000004,0,0,0,0,0,0,null,227.3,45.424999999999997,270.42500000000001,58.55,154.75,24,51.225000000000001,209.1,4.7750000000000004,0,0,0,0,0,0,null,null,null,null,null,null,null,null,null,null,null,null,null,null,null,null,null,null,null,39,46.589743589743591,277.35897435897436,60.051282051282051,158.71794871794873,24.615384615384617,52.53846153846154,214.46153846153845,4.8974358974358978,0,0,0,0,0,0,null,44,189.12820512820514,46.589743589743591,277.35897435897436,60.051282051282051,158.71794871794873,24.615384615384617,52.53846153846154,214.46153846153845,4.8974358974358978,0,0,0,0,0,0]
[null,41,44.31707317073171,263.82926829268291,57.121951219512198,150.97560975609755,23.414634146341463,49.975609756097562,204,4.6585365853658534,0,0,0,0,0,0,null,41.853658536585364,179.90243902439025,44.31707317073171,263.82926829268291,57.121951219512198,150.97560975609755,23.414634146341463,49.975609756097562,204,4.6585365853658534,0,0,0,0,0,0,null,221.7560975609756,44.31707317073171,263.82926829268291,57.121951219512198,150.97560975609755,23.414634146341463,49.975609756097562,204,4.6585365853658534,0,0,0,0,0,0,null,null,null,null,null,null,null,null,null,null,null,null,null,null,null,null,null,null,null,40,45.424999999999997,270.42500000000001,58.55,154.75,24,51.225000000000001,209.1,4.7750000000000004,0,0,0,0,0,0,null,42.9,184.4,45.424999999999997,270.42500000000001,58.55,154.75,24,51.225000000000001,209.1,4.7750000000000004,0,0,0,0,0,0]
[null,42,43.261904761904759,257.54761904761904,55.761904761904759,147.38095238095238,22.857142857142858,48.785714285714285,199.14285714285714,4.5476190476190474,0,0,0,0,0,0,null,40.857142857142854,175.61904761904762,43.261904761904759,257.54761904761904,55.761904761904759,147.38095238095238,22.857142857142858,48.785714285714285,199.14285714285714,4.5476190476190474,0,0,0,0,0,0,null,216.47619047619048,43.261904761904759,257.54761904761904,55.761904761904759,147.38095238095238,22.857142857142858,48.785714285714285,199.14285714285714,4.5476190476190474,0,0,0,0,0,0,null,null,null,null,null,null,null,null,null,null,null,null,null,null,null,null,null,null,null,41,44.31707317073171,263.82926829268291,57.121951219512198,150.97560975609755,23.414634146341463,49.975609756097562,204,4.6585365853658534,0,0,0,0,0,0,null,41.853658536585364,179.90243902439025,44.31707317073171,263.82926829268291,57.121951219512198,150.97560975609755,23.414634146341463,49.975609756097562,204,4.6585365853658534,0,0,0,0,0,0]
[null,43,42.255813953488371,251.55813953488371,54.465116279069768,143.95348837209303,22.325581395348838,47.651162790697676,194.51162790697674,4.441860465116279,0,0,0,0,0,0,null,39.906976744186046,171.53488372093022,42.255813953488371,251.55813953488371,54.465116279069768,143.95348837209303,22.325581395348838,47.651162790697676,194.51162790697674,4.441860465116279,0,0,0,0,0,0,null,211.44186046511629,42.255813953488371,251.55813953488371,54.465116279069768,143.95348837209303,22.325581395348838,47.651162790697676,194.51162790697674,4.441860465116279,0,0,0,0,0,0,null,null,null,null,null,null,null,null,null,null,null,null,null,null,null,null,null,null,null,42,43.261904761904759,257.54761904761904,55.761904761904759,147.38095238095238,22.857142857142858,48.785714285714285,199.14285714285714,4.5476190476190474,0,0,0,0,0,0,null,40.857142857142854,175.61904761904762,43.261904761904759,257.54761904761904,55.761904761904759,147.38095238095238,22.857142857142858,48.785714285714285,199.14285714285714,4.5476190476190474,0,0,0,0,0,0]
[null,44,41.295454545454547,245.84090909090909,53.227272727272727,140.68181818181819,21.818181818181817,46.56818181818182,190.09090909090909,4.3409090909090908,0,0,0,0,0,0,null,39,167.63636363636363,41.295454545454547,245.84090909090909,53.227272727272727,140.68181818181819,21.818181818181817,46.56818181818182,190.09090909090909,4.3409090909090908,0,0,0,0,0,0,null,206.63636363636363,41.295454545454547,245.84090909090909,53.227272727272727,140.68181818181819,21.818181818181817,46.56818181818182,190.09090909090909,4.3409090909090908,0,0,0,0,0,0,null,null,null,null,null,null,null,null,null,null,null,null,null,null,null,null,null,null,null,43,42.255813953488371,251.55813953488371,54.465116279069768,143.95348837209303,22.325581395348838,47.651162790697676,194.51162790697674,4.441860465116279,0,0,0,0,0,0,null,39.906976744186046,171.53488372093022,42.255813953488371,251.55813953488371,54.465116279069768,143.95348837209303,22.325581395348838,47.651162790697676,194.51162790697674,4.441860465116279,0,0,0,0,0,0]
[null,45,40.37777777777778,240.37777777777777,52.044444444444444,137.55555555555554,21.333333333333332,45.533333333333331,185.86666666666667,4.2444444444444445,0,0,0,0,0,0,null,38.133333333333333,163.9111111111111,40.37777777777778,240.37777777777777,52.044444444444444,137.55555555555554,21.333333333333332,45.533333333333331,185.86666666666667,4.2444444444444445,0,0,0,0,0,0,null,202.04444444444445,40.37777777777778,240.37777777777777,52.044444444444444,137.55555555555554,21.333333333333332,45.533333333333331,185.86666666666667,4.2444444444444445,0,0,0,0,0,0,null,null,null,null,null,null,null,null,null,null,null,null,null,null,null,null,null,null,null,44,41.295454545454547,245.84090909090909,53.227272727272727,140.68181818181819,21.818181818181817,46.56818181818182,190.09090909090909,4.3409090909090908,0,0,0,0,0,0,null,39,167.63636363636363,41.295454545454547,245.84090909090909,53.227272727272727,140.68181818181819,21.818181818181817,46.56818181818182,190.09090909090909,4.3409090909090908,0,0,0,0,0,0]
[null,46,39.5,235.15217391304347,50.913043478260867,134.56521739130434,20.869565217391305,44.543478260869563,181.82608695652175,4.1521739130434785,0,0,0,0,0,0,null,37.304347826086953,160.34782608695653,39.5,235.15217391304347,50.913043478260867,134.56521739130434,20.869565217391305,44.543478260869563,181.82608695652175,4.1521739130434785,0,0,0,0,0,0,null,197.65217391304347,39.5,235.15217391304347,50.913043478260867,134.56521739130434,20.869565217391305,44.543478260869563,181.82608695652175,4.1521739130434785,0,0,0,0,0,0,null,null,null,null,null,null,null,null,null,null,null,null,null,null,null,null,null,null,null,45,40.37777777777778,240.37777777777777,52.044444444444444,137.55555555555554,21.333333333333332,45.533333333333331,185.86666666666667,4.2444444444444445,0,0,0,0,0,0,null,38.133333333333333,163.9111111111111,40.37777777777778,240.37777777777777,52.044444444444444,137.55555555555554,21.333333333333332,45.533333333333331,185.86666666666667,4.2444444444444445,0,0,0,0,0,0]
[null,47,38.659574468085104,230.14893617021278,49.829787234042556,131.70212765957447,20.425531914893618,43.595744680851062,177.95744680851064,4.0638297872340425,0,0,0,0,0,0,null,36.51063829787234,156.93617021276594,38.659574468085104,230.14893617021278,49.829787234042556,131.70212765957447,20.425531914893618,43.595744680851062,177.95744680851064,4.0638297872340425,0,0,0,0,0,0,null,193.44680851063831,38.659574468085104,230.14893617021278,49.829787234042556,131.70212765957447,20.425531914893618,43.595744680851062,177.95744680851064,4.0638297872340425,0,0,0,0,0,0,null,null,null,null,null,null,null,null,null,null,null,null,null,null,null,null,null,null,null,46,39.5,235.15217391304347,50.913043478260867,134.56521739130434,20.869565217391305,44.543478260869563,181.82608695652175,4.1521739130434785,0,0,0,0,0,0,null,37.304347826086953,160.34782608695653,39.5,235.15217391304347,50.913043478260867,134.56521739130434,20.869565217391305,44.543478260869563,181.82608695652175,4.1521739130434785,0,0,0,0,0,0]
[null,48,37.854166666666664,225.35416666666666,48.791666666666664,128.95833333333334,20,42.6875,174.25,{"$f":"$J$6/B54","v":3.9791666666666665},0,0,0,0,0,0,null,35.75,153.66666666666666,37.854166666666664,225.35416666666666,48.791666666666664,128.95833333333334,20,42.6875,174.25,3.9791666666666665,0,0,0,0,0,0,null,189.41666666666666,37.854166666666664,225.35416666666666,48.791666666666664,128.95833333333334,20,42.6875,174.25,3.9791666666666665,0,0,0,0,0,0,null,null,null,null,null,null,null,null,null,null,null,null,null,null,null,null,null,null,null,47,38.659574468085104,230.14893617021278,49.829787234042556,131.70212765957447,20.425531914893618,43.595744680851062,177.95744680851064,4.0638297872340425,0,0,0,0,0,0,null,36.51063829787234,156.93617021276594,38.659574468085104,230.14893617021278,49.829787234042556,131.70212765957447,20.425531914893618,43.595744680851062,177.95744680851064,4.0638297872340425,0,0,0,0,0,0]
[null,49,37.081632653061227,220.75510204081633,47.795918367346935,126.32653061224489,19.591836734693878,41.816326530612244,170.69387755102042,3.8979591836734695,0,0,0,0,0,0,null,35.020408163265309,150.53061224489795,37.081632653061227,220.75510204081633,47.795918367346935,126.32653061224489,19.591836734693878,41.816326530612244,170.69387755102042,3.8979591836734695,0,0,0,0,0,{"$f":"P55","v":0},null,185.55102040816325,37.081632653061227,220.75510204081633,47.795918367346935,126.32653061224489,19.591836734693878,41.816326530612244,170.69387755102042,3.8979591836734695,0,0,0,0,0,{"$f":"P55","v":0},null,null,null,null,null,null,null,null,null,null,null,null,null,null,null,null,null,null,null,48,37.854166666666664,225.35416666666666,48.791666666666664,128.95833333333334,20,42.6875,174.25,3.9791666666666665,0,0,0,0,0,0,null,35.75,153.66666666666666,37.854166666666664,225.35416666666666,48.791666666666664,128.95833333333334,20,42.6875,174.25,3.9791666666666665,0,0,0,0,0,0]
[null,50,36.340000000000003,216.34,46.84,123.8,19.2,40.98,167.28,3.82,0,0,0,0,0,0,null,34.32,147.52000000000001,36.340000000000003,216.34,46.84,123.8,19.2,40.98,167.28,3.82,0,0,0,{"$f":"N56","v":0},0,0,null,181.84,36.340000000000003,216.34,46.84,123.8,19.2,40.98,167.28,3.82,0,0,0,{"$f":"N56","v":0},0,0,null,null,null,null,null,null,null,null,null,null,null,null,null,null,null,null,null,null,null,49,37.081632653061227,220.75510204081633,47.795918367346935,126.32653061224489,19.591836734693878,41.816326530612244,170.69387755102042,3.8979591836734695,0,0,0,0,0,0,null,35.020408163265309,150.53061224489795,37.081632653061227,220.75510204081633,47.795918367346935,126.32653061224489,19.591836734693878,41.816326530612244,170.69387755102042,3.8979591836734695,0,0,0,0,0,0]
[null,51,35.627450980392155,212.09803921568627,45.921568627450981,121.37254901960785,18.823529411764707,40.176470588235297,164,3.7450980392156863,0,0,0,0,0,0,null,33.647058823529413,144.62745098039215,35.627450980392155,212.09803921568627,45.921568627450981,121.37254901960785,18.823529411764707,40.176470588235297,164,3.7450980392156863,0,0,0,0,0,0,null,178.27450980392157,35.627450980392155,212.09803921568627,45.921568627450981,121.37254901960785,18.823529411764707,40.176470588235297,164,3.7450980392156863,0,0,0,0,0,0,null,null,null,null,null,null,null,null,null,null,null,null,null,null,null,null,null,null,null,50,36.340000000000003,216.34,46.84,123.8,19.2,40.98,167.28,3.82,0,0,0,0,0,0,null,34.32,147.52000000000001,36.340000000000003,216.34,46.84,123.8,19.2,40.98,167.28,3.82,0,0,0,0,0,0]
[null,52,34.942307692307693,208.01923076923077,45.03846153846154,119.03846153846153,18.46153846153846,39.403846153846153,160.84615384615384,3.6730769230769229,0,0,0,0,0,0,null,33,141.84615384615384,34.942307692307693,208.01923076923077,45.03846153846154,119.03846153846153,18.46153846153846,39.403846153846153,160.84615384615384,3.6730769230769229,0,0,0,0,0,0,null,174.84615384615384,34.942307692307693,208.01923076923077,45.03846153846154,119.03846153846153,18.46153846153846,39.403846153846153,160.84615384615384,3.6730769230769229,0,0,0,0,0,0,null,null,null,null,null,null,null,null,null,null,null,null,null,null,null,null,null,null,null,51,35.627450980392155,212.09803921568627,45.921568627450981,121.37254901960785,18.823529411764707,40.176470588235297,164,3.7450980392156863,0,0,0,0,0,0,null,33.647058823529413,144.62745098039215,35.627450980392155,212.09803921568627,45.921568627450981,121.37254901960785,18.823529411764707,40.176470588235297,164,3.7450980392156863,0,0,0,0,0,0]
[null,53,{"$f":"$C$6/B59","v":34.283018867924525},{"$f":"$D$6/B59","v":204.09433962264151},{"$f":"$E$6/B59","v":44.188679245283019},{"$f":"$F$6/B59","v":116.79245283018868},{"$f":"$G$6/B59","v":18.113207547169811},{"$f":"$H$6/B59","v":38.660377358490564},{"$f":"$I$6/B59","v":157.81132075471697},3.6037735849056602,{"$f":"$K$6/B59","v":0},{"$f":"$L$6/B59","v":0},{"$f":"$M$6/B59","v":0},0,0,{"$f":"$P$6/B59","v":0},null,{"$f":"$R$6/B59","v":32.377358490566039},{"$f":"$S$6/B59","v":139.16981132075472},34.283018867924525,204.09433962264151,44.188679245283019,116.79245283018868,18.113207547169811,38.660377358490564,157.81132075471697,3.6037735849056602,0,0,0,0,0,0,null,{"$f":"$AI$6/B59","v":171.54716981132074},34.283018867924525,204.09433962264151,44.188679245283019,116.79245283018868,18.113207547169811,38.660377358490564,157.81132075471697,3.6037735849056602,0,0,0,0,0,0,null,null,null,null,null,null,null,null,null,null,null,null,null,null,null,null,null,null,null,52,{"$f":"$C$6/BQ59","v":34.942307692307693},{"$f":"$D$6/BQ59","v":208.01923076923077},{"$f":"$E$6/BQ59","v":45.03846153846154},{"$f":"$F$6/BQ59","v":119.03846153846153},{"$f":"$G$6/BQ59","v":18.46153846153846},{"$f":"$H$6/BQ59","v":39.403846153846153},{"$f":"$I$6/BQ59","v":160.84615384615384},3.6730769230769229,{"$f":"$K$6/BQ59","v":0},{"$f":"$L$6/BQ59","v":0},{"$f":"$M$6/BQ59","v":0},0,0,{"$f":"$P$6/BQ59","v":0},null,{"$f":"$R$6/BQ59","v":33},{"$f":"$S$6/BQ59","v":141.84615384615384},34.942307692307693,208.01923076923077,45.03846153846154,119.03846153846153,18.46153846153846,39.403846153846153,160.84615384615384,3.6730769230769229,0,0,0,0,0,0]
[null,54,{"$f":"$C$6/B60","v":33.648148148148145},{"$f":"$D$6/B60","v":200.31481481481481},{"$f":"$E$6/B60","v":43.370370370370374},{"$f":"$F$6/B60","v":114.62962962962963},{"$f":"$G$6/B60","v":17.777777777777779},{"$f":"$H$6/B60","v":37.944444444444443},{"$f":"$I$6/B60","v":154.88888888888889},3.5370370370370372,{"$f":"$K$6/B60","v":0},{"$f":"$L$6/B60","v":0},{"$f":"$M$6/B60","v":0},0,0,{"$f":"$P$6/B60","v":0},null,{"$f":"$R$6/B60","v":31.777777777777779},{"$f":"$S$6/B60","v":136.59259259259258},33.648148148148145,200.31481481481481,43.370370370370374,114.62962962962963,17.777777777777779,37.944444444444443,154.88888888888889,3.5370370370370372,0,0,0,0,0,0,null,{"$f":"$AI$6/B60","v":168.37037037037038},33.648148148148145,200.31481481481481,43.370370370370374,114.62962962962963,17.777777777777779,37.944444444444443,154.88888888888889,3.5370370370370372,0,0,0,0,0,0,null,null,null,null,null,null,null,null,null,null,null,null,null,null,null,null,null,null,null,53,{"$f":"$C$6/BQ60","v":34.283018867924525},{"$f":"$D$6/BQ60","v":204.09433962264151},{"$f":"$E$6/BQ60","v":44.188679245283019},{"$f":"$F$6/BQ60","v":116.79245283018868},{"$f":"$G$6/BQ60","v":18.113207547169811},{"$f":"$H$6/BQ60","v":38.660377358490564},{"$f":"$I$6/BQ60","v":157.81132075471697},3.6037735849056602,{"$f":"$K$6/BQ60","v":0},{"$f":"$L$6/BQ60","v":0},{"$f":"$M$6/BQ60","v":0},0,0,{"$f":"$P$6/BQ60","v":0},null,{"$f":"$R$6/BQ60","v":32.377358490566039},{"$f":"$S$6/BQ60","v":139.16981132075472},34.283018867924525,204.09433962264151,44.188679245283019,116.79245283018868,18.113207547169811,38.660377358490564,157.81132075471697,3.6037735849056602,0,0,0,0,0,0]
[]
[]
[null,"Nombre d'inscrits",41822]
[null,"Bulletins déposés",34446]
[null,"Blancs & Nuls",1716]
[null,"Votes valables",32730]
[null,"Nombre de sièges",43]
[]
[]
[]
[]
[null,"Liste unique\nMajorité\nabsolue",{"$f":"SUM($C$73:$P$73)","v":0},null,null,null,null,null,null,null,null,null,null,null,null,null,null,{"$f":"SUM($R$73:$AG$73)","v":0},null,null,null,null,null,null,null,null,null,null,null,null,null,null,null,null,{"$f":"SUM($AI$73:$AW$73)","v":0}]
[null,null,{"$f":"IF(C7>($C$67/2),1,0)","v":0},{"$f":"IF(D7>($C$67/2),1,0)","v":0},{"$f":"IF(E7>($C$67/2),1,0)","v":0},{"$f":"IF(F7>($C$67/2),1,0)","v":0},{"$f":"IF(G7>($C$67/2),1,0)","v":0},{"$f":"IF(H7>($C$67/2),1,0)","v":0},{"$f":"IF(I7>($C$67/2),1,0)","v":0},{"$f":"IF(J7>($C$67/2),1,0)","v":0},{"$f":"IF(K7>($C$67/2),1,0)","v":0},{"$f":"IF(L7>($C$67/2),1,0)","v":0},{"$f":"IF(M7>($C$67/2),1,0)","v":0},{"$f":"IF(N7>($C$67/2),1,0)","v":0},{"$f":"IF(O7>($C$67/2),1,0)","v":0},{"$f":"IF(P7>($C$67/2),1,0)","v":0},null,{"$f":"IF(R7>($C$67/2),1,0)","v":0},{"$f":"IF(S7>($C$67/2),1,0)","v":0},{"$f":"IF(T7>($C$67/2),1,0)","v":0},{"$f":"IF(U7>($C$67/2),1,0)","v":0},{"$f":"IF(V7>($C$67/2),1,0)","v":0},{"$f":"IF(W7>($C$67/2),1,0)","v":0},{"$f":"IF(X7>($C$67/2),1,0)","v":0},{"$f":"IF(Y7>($C$67/2),1,0)","v":0},{"$f":"IF(Z7>($C$67/2),1,0)","v":0},{"$f":"IF(AA7>($C$67/2),1,0)","v":0},{"$f":"IF(AB7>($C$67/2),1,0)","v":0},{"$f":"IF(AC7>($C$67/2),1,0)","v":0},{"$f":"IF(AD7>($C$67/2),1,0)","v":0},{"$f":"IF(AE7>($C$67/2),1,0)","v":0},{"$f":"IF(AF7>($C$67/2),1,0)","v":0},{"$f":"IF(AG7>($C$67/2),1,0)","v":0},null,{"$f":"IF(AI7>($C$67/2),1,0)","v":0},{"$f":"IF(AJ7>($C$67/2),1,0)","v":0},{"$f":"IF(AK7>($C$67/2),1,0)","v":0},{"$f":"IF(AL7>($C$67/2),1,0)","v":0},{"$f":"IF(AM7>($C$67/2),1,0)","v":0},{"$f":"IF(AN7>($C$67/2),1,0)","v":0},{"$f":"IF(AO7>($C$67/2),1,0)","v":0},{"$f":"IF(AP7>($C$67/2),1,0)","v":0},{"$f":"IF(AQ7>($C$67/2),1,0)","v":0},{"$f":"IF(AR7>($C$67/2),1,0)","v":0},{"$f":"IF(AS7>($C$67/2),1,0)","v":0},{"$f":"IF(AT7>($C$67/2),1,0)","v":0},{"$f":"IF(AU7>($C$67/2),1,0)","v":0},{"$f":"IF(AV7>($C$67/2),1,0)","v":0},{"$f":"IF(AW7>($C$67/2),1,0)","v":0}]
[]
[null,"Liste unique\nMajorité\nabsolue\nnombre de voix",{"$f":"SUM($C$76:$P$76)","v":0},null,null,null,null,null,null,null,null,null,null,null,null,null,null,{"$f":"SUM(R76:AG76)","v":0},null,null,null,null,null,null,null,null,null,null,null,null,null,null,null,null,{"$f":"SUM(AI76:AW76)","v":0}]
[null,null,{"$f":"IF(C73>0,C6,0)","v":0},{"$f":"IF(D73>0,D6,0)","v":0},{"$f":"IF(E73>0,E6,0)","v":0},{"$f":"IF(F73>0,F6,0)","v":0},{"$f":"IF(G73>0,G6,0)","v":0},{"$f":"IF(H73>0,H6,0)","v":0},{"$f":"IF(I73>0,I6,0)","v":0},{"$f":"IF(J73>0,J6,0)","v":0},{"$f":"IF(K73>0,K6,0)","v":0},{"$f":"IF(L73>0,L6,0)","v":0},{"$f":"IF(M73>0,M6,0)","v":0},{"$f":"IF(N73>0,N6,0)","v":0},{"$f":"IF(O73>0,O6,0)","v":0},{"$f":"IF(P73>0,P6,0)","v":0},null,{"$f":"IF(R73>0,R6,0)","v":0},{"$f":"IF(S73>0,S6,0)","v":0},{"$f":"IF(T73>0,T6,0)","v":0},{"$f":"IF(U73>0,U6,0)","v":0},{"$f":"IF(V73>0,V6,0)","v":0},{"$f":"IF(W73>0,W6,0)","v":0},{"$f":"IF(X73>0,X6,0)","v":0},{"$f":"IF(Y73>0,Y6,0)","v":0},{"$f":"IF(Z73>0,Z6,0)","v":0},{"$f":"IF(AA73>0,AA6,0)","v":0},{"$f":"IF(AB73>0,AB6,0)","v":0},{"$f":"IF(AC73>0,AC6,0)","v":0},{"$f":"IF(AD73>0,AD6,0)","v":0},{"$f":"IF(AE73>0,AE6,0)","v":0},{"$f":"IF(AF73>0,AF6,0)","v":0},{"$f":"IF(AG73>0,AG6,0)","v":0},null,{"$f":"IF(AI73>0,AI6,0)","v":0},{"$f":"IF(AJ73>0,AJ6,0)","v":0},{"$f":"IF(AK73>0,AK6,0)","v":0},{"$f":"IF(AL73>0,AL6,0)","v":0},{"$f":"IF(AM73>0,AM6,0)","v":0},{"$f":"IF(AN73>0,AN6,0)","v":0},{"$f":"IF(AO73>0,AO6,0)","v":0},{"$f":"IF(AP73>0,AP6,0)","v":0},{"$f":"IF(AQ73>0,AQ6,0)","v":0},{"$f":"IF(AR73>0,AR6,0)","v":0},{"$f":"IF(AS73>0,AS6,0)","v":0},{"$f":"IF(AT73>0,AT6,0)","v":0},{"$f":"IF(AU73>0,AU6,0)","v":0},{"$f":"IF(AV73>0,AV6,0)","v":0},{"$f":"IF(AW73>0,AW6,0)","v":0}]
[]
[null,"Nbr voix\nCoalition",{"$f":"SUMIF(C4:P4,\"x\",C6:P6)","v":17007}]
[]
[null,"% Coalition",{"$f":"100/C63*C78","v":40.665200133900818}]
[null,"% Majorité",{"$f":"100/C63*C75","v":0}]
[]
[null,"Coalition",{"$f":"COUNTA(C4:P4)","v":2},{"$f":"IF(C83>0,1,0)","v":1}]
[]
[]
[]
[]
[]
[]
[]
[]
[]
[]
[]
[]
[null,null,null,null,null,null,null,null,null,null,null,null,null,null,null,"IXELLES"]
[]
[null,null,null,null,null,null,null,null,null,null,null,null,null,null,null,null,null,{"$f":"R5","v":"Blancs & Nuls"},{"$f":"S5","v":"Non-déposés"},{"$f":"T5","v":"OBJECTIF XL"},{"$f":"U5","v":"ECOLO - GROEN"},{"$f":"V5","v":"DéFI"},{"$f":"W5","v":"PS - sp.a"},{"$f":"X5","v":"N-VA"},{"$f":"Y5","v":"PTB*PVDA"},{"$f":"Z5","v":"Liste La Bourgmestre"},{"$f":"AA5","v":"VOLT BELGIË-BELGIQUE"},{"$f":"AB5","v":0},{"$f":"AC5","v":0},{"$f":"AD5","v":0},{"$f":"AE5","v":0},{"$f":"AF5","v":0},{"$f":"AG5","v":0}]
[null,null,null,null,null,null,null,null,null,null,null,null,null,null,null,"Chiffres\nélectoraux",null,{"$f":"R6","v":1716},{"$f":"S6","v":7376},{"$f":"T6","v":1817},{"$f":"U6","v":10817},{"$f":"V6","v":2342},{"$f":"W6","v":6190},{"$f":"X6","v":960},{"$f":"Y6","v":2049},{"$f":"Z6","v":8364},{"$f":"AA6","v":191},{"$f":"AB6","v":0},{"$f":"AC6","v":0},{"$f":"AD6","v":0},{"$f":"AE6","v":0},{"$f":"AF6","v":0},{"$f":"AG6","v":0}]
[null,null,null,null,null,null,null,null,null,null,null,null,null,null,null,"Impériali",null,0,0,{"$f":"C7","v":2},{"$f":"D7","v":16},{"$f":"E7","v":2},{"$f":"F7","v":9},{"$f":"G7","v":0},{"$f":"H7","v":2},{"$f":"I7","v":12},{"$f":"J7","v":0},{"$f":"K7","v":0},{"$f":"L7","v":0},{"$f":"M7","v":0},{"$f":"N7","v":0},{"$f":"O7","v":0},{"$f":"P7","v":0}]
[null,null,null,null,null,null,null,null,null,null,null,null,null,null,null,"Impériali\n+ proportionnelle",null,{"$f":"R7","v":1},{"$f":"S7","v":8},{"$f":"T7","v":1},{"$f":"U7","v":13},{"$f":"V7","v":2},{"$f":"W7","v":7},{"$f":"X7","v":0},{"$f":"Y7","v":1},{"$f":"Z7","v":10},{"$f":"AA7","v":0},{"$f":"AB7","v":0},{"$f":"AC7","v":0},{"$f":"AD7","v":0},{"$f":"AE7","v":0},{"$f":"AF7","v":0},{"$f":"AG7","v":0}]
[null,null,null,null,null,null,null,null,null,null,null,null,null,null,null,"D'Hondt",null,0,0,{"$f":"BR7","v":2},{"$f":"BS7","v":15},{"$f":"BT7","v":3},{"$f":"BU7","v":8},{"$f":"BV7","v":1},{"$f":"BW7","v":2},{"$f":"BX7","v":12},{"$f":"BY7","v":0},{"$f":"BZ7","v":0},{"$f":"CA7","v":0},{"$f":"CB7","v":0},{"$f":"CC7","v":0},{"$f":"CD7","v":0},{"$f":"CE7","v":0}]
[null,null,null,null,null,null,null,null,null,null,null,null,null,null,null,"D'Hondt\n+ proportionnelle",null,{"$f":"CG7","v":1},{"$f":"CH7","v":8},{"$f":"CI7","v":2},{"$f":"CJ7","v":12},{"$f":"CK7","v":2},{"$f":"CL7","v":6},{"$f":"CM7","v":1},{"$f":"CN7","v":2},{"$f":"CO7","v":9},{"$f":"CP7","v":0},{"$f":"CQ7","v":0},{"$f":"CR7","v":0},{"$f":"CS7","v":0},{"$f":"CT7","v":0},{"$f":"CU7","v":0},{"$f":"CV7","v":0}]
[null,null,null,null,null,null,null,null,null,null,null,null,null,null,null,"Proportionnelle\npure",null,{"$f":"AZ7","v":1.7643345607574961},{"$f":"BA7","v":7.5837597436755777},{"$f":"BB7","v":1.868179427095787},{"$f":"BC7","v":11.121682368131605},{"$f":"BD7","v":2.4079670986562096},{"$f":"BE7","v":6.3643536894457462},{"$f":"BF7","v":0.98704031371048728},{"$f":"BG7","v":2.1067141695758216},{"$f":"BH7","v":8.5995887332026211},{"$f":"BI7","v":0.19637989574864903},{"$f":"BJ7","v":0},{"$f":"BK7","v":0},{"$f":"BL7","v":0},{"$f":"BM7","v":0},{"$f":"BN7","v":0},{"$f":"BO7","v":0}]
[]
[null,null,null,null,null,null,null,null,null,null,null,null,null,null,null,null,"Nombre de sièges à distribuer :",null,null,null,{"$f":"C67","v":43},null,"Est-ce une liste unique en majorité absolue en termes de sièges ?",null,null,null,null,null,null,{"$f":"IF(C72>0,\"Oui\",\"Non\")","v":"Non"}]
[]
[null,null,null,null,null,null,null,null,null,null,null,null,null,null,null,null,"Nombre d'inscrits :",null,null,null,{"$f":"C63","v":41822},null,"Est-ce une liste unique en majorité absolue en termes de voix ?",null,null,null,null,null,null,{"$f":"IF(C75>0,\"Oui\",\"Non\")","v":"Non"}]
[]
[null,null,null,null,null,null,null,null,null,null,null,null,null,null,null,null,"Nombre de bulletins déposés :",null,null,null,{"$f":"C64","v":34446},null,"La majorité est-elle formée par une coalition ?",null,null,null,null,null,null,{"$f":"IF(B4>0,\"Oui\",\"Non\")","v":"Oui"}]
[]
[null,null,null,null,null,null,null,null,null,null,null,null,null,null,null,null,"Nombre de votes valables :",null,null,null,{"$f":"C66","v":32730},null,"Quelle est la proportion de l'électorat représentée par la majorité ?",null,null,null,null,null,null,{"$f":"IF(D83>0,C80,C81)","v":40.665200133900818}]
[]
[null,null,null,null,null,null,null,null,null,null,null,null,null,null,null,"Comparaison\nClef Impériali\n-\nClef D'Hondt",null,{"$f":"R100-R102","v":0},{"$f":"S100-S102","v":0},0,1,-1,1,-1,0,0,0,0,0,0,0,0,0]

{"sheet":"JETTE","index":13,"n_rows":114,"n_cols":100,"rows_kept":114,"cut":false,"hidden":false,"merged":[[1,1,1,48],[1,68,1,99],[1,50,1,66],[71,1,72,1],[113,15,113,16],[107,16,107,19],[109,16,109,19],[111,16,111,19],[74,1,75,1],[95,15,95,32],[105,22,105,27],[107,22,107,27],[109,22,109,27],[111,22,111,27],[105,16,105,19]]}
[]
[null,"IMPÉRIALI",null,null,null,null,null,null,null,null,null,null,null,null,null,null,null,null,null,null,null,null,null,null,null,null,null,null,null,null,null,null,null,null,null,null,null,null,null,null,null,null,null,null,null,null,null,null,null,null,"PROPORTIONNELLE PURE",null,null,null,null,null,null,null,null,null,null,null,null,null,null,null,null,null,"D'HONDT"]
[]
[null,"Coalition","x","x",null,null,null,null,"x"]
[null,{"$f":"COUNTA(C5:P5)","v":8},"LBJETTE","ECOLO-GROEN","VLAAMS BELANG","DéFI","PS - sp.a","N-VA","MR","Les Démocrates",null,null,null,null,null,null,null,"Blancs & Nuls","Non-déposés",{"$f":"C5","v":"LBJETTE"},{"$f":"D5","v":"ECOLO-GROEN"},{"$f":"E5","v":"VLAAMS BELANG"},{"$f":"F5","v":"DéFI"},{"$f":"G5","v":"PS - sp.a"},{"$f":"H5","v":"N-VA"},{"$f":"I5","v":"MR"},{"$f":"J5","v":"Les Démocrates"},{"$f":"K5","v":0},{"$f":"L5","v":0},{"$f":"M5","v":0},{"$f":"N5","v":0},{"$f":"O5","v":0},{"$f":"P5","v":0},null,"Non-valables",{"$f":"C5","v":"LBJETTE"},{"$f":"D5","v":"ECOLO-GROEN"},{"$f":"E5","v":"VLAAMS BELANG"},{"$f":"F5","v":"DéFI"},{"$f":"G5","v":"PS - sp.a"},{"$f":"H5","v":"N-VA"},{"$f":"I5","v":"MR"},{"$f":"J5","v":"Les Démocrates"},{"$f":"K5","v":0},{"$f":"L5","v":0},{"$f":"M5","v":0},{"$f":"N5","v":0},{"$f":"O5","v":0},{"$f":"P5","v":0},null,"New Key","Blancs & Nuls","Non-déposés",{"$f":"C5","v":"LBJETTE"},{"$f":"D5","v":"ECOLO-GROEN"},"VLAAMS BELANG","DéFI","PS - sp.a","N-VA","MR","Les Démocrates",0,0,0,0,0,0,null,null,{"$f":"C5","v":"LBJETTE"},{"$f":"D5","v":"ECOLO-GROEN"},"VLAAMS BELANG","DéFI","PS - sp.a","N-VA","MR","Les Démocrates",0,0,0,0,0,0,null,"Blancs & Nuls","Non-déposés",{"$f":"C5","v":"LBJETTE"},{"$f":"D5","v":"ECOLO-GROEN"},"VLAAMS BELANG","DéFI","PS - sp.a","N-VA","MR","Les Démocrates",0,0,0,0,0,0]
[null,"Chiffres\nélectoraux",9283,4296,724,1649,3833,1051,3197,546,0,0,0,0,0,0,null,{"$f":"C65","v":1856},{"$f":"C63-C64","v":4460},9283,4296,724,1649,3833,1051,3197,546,0,0,0,0,0,0,null,{"$f":"R6+S6","v":6316},9283,4296,724,1649,3833,1051,3197,546,0,0,0,0,0,0,null,null,{"$f":"C65","v":1856},{"$f":"C63-C64","v":4460},{"$f":"C6","v":9283},4296,724,1649,3833,1051,3197,546,0,0,0,0,0,0,null,"Chiffres\nélectoraux",{"$f":"C6","v":9283},4296,724,1649,3833,1051,3197,546,0,0,0,0,0,0,null,{"$f":"C65","v":1856},{"$f":"C63-C64","v":4460},{"$f":"C6","v":9283},4296,724,1649,3833,1051,3197,546,0,0,0,0,0,0]
[null,"Sièges",16,7,0,2,6,1,5,0,0,0,0,0,0,0,null,2,6,14,5,0,1,5,0,4,0,0,0,0,0,0,0,null,9,13,5,0,1,5,0,4,0,0,0,0,0,0,0,null,835,2.2227544910179642,5.341317365269461,11.117365269461079,5.1449101796407186,0.86706586826347309,1.9748502994011976,4.590419161676647,1.2586826347305389,3.82874251497006,0.65389221556886223,0,0,0,0,0,0,null,"Sièges",15,7,1,2,6,1,5,0,0,0,0,0,0,0,null,2,6,12,5,0,2,5,1,4,0,0,0,0,0,0,0]
[null,2,{"$f":"$C$6/B8","v":4641.5},{"$f":"$D$6/B8","v":2148},{"$f":"$E$6/B8","v":362},{"$f":"$F$6/B8","v":824.5},{"$f":"$G$6/B8","v":1916.5},{"$f":"$H$6/B8","v":525.5},{"$f":"$I$6/B8","v":1598.5},{"$f":"$J$6/B8","v":273},{"$f":"$K$6/B8","v":0},{"$f":"$L$6/B8","v":0},{"$f":"$M$6/B8","v":0},{"$f":"$N$6/B8","v":0},{"$f":"$O$6/B8","v":0},{"$f":"$P$6/B8","v":0},null,{"$f":"$R$6/B8","v":928},{"$f":"$S$6/B8","v":2230},{"$f":"C8","v":4641.5},{"$f":"D8","v":2148},{"$f":"E8","v":362},{"$f":"F8","v":824.5},{"$f":"G8","v":1916.5},{"$f":"H8","v":525.5},{"$f":"I8","v":1598.5},{"$f":"J8","v":273},{"$f":"K8","v":0},{"$f":"L8","v":0},{"$f":"M8","v":0},{"$f":"N8","v":0},0,{"$f":"P8","v":0},null,{"$f":"$AI$6/B8","v":3158},{"$f":"C8","v":4641.5},{"$f":"D8","v":2148},{"$f":"E8","v":362},{"$f":"F8","v":824.5},{"$f":"G8","v":1916.5},{"$f":"H8","v":525.5},{"$f":"I8","v":1598.5},{"$f":"J8","v":273},{"$f":"K8","v":0},{"$f":"L8","v":0},{"$f":"M8","v":0},{"$f":"N8","v":0},0,{"$f":"P8","v":0},null,null,null,null,null,null,null,null,null,null,null,null,null,null,null,null,null,null,null,1,{"$f":"$C$6/BQ8","v":9283},{"$f":"$D$6/BQ8","v":4296},{"$f":"$E$6/BQ8","v":724},{"$f":"$F$6/BQ8","v":1649},{"$f":"$G$6/BQ8","v":3833},{"$f":"$H$6/BQ8","v":1051},{"$f":"$I$6/BQ8","v":3197},{"$f":"$J$6/BQ8","v":546},{"$f":"$K$6/BQ8","v":0},{"$f":"$L$6/BQ8","v":0},{"$f":"$M$6/BQ8","v":0},{"$f":"$N$6/BQ8","v":0},{"$f":"$O$6/BQ8","v":0},{"$f":"$P$6/BQ8","v":0},null,{"$f":"$R$6/BQ8","v":1856},{"$f":"$S$6/BQ8","v":4460},{"$f":"BR8","v":9283},{"$f":"BS8","v":4296},{"$f":"BT8","v":724},{"$f":"BU8","v":1649},{"$f":"BV8","v":3833},{"$f":"BW8","v":1051},{"$f":"BX8","v":3197},{"$f":"BY8","v":546},{"$f":"BZ8","v":0},{"$f":"CA8","v":0},{"$f":"CB8","v":0},{"$f":"CC8","v":0},{"$f":"CD8","v":0},{"$f":"CE8","v":0}]
[null,3,{"$f":"$C$6/B9","v":3094.3333333333335},1432,{"$f":"$E$6/B9","v":241.33333333333334},549.66666666666663,1277.6666666666667,{"$f":"$H$6/B9","v":350.33333333333331},{"$f":"$I$6/B9","v":1065.6666666666667},{"$f":"$J$6/B9","v":182},{"$f":"$K$6/B9","v":0},{"$f":"$L$6/B9","v":0},{"$f":"$M$6/B9","v":0},{"$f":"$N$6/B9","v":0},{"$f":"$O$6/B9","v":0},{"$f":"$P$6/B9","v":0},null,{"$f":"$R$6/B9","v":618.66666666666663},{"$f":"$S$6/B9","v":1486.6666666666667},3094.3333333333335,1432,241.33333333333334,549.66666666666663,1277.6666666666667,350.33333333333331,1065.6666666666667,182,0,0,0,0,0,0,null,{"$f":"$AI$6/B9","v":2105.3333333333335},3094.3333333333335,1432,241.33333333333334,549.66666666666663,1277.6666666666667,350.33333333333331,1065.6666666666667,182,0,0,0,0,0,0,null,null,null,null,null,null,null,null,null,null,null,null,null,null,null,null,null,null,null,2,{"$f":"$C$6/BQ9","v":4641.5},2148,{"$f":"$E$6/BQ9","v":362},824.5,1916.5,{"$f":"$H$6/BQ9","v":525.5},{"$f":"$I$6/BQ9","v":1598.5},{"$f":"$J$6/BQ9","v":273},{"$f":"$K$6/BQ9","v":0},{"$f":"$L$6/BQ9","v":0},{"$f":"$M$6/BQ9","v":0},{"$f":"$N$6/BQ9","v":0},{"$f":"$O$6/BQ9","v":0},{"$f":"$P$6/BQ9","v":0},null,{"$f":"$R$6/BQ9","v":928},{"$f":"$S$6/BQ9","v":2230},4641.5,2148,362,824.5,1916.5,525.5,1598.5,273,0,0,0,0,0,0]
[null,4,2320.75,1074,181,412.25,958.25,262.75,799.25,136.5,0,0,0,0,0,0,null,464,1115,2320.75,1074,181,412.25,958.25,262.75,799.25,136.5,0,0,0,0,0,0,null,1579,2320.75,1074,181,412.25,958.25,262.75,799.25,136.5,0,0,0,0,0,0,null,null,null,null,null,null,null,null,null,null,null,null,null,null,null,null,null,null,null,3,3094.3333333333335,1432,241.33333333333334,549.66666666666663,1277.6666666666667,350.33333333333331,1065.6666666666667,182,0,0,0,0,0,0,null,618.66666666666663,1486.6666666666667,3094.3333333333335,1432,241.33333333333334,549.66666666666663,1277.6666666666667,350.33333333333331,1065.6666666666667,182,0,0,0,0,0,0]
[null,5,1856.6,859.2,144.80000000000001,329.8,766.6,210.2,639.4,109.2,0,0,0,0,0,0,null,371.2,892,1856.6,859.2,144.80000000000001,329.8,766.6,210.2,639.4,109.2,0,0,0,0,0,0,null,1263.2,1856.6,859.2,144.80000000000001,329.8,766.6,210.2,639.4,109.2,0,0,0,0,0,0,null,null,null,null,null,null,null,null,null,null,null,null,null,null,null,null,null,null,null,4,2320.75,1074,181,412.25,958.25,262.75,799.25,136.5,0,0,0,0,0,0,null,464,1115,2320.75,1074,181,412.25,958.25,262.75,799.25,136.5,0,0,0,0,0,0]
[null,6,1547.1666666666667,716,120.66666666666667,274.83333333333331,638.83333333333337,175.16666666666666,532.83333333333337,91,0,0,0,0,0,0,null,309.33333333333331,743.33333333333337,1547.1666666666667,716,120.66666666666667,274.83333333333331,638.83333333333337,175.16666666666666,532.83333333333337,91,0,0,0,0,0,0,null,1052.6666666666667,1547.1666666666667,716,120.66666666666667,274.83333333333331,638.83333333333337,175.16666666666666,532.83333333333337,91,0,0,0,0,0,0,null,null,null,null,null,null,null,null,null,null,null,null,null,null,null,null,null,null,null,5,1856.6,859.2,144.80000000000001,329.8,766.6,210.2,639.4,109.2,0,0,0,0,0,0,null,371.2,892,1856.6,859.2,144.80000000000001,329.8,766.6,210.2,639.4,109.2,0,0,0,0,0,0]
[null,7,1326.1428571428571,613.71428571428567,103.42857142857143,235.57142857142858,547.57142857142856,150.14285714285714,456.71428571428572,78,0,0,0,0,0,0,null,265.14285714285717,637.14285714285711,1326.1428571428571,613.71428571428567,103.42857142857143,235.57142857142858,547.57142857142856,150.14285714285714,456.71428571428572,78,0,0,0,0,0,0,null,902.28571428571433,1326.1428571428571,613.71428571428567,103.42857142857143,235.57142857142858,547.57142857142856,150.14285714285714,456.71428571428572,78,0,0,0,0,0,0,null,null,null,null,null,null,null,null,null,null,null,null,null,null,null,null,null,null,null,6,1547.1666666666667,716,120.66666666666667,274.83333333333331,638.83333333333337,175.16666666666666,532.83333333333337,91,0,0,0,0,0,0,null,309.33333333333331,743.33333333333337,1547.1666666666667,716,120.66666666666667,274.83333333333331,638.83333333333337,175.16666666666666,532.83333333333337,91,0,0,0,0,0,0]
[null,8,1160.375,537,90.5,206.125,479.125,131.375,399.625,68.25,0,0,0,0,0,0,null,232,557.5,1160.375,537,90.5,206.125,479.125,131.375,399.625,68.25,0,0,0,0,0,0,null,789.5,1160.375,537,90.5,206.125,479.125,131.375,399.625,68.25,0,0,0,0,0,0,null,null,null,null,null,null,null,null,null,null,null,null,null,null,null,null,null,null,null,7,1326.1428571428571,613.71428571428567,103.42857142857143,235.57142857142858,547.57142857142856,150.14285714285714,456.71428571428572,78,0,0,0,0,0,0,null,265.14285714285717,637.14285714285711,1326.1428571428571,613.71428571428567,103.42857142857143,235.57142857142858,547.57142857142856,150.14285714285714,456.71428571428572,78,0,0,0,0,0,0]
[null,9,1031.4444444444443,477.33333333333331,80.444444444444443,183.22222222222223,425.88888888888891,116.77777777777777,355.22222222222223,60.666666666666664,0,0,0,0,0,0,null,206.22222222222223,495.55555555555554,1031.4444444444443,477.33333333333331,80.444444444444443,183.22222222222223,425.88888888888891,116.77777777777777,355.22222222222223,60.666666666666664,0,0,0,0,0,0,null,701.77777777777783,1031.4444444444443,477.33333333333331,80.444444444444443,183.22222222222223,425.88888888888891,116.77777777777777,355.22222222222223,60.666666666666664,0,0,0,0,0,0,null,null,null,null,null,null,null,null,null,null,null,null,null,null,null,null,null,null,null,8,1160.375,537,90.5,206.125,479.125,131.375,399.625,68.25,0,0,0,0,0,0,null,232,557.5,1160.375,537,90.5,206.125,479.125,131.375,399.625,68.25,0,0,0,0,0,0]
[null,10,928.3,429.6,72.400000000000006,164.9,383.3,105.1,319.7,54.6,0,0,0,0,0,0,null,185.6,446,928.3,429.6,72.400000000000006,164.9,383.3,105.1,319.7,54.6,0,0,0,0,0,0,null,631.6,928.3,429.6,72.400000000000006,164.9,383.3,105.1,319.7,54.6,0,0,0,0,0,0,null,null,null,null,null,null,null,null,null,null,null,null,null,null,null,null,null,null,null,9,1031.4444444444443,477.33333333333331,80.444444444444443,183.22222222222223,425.88888888888891,116.77777777777777,355.22222222222223,60.666666666666664,0,0,0,0,0,0,null,206.22222222222223,495.55555555555554,1031.4444444444443,477.33333333333331,80.444444444444443,183.22222222222223,425.88888888888891,116.77777777777777,355.22222222222223,60.666666666666664,0,0,0,0,0,0]
[null,11,843.90909090909088,390.54545454545456,65.818181818181813,149.90909090909091,348.45454545454544,95.545454545454547,290.63636363636363,49.636363636363633,0,0,0,0,0,0,null,168.72727272727272,405.45454545454544,843.90909090909088,390.54545454545456,65.818181818181813,149.90909090909091,348.45454545454544,95.545454545454547,290.63636363636363,49.636363636363633,0,0,0,0,0,0,null,574.18181818181813,843.90909090909088,390.54545454545456,65.818181818181813,149.90909090909091,348.45454545454544,95.545454545454547,290.63636363636363,49.636363636363633,0,0,0,0,0,0,null,null,null,null,null,null,null,null,null,null,null,null,null,null,null,null,null,null,null,10,928.3,429.6,72.400000000000006,164.9,383.3,105.1,319.7,54.6,0,0,0,0,0,0,null,185.6,446,928.3,429.6,72.400000000000006,164.9,383.3,105.1,319.7,54.6,0,0,0,0,0,0]
[null,12,773.58333333333337,358,60.333333333333336,137.41666666666666,319.41666666666669,87.583333333333329,266.41666666666669,45.5,0,0,0,0,0,0,null,154.66666666666666,371.66666666666669,773.58333333333337,358,60.333333333333336,137.41666666666666,319.41666666666669,87.583333333333329,266.41666666666669,45.5,0,0,0,0,0,0,null,526.33333333333337,773.58333333333337,358,60.333333333333336,137.41666666666666,319.41666666666669,87.583333333333329,266.41666666666669,45.5,0,0,0,0,0,0,null,null,null,null,null,null,null,null,null,null,null,null,null,null,null,null,null,null,null,11,843.90909090909088,390.54545454545456,65.818181818181813,149.90909090909091,348.45454545454544,95.545454545454547,290.63636363636363,49.636363636363633,0,0,0,0,0,0,null,168.72727272727272,405.45454545454544,843.90909090909088,390.54545454545456,65.818181818181813,149.90909090909091,348.45454545454544,95.545454545454547,290.63636363636363,49.636363636363633,0,0,0,0,0,0]
[null,13,714.07692307692309,330.46153846153845,55.692307692307693,126.84615384615384,294.84615384615387,80.84615384615384,245.92307692307693,42,0,0,0,0,0,0,null,142.76923076923077,343.07692307692309,714.07692307692309,330.46153846153845,55.692307692307693,126.84615384615384,294.84615384615387,80.84615384615384,245.92307692307693,42,0,0,0,0,0,0,null,485.84615384615387,714.07692307692309,330.46153846153845,55.692307692307693,126.84615384615384,294.84615384615387,80.84615384615384,245.92307692307693,42,0,0,0,0,0,0,null,null,null,null,null,null,null,null,null,null,null,null,null,null,null,null,null,null,null,12,773.58333333333337,358,60.333333333333336,137.41666666666666,319.41666666666669,87.583333333333329,266.41666666666669,45.5,0,0,0,0,0,0,null,154.66666666666666,371.66666666666669,773.58333333333337,358,60.333333333333336,137.41666666666666,319.41666666666669,87.583333333333329,266.41666666666669,45.5,0,0,0,0,0,0]
[null,14,663.07142857142856,306.85714285714283,51.714285714285715,117.78571428571429,273.78571428571428,75.071428571428569,228.35714285714286,39,0,0,0,0,0,0,null,132.57142857142858,318.57142857142856,663.07142857142856,306.85714285714283,51.714285714285715,117.78571428571429,273.78571428571428,75.071428571428569,228.35714285714286,39,0,0,0,0,0,0,null,451.14285714285717,663.07142857142856,306.85714285714283,51.714285714285715,117.78571428571429,273.78571428571428,75.071428571428569,228.35714285714286,39,0,0,0,0,0,0,null,null,null,null,null,null,null,null,null,null,null,null,null,null,null,null,null,null,null,13,714.07692307692309,330.46153846153845,55.692307692307693,126.84615384615384,294.84615384615387,80.84615384615384,245.92307692307693,42,0,0,0,0,0,0,null,142.76923076923077,343.07692307692309,714.07692307692309,330.46153846153845,55.692307692307693,126.84615384615384,294.84615384615387,80.84615384615384,245.92307692307693,42,0,0,0,0,0,0]
[null,15,618.86666666666667,286.39999999999998,48.266666666666666,109.93333333333334,255.53333333333333,70.066666666666663,213.13333333333333,36.4,0,0,0,0,0,0,null,123.73333333333333,297.33333333333331,618.86666666666667,286.39999999999998,48.266666666666666,109.93333333333334,255.53333333333333,70.066666666666663,213.13333333333333,36.4,0,0,0,0,0,0,null,421.06666666666666,618.86666666666667,286.39999999999998,48.266666666666666,109.93333333333334,255.53333333333333,70.066666666666663,213.13333333333333,36.4,0,0,0,0,0,0,null,null,null,null,null,null,null,null,null,null,null,null,null,null,null,null,null,null,null,14,663.07142857142856,306.85714285714283,51.714285714285715,117.78571428571429,273.78571428571428,75.071428571428569,228.35714285714286,39,0,0,0,0,0,0,null,132.57142857142858,318.57142857142856,663.07142857142856,306.85714285714283,51.714285714285715,117.78571428571429,273.78571428571428,75.071428571428569,228.35714285714286,39,0,0,0,0,0,0]
[null,16,580.1875,268.5,45.25,103.0625,239.5625,65.6875,199.8125,34.125,0,0,0,0,0,0,null,116,278.75,580.1875,268.5,45.25,103.0625,239.5625,65.6875,199.8125,34.125,0,0,0,0,0,0,null,394.75,580.1875,268.5,45.25,103.0625,239.5625,65.6875,199.8125,34.125,0,0,0,0,0,0,null,null,null,null,null,null,null,null,null,null,null,null,null,null,null,null,null,null,null,15,618.86666666666667,286.39999999999998,48.266666666666666,109.93333333333334,255.53333333333333,70.066666666666663,213.13333333333333,36.4,0,0,0,0,0,0,null,123.73333333333333,297.33333333333331,618.86666666666667,286.39999999999998,48.266666666666666,109.93333333333334,255.53333333333333,70.066666666666663,213.13333333333333,36.4,0,0,0,0,0,0]
[null,17,546.05882352941171,252.70588235294119,42.588235294117645,97,225.47058823529412,61.823529411764703,188.05882352941177,32.117647058823529,0,0,0,0,0,0,null,109.17647058823529,262.35294117647061,546.05882352941171,252.70588235294119,42.588235294117645,97,225.47058823529412,61.823529411764703,188.05882352941177,32.117647058823529,0,0,0,0,0,0,null,371.52941176470586,546.05882352941171,252.70588235294119,42.588235294117645,97,225.47058823529412,61.823529411764703,188.05882352941177,32.117647058823529,0,0,0,0,0,0,null,null,null,null,null,null,null,null,null,null,null,null,null,null,null,null,null,null,null,16,580.1875,268.5,45.25,103.0625,239.5625,65.6875,199.8125,34.125,0,0,0,0,0,0,null,116,278.75,580.1875,268.5,45.25,103.0625,239.5625,65.6875,199.8125,34.125,0,0,0,0,0,0]
[null,18,515.72222222222217,238.66666666666666,40.222222222222221,91.611111111111114,212.94444444444446,58.388888888888886,177.61111111111111,30.333333333333332,0,0,0,0,0,0,null,103.11111111111111,247.77777777777777,515.72222222222217,238.66666666666666,40.222222222222221,91.611111111111114,212.94444444444446,58.388888888888886,177.61111111111111,30.333333333333332,0,0,0,{"$f":"N24","v":0},0,0,null,350.88888888888891,515.72222222222217,238.66666666666666,40.222222222222221,91.611111111111114,212.94444444444446,58.388888888888886,177.61111111111111,30.333333333333332,0,0,0,{"$f":"N24","v":0},0,0,null,null,null,null,null,null,null,null,null,null,null,null,null,null,null,null,null,null,null,17,546.05882352941171,252.70588235294119,42.588235294117645,97,225.47058823529412,61.823529411764703,188.05882352941177,32.117647058823529,0,0,0,0,0,0,null,109.17647058823529,262.35294117647061,546.05882352941171,252.70588235294119,42.588235294117645,97,225.47058823529412,61.823529411764703,188.05882352941177,32.117647058823529,0,0,0,0,0,0]
[null,19,488.57894736842104,226.10526315789474,38.10526315789474,86.78947368421052,201.73684210526315,55.315789473684212,168.26315789473685,28.736842105263158,0,0,0,0,0,0,null,97.684210526315795,234.73684210526315,488.57894736842104,226.10526315789474,38.10526315789474,86.78947368421052,201.73684210526315,55.315789473684212,168.26315789473685,28.736842105263158,0,0,0,0,0,0,null,332.42105263157896,488.57894736842104,226.10526315789474,38.10526315789474,86.78947368421052,201.73684210526315,55.315789473684212,168.26315789473685,28.736842105263158,0,0,0,0,0,0,null,null,null,null,null,null,null,null,null,null,null,null,null,null,null,null,null,null,null,18,515.72222222222217,238.66666666666666,40.222222222222221,91.611111111111114,212.94444444444446,58.388888888888886,177.61111111111111,30.333333333333332,0,0,0,0,0,0,null,103.11111111111111,247.77777777777777,515.72222222222217,238.66666666666666,40.222222222222221,91.611111111111114,212.94444444444446,58.388888888888886,177.61111111111111,30.333333333333332,0,0,0,0,0,0]
[null,20,464.15,214.8,36.200000000000003,82.45,191.65,52.55,159.85,27.3,0,0,0,0,0,0,null,92.8,223,464.15,214.8,36.200000000000003,82.45,191.65,52.55,159.85,27.3,0,0,0,0,0,0,null,315.8,464.15,214.8,36.200000000000003,82.45,191.65,52.55,159.85,27.3,0,0,0,0,0,0,null,null,null,null,null,null,null,null,null,null,null,null,null,null,null,null,null,null,null,19,488.57894736842104,226.10526315789474,38.10526315789474,86.78947368421052,201.73684210526315,55.315789473684212,168.26315789473685,28.736842105263158,0,0,0,0,0,0,null,97.684210526315795,234.73684210526315,488.57894736842104,226.10526315789474,38.10526315789474,86.78947368421052,201.73684210526315,55.315789473684212,168.26315789473685,28.736842105263158,0,0,0,0,0,0]
[null,21,442.04761904761904,204.57142857142858,34.476190476190474,78.523809523809518,182.52380952380952,50.047619047619051,152.23809523809524,26,0,0,0,0,0,0,null,88.38095238095238,212.38095238095238,442.04761904761904,204.57142857142858,34.476190476190474,78.523809523809518,182.52380952380952,50.047619047619051,152.23809523809524,26,0,0,0,0,0,{"$f":"P27","v":0},null,300.76190476190476,442.04761904761904,204.57142857142858,34.476190476190474,78.523809523809518,182.52380952380952,50.047619047619051,152.23809523809524,26,0,0,0,0,0,{"$f":"P27","v":0},null,null,null,null,null,null,null,null,null,null,null,null,null,null,null,null,null,null,null,20,464.15,214.8,36.200000000000003,82.45,191.65,52.55,159.85,27.3,0,0,0,0,0,0,null,92.8,223,464.15,214.8,36.200000000000003,82.45,191.65,52.55,159.85,27.3,0,0,0,0,0,0]
[null,22,421.95454545454544,195.27272727272728,32.909090909090907,74.954545454545453,174.22727272727272,47.772727272727273,145.31818181818181,24.818181818181817,0,0,0,0,0,0,null,84.36363636363636,202.72727272727272,421.95454545454544,195.27272727272728,32.909090909090907,74.954545454545453,174.22727272727272,47.772727272727273,145.31818181818181,24.818181818181817,0,0,0,0,0,0,null,287.09090909090907,421.95454545454544,195.27272727272728,32.909090909090907,74.954545454545453,174.22727272727272,47.772727272727273,145.31818181818181,24.818181818181817,0,0,0,0,0,0,null,null,null,null,null,null,null,null,null,null,null,null,null,null,null,null,null,null,null,21,442.04761904761904,204.57142857142858,34.476190476190474,78.523809523809518,182.52380952380952,50.047619047619051,152.23809523809524,26,0,0,0,0,0,0,null,88.38095238095238,212.38095238095238,442.04761904761904,204.57142857142858,34.476190476190474,78.523809523809518,182.52380952380952,50.047619047619051,152.23809523809524,26,0,0,0,0,0,0]
[null,23,403.60869565217394,186.78260869565219,31.478260869565219,71.695652173913047,166.65217391304347,45.695652173913047,139,23.739130434782609,0,0,0,0,0,0,null,80.695652173913047,193.91304347826087,403.60869565217394,186.78260869565219,31.478260869565219,71.695652173913047,166.65217391304347,45.695652173913047,139,23.739130434782609,0,0,0,0,0,0,null,274.60869565217394,403.60869565217394,186.78260869565219,31.478260869565219,71.695652173913047,166.65217391304347,45.695652173913047,139,23.739130434782609,0,0,0,0,0,0,null,null,null,null,null,null,null,null,null,null,null,null,null,null,null,null,null,null,null,22,421.95454545454544,195.27272727272728,32.909090909090907,74.954545454545453,174.22727272727272,47.772727272727273,145.31818181818181,24.818181818181817,0,0,0,0,0,0,null,84.36363636363636,202.72727272727272,421.95454545454544,195.27272727272728,32.909090909090907,74.954545454545453,174.22727272727272,47.772727272727273,145.31818181818181,24.818181818181817,0,0,0,0,0,0]
[null,24,386.79166666666669,179,30.166666666666668,68.708333333333329,159.70833333333334,43.791666666666664,133.20833333333334,22.75,0,0,0,0,0,0,null,77.333333333333329,185.83333333333334,386.79166666666669,179,30.166666666666668,68.708333333333329,159.70833333333334,43.791666666666664,133.20833333333334,22.75,0,0,0,0,0,0,null,263.16666666666669,386.79166666666669,179,30.166666666666668,68.708333333333329,159.70833333333334,43.791666666666664,133.20833333333334,22.75,0,0,0,0,0,0,null,null,null,null,null,null,null,null,null,null,null,null,null,null,null,null,null,null,null,23,403.60869565217394,186.78260869565219,31.478260869565219,71.695652173913047,166.65217391304347,45.695652173913047,139,23.739130434782609,0,0,0,0,0,0,null,80.695652173913047,193.91304347826087,403.60869565217394,186.78260869565219,31.478260869565219,71.695652173913047,166.65217391304347,45.695652173913047,139,23.739130434782609,0,0,0,0,0,0]
[null,25,371.32,171.84,28.96,65.959999999999994,153.32,42.04,127.88,21.84,0,0,0,0,0,0,null,74.239999999999995,178.4,371.32,171.84,28.96,65.959999999999994,153.32,42.04,127.88,21.84,0,0,0,0,0,0,null,252.64,371.32,171.84,28.96,65.959999999999994,153.32,42.04,127.88,21.84,0,0,0,0,0,0,null,null,null,null,null,null,null,null,null,null,null,null,null,null,null,null,null,null,null,24,386.79166666666669,179,30.166666666666668,68.708333333333329,159.70833333333334,43.791666666666664,133.20833333333334,22.75,0,0,0,0,0,0,null,77.333333333333329,185.83333333333334,386.79166666666669,179,30.166666666666668,68.708333333333329,159.70833333333334,43.791666666666664,133.20833333333334,22.75,0,0,0,0,0,0]
[null,26,357.03846153846155,165.23076923076923,27.846153846153847,63.42307692307692,147.42307692307693,40.42307692307692,122.96153846153847,21,0,0,0,0,0,0,null,71.384615384615387,171.53846153846155,357.03846153846155,165.23076923076923,27.846153846153847,63.42307692307692,147.42307692307693,40.42307692307692,122.96153846153847,21,0,0,0,0,0,0,null,242.92307692307693,357.03846153846155,165.23076923076923,27.846153846153847,63.42307692307692,147.42307692307693,40.42307692307692,122.96153846153847,21,0,0,0,0,0,0,null,null,null,null,null,null,null,null,null,null,null,null,null,null,null,null,null,null,null,25,371.32,171.84,28.96,65.959999999999994,153.32,42.04,127.88,21.84,0,0,0,0,0,0,null,74.239999999999995,178.4,371.32,171.84,28.96,65.959999999999994,153.32,42.04,127.88,21.84,0,0,0,0,0,0]
[null,27,343.81481481481484,159.11111111111111,26.814814814814813,61.074074074074076,141.96296296296296,38.925925925925924,118.4074074074074,20.222222222222221,0,0,0,0,0,0,null,68.740740740740748,165.18518518518519,343.81481481481484,159.11111111111111,26.814814814814813,61.074074074074076,141.96296296296296,38.925925925925924,118.4074074074074,20.222222222222221,0,0,0,0,0,0,null,233.92592592592592,343.81481481481484,159.11111111111111,26.814814814814813,61.074074074074076,141.96296296296296,38.925925925925924,118.4074074074074,20.222222222222221,0,0,0,0,0,0,null,null,null,null,null,null,null,null,null,null,null,null,null,null,null,null,null,null,null,26,357.03846153846155,165.23076923076923,27.846153846153847,63.42307692307692,147.42307692307693,40.42307692307692,122.96153846153847,21,0,0,0,0,0,0,null,71.384615384615387,171.53846153846155,357.03846153846155,165.23076923076923,27.846153846153847,63.42307692307692,147.42307692307693,40.42307692307692,122.96153846153847,21,0,0,0,0,0,0]
[null,28,331.53571428571428,153.42857142857142,25.857142857142858,58.892857142857146,136.89285714285714,37.535714285714285,114.17857142857143,19.5,0,0,0,0,0,0,null,66.285714285714292,159.28571428571428,331.53571428571428,153.42857142857142,25.857142857142858,58.892857142857146,136.89285714285714,37.535714285714285,114.17857142857143,19.5,0,0,0,0,0,0,null,225.57142857142858,331.53571428571428,153.42857142857142,25.857142857142858,58.892857142857146,136.89285714285714,37.535714285714285,114.17857142857143,19.5,0,0,0,0,0,0,null,null,null,null,null,null,null,null,null,null,null,null,null,null,null,null,null,null,null,27,343.81481481481484,159.11111111111111,26.814814814814813,61.074074074074076,141.96296296296296,38.925925925925924,118.4074074074074,20.222222222222221,0,0,0,0,0,0,null,68.740740740740748,165.18518518518519,343.81481481481484,159.11111111111111,26.814814814814813,61.074074074074076,141.96296296296296,38.925925925925924,118.4074074074074,20.222222222222221,0,0,0,0,0,0]
[null,29,320.10344827586209,148.13793103448276,24.96551724137931,56.862068965517238,132.17241379310346,36.241379310344826,110.24137931034483,18.827586206896552,0,0,0,0,0,0,null,64,153.79310344827587,320.10344827586209,148.13793103448276,24.96551724137931,56.862068965517238,132.17241379310346,36.241379310344826,110.24137931034483,18.827586206896552,0,0,0,0,0,0,null,217.79310344827587,320.10344827586209,148.13793103448276,24.96551724137931,56.862068965517238,132.17241379310346,36.241379310344826,110.24137931034483,18.827586206896552,0,0,0,0,0,0,null,null,null,null,null,null,null,null,null,null,null,null,null,null,null,null,null,null,null,28,331.53571428571428,153.42857142857142,25.857142857142858,58.892857142857146,136.89285714285714,37.535714285714285,114.17857142857143,19.5,0,0,0,0,0,0,null,66.285714285714292,159.28571428571428,331.53571428571428,153.42857142857142,25.857142857142858,58.892857142857146,136.89285714285714,37.535714285714285,114.17857142857143,19.5,0,0,0,0,0,0]
[null,30,309.43333333333334,143.19999999999999,24.133333333333333,54.966666666666669,127.76666666666667,35.033333333333331,106.56666666666666,18.2,0,0,0,0,0,0,null,61.866666666666667,148.66666666666666,309.43333333333334,143.19999999999999,24.133333333333333,54.966666666666669,127.76666666666667,35.033333333333331,106.56666666666666,18.2,0,0,0,0,0,0,null,210.53333333333333,309.43333333333334,143.19999999999999,24.133333333333333,54.966666666666669,127.76666666666667,35.033333333333331,106.56666666666666,18.2,0,0,0,0,0,0,null,null,null,null,null,null,null,null,null,null,null,null,null,null,null,null,null,null,null,29,320.10344827586209,148.13793103448276,24.96551724137931,56.862068965517238,132.17241379310346,36.241379310344826,110.24137931034483,18.827586206896552,0,0,0,0,0,0,null,64,153.79310344827587,320.10344827586209,148.13793103448276,24.96551724137931,56.862068965517238,132.17241379310346,36.241379310344826,110.24137931034483,18.827586206896552,0,0,0,0,0,0]
[null,31,299.45161290322579,138.58064516129033,23.35483870967742,53.193548387096776,123.64516129032258,33.903225806451616,103.12903225806451,17.612903225806452,0,0,0,0,0,0,null,59.87096774193548,143.87096774193549,299.45161290322579,138.58064516129033,23.35483870967742,53.193548387096776,123.64516129032258,33.903225806451616,103.12903225806451,17.612903225806452,0,0,0,0,0,0,null,203.74193548387098,299.45161290322579,138.58064516129033,23.35483870967742,53.193548387096776,123.64516129032258,33.903225806451616,103.12903225806451,17.612903225806452,0,0,0,0,0,0,null,null,null,null,null,null,null,null,null,null,null,null,null,null,null,null,null,null,null,30,309.43333333333334,143.19999999999999,24.133333333333333,54.966666666666669,127.76666666666667,35.033333333333331,106.56666666666666,18.2,0,0,0,0,0,0,null,61.866666666666667,148.66666666666666,309.43333333333334,143.19999999999999,24.133333333333333,54.966666666666669,127.76666666666667,35.033333333333331,106.56666666666666,18.2,0,0,0,0,0,0]
[null,32,290.09375,134.25,22.625,51.53125,119.78125,32.84375,99.90625,17.0625,0,0,0,0,0,0,null,58,139.375,290.09375,134.25,22.625,51.53125,119.78125,32.84375,99.90625,17.0625,0,0,0,0,0,0,null,197.375,290.09375,134.25,22.625,51.53125,119.78125,32.84375,99.90625,17.0625,0,0,0,0,0,0,null,null,null,null,null,null,null,null,null,null,null,null,null,null,null,null,null,null,null,31,299.45161290322579,138.58064516129033,23.35483870967742,53.193548387096776,123.64516129032258,33.903225806451616,103.12903225806451,17.612903225806452,0,0,0,0,0,0,null,59.87096774193548,143.87096774193549,299.45161290322579,138.58064516129033,23.35483870967742,53.193548387096776,123.64516129032258,33.903225806451616,103.12903225806451,17.612903225806452,0,0,0,0,0,0]
[null,33,281.30303030303031,130.18181818181819,21.939393939393938,49.969696969696969,116.15151515151516,31.848484848484848,96.878787878787875,16.545454545454547,0,0,0,0,0,0,null,56.242424242424242,135.15151515151516,281.30303030303031,130.18181818181819,21.939393939393938,49.969696969696969,116.15151515151516,31.848484848484848,96.878787878787875,16.545454545454547,0,0,0,0,0,0,null,191.39393939393941,281.30303030303031,130.18181818181819,21.939393939393938,49.969696969696969,116.15151515151516,31.848484848484848,96.878787878787875,16.545454545454547,0,0,0,0,0,0,null,null,null,null,null,null,null,null,null,null,null,null,null,null,null,null,null,null,null,32,290.09375,134.25,22.625,51.53125,119.78125,32.84375,99.90625,17.0625,0,0,0,0,0,0,null,58,139.375,290.09375,134.25,22.625,51.53125,119.78125,32.84375,99.90625,17.0625,0,0,0,0,0,0]
[null,34,273.02941176470586,126.35294117647059,21.294117647058822,48.5,112.73529411764706,30.911764705882351,94.029411764705884,16.058823529411764,0,0,0,0,0,0,null,54.588235294117645,131.1764705882353,{"$f":"C40","v":273.02941176470586},{"$f":"D40","v":126.35294117647059},{"$f":"E40","v":21.294117647058822},{"$f":"F40","v":48.5},{"$f":"G40","v":112.73529411764706},{"$f":"H40","v":30.911764705882351},{"$f":"I40","v":94.029411764705884},{"$f":"J40","v":16.058823529411764},{"$f":"K40","v":0},{"$f":"L40","v":0},{"$f":"M40","v":0},{"$f":"N40","v":0},0,0,null,185.76470588235293,{"$f":"C40","v":273.02941176470586},{"$f":"D40","v":126.35294117647059},{"$f":"E40","v":21.294117647058822},{"$f":"F40","v":48.5},{"$f":"G40","v":112.73529411764706},{"$f":"H40","v":30.911764705882351},{"$f":"I40","v":94.029411764705884},{"$f":"J40","v":16.058823529411764},{"$f":"K40","v":0},{"$f":"L40","v":0},{"$f":"M40","v":0},{"$f":"N40","v":0},0,0,null,null,null,null,null,null,null,null,null,null,null,null,null,null,null,null,null,null,null,33,281.30303030303031,130.18181818181819,21.939393939393938,49.969696969696969,116.15151515151516,31.848484848484848,96.878787878787875,16.545454545454547,0,0,0,0,0,0,null,56.242424242424242,135.15151515151516,281.30303030303031,130.18181818181819,21.939393939393938,49.969696969696969,116.15151515151516,31.848484848484848,96.878787878787875,16.545454545454547,0,0,0,0,0,0]
[null,35,265.22857142857146,122.74285714285715,20.685714285714287,47.114285714285714,109.51428571428572,30.028571428571428,91.342857142857142,15.6,0,0,0,0,0,0,null,53.028571428571432,127.42857142857143,265.22857142857146,122.74285714285715,20.685714285714287,47.114285714285714,109.51428571428572,30.028571428571428,91.342857142857142,15.6,0,0,0,0,0,0,null,180.45714285714286,265.22857142857146,122.74285714285715,20.685714285714287,47.114285714285714,109.51428571428572,30.028571428571428,91.342857142857142,15.6,0,0,0,0,0,0,null,null,null,null,null,null,null,null,null,null,null,null,null,null,null,null,null,null,null,34,273.02941176470586,126.35294117647059,21.294117647058822,48.5,112.73529411764706,30.911764705882351,94.029411764705884,16.058823529411764,0,0,0,0,0,0,null,54.588235294117645,131.1764705882353,273.02941176470586,126.35294117647059,21.294117647058822,48.5,112.73529411764706,30.911764705882351,94.029411764705884,16.058823529411764,0,0,0,0,0,0]
[null,36,257.86111111111109,119.33333333333333,20.111111111111111,45.805555555555557,106.47222222222223,29.194444444444443,88.805555555555557,15.166666666666666,0,0,0,0,0,0,null,51.555555555555557,123.88888888888889,257.86111111111109,119.33333333333333,20.111111111111111,45.805555555555557,106.47222222222223,29.194444444444443,88.805555555555557,15.166666666666666,0,0,0,0,0,0,null,175.44444444444446,257.86111111111109,119.33333333333333,20.111111111111111,45.805555555555557,106.47222222222223,29.194444444444443,88.805555555555557,15.166666666666666,0,0,0,0,0,0,null,null,null,null,null,null,null,null,null,null,null,null,null,null,null,null,null,null,null,35,265.22857142857146,122.74285714285715,20.685714285714287,47.114285714285714,109.51428571428572,30.028571428571428,91.342857142857142,15.6,0,0,0,0,0,0,null,53.028571428571432,127.42857142857143,265.22857142857146,122.74285714285715,20.685714285714287,47.114285714285714,109.51428571428572,30.028571428571428,91.342857142857142,15.6,0,0,0,0,0,0]
[null,37,250.8918918918919,116.10810810810811,19.567567567567568,44.567567567567565,103.5945945945946,28.405405405405407,86.405405405405403,14.756756756756756,0,0,0,0,0,0,null,50.162162162162161,120.54054054054055,250.8918918918919,116.10810810810811,19.567567567567568,44.567567567567565,103.5945945945946,28.405405405405407,86.405405405405403,14.756756756756756,0,0,0,0,0,0,null,170.70270270270271,250.8918918918919,116.10810810810811,19.567567567567568,44.567567567567565,103.5945945945946,28.405405405405407,86.405405405405403,14.756756756756756,0,0,0,0,0,0,null,null,null,null,null,null,null,null,null,null,null,null,null,null,null,null,null,null,null,36,257.86111111111109,119.33333333333333,20.111111111111111,45.805555555555557,106.47222222222223,29.194444444444443,88.805555555555557,15.166666666666666,0,0,0,0,0,0,null,51.555555555555557,123.88888888888889,257.86111111111109,119.33333333333333,20.111111111111111,45.805555555555557,106.47222222222223,29.194444444444443,88.805555555555557,15.166666666666666,0,0,0,0,0,0]
[null,38,244.28947368421052,113.05263157894737,19.05263157894737,43.39473684210526,100.86842105263158,27.657894736842106,84.131578947368425,14.368421052631579,0,0,0,0,0,0,null,48.842105263157897,117.36842105263158,244.28947368421052,113.05263157894737,19.05263157894737,43.39473684210526,100.86842105263158,27.657894736842106,84.131578947368425,14.368421052631579,0,0,0,0,0,0,null,166.21052631578948,244.28947368421052,113.05263157894737,19.05263157894737,43.39473684210526,100.86842105263158,27.657894736842106,84.131578947368425,14.368421052631579,0,0,0,0,0,0,null,null,null,null,null,null,null,null,null,null,null,null,null,null,null,null,null,null,null,37,250.8918918918919,116.10810810810811,19.567567567567568,44.567567567567565,103.5945945945946,28.405405405405407,86.405405405405403,14.756756756756756,0,0,0,0,0,0,null,50.162162162162161,120.54054054054055,250.8918918918919,116.10810810810811,19.567567567567568,44.567567567567565,103.5945945945946,28.405405405405407,86.405405405405403,14.756756756756756,0,0,0,0,0,0]
[null,39,238.02564102564102,110.15384615384616,18.564102564102566,42.282051282051285,98.282051282051285,26.948717948717949,81.974358974358978,14,0,0,0,0,0,0,null,47.589743589743591,114.35897435897436,238.02564102564102,110.15384615384616,18.564102564102566,42.282051282051285,98.282051282051285,26.948717948717949,81.974358974358978,14,0,0,0,0,0,0,null,161.94871794871796,238.02564102564102,110.15384615384616,18.564102564102566,42.282051282051285,98.282051282051285,26.948717948717949,81.974358974358978,14,0,0,0,0,0,0,null,null,null,null,null,null,null,null,null,null,null,null,null,null,null,null,null,null,null,38,244.28947368421052,113.05263157894737,19.05263157894737,43.39473684210526,100.86842105263158,27.657894736842106,84.131578947368425,14.368421052631579,0,0,0,0,0,0,null,48.842105263157897,117.36842105263158,244.28947368421052,113.05263157894737,19.05263157894737,43.39473684210526,100.86842105263158,27.657894736842106,84.131578947368425,14.368421052631579,0,0,0,0,0,0]
[null,40,232.07499999999999,107.4,18.100000000000001,41.225000000000001,95.825000000000003,26.274999999999999,79.924999999999997,13.65,0,0,0,0,0,0,null,46.4,111.5,232.07499999999999,107.4,18.100000000000001,41.225000000000001,95.825000000000003,26.274999999999999,79.924999999999997,13.65,0,0,0,0,0,0,null,157.9,232.07499999999999,107.4,18.100000000000001,41.225000000000001,95.825000000000003,26.274999999999999,79.924999999999997,13.65,0,0,0,0,0,0,null,null,null,null,null,null,null,null,null,null,null,null,null,null,null,null,null,null,null,39,238.02564102564102,110.15384615384616,18.564102564102566,42.282051282051285,98.282051282051285,26.948717948717949,81.974358974358978,14,0,0,0,0,0,0,null,47.589743589743591,114.35897435897436,238.02564102564102,110.15384615384616,18.564102564102566,42.282051282051285,98.282051282051285,26.948717948717949,81.974358974358978,14,0,0,0,0,0,0]
[null,41,226.41463414634146,104.78048780487805,17.658536585365855,40.219512195121951,93.487804878048777,25.634146341463413,77.975609756097555,13.317073170731707,0,0,0,0,0,0,null,45.268292682926827,108.78048780487805,226.41463414634146,104.78048780487805,17.658536585365855,40.219512195121951,93.487804878048777,25.634146341463413,77.975609756097555,13.317073170731707,0,0,0,0,0,0,null,154.04878048780489,226.41463414634146,104.78048780487805,17.658536585365855,40.219512195121951,93.487804878048777,25.634146341463413,77.975609756097555,13.317073170731707,0,0,0,0,0,0,null,null,null,null,null,null,null,null,null,null,null,null,null,null,null,null,null,null,null,40,232.07499999999999,107.4,18.100000000000001,41.225000000000001,95.825000000000003,26.274999999999999,79.924999999999997,13.65,0,0,0,0,0,0,null,46.4,111.5,232.07499999999999,107.4,18.100000000000001,41.225000000000001,95.825000000000003,26.274999999999999,79.924999999999997,13.65,0,0,0,0,0,0]
[null,42,221.02380952380952,102.28571428571429,17.238095238095237,39.261904761904759,91.261904761904759,25.023809523809526,76.11904761904762,13,0,0,0,0,0,0,null,44.19047619047619,106.19047619047619,221.02380952380952,102.28571428571429,17.238095238095237,39.261904761904759,91.261904761904759,25.023809523809526,76.11904761904762,13,0,0,0,0,0,0,null,150.38095238095238,221.02380952380952,102.28571428571429,17.238095238095237,39.261904761904759,91.261904761904759,25.023809523809526,76.11904761904762,13,0,0,0,0,0,0,null,null,null,null,null,null,null,null,null,null,null,null,null,null,null,null,null,null,null,41,226.41463414634146,104.78048780487805,17.658536585365855,40.219512195121951,93.487804878048777,25.634146341463413,77.975609756097555,13.317073170731707,0,0,0,0,0,0,null,45.268292682926827,108.78048780487805,226.41463414634146,104.78048780487805,17.658536585365855,40.219512195121951,93.487804878048777,25.634146341463413,77.975609756097555,13.317073170731707,0,0,0,0,0,0]
[null,43,215.88372093023256,99.906976744186053,16.837209302325583,38.348837209302324,89.139534883720927,24.441860465116278,74.348837209302332,12.697674418604651,0,0,0,0,0,0,null,43.162790697674417,103.72093023255815,215.88372093023256,99.906976744186053,16.837209302325583,38.348837209302324,89.139534883720927,24.441860465116278,74.348837209302332,12.697674418604651,0,0,0,0,0,0,null,146.88372093023256,215.88372093023256,99.906976744186053,16.837209302325583,38.348837209302324,89.139534883720927,24.441860465116278,74.348837209302332,12.697674418604651,0,0,0,0,0,0,null,null,null,null,null,null,null,null,null,null,null,null,null,null,null,null,null,null,null,42,221.02380952380952,102.28571428571429,17.238095238095237,39.261904761904759,91.261904761904759,25.023809523809526,76.11904761904762,13,0,0,0,0,0,0,null,44.19047619047619,106.19047619047619,221.02380952380952,102.28571428571429,17.238095238095237,39.261904761904759,91.261904761904759,25.023809523809526,76.11904761904762,13,0,0,0,0,0,0]
[null,44,210.97727272727272,97.63636363636364,16.454545454545453,37.477272727272727,87.11363636363636,23.886363636363637,72.659090909090907,12.409090909090908,0,0,0,0,0,0,null,42.18181818181818,101.36363636363636,210.97727272727272,97.63636363636364,16.454545454545453,37.477272727272727,87.11363636363636,23.886363636363637,72.659090909090907,12.409090909090908,0,0,0,0,0,0,null,143.54545454545453,210.97727272727272,97.63636363636364,16.454545454545453,37.477272727272727,87.11363636363636,23.886363636363637,72.659090909090907,12.409090909090908,0,0,0,0,0,0,null,null,null,null,null,null,null,null,null,null,null,null,null,null,null,null,null,null,null,43,215.88372093023256,99.906976744186053,16.837209302325583,38.348837209302324,89.139534883720927,24.441860465116278,74.348837209302332,12.697674418604651,0,0,0,0,0,0,null,43.162790697674417,103.72093023255815,215.88372093023256,99.906976744186053,16.837209302325583,38.348837209302324,89.139534883720927,24.441860465116278,74.348837209302332,12.697674418604651,0,0,0,0,0,0]
[null,45,206.28888888888889,95.466666666666669,16.088888888888889,36.644444444444446,85.177777777777777,23.355555555555554,71.044444444444451,12.133333333333333,0,0,0,0,0,0,null,41.244444444444447,99.111111111111114,206.28888888888889,95.466666666666669,16.088888888888889,36.644444444444446,85.177777777777777,23.355555555555554,71.044444444444451,12.133333333333333,0,0,0,0,0,0,null,140.35555555555555,206.28888888888889,95.466666666666669,16.088888888888889,36.644444444444446,85.177777777777777,23.355555555555554,71.044444444444451,12.133333333333333,0,0,0,0,0,0,null,null,null,null,null,null,null,null,null,null,null,null,null,null,null,null,null,null,null,44,210.97727272727272,97.63636363636364,16.454545454545453,37.477272727272727,87.11363636363636,23.886363636363637,72.659090909090907,12.409090909090908,0,0,0,0,0,0,null,42.18181818181818,101.36363636363636,210.97727272727272,97.63636363636364,16.454545454545453,37.477272727272727,87.11363636363636,23.886363636363637,72.659090909090907,12.409090909090908,0,0,0,0,0,0]
[null,46,201.80434782608697,93.391304347826093,15.739130434782609,35.847826086956523,83.326086956521735,22.847826086956523,69.5,11.869565217391305,0,0,0,0,0,0,null,40.347826086956523,96.956521739130437,201.80434782608697,93.391304347826093,15.739130434782609,35.847826086956523,83.326086956521735,22.847826086956523,69.5,11.869565217391305,0,0,0,0,0,0,null,137.30434782608697,201.80434782608697,93.391304347826093,15.739130434782609,35.847826086956523,83.326086956521735,22.847826086956523,69.5,11.869565217391305,0,0,0,0,0,0,null,null,null,null,null,null,null,null,null,null,null,null,null,null,null,null,null,null,null,45,206.28888888888889,95.466666666666669,16.088888888888889,36.644444444444446,85.177777777777777,23.355555555555554,71.044444444444451,12.133333333333333,0,0,0,0,0,0,null,41.244444444444447,99.111111111111114,206.28888888888889,95.466666666666669,16.088888888888889,36.644444444444446,85.177777777777777,23.355555555555554,71.044444444444451,12.133333333333333,0,0,0,0,0,0]
[null,47,197.51063829787233,91.40425531914893,15.404255319148936,35.085106382978722,81.553191489361708,22.361702127659573,68.021276595744681,11.617021276595745,0,0,0,0,0,0,null,39.48936170212766,94.893617021276597,197.51063829787233,91.40425531914893,15.404255319148936,35.085106382978722,81.553191489361708,22.361702127659573,68.021276595744681,11.617021276595745,0,0,0,0,0,0,null,134.38297872340425,197.51063829787233,91.40425531914893,15.404255319148936,35.085106382978722,81.553191489361708,22.361702127659573,68.021276595744681,11.617021276595745,0,0,0,0,0,0,null,null,null,null,null,null,null,null,null,null,null,null,null,null,null,null,null,null,null,46,201.80434782608697,93.391304347826093,15.739130434782609,35.847826086956523,83.326086956521735,22.847826086956523,69.5,11.869565217391305,0,0,0,0,0,0,null,40.347826086956523,96.956521739130437,201.80434782608697,93.391304347826093,15.739130434782609,35.847826086956523,83.326086956521735,22.847826086956523,69.5,11.869565217391305,0,0,0,0,0,0]
[null,48,193.39583333333334,89.5,15.083333333333334,34.354166666666664,79.854166666666671,21.895833333333332,66.604166666666671,{"$f":"$J$6/B54","v":11.375},0,0,0,0,0,0,null,38.666666666666664,92.916666666666671,193.39583333333334,89.5,15.083333333333334,34.354166666666664,79.854166666666671,21.895833333333332,66.604166666666671,11.375,0,0,0,0,0,0,null,131.58333333333334,193.39583333333334,89.5,15.083333333333334,34.354166666666664,79.854166666666671,21.895833333333332,66.604166666666671,11.375,0,0,0,0,0,0,null,null,null,null,null,null,null,null,null,null,null,null,null,null,null,null,null,null,null,47,197.51063829787233,91.40425531914893,15.404255319148936,35.085106382978722,81.553191489361708,22.361702127659573,68.021276595744681,11.617021276595745,0,0,0,0,0,0,null,39.48936170212766,94.893617021276597,197.51063829787233,91.40425531914893,15.404255319148936,35.085106382978722,81.553191489361708,22.361702127659573,68.021276595744681,11.617021276595745,0,0,0,0,0,0]
[null,49,189.44897959183675,87.673469387755105,14.775510204081632,33.653061224489797,78.224489795918373,21.448979591836736,65.244897959183675,11.142857142857142,0,0,0,0,0,0,null,37.877551020408163,91.020408163265301,189.44897959183675,87.673469387755105,14.775510204081632,33.653061224489797,78.224489795918373,21.448979591836736,65.244897959183675,11.142857142857142,0,0,0,0,0,{"$f":"P55","v":0},null,128.89795918367346,189.44897959183675,87.673469387755105,14.775510204081632,33.653061224489797,78.224489795918373,21.448979591836736,65.244897959183675,11.142857142857142,0,0,0,0,0,{"$f":"P55","v":0},null,null,null,null,null,null,null,null,null,null,null,null,null,null,null,null,null,null,null,48,193.39583333333334,89.5,15.083333333333334,34.354166666666664,79.854166666666671,21.895833333333332,66.604166666666671,11.375,0,0,0,0,0,0,null,38.666666666666664,92.916666666666671,193.39583333333334,89.5,15.083333333333334,34.354166666666664,79.854166666666671,21.895833333333332,66.604166666666671,11.375,0,0,0,0,0,0]
[null,50,185.66,85.92,14.48,32.979999999999997,76.66,21.02,63.94,10.92,0,0,0,0,0,0,null,37.119999999999997,89.2,185.66,85.92,14.48,32.979999999999997,76.66,21.02,63.94,10.92,0,0,0,{"$f":"N56","v":0},0,0,null,126.32,185.66,85.92,14.48,32.979999999999997,76.66,21.02,63.94,10.92,0,0,0,{"$f":"N56","v":0},0,0,null,null,null,null,null,null,null,null,null,null,null,null,null,null,null,null,null,null,null,49,189.44897959183675,87.673469387755105,14.775510204081632,33.653061224489797,78.224489795918373,21.448979591836736,65.244897959183675,11.142857142857142,0,0,0,0,0,0,null,37.877551020408163,91.020408163265301,189.44897959183675,87.673469387755105,14.775510204081632,33.653061224489797,78.224489795918373,21.448979591836736,65.244897959183675,11.142857142857142,0,0,0,0,0,0]
[null,51,182.01960784313727,84.235294117647058,14.196078431372548,32.333333333333336,75.156862745098039,20.607843137254903,62.686274509803923,10.705882352941176,0,0,0,0,0,0,null,36.392156862745097,87.450980392156865,182.01960784313727,84.235294117647058,14.196078431372548,32.333333333333336,75.156862745098039,20.607843137254903,62.686274509803923,10.705882352941176,0,0,0,0,0,0,null,123.84313725490196,182.01960784313727,84.235294117647058,14.196078431372548,32.333333333333336,75.156862745098039,20.607843137254903,62.686274509803923,10.705882352941176,0,0,0,0,0,0,null,null,null,null,null,null,null,null,null,null,null,null,null,null,null,null,null,null,null,50,185.66,85.92,14.48,32.979999999999997,76.66,21.02,63.94,10.92,0,0,0,0,0,0,null,37.119999999999997,89.2,185.66,85.92,14.48,32.979999999999997,76.66,21.02,63.94,10.92,0,0,0,0,0,0]
[null,52,178.51923076923077,82.615384615384613,13.923076923076923,31.71153846153846,73.711538461538467,20.21153846153846,61.480769230769234,10.5,0,0,0,0,0,0,null,35.692307692307693,85.769230769230774,178.51923076923077,82.615384615384613,13.923076923076923,31.71153846153846,73.711538461538467,20.21153846153846,61.480769230769234,10.5,0,0,0,0,0,0,null,121.46153846153847,178.51923076923077,82.615384615384613,13.923076923076923,31.71153846153846,73.711538461538467,20.21153846153846,61.480769230769234,10.5,0,0,0,0,0,0,null,null,null,null,null,null,null,null,null,null,null,null,null,null,null,null,null,null,null,51,182.01960784313727,84.235294117647058,14.196078431372548,32.333333333333336,75.156862745098039,20.607843137254903,62.686274509803923,10.705882352941176,0,0,0,0,0,0,null,36.392156862745097,87.450980392156865,182.01960784313727,84.235294117647058,14.196078431372548,32.333333333333336,75.156862745098039,20.607843137254903,62.686274509803923,10.705882352941176,0,0,0,0,0,0]
[null,53,{"$f":"$C$6/B59","v":175.15094339622641},{"$f":"$D$6/B59","v":81.056603773584911},{"$f":"$E$6/B59","v":13.660377358490566},{"$f":"$F$6/B59","v":31.113207547169811},{"$f":"$G$6/B59","v":72.320754716981128},{"$f":"$H$6/B59","v":19.830188679245282},{"$f":"$I$6/B59","v":60.320754716981135},10.30188679245283,{"$f":"$K$6/B59","v":0},{"$f":"$L$6/B59","v":0},{"$f":"$M$6/B59","v":0},0,0,{"$f":"$P$6/B59","v":0},null,{"$f":"$R$6/B59","v":35.018867924528301},{"$f":"$S$6/B59","v":84.15094339622641},175.15094339622641,81.056603773584911,13.660377358490566,31.113207547169811,72.320754716981128,19.830188679245282,60.320754716981135,10.30188679245283,0,0,0,0,0,0,null,{"$f":"$AI$6/B59","v":119.16981132075472},175.15094339622641,81.056603773584911,13.660377358490566,31.113207547169811,72.320754716981128,19.830188679245282,60.320754716981135,10.30188679245283,0,0,0,0,0,0,null,null,null,null,null,null,null,null,null,null,null,null,null,null,null,null,null,null,null,52,{"$f":"$C$6/BQ59","v":178.51923076923077},{"$f":"$D$6/BQ59","v":82.615384615384613},{"$f":"$E$6/BQ59","v":13.923076923076923},{"$f":"$F$6/BQ59","v":31.71153846153846},{"$f":"$G$6/BQ59","v":73.711538461538467},{"$f":"$H$6/BQ59","v":20.21153846153846},{"$f":"$I$6/BQ59","v":61.480769230769234},10.5,{"$f":"$K$6/BQ59","v":0},{"$f":"$L$6/BQ59","v":0},{"$f":"$M$6/BQ59","v":0},0,0,{"$f":"$P$6/BQ59","v":0},null,{"$f":"$R$6/BQ59","v":35.692307692307693},{"$f":"$S$6/BQ59","v":85.769230769230774},178.51923076923077,82.615384615384613,13.923076923076923,31.71153846153846,73.711538461538467,20.21153846153846,61.480769230769234,10.5,0,0,0,0,0,0]
[null,54,{"$f":"$C$6/B60","v":171.90740740740742},{"$f":"$D$6/B60","v":79.555555555555557},{"$f":"$E$6/B60","v":13.407407407407407},{"$f":"$F$6/B60","v":30.537037037037038},{"$f":"$G$6/B60","v":70.981481481481481},{"$f":"$H$6/B60","v":19.462962962962962},{"$f":"$I$6/B60","v":59.203703703703702},10.111111111111111,{"$f":"$K$6/B60","v":0},{"$f":"$L$6/B60","v":0},{"$f":"$M$6/B60","v":0},0,0,{"$f":"$P$6/B60","v":0},null,{"$f":"$R$6/B60","v":34.370370370370374},{"$f":"$S$6/B60","v":82.592592592592595},171.90740740740742,79.555555555555557,13.407407407407407,30.537037037037038,70.981481481481481,19.462962962962962,59.203703703703702,10.111111111111111,0,0,0,0,0,0,null,{"$f":"$AI$6/B60","v":116.96296296296296},171.90740740740742,79.555555555555557,13.407407407407407,30.537037037037038,70.981481481481481,19.462962962962962,59.203703703703702,10.111111111111111,0,0,0,0,0,0,null,null,null,null,null,null,null,null,null,null,null,null,null,null,null,null,null,null,null,53,{"$f":"$C$6/BQ60","v":175.15094339622641},{"$f":"$D$6/BQ60","v":81.056603773584911},{"$f":"$E$6/BQ60","v":13.660377358490566},{"$f":"$F$6/BQ60","v":31.113207547169811},{"$f":"$G$6/BQ60","v":72.320754716981128},{"$f":"$H$6/BQ60","v":19.830188679245282},{"$f":"$I$6/BQ60","v":60.320754716981135},10.30188679245283,{"$f":"$K$6/BQ60","v":0},{"$f":"$L$6/BQ60","v":0},{"$f":"$M$6/BQ60","v":0},0,0,{"$f":"$P$6/BQ60","v":0},null,{"$f":"$R$6/BQ60","v":35.018867924528301},{"$f":"$S$6/BQ60","v":84.15094339622641},175.15094339622641,81.056603773584911,13.660377358490566,31.113207547169811,72.320754716981128,19.830188679245282,60.320754716981135,10.30188679245283,0,0,0,0,0,0]
[]
[]
[null,"Nombre d'inscrits",30895]
[null,"Bulletins déposés",26435]
[null,"Blancs & Nuls",1856]
[null,"Votes valables",24579]
[null,"Nombre de sièges",37]
[]
[]
[]
[]
[null,"Liste unique\nMajorité\nabsolue",{"$f":"SUM($C$73:$P$73)","v":0},null,null,null,null,null,null,null,null,null,null,null,null,null,null,{"$f":"SUM($R$73:$AG$73)","v":0},null,null,null,null,null,null,null,null,null,null,null,null,null,null,null,null,{"$f":"SUM($AI$73:$AW$73)","v":0}]
[null,null,{"$f":"IF(C7>($C$67/2),1,0)","v":0},{"$f":"IF(D7>($C$67/2),1,0)","v":0},{"$f":"IF(E7>($C$67/2),1,0)","v":0},{"$f":"IF(F7>($C$67/2),1,0)","v":0},{"$f":"IF(G7>($C$67/2),1,0)","v":0},{"$f":"IF(H7>($C$67/2),1,0)","v":0},{"$f":"IF(I7>($C$67/2),1,0)","v":0},{"$f":"IF(J7>($C$67/2),1,0)","v":0},{"$f":"IF(K7>($C$67/2),1,0)","v":0},{"$f":"IF(L7>($C$67/2),1,0)","v":0},{"$f":"IF(M7>($C$67/2),1,0)","v":0},{"$f":"IF(N7>($C$67/2),1,0)","v":0},{"$f":"IF(O7>($C$67/2),1,0)","v":0},{"$f":"IF(P7>($C$67/2),1,0)","v":0},null,{"$f":"IF(R7>($C$67/2),1,0)","v":0},{"$f":"IF(S7>($C$67/2),1,0)","v":0},{"$f":"IF(T7>($C$67/2),1,0)","v":0},{"$f":"IF(U7>($C$67/2),1,0)","v":0},{"$f":"IF(V7>($C$67/2),1,0)","v":0},{"$f":"IF(W7>($C$67/2),1,0)","v":0},{"$f":"IF(X7>($C$67/2),1,0)","v":0},{"$f":"IF(Y7>($C$67/2),1,0)","v":0},{"$f":"IF(Z7>($C$67/2),1,0)","v":0},{"$f":"IF(AA7>($C$67/2),1,0)","v":0},{"$f":"IF(AB7>($C$67/2),1,0)","v":0},{"$f":"IF(AC7>($C$67/2),1,0)","v":0},{"$f":"IF(AD7>($C$67/2),1,0)","v":0},{"$f":"IF(AE7>($C$67/2),1,0)","v":0},{"$f":"IF(AF7>($C$67/2),1,0)","v":0},{"$f":"IF(AG7>($C$67/2),1,0)","v":0},null,{"$f":"IF(AI7>($C$67/2),1,0)","v":0},{"$f":"IF(AJ7>($C$67/2),1,0)","v":0},{"$f":"IF(AK7>($C$67/2),1,0)","v":0},{"$f":"IF(AL7>($C$67/2),1,0)","v":0},{"$f":"IF(AM7>($C$67/2),1,0)","v":0},{"$f":"IF(AN7>($C$67/2),1,0)","v":0},{"$f":"IF(AO7>($C$67/2),1,0)","v":0},{"$f":"IF(AP7>($C$67/2),1,0)","v":0},{"$f":"IF(AQ7>($C$67/2),1,0)","v":0},{"$f":"IF(AR7>($C$67/2),1,0)","v":0},{"$f":"IF(AS7>($C$67/2),1,0)","v":0},{"$f":"IF(AT7>($C$67/2),1,0)","v":0},{"$f":"IF(AU7>($C$67/2),1,0)","v":0},{"$f":"IF(AV7>($C$67/2),1,0)","v":0},{"$f":"IF(AW7>($C$67/2),1,0)","v":0}]
[]
[null,"Liste unique\nMajorité\nabsolue\nnombre de voix",{"$f":"SUM($C$76:$P$76)","v":0},null,null,null,null,null,null,null,null,null,null,null,null,null,null,{"$f":"SUM(R76:AG76)","v":0},null,null,null,null,null,null,null,null,null,null,null,null,null,null,null,null,{"$f":"SUM(AI76:AW76)","v":0}]
[null,null,{"$f":"IF(C73>0,C6,0)","v":0},{"$f":"IF(D73>0,D6,0)","v":0},{"$f":"IF(E73>0,E6,0)","v":0},{"$f":"IF(F73>0,F6,0)","v":0},{"$f":"IF(G73>0,G6,0)","v":0},{"$f":"IF(H73>0,H6,0)","v":0},{"$f":"IF(I73>0,I6,0)","v":0},{"$f":"IF(J73>0,J6,0)","v":0},{"$f":"IF(K73>0,K6,0)","v":0},{"$f":"IF(L73>0,L6,0)","v":0},{"$f":"IF(M73>0,M6,0)","v":0},{"$f":"IF(N73>0,N6,0)","v":0},{"$f":"IF(O73>0,O6,0)","v":0},{"$f":"IF(P73>0,P6,0)","v":0},null,{"$f":"IF(R73>0,R6,0)","v":0},{"$f":"IF(S73>0,S6,0)","v":0},{"$f":"IF(T73>0,T6,0)","v":0},{"$f":"IF(U73>0,U6,0)","v":0},{"$f":"IF(V73>0,V6,0)","v":0},{"$f":"IF(W73>0,W6,0)","v":0},{"$f":"IF(X73>0,X6,0)","v":0},{"$f":"IF(Y73>0,Y6,0)","v":0},{"$f":"IF(Z73>0,Z6,0)","v":0},{"$f":"IF(AA73>0,AA6,0)","v":0},{"$f":"IF(AB73>0,AB6,0)","v":0},{"$f":"IF(AC73>0,AC6,0)","v":0},{"$f":"IF(AD73>0,AD6,0)","v":0},{"$f":"IF(AE73>0,AE6,0)","v":0},{"$f":"IF(AF73>0,AF6,0)","v":0},{"$f":"IF(AG73>0,AG6,0)","v":0},null,{"$f":"IF(AI73>0,AI6,0)","v":0},{"$f":"IF(AJ73>0,AJ6,0)","v":0},{"$f":"IF(AK73>0,AK6,0)","v":0},{"$f":"IF(AL73>0,AL6,0)","v":0},{"$f":"IF(AM73>0,AM6,0)","v":0},{"$f":"IF(AN73>0,AN6,0)","v":0},{"$f":"IF(AO73>0,AO6,0)","v":0},{"$f":"IF(AP73>0,AP6,0)","v":0},{"$f":"IF(AQ73>0,AQ6,0)","v":0},{"$f":"IF(AR73>0,AR6,0)","v":0},{"$f":"IF(AS73>0,AS6,0)","v":0},{"$f":"IF(AT73>0,AT6,0)","v":0},{"$f":"IF(AU73>0,AU6,0)","v":0},{"$f":"IF(AV73>0,AV6,0)","v":0},{"$f":"IF(AW73>0,AW6,0)","v":0}]
[]
[null,"Nbr voix\nCoalition",{"$f":"SUMIF(C4:P4,\"x\",C6:P6)","v":16776}]
[]
[null,"% Coalition",{"$f":"100/C63*C78","v":54.300048551545558}]
[null,"% Majorité",{"$f":"100/C63*C75","v":0}]
[]
[null,"Coalition",{"$f":"COUNTA(C4:P4)","v":3},{"$f":"IF(C83>0,1,0)","v":1}]
[]
[]
[]
[]
[]
[]
[]
[]
[]
[]
[]
[]
[null,null,null,null,null,null,null,null,null,null,null,null,null,null,null,"JETTE"]
[]
[null,null,null,null,null,null,null,null,null,null,null,null,null,null,null,null,null,{"$f":"R5","v":"Blancs & Nuls"},{"$f":"S5","v":"Non-déposés"},{"$f":"T5","v":"LBJETTE"},{"$f":"U5","v":"ECOLO-GROEN"},{"$f":"V5","v":"VLAAMS BELANG"},{"$f":"W5","v":"DéFI"},{"$f":"X5","v":"PS - sp.a"},{"$f":"Y5","v":"N-VA"},{"$f":"Z5","v":"MR"},{"$f":"AA5","v":"Les Démocrates"},{"$f":"AB5","v":0},{"$f":"AC5","v":0},{"$f":"AD5","v":0},{"$f":"AE5","v":0},{"$f":"AF5","v":0},{"$f":"AG5","v":0}]
[null,null,null,null,null,null,null,null,null,null,null,null,null,null,null,"Chiffres\nélectoraux",null,{"$f":"R6","v":1856},{"$f":"S6","v":4460},{"$f":"T6","v":9283},{"$f":"U6","v":4296},{"$f":"V6","v":724},{"$f":"W6","v":1649},{"$f":"X6","v":3833},{"$f":"Y6","v":1051},{"$f":"Z6","v":3197},{"$f":"AA6","v":546},{"$f":"AB6","v":0},{"$f":"AC6","v":0},{"$f":"AD6","v":0},{"$f":"AE6","v":0},{"$f":"AF6","v":0},{"$f":"AG6","v":0}]
[null,null,null,null,null,null,null,null,null,null,null,null,null,null,null,"Impériali",null,0,0,{"$f":"C7","v":16},{"$f":"D7","v":7},{"$f":"E7","v":0},{"$f":"F7","v":2},{"$f":"G7","v":6},{"$f":"H7","v":1},{"$f":"I7","v":5},{"$f":"J7","v":0},{"$f":"K7","v":0},{"$f":"L7","v":0},{"$f":"M7","v":0},{"$f":"N7","v":0},{"$f":"O7","v":0},{"$f":"P7","v":0}]
[null,null,null,null,null,null,null,null,null,null,null,null,null,null,null,"Impériali\n+ proportionnelle",null,{"$f":"R7","v":2},{"$f":"S7","v":6},{"$f":"T7","v":14},{"$f":"U7","v":5},{"$f":"V7","v":0},{"$f":"W7","v":1},{"$f":"X7","v":5},{"$f":"Y7","v":0},{"$f":"Z7","v":4},{"$f":"AA7","v":0},{"$f":"AB7","v":0},{"$f":"AC7","v":0},{"$f":"AD7","v":0},{"$f":"AE7","v":0},{"$f":"AF7","v":0},{"$f":"AG7","v":0}]
[null,null,null,null,null,null,null,null,null,null,null,null,null,null,null,"D'Hondt",null,0,0,{"$f":"BR7","v":15},{"$f":"BS7","v":7},{"$f":"BT7","v":1},{"$f":"BU7","v":2},{"$f":"BV7","v":6},{"$f":"BW7","v":1},{"$f":"BX7","v":5},{"$f":"BY7","v":0},{"$f":"BZ7","v":0},{"$f":"CA7","v":0},{"$f":"CB7","v":0},{"$f":"CC7","v":0},{"$f":"CD7","v":0},{"$f":"CE7","v":0}]
[null,null,null,null,null,null,null,null,null,null,null,null,null,null,null,"D'Hondt\n+ proportionnelle",null,{"$f":"CG7","v":2},{"$f":"CH7","v":6},{"$f":"CI7","v":12},{"$f":"CJ7","v":5},{"$f":"CK7","v":0},{"$f":"CL7","v":2},{"$f":"CM7","v":5},{"$f":"CN7","v":1},{"$f":"CO7","v":4},{"$f":"CP7","v":0},{"$f":"CQ7","v":0},{"$f":"CR7","v":0},{"$f":"CS7","v":0},{"$f":"CT7","v":0},{"$f":"CU7","v":0},{"$f":"CV7","v":0}]
[null,null,null,null,null,null,null,null,null,null,null,null,null,null,null,"Proportionnelle\npure",null,{"$f":"AZ7","v":2.2227544910179642},{"$f":"BA7","v":5.341317365269461},{"$f":"BB7","v":11.117365269461079},{"$f":"BC7","v":5.1449101796407186},{"$f":"BD7","v":0.86706586826347309},{"$f":"BE7","v":1.9748502994011976},{"$f":"BF7","v":4.590419161676647},{"$f":"BG7","v":1.2586826347305389},{"$f":"BH7","v":3.82874251497006},{"$f":"BI7","v":0.65389221556886223},{"$f":"BJ7","v":0},{"$f":"BK7","v":0},{"$f":"BL7","v":0},{"$f":"BM7","v":0},{"$f":"BN7","v":0},{"$f":"BO7","v":0}]
[]
[null,null,null,null,null,null,null,null,null,null,null,null,null,null,null,null,"Nombre de sièges à distribuer :",null,null,null,{"$f":"C67","v":37},null,"Est-ce une liste unique en majorité absolue en termes de sièges ?",null,null,null,null,null,null,{"$f":"IF(C72>0,\"Oui\",\"Non\")","v":"Non"}]
[]
[null,null,null,null,null,null,null,null,null,null,null,null,null,null,null,null,"Nombre d'inscrits :",null,null,null,{"$f":"C63","v":30895},null,"Est-ce une liste unique en majorité absolue en termes de voix ?",null,null,null,null,null,null,{"$f":"IF(C75>0,\"Oui\",\"Non\")","v":"Non"}]
[]
[null,null,null,null,null,null,null,null,null,null,null,null,null,null,null,null,"Nombre de bulletins déposés :",null,null,null,{"$f":"C64","v":26435},null,"La majorité est-elle formée par une coalition ?",null,null,null,null,null,null,{"$f":"IF(B4>0,\"Oui\",\"Non\")","v":"Oui"}]
[]
[null,null,null,null,null,null,null,null,null,null,null,null,null,null,null,null,"Nombre de votes valables :",null,null,null,{"$f":"C66","v":24579},null,"Quelle est la proportion de l'électorat représentée par la majorité ?",null,null,null,null,null,null,{"$f":"IF(D83>0,C80,C81)","v":54.300048551545558}]
[]
[null,null,null,null,null,null,null,null,null,null,null,null,null,null,null,"Comparaison\nClef Impériali\n-\nClef D'Hondt",null,{"$f":"R100-R102","v":0},{"$f":"S100-S102","v":0},1,0,-1,0,0,0,0,0,0,0,0,0,0,0]

{"sheet":"KOEKELBERG","index":14,"n_rows":114,"n_cols":100,"rows_kept":114,"cut":false,"hidden":false,"merged":[[1,1,1,48],[1,68,1,99],[1,50,1,66],[71,1,72,1],[113,15,113,16],[107,16,107,19],[109,16,109,19],[111,16,111,19],[74,1,75,1],[95,15,95,32],[105,22,105,27],[107,22,107,27],[109,22,109,27],[111,22,111,27],[105,16,105,19]]}
[]
[null,"IMPÉRIALI",null,null,null,null,null,null,null,null,null,null,null,null,null,null,null,null,null,null,null,null,null,null,null,null,null,null,null,null,null,null,null,null,null,null,null,null,null,null,null,null,null,null,null,null,null,null,null,null,"PROPORTIONNELLE PURE",null,null,null,null,null,null,null,null,null,null,null,null,null,null,null,null,null,"D'HONDT"]
[]
[null,"Coalition","x","x","x"]
[null,{"$f":"COUNTA(C5:P5)","v":6},"ALTERNATIVE Humaniste","ECOLO-GROEN","PS","N-VA","LB","CITOYEN D'EUROPE M3E",null,null,null,null,null,null,null,null,null,"Blancs & Nuls","Non-déposés",{"$f":"C5","v":"ALTERNATIVE Humaniste"},{"$f":"D5","v":"ECOLO-GROEN"},{"$f":"E5","v":"PS"},{"$f":"F5","v":"N-VA"},{"$f":"G5","v":"LB"},{"$f":"H5","v":"CITOYEN D'EUROPE M3E"},{"$f":"I5","v":0},{"$f":"J5","v":0},{"$f":"K5","v":0},{"$f":"L5","v":0},{"$f":"M5","v":0},{"$f":"N5","v":0},{"$f":"O5","v":0},{"$f":"P5","v":0},null,"Non-valables",{"$f":"C5","v":"ALTERNATIVE Humaniste"},{"$f":"D5","v":"ECOLO-GROEN"},{"$f":"E5","v":"PS"},{"$f":"F5","v":"N-VA"},{"$f":"G5","v":"LB"},{"$f":"H5","v":"CITOYEN D'EUROPE M3E"},{"$f":"I5","v":0},{"$f":"J5","v":0},{"$f":"K5","v":0},{"$f":"L5","v":0},{"$f":"M5","v":0},{"$f":"N5","v":0},{"$f":"O5","v":0},{"$f":"P5","v":0},null,"New Key","Blancs & Nuls","Non-déposés",{"$f":"C5","v":"ALTERNATIVE Humaniste"},{"$f":"D5","v":"ECOLO-GROEN"},"PS","N-VA","LB","CITOYEN D'EUROPE M3E",0,0,0,0,0,0,0,0,null,null,{"$f":"C5","v":"ALTERNATIVE Humaniste"},{"$f":"D5","v":"ECOLO-GROEN"},"PS","N-VA","LB","CITOYEN D'EUROPE M3E",0,0,0,0,0,0,0,0,null,"Blancs & Nuls","Non-déposés",{"$f":"C5","v":"ALTERNATIVE Humaniste"},{"$f":"D5","v":"ECOLO-GROEN"},"PS","N-VA","LB","CITOYEN D'EUROPE M3E",0,0,0,0,0,0,0,0]
[null,"Chiffres\nélectoraux",847,1494,2733,313,3464,80,0,0,0,0,0,0,0,0,null,{"$f":"C65","v":741},{"$f":"C63-C64","v":1691},847,1494,2733,313,3464,80,0,0,0,0,0,0,0,0,null,{"$f":"R6+S6","v":2432},847,1494,2733,313,3464,80,0,0,0,0,0,0,0,0,null,null,{"$f":"C65","v":741},{"$f":"C63-C64","v":1691},{"$f":"C6","v":847},1494,2733,313,3464,80,0,0,0,0,0,0,0,0,null,"Chiffres\nélectoraux",{"$f":"C6","v":847},1494,2733,313,3464,80,0,0,0,0,0,0,0,0,null,{"$f":"C65","v":741},{"$f":"C63-C64","v":1691},{"$f":"C6","v":847},1494,2733,313,3464,80,0,0,0,0,0,0,0,0]
[null,"Sièges",2,4,9,0,12,0,0,0,0,0,0,0,0,0,null,1,4,1,3,8,0,10,0,0,0,0,0,0,0,0,0,null,6,1,3,7,0,10,0,0,0,0,0,0,0,0,0,null,420.85185185185185,1.7607146000176011,4.0180410102965762,2.0125847047434657,3.5499427967966208,6.4939716624130952,0.74372964886033621,8.2309249317961815,0.19009064507612428,0,0,0,0,0,0,0,0,null,"Sièges",2,4,9,1,11,0,0,0,0,0,0,0,0,0,null,1,4,2,4,7,0,9,0,0,0,0,0,0,0,0,0]
[null,2,{"$f":"$C$6/B8","v":423.5},{"$f":"$D$6/B8","v":747},{"$f":"$E$6/B8","v":1366.5},{"$f":"$F$6/B8","v":156.5},{"$f":"$G$6/B8","v":1732},{"$f":"$H$6/B8","v":40},{"$f":"$I$6/B8","v":0},{"$f":"$J$6/B8","v":0},{"$f":"$K$6/B8","v":0},{"$f":"$L$6/B8","v":0},{"$f":"$M$6/B8","v":0},{"$f":"$N$6/B8","v":0},{"$f":"$O$6/B8","v":0},{"$f":"$P$6/B8","v":0},null,{"$f":"$R$6/B8","v":370.5},{"$f":"$S$6/B8","v":845.5},{"$f":"C8","v":423.5},{"$f":"D8","v":747},{"$f":"E8","v":1366.5},{"$f":"F8","v":156.5},{"$f":"G8","v":1732},{"$f":"H8","v":40},{"$f":"I8","v":0},{"$f":"J8","v":0},{"$f":"K8","v":0},{"$f":"L8","v":0},{"$f":"M8","v":0},{"$f":"N8","v":0},0,{"$f":"P8","v":0},null,{"$f":"$AI$6/B8","v":1216},{"$f":"C8","v":423.5},{"$f":"D8","v":747},{"$f":"E8","v":1366.5},{"$f":"F8","v":156.5},{"$f":"G8","v":1732},{"$f":"H8","v":40},{"$f":"I8","v":0},{"$f":"J8","v":0},{"$f":"K8","v":0},{"$f":"L8","v":0},{"$f":"M8","v":0},{"$f":"N8","v":0},0,{"$f":"P8","v":0},null,null,null,null,null,null,null,null,null,null,null,null,null,null,null,null,null,null,null,1,{"$f":"$C$6/BQ8","v":847},{"$f":"$D$6/BQ8","v":1494},{"$f":"$E$6/BQ8","v":2733},{"$f":"$F$6/BQ8","v":313},{"$f":"$G$6/BQ8","v":3464},{"$f":"$H$6/BQ8","v":80},{"$f":"$I$6/BQ8","v":0},{"$f":"$J$6/BQ8","v":0},{"$f":"$K$6/BQ8","v":0},{"$f":"$L$6/BQ8","v":0},{"$f":"$M$6/BQ8","v":0},{"$f":"$N$6/BQ8","v":0},{"$f":"$O$6/BQ8","v":0},{"$f":"$P$6/BQ8","v":0},null,{"$f":"$R$6/BQ8","v":741},{"$f":"$S$6/BQ8","v":1691},{"$f":"BR8","v":847},{"$f":"BS8","v":1494},{"$f":"BT8","v":2733},{"$f":"BU8","v":313},{"$f":"BV8","v":3464},{"$f":"BW8","v":80},{"$f":"BX8","v":0},{"$f":"BY8","v":0},{"$f":"BZ8","v":0},{"$f":"CA8","v":0},{"$f":"CB8","v":0},{"$f":"CC8","v":0},{"$f":"CD8","v":0},{"$f":"CE8","v":0}]
[null,3,{"$f":"$C$6/B9","v":282.33333333333331},498,{"$f":"$E$6/B9","v":911},104.33333333333333,1154.6666666666667,{"$f":"$H$6/B9","v":26.666666666666668},{"$f":"$I$6/B9","v":0},{"$f":"$J$6/B9","v":0},{"$f":"$K$6/B9","v":0},{"$f":"$L$6/B9","v":0},{"$f":"$M$6/B9","v":0},{"$f":"$N$6/B9","v":0},{"$f":"$O$6/B9","v":0},{"$f":"$P$6/B9","v":0},null,{"$f":"$R$6/B9","v":247},{"$f":"$S$6/B9","v":563.66666666666663},282.33333333333331,498,911,104.33333333333333,1154.6666666666667,26.666666666666668,0,0,0,0,0,0,0,0,null,{"$f":"$AI$6/B9","v":810.66666666666663},282.33333333333331,498,911,104.33333333333333,1154.6666666666667,26.666666666666668,0,0,0,0,0,0,0,0,null,null,null,null,null,null,null,null,null,null,null,null,null,null,null,null,null,null,null,2,{"$f":"$C$6/BQ9","v":423.5},747,{"$f":"$E$6/BQ9","v":1366.5},156.5,1732,{"$f":"$H$6/BQ9","v":40},{"$f":"$I$6/BQ9","v":0},{"$f":"$J$6/BQ9","v":0},{"$f":"$K$6/BQ9","v":0},{"$f":"$L$6/BQ9","v":0},{"$f":"$M$6/BQ9","v":0},{"$f":"$N$6/BQ9","v":0},{"$f":"$O$6/BQ9","v":0},{"$f":"$P$6/BQ9","v":0},null,{"$f":"$R$6/BQ9","v":370.5},{"$f":"$S$6/BQ9","v":845.5},423.5,747,1366.5,156.5,1732,40,0,0,0,0,0,0,0,0]
[null,4,211.75,373.5,683.25,78.25,866,20,0,0,0,0,0,0,0,0,null,185.25,422.75,211.75,373.5,683.25,78.25,866,20,0,0,0,0,0,0,0,0,null,608,211.75,373.5,683.25,78.25,866,20,0,0,0,0,0,0,0,0,null,null,null,null,null,null,null,null,null,null,null,null,null,null,null,null,null,null,null,3,282.33333333333331,498,911,104.33333333333333,1154.6666666666667,26.666666666666668,0,0,0,0,0,0,0,0,null,247,563.66666666666663,282.33333333333331,498,911,104.33333333333333,1154.6666666666667,26.666666666666668,0,0,0,0,0,0,0,0]
[null,5,169.4,298.8,546.6,62.6,692.8,16,0,0,0,0,0,0,0,0,null,148.19999999999999,338.2,169.4,298.8,546.6,62.6,692.8,16,0,0,0,0,0,0,0,0,null,486.4,169.4,298.8,546.6,62.6,692.8,16,0,0,0,0,0,0,0,0,null,null,null,null,null,null,null,null,null,null,null,null,null,null,null,null,null,null,null,4,211.75,373.5,683.25,78.25,866,20,0,0,0,0,0,0,0,0,null,185.25,422.75,211.75,373.5,683.25,78.25,866,20,0,0,0,0,0,0,0,0]
[null,6,141.16666666666666,249,455.5,52.166666666666664,577.33333333333337,13.333333333333334,0,0,0,0,0,0,0,0,null,123.5,281.83333333333331,141.16666666666666,249,455.5,52.166666666666664,577.33333333333337,13.333333333333334,0,0,0,0,0,0,0,0,null,405.33333333333331,141.16666666666666,249,455.5,52.166666666666664,577.33333333333337,13.333333333333334,0,0,0,0,0,0,0,0,null,null,null,null,null,null,null,null,null,null,null,null,null,null,null,null,null,null,null,5,169.4,298.8,546.6,62.6,692.8,16,0,0,0,0,0,0,0,0,null,148.19999999999999,338.2,169.4,298.8,546.6,62.6,692.8,16,0,0,0,0,0,0,0,0]
[null,7,121,213.42857142857142,390.42857142857144,44.714285714285715,494.85714285714283,11.428571428571429,0,0,0,0,0,0,0,0,null,105.85714285714286,241.57142857142858,121,213.42857142857142,390.42857142857144,44.714285714285715,494.85714285714283,11.428571428571429,0,0,0,0,0,0,0,0,null,347.42857142857144,121,213.42857142857142,390.42857142857144,44.714285714285715,494.85714285714283,11.428571428571429,0,0,0,0,0,0,0,0,null,null,null,null,null,null,null,null,null,null,null,null,null,null,null,null,null,null,null,6,141.16666666666666,249,455.5,52.166666666666664,577.33333333333337,13.333333333333334,0,0,0,0,0,0,0,0,null,123.5,281.83333333333331,141.16666666666666,249,455.5,52.166666666666664,577.33333333333337,13.333333333333334,0,0,0,0,0,0,0,0]
[null,8,105.875,186.75,341.625,39.125,433,10,0,0,0,0,0,0,0,0,null,92.625,211.375,105.875,186.75,341.625,39.125,433,10,0,0,0,0,0,0,0,0,null,304,105.875,186.75,341.625,39.125,433,10,0,0,0,0,0,0,0,0,null,null,null,null,null,null,null,null,null,null,null,null,null,null,null,null,null,null,null,7,121,213.42857142857142,390.42857142857144,44.714285714285715,494.85714285714283,11.428571428571429,0,0,0,0,0,0,0,0,null,105.85714285714286,241.57142857142858,121,213.42857142857142,390.42857142857144,44.714285714285715,494.85714285714283,11.428571428571429,0,0,0,0,0,0,0,0]
[null,9,94.111111111111114,166,303.66666666666669,34.777777777777779,384.88888888888891,8.8888888888888893,0,0,0,0,0,0,0,0,null,82.333333333333329,187.88888888888889,94.111111111111114,166,303.66666666666669,34.777777777777779,384.88888888888891,8.8888888888888893,0,0,0,0,0,0,0,0,null,270.22222222222223,94.111111111111114,166,303.66666666666669,34.777777777777779,384.88888888888891,8.8888888888888893,0,0,0,0,0,0,0,0,null,null,null,null,null,null,null,null,null,null,null,null,null,null,null,null,null,null,null,8,105.875,186.75,341.625,39.125,433,10,0,0,0,0,0,0,0,0,null,92.625,211.375,105.875,186.75,341.625,39.125,433,10,0,0,0,0,0,0,0,0]
[null,10,84.7,149.4,273.3,31.3,346.4,8,0,0,0,0,0,0,0,0,null,74.099999999999994,169.1,84.7,149.4,273.3,31.3,346.4,8,0,0,0,0,0,0,0,0,null,243.2,84.7,149.4,273.3,31.3,346.4,8,0,0,0,0,0,0,0,0,null,null,null,null,null,null,null,null,null,null,null,null,null,null,null,null,null,null,null,9,94.111111111111114,166,303.66666666666669,34.777777777777779,384.88888888888891,8.8888888888888893,0,0,0,0,0,0,0,0,null,82.333333333333329,187.88888888888889,94.111111111111114,166,303.66666666666669,34.777777777777779,384.88888888888891,8.8888888888888893,0,0,0,0,0,0,0,0]
[null,11,77,135.81818181818181,248.45454545454547,28.454545454545453,314.90909090909093,7.2727272727272725,0,0,0,0,0,0,0,0,null,67.36363636363636,153.72727272727272,77,135.81818181818181,248.45454545454547,28.454545454545453,314.90909090909093,7.2727272727272725,0,0,0,0,0,0,0,0,null,221.09090909090909,77,135.81818181818181,248.45454545454547,28.454545454545453,314.90909090909093,7.2727272727272725,0,0,0,0,0,0,0,0,null,null,null,null,null,null,null,null,null,null,null,null,null,null,null,null,null,null,null,10,84.7,149.4,273.3,31.3,346.4,8,0,0,0,0,0,0,0,0,null,74.099999999999994,169.1,84.7,149.4,273.3,31.3,346.4,8,0,0,0,0,0,0,0,0]
[null,12,70.583333333333329,124.5,227.75,26.083333333333332,288.66666666666669,6.666666666666667,0,0,0,0,0,0,0,0,null,61.75,140.91666666666666,70.583333333333329,124.5,227.75,26.083333333333332,288.66666666666669,6.666666666666667,0,0,0,0,0,0,0,0,null,202.66666666666666,70.583333333333329,124.5,227.75,26.083333333333332,288.66666666666669,6.666666666666667,0,0,0,0,0,0,0,0,null,null,null,null,null,null,null,null,null,null,null,null,null,null,null,null,null,null,null,11,77,135.81818181818181,248.45454545454547,28.454545454545453,314.90909090909093,7.2727272727272725,0,0,0,0,0,0,0,0,null,67.36363636363636,153.72727272727272,77,135.81818181818181,248.45454545454547,28.454545454545453,314.90909090909093,7.2727272727272725,0,0,0,0,0,0,0,0]
[null,13,65.15384615384616,114.92307692307692,210.23076923076923,24.076923076923077,266.46153846153845,6.1538461538461542,0,0,0,0,0,0,0,0,null,57,130.07692307692307,65.15384615384616,114.92307692307692,210.23076923076923,24.076923076923077,266.46153846153845,6.1538461538461542,0,0,0,0,0,0,0,0,null,187.07692307692307,65.15384615384616,114.92307692307692,210.23076923076923,24.076923076923077,266.46153846153845,6.1538461538461542,0,0,0,0,0,0,0,0,null,null,null,null,null,null,null,null,null,null,null,null,null,null,null,null,null,null,null,12,70.583333333333329,124.5,227.75,26.083333333333332,288.66666666666669,6.666666666666667,0,0,0,0,0,0,0,0,null,61.75,140.91666666666666,70.583333333333329,124.5,227.75,26.083333333333332,288.66666666666669,6.666666666666667,0,0,0,0,0,0,0,0]
[null,14,60.5,106.71428571428571,195.21428571428572,22.357142857142858,247.42857142857142,5.7142857142857144,0,0,0,0,0,0,0,0,null,52.928571428571431,120.78571428571429,60.5,106.71428571428571,195.21428571428572,22.357142857142858,247.42857142857142,5.7142857142857144,0,0,0,0,0,0,0,0,null,173.71428571428572,60.5,106.71428571428571,195.21428571428572,22.357142857142858,247.42857142857142,5.7142857142857144,0,0,0,0,0,0,0,0,null,null,null,null,null,null,null,null,null,null,null,null,null,null,null,null,null,null,null,13,65.15384615384616,114.92307692307692,210.23076923076923,24.076923076923077,266.46153846153845,6.1538461538461542,0,0,0,0,0,0,0,0,null,57,130.07692307692307,65.15384615384616,114.92307692307692,210.23076923076923,24.076923076923077,266.46153846153845,6.1538461538461542,0,0,0,0,0,0,0,0]
[null,15,56.466666666666669,99.6,182.2,20.866666666666667,230.93333333333334,5.333333333333333,0,0,0,0,0,0,0,0,null,49.4,112.73333333333333,56.466666666666669,99.6,182.2,20.866666666666667,230.93333333333334,5.333333333333333,0,0,0,0,0,0,0,0,null,162.13333333333333,56.466666666666669,99.6,182.2,20.866666666666667,230.93333333333334,5.333333333333333,0,0,0,0,0,0,0,0,null,null,null,null,null,null,null,null,null,null,null,null,null,null,null,null,null,null,null,14,60.5,106.71428571428571,195.21428571428572,22.357142857142858,247.42857142857142,5.7142857142857144,0,0,0,0,0,0,0,0,null,52.928571428571431,120.78571428571429,60.5,106.71428571428571,195.21428571428572,22.357142857142858,247.42857142857142,5.7142857142857144,0,0,0,0,0,0,0,0]
[null,16,52.9375,93.375,170.8125,19.5625,216.5,5,0,0,0,0,0,0,0,0,null,46.3125,105.6875,52.9375,93.375,170.8125,19.5625,216.5,5,0,0,0,0,0,0,0,0,null,152,52.9375,93.375,170.8125,19.5625,216.5,5,0,0,0,0,0,0,0,0,null,null,null,null,null,null,null,null,null,null,null,null,null,null,null,null,null,null,null,15,56.466666666666669,99.6,182.2,20.866666666666667,230.93333333333334,5.333333333333333,0,0,0,0,0,0,0,0,null,49.4,112.73333333333333,56.466666666666669,99.6,182.2,20.866666666666667,230.93333333333334,5.333333333333333,0,0,0,0,0,0,0,0]
[null,17,49.823529411764703,87.882352941176464,160.76470588235293,18.411764705882351,203.76470588235293,4.7058823529411766,0,0,0,0,0,0,0,0,null,43.588235294117645,99.470588235294116,49.823529411764703,87.882352941176464,160.76470588235293,18.411764705882351,203.76470588235293,4.7058823529411766,0,0,0,0,0,0,0,0,null,143.05882352941177,49.823529411764703,87.882352941176464,160.76470588235293,18.411764705882351,203.76470588235293,4.7058823529411766,0,0,0,0,0,0,0,0,null,null,null,null,null,null,null,null,null,null,null,null,null,null,null,null,null,null,null,16,52.9375,93.375,170.8125,19.5625,216.5,5,0,0,0,0,0,0,0,0,null,46.3125,105.6875,52.9375,93.375,170.8125,19.5625,216.5,5,0,0,0,0,0,0,0,0]
[null,18,47.055555555555557,83,151.83333333333334,17.388888888888889,192.44444444444446,4.4444444444444446,0,0,0,0,0,0,0,0,null,41.166666666666664,93.944444444444443,47.055555555555557,83,151.83333333333334,17.388888888888889,192.44444444444446,4.4444444444444446,0,0,0,0,0,{"$f":"N24","v":0},0,0,null,135.11111111111111,47.055555555555557,83,151.83333333333334,17.388888888888889,192.44444444444446,4.4444444444444446,0,0,0,0,0,{"$f":"N24","v":0},0,0,null,null,null,null,null,null,null,null,null,null,null,null,null,null,null,null,null,null,null,17,49.823529411764703,87.882352941176464,160.76470588235293,18.411764705882351,203.76470588235293,4.7058823529411766,0,0,0,0,0,0,0,0,null,43.588235294117645,99.470588235294116,49.823529411764703,87.882352941176464,160.76470588235293,18.411764705882351,203.76470588235293,4.7058823529411766,0,0,0,0,0,0,0,0]
[null,19,44.578947368421055,78.631578947368425,143.84210526315789,16.473684210526315,182.31578947368422,4.2105263157894735,0,0,0,0,0,0,0,0,null,39,89,44.578947368421055,78.631578947368425,143.84210526315789,16.473684210526315,182.31578947368422,4.2105263157894735,0,0,0,0,0,0,0,0,null,128,44.578947368421055,78.631578947368425,143.84210526315789,16.473684210526315,182.31578947368422,4.2105263157894735,0,0,0,0,0,0,0,0,null,null,null,null,null,null,null,null,null,null,null,null,null,null,null,null,null,null,null,18,47.055555555555557,83,151.83333333333334,17.388888888888889,192.44444444444446,4.4444444444444446,0,0,0,0,0,0,0,0,null,41.166666666666664,93.944444444444443,47.055555555555557,83,151.83333333333334,17.388888888888889,192.44444444444446,4.4444444444444446,0,0,0,0,0,0,0,0]
[null,20,42.35,74.7,136.65,15.65,173.2,4,0,0,0,0,0,0,0,0,null,37.049999999999997,84.55,42.35,74.7,136.65,15.65,173.2,4,0,0,0,0,0,0,0,0,null,121.6,42.35,74.7,136.65,15.65,173.2,4,0,0,0,0,0,0,0,0,null,null,null,null,null,null,null,null,null,null,null,null,null,null,null,null,null,null,null,19,44.578947368421055,78.631578947368425,143.84210526315789,16.473684210526315,182.31578947368422,4.2105263157894735,0,0,0,0,0,0,0,0,null,39,89,44.578947368421055,78.631578947368425,143.84210526315789,16.473684210526315,182.31578947368422,4.2105263157894735,0,0,0,0,0,0,0,0]
[null,21,40.333333333333336,71.142857142857139,130.14285714285714,14.904761904761905,164.95238095238096,3.8095238095238093,0,0,0,0,0,0,0,0,null,35.285714285714285,80.523809523809518,40.333333333333336,71.142857142857139,130.14285714285714,14.904761904761905,164.95238095238096,3.8095238095238093,0,0,0,0,0,0,0,{"$f":"P27","v":0},null,115.80952380952381,40.333333333333336,71.142857142857139,130.14285714285714,14.904761904761905,164.95238095238096,3.8095238095238093,0,0,0,0,0,0,0,{"$f":"P27","v":0},null,null,null,null,null,null,null,null,null,null,null,null,null,null,null,null,null,null,null,20,42.35,74.7,136.65,15.65,173.2,4,0,0,0,0,0,0,0,0,null,37.049999999999997,84.55,42.35,74.7,136.65,15.65,173.2,4,0,0,0,0,0,0,0,0]
[null,22,38.5,67.909090909090907,124.22727272727273,14.227272727272727,157.45454545454547,3.6363636363636362,0,0,0,0,0,0,0,0,null,33.68181818181818,76.86363636363636,38.5,67.909090909090907,124.22727272727273,14.227272727272727,157.45454545454547,3.6363636363636362,0,0,0,0,0,0,0,0,null,110.54545454545455,38.5,67.909090909090907,124.22727272727273,14.227272727272727,157.45454545454547,3.6363636363636362,0,0,0,0,0,0,0,0,null,null,null,null,null,null,null,null,null,null,null,null,null,null,null,null,null,null,null,21,40.333333333333336,71.142857142857139,130.14285714285714,14.904761904761905,164.95238095238096,3.8095238095238093,0,0,0,0,0,0,0,0,null,35.285714285714285,80.523809523809518,40.333333333333336,71.142857142857139,130.14285714285714,14.904761904761905,164.95238095238096,3.8095238095238093,0,0,0,0,0,0,0,0]
[null,23,36.826086956521742,64.956521739130437,118.82608695652173,13.608695652173912,150.60869565217391,3.4782608695652173,0,0,0,0,0,0,0,0,null,32.217391304347828,73.521739130434781,36.826086956521742,64.956521739130437,118.82608695652173,13.608695652173912,150.60869565217391,3.4782608695652173,0,0,0,0,0,0,0,0,null,105.73913043478261,36.826086956521742,64.956521739130437,118.82608695652173,13.608695652173912,150.60869565217391,3.4782608695652173,0,0,0,0,0,0,0,0,null,null,null,null,null,null,null,null,null,null,null,null,null,null,null,null,null,null,null,22,38.5,67.909090909090907,124.22727272727273,14.227272727272727,157.45454545454547,3.6363636363636362,0,0,0,0,0,0,0,0,null,33.68181818181818,76.86363636363636,38.5,67.909090909090907,124.22727272727273,14.227272727272727,157.45454545454547,3.6363636363636362,0,0,0,0,0,0,0,0]
[null,24,35.291666666666664,62.25,113.875,13.041666666666666,144.33333333333334,3.3333333333333335,0,0,0,0,0,0,0,0,null,30.875,70.458333333333329,35.291666666666664,62.25,113.875,13.041666666666666,144.33333333333334,3.3333333333333335,0,0,0,0,0,0,0,0,null,101.33333333333333,35.291666666666664,62.25,113.875,13.041666666666666,144.33333333333334,3.3333333333333335,0,0,0,0,0,0,0,0,null,null,null,null,null,null,null,null,null,null,null,null,null,null,null,null,null,null,null,23,36.826086956521742,64.956521739130437,118.82608695652173,13.608695652173912,150.60869565217391,3.4782608695652173,0,0,0,0,0,0,0,0,null,32.217391304347828,73.521739130434781,36.826086956521742,64.956521739130437,118.82608695652173,13.608695652173912,150.60869565217391,3.4782608695652173,0,0,0,0,0,0,0,0]
[null,25,33.880000000000003,59.76,109.32,12.52,138.56,3.2,0,0,0,0,0,0,0,0,null,29.64,67.64,33.880000000000003,59.76,109.32,12.52,138.56,3.2,0,0,0,0,0,0,0,0,null,97.28,33.880000000000003,59.76,109.32,12.52,138.56,3.2,0,0,0,0,0,0,0,0,null,null,null,null,null,null,null,null,null,null,null,null,null,null,null,null,null,null,null,24,35.291666666666664,62.25,113.875,13.041666666666666,144.33333333333334,3.3333333333333335,0,0,0,0,0,0,0,0,null,30.875,70.458333333333329,35.291666666666664,62.25,113.875,13.041666666666666,144.33333333333334,3.3333333333333335,0,0,0,0,0,0,0,0]
[null,26,32.57692307692308,57.46153846153846,105.11538461538461,12.038461538461538,133.23076923076923,3.0769230769230771,0,0,0,0,0,0,0,0,null,28.5,65.038461538461533,32.57692307692308,57.46153846153846,105.11538461538461,12.038461538461538,133.23076923076923,3.0769230769230771,0,0,0,0,0,0,0,0,null,93.538461538461533,32.57692307692308,57.46153846153846,105.11538461538461,12.038461538461538,133.23076923076923,3.0769230769230771,0,0,0,0,0,0,0,0,null,null,null,null,null,null,null,null,null,null,null,null,null,null,null,null,null,null,null,25,33.880000000000003,59.76,109.32,12.52,138.56,3.2,0,0,0,0,0,0,0,0,null,29.64,67.64,33.880000000000003,59.76,109.32,12.52,138.56,3.2,0,0,0,0,0,0,0,0]
[null,27,31.37037037037037,55.333333333333336,101.22222222222223,11.592592592592593,128.2962962962963,2.9629629629629628,0,0,0,0,0,0,0,0,null,27.444444444444443,62.629629629629626,31.37037037037037,55.333333333333336,101.22222222222223,11.592592592592593,128.2962962962963,2.9629629629629628,0,0,0,0,0,0,0,0,null,90.074074074074076,31.37037037037037,55.333333333333336,101.22222222222223,11.592592592592593,128.2962962962963,2.9629629629629628,0,0,0,0,0,0,0,0,null,null,null,null,null,null,null,null,null,null,null,null,null,null,null,null,null,null,null,26,32.57692307692308,57.46153846153846,105.11538461538461,12.038461538461538,133.23076923076923,3.0769230769230771,0,0,0,0,0,0,0,0,null,28.5,65.038461538461533,32.57692307692308,57.46153846153846,105.11538461538461,12.038461538461538,133.23076923076923,3.0769230769230771,0,0,0,0,0,0,0,0]
[null,28,30.25,53.357142857142854,97.607142857142861,11.178571428571429,123.71428571428571,2.8571428571428572,0,0,0,0,0,0,0,0,null,26.464285714285715,60.392857142857146,30.25,53.357142857142854,97.607142857142861,11.178571428571429,123.71428571428571,2.8571428571428572,0,0,0,0,0,0,0,0,null,86.857142857142861,30.25,53.357142857142854,97.607142857142861,11.178571428571429,123.71428571428571,2.8571428571428572,0,0,0,0,0,0,0,0,null,null,null,null,null,null,null,null,null,null,null,null,null,null,null,null,null,null,null,27,31.37037037037037,55.333333333333336,101.22222222222223,11.592592592592593,128.2962962962963,2.9629629629629628,0,0,0,0,0,0,0,0,null,27.444444444444443,62.629629629629626,31.37037037037037,55.333333333333336,101.22222222222223,11.592592592592593,128.2962962962963,2.9629629629629628,0,0,0,0,0,0,0,0]
[null,29,29.206896551724139,51.517241379310342,94.241379310344826,10.793103448275861,119.44827586206897,2.7586206896551726,0,0,0,0,0,0,0,0,null,25.551724137931036,58.310344827586206,29.206896551724139,51.517241379310342,94.241379310344826,10.793103448275861,119.44827586206897,2.7586206896551726,0,0,0,0,0,0,0,0,null,83.862068965517238,29.206896551724139,51.517241379310342,94.241379310344826,10.793103448275861,119.44827586206897,2.7586206896551726,0,0,0,0,0,0,0,0,null,null,null,null,null,null,null,null,null,null,null,null,null,null,null,null,null,null,null,28,30.25,53.357142857142854,97.607142857142861,11.178571428571429,123.71428571428571,2.8571428571428572,0,0,0,0,0,0,0,0,null,26.464285714285715,60.392857142857146,30.25,53.357142857142854,97.607142857142861,11.178571428571429,123.71428571428571,2.8571428571428572,0,0,0,0,0,0,0,0]
[null,30,28.233333333333334,49.8,91.1,10.433333333333334,115.46666666666667,2.6666666666666665,0,0,0,0,0,0,0,0,null,24.7,56.366666666666667,28.233333333333334,49.8,91.1,10.433333333333334,115.46666666666667,2.6666666666666665,0,0,0,0,0,0,0,0,null,81.066666666666663,28.233333333333334,49.8,91.1,10.433333333333334,115.46666666666667,2.6666666666666665,0,0,0,0,0,0,0,0,null,null,null,null,null,null,null,null,null,null,null,null,null,null,null,null,null,null,null,29,29.206896551724139,51.517241379310342,94.241379310344826,10.793103448275861,119.44827586206897,2.7586206896551726,0,0,0,0,0,0,0,0,null,25.551724137931036,58.310344827586206,29.206896551724139,51.517241379310342,94.241379310344826,10.793103448275861,119.44827586206897,2.7586206896551726,0,0,0,0,0,0,0,0]
[null,31,27.322580645161292,48.193548387096776,88.161290322580641,10.096774193548388,111.74193548387096,2.5806451612903225,0,0,0,0,0,0,0,0,null,23.903225806451612,54.548387096774192,27.322580645161292,48.193548387096776,88.161290322580641,10.096774193548388,111.74193548387096,2.5806451612903225,0,0,0,0,0,0,0,0,null,78.451612903225808,27.322580645161292,48.193548387096776,88.161290322580641,10.096774193548388,111.74193548387096,2.5806451612903225,0,0,0,0,0,0,0,0,null,null,null,null,null,null,null,null,null,null,null,null,null,null,null,null,null,null,null,30,28.233333333333334,49.8,91.1,10.433333333333334,115.46666666666667,2.6666666666666665,0,0,0,0,0,0,0,0,null,24.7,56.366666666666667,28.233333333333334,49.8,91.1,10.433333333333334,115.46666666666667,2.6666666666666665,0,0,0,0,0,0,0,0]
[null,32,26.46875,46.6875,85.40625,9.78125,108.25,2.5,0,0,0,0,0,0,0,0,null,23.15625,52.84375,26.46875,46.6875,85.40625,9.78125,108.25,2.5,0,0,0,0,0,0,0,0,null,76,26.46875,46.6875,85.40625,9.78125,108.25,2.5,0,0,0,0,0,0,0,0,null,null,null,null,null,null,null,null,null,null,null,null,null,null,null,null,null,null,null,31,27.322580645161292,48.193548387096776,88.161290322580641,10.096774193548388,111.74193548387096,2.5806451612903225,0,0,0,0,0,0,0,0,null,23.903225806451612,54.548387096774192,27.322580645161292,48.193548387096776,88.161290322580641,10.096774193548388,111.74193548387096,2.5806451612903225,0,0,0,0,0,0,0,0]
[null,33,25.666666666666668,45.272727272727273,82.818181818181813,9.4848484848484844,104.96969696969697,2.4242424242424243,0,0,0,0,0,0,0,0,null,22.454545454545453,51.242424242424242,25.666666666666668,45.272727272727273,82.818181818181813,9.4848484848484844,104.96969696969697,2.4242424242424243,0,0,0,0,0,0,0,0,null,73.696969696969703,25.666666666666668,45.272727272727273,82.818181818181813,9.4848484848484844,104.96969696969697,2.4242424242424243,0,0,0,0,0,0,0,0,null,null,null,null,null,null,null,null,null,null,null,null,null,null,null,null,null,null,null,32,26.46875,46.6875,85.40625,9.78125,108.25,2.5,0,0,0,0,0,0,0,0,null,23.15625,52.84375,26.46875,46.6875,85.40625,9.78125,108.25,2.5,0,0,0,0,0,0,0,0]
[null,34,24.911764705882351,43.941176470588232,80.382352941176464,9.2058823529411757,101.88235294117646,2.3529411764705883,0,0,0,0,0,0,0,0,null,21.794117647058822,49.735294117647058,{"$f":"C40","v":24.911764705882351},{"$f":"D40","v":43.941176470588232},{"$f":"E40","v":80.382352941176464},{"$f":"F40","v":9.2058823529411757},{"$f":"G40","v":101.88235294117646},{"$f":"H40","v":2.3529411764705883},{"$f":"I40","v":0},{"$f":"J40","v":0},{"$f":"K40","v":0},{"$f":"L40","v":0},{"$f":"M40","v":0},{"$f":"N40","v":0},0,0,null,71.529411764705884,{"$f":"C40","v":24.911764705882351},{"$f":"D40","v":43.941176470588232},{"$f":"E40","v":80.382352941176464},{"$f":"F40","v":9.2058823529411757},{"$f":"G40","v":101.88235294117646},{"$f":"H40","v":2.3529411764705883},{"$f":"I40","v":0},{"$f":"J40","v":0},{"$f":"K40","v":0},{"$f":"L40","v":0},{"$f":"M40","v":0},{"$f":"N40","v":0},0,0,null,null,null,null,null,null,null,null,null,null,null,null,null,null,null,null,null,null,null,33,25.666666666666668,45.272727272727273,82.818181818181813,9.4848484848484844,104.96969696969697,2.4242424242424243,0,0,0,0,0,0,0,0,null,22.454545454545453,51.242424242424242,25.666666666666668,45.272727272727273,82.818181818181813,9.4848484848484844,104.96969696969697,2.4242424242424243,0,0,0,0,0,0,0,0]
[null,35,24.2,42.685714285714283,78.085714285714289,8.9428571428571431,98.971428571428575,2.2857142857142856,0,0,0,0,0,0,0,0,null,21.171428571428571,48.314285714285717,24.2,42.685714285714283,78.085714285714289,8.9428571428571431,98.971428571428575,2.2857142857142856,0,0,0,0,0,0,0,0,null,69.48571428571428,24.2,42.685714285714283,78.085714285714289,8.9428571428571431,98.971428571428575,2.2857142857142856,0,0,0,0,0,0,0,0,null,null,null,null,null,null,null,null,null,null,null,null,null,null,null,null,null,null,null,34,24.911764705882351,43.941176470588232,80.382352941176464,9.2058823529411757,101.88235294117646,2.3529411764705883,0,0,0,0,0,0,0,0,null,21.794117647058822,49.735294117647058,24.911764705882351,43.941176470588232,80.382352941176464,9.2058823529411757,101.88235294117646,2.3529411764705883,0,0,0,0,0,0,0,0]
[null,36,23.527777777777779,41.5,75.916666666666671,8.6944444444444446,96.222222222222229,2.2222222222222223,0,0,0,0,0,0,0,0,null,20.583333333333332,46.972222222222221,23.527777777777779,41.5,75.916666666666671,8.6944444444444446,96.222222222222229,2.2222222222222223,0,0,0,0,0,0,0,0,null,67.555555555555557,23.527777777777779,41.5,75.916666666666671,8.6944444444444446,96.222222222222229,2.2222222222222223,0,0,0,0,0,0,0,0,null,null,null,null,null,null,null,null,null,null,null,null,null,null,null,null,null,null,null,35,24.2,42.685714285714283,78.085714285714289,8.9428571428571431,98.971428571428575,2.2857142857142856,0,0,0,0,0,0,0,0,null,21.171428571428571,48.314285714285717,24.2,42.685714285714283,78.085714285714289,8.9428571428571431,98.971428571428575,2.2857142857142856,0,0,0,0,0,0,0,0]
[null,37,22.891891891891891,40.378378378378379,73.86486486486487,8.4594594594594597,93.621621621621628,2.1621621621621623,0,0,0,0,0,0,0,0,null,20.027027027027028,45.702702702702702,22.891891891891891,40.378378378378379,73.86486486486487,8.4594594594594597,93.621621621621628,2.1621621621621623,0,0,0,0,0,0,0,0,null,65.729729729729726,22.891891891891891,40.378378378378379,73.86486486486487,8.4594594594594597,93.621621621621628,2.1621621621621623,0,0,0,0,0,0,0,0,null,null,null,null,null,null,null,null,null,null,null,null,null,null,null,null,null,null,null,36,23.527777777777779,41.5,75.916666666666671,8.6944444444444446,96.222222222222229,2.2222222222222223,0,0,0,0,0,0,0,0,null,20.583333333333332,46.972222222222221,23.527777777777779,41.5,75.916666666666671,8.6944444444444446,96.222222222222229,2.2222222222222223,0,0,0,0,0,0,0,0]
[null,38,22.289473684210527,39.315789473684212,71.921052631578945,8.2368421052631575,91.15789473684211,2.1052631578947367,0,0,0,0,0,0,0,0,null,19.5,44.5,22.289473684210527,39.315789473684212,71.921052631578945,8.2368421052631575,91.15789473684211,2.1052631578947367,0,0,0,0,0,0,0,0,null,64,22.289473684210527,39.315789473684212,71.921052631578945,8.2368421052631575,91.15789473684211,2.1052631578947367,0,0,0,0,0,0,0,0,null,null,null,null,null,null,null,null,null,null,null,null,null,null,null,null,null,null,null,37,22.891891891891891,40.378378378378379,73.86486486486487,8.4594594594594597,93.621621621621628,2.1621621621621623,0,0,0,0,0,0,0,0,null,20.027027027027028,45.702702702702702,22.891891891891891,40.378378378378379,73.86486486486487,8.4594594594594597,93.621621621621628,2.1621621621621623,0,0,0,0,0,0,0,0]
[null,39,21.717948717948719,38.307692307692307,70.07692307692308,8.0256410256410255,88.820512820512818,2.0512820512820511,0,0,0,0,0,0,0,0,null,19,43.358974358974358,21.717948717948719,38.307692307692307,70.07692307692308,8.0256410256410255,88.820512820512818,2.0512820512820511,0,0,0,0,0,0,0,0,null,62.358974358974358,21.717948717948719,38.307692307692307,70.07692307692308,8.0256410256410255,88.820512820512818,2.0512820512820511,0,0,0,0,0,0,0,0,null,null,null,null,null,null,null,null,null,null,null,null,null,null,null,null,null,null,null,38,22.289473684210527,39.315789473684212,71.921052631578945,8.2368421052631575,91.15789473684211,2.1052631578947367,0,0,0,0,0,0,0,0,null,19.5,44.5,22.289473684210527,39.315789473684212,71.921052631578945,8.2368421052631575,91.15789473684211,2.1052631578947367,0,0,0,0,0,0,0,0]
[null,40,21.175000000000001,37.35,68.325000000000003,7.8250000000000002,86.6,2,0,0,0,0,0,0,0,0,null,18.524999999999999,42.274999999999999,21.175000000000001,37.35,68.325000000000003,7.8250000000000002,86.6,2,0,0,0,0,0,0,0,0,null,60.8,21.175000000000001,37.35,68.325000000000003,7.8250000000000002,86.6,2,0,0,0,0,0,0,0,0,null,null,null,null,null,null,null,null,null,null,null,null,null,null,null,null,null,null,null,39,21.717948717948719,38.307692307692307,70.07692307692308,8.0256410256410255,88.820512820512818,2.0512820512820511,0,0,0,0,0,0,0,0,null,19,43.358974358974358,21.717948717948719,38.307692307692307,70.07692307692308,8.0256410256410255,88.820512820512818,2.0512820512820511,0,0,0,0,0,0,0,0]
[null,41,20.658536585365855,36.439024390243901,66.658536585365852,7.6341463414634143,84.487804878048777,1.9512195121951219,0,0,0,0,0,0,0,0,null,18.073170731707318,41.243902439024389,20.658536585365855,36.439024390243901,66.658536585365852,7.6341463414634143,84.487804878048777,1.9512195121951219,0,0,0,0,0,0,0,0,null,59.31707317073171,20.658536585365855,36.439024390243901,66.658536585365852,7.6341463414634143,84.487804878048777,1.9512195121951219,0,0,0,0,0,0,0,0,null,null,null,null,null,null,null,null,null,null,null,null,null,null,null,null,null,null,null,40,21.175000000000001,37.35,68.325000000000003,7.8250000000000002,86.6,2,0,0,0,0,0,0,0,0,null,18.524999999999999,42.274999999999999,21.175000000000001,37.35,68.325000000000003,7.8250000000000002,86.6,2,0,0,0,0,0,0,0,0]
[null,42,20.166666666666668,35.571428571428569,65.071428571428569,7.4523809523809526,82.476190476190482,1.9047619047619047,0,0,0,0,0,0,0,0,null,17.642857142857142,40.261904761904759,20.166666666666668,35.571428571428569,65.071428571428569,7.4523809523809526,82.476190476190482,1.9047619047619047,0,0,0,0,0,0,0,0,null,57.904761904761905,20.166666666666668,35.571428571428569,65.071428571428569,7.4523809523809526,82.476190476190482,1.9047619047619047,0,0,0,0,0,0,0,0,null,null,null,null,null,null,null,null,null,null,null,null,null,null,null,null,null,null,null,41,20.658536585365855,36.439024390243901,66.658536585365852,7.6341463414634143,84.487804878048777,1.9512195121951219,0,0,0,0,0,0,0,0,null,18.073170731707318,41.243902439024389,20.658536585365855,36.439024390243901,66.658536585365852,7.6341463414634143,84.487804878048777,1.9512195121951219,0,0,0,0,0,0,0,0]
[null,43,19.697674418604652,34.744186046511629,63.558139534883722,7.2790697674418601,80.558139534883722,1.8604651162790697,0,0,0,0,0,0,0,0,null,17.232558139534884,39.325581395348834,19.697674418604652,34.744186046511629,63.558139534883722,7.2790697674418601,80.558139534883722,1.8604651162790697,0,0,0,0,0,0,0,0,null,56.558139534883722,19.697674418604652,34.744186046511629,63.558139534883722,7.2790697674418601,80.558139534883722,1.8604651162790697,0,0,0,0,0,0,0,0,null,null,null,null,null,null,null,null,null,null,null,null,null,null,null,null,null,null,null,42,20.166666666666668,35.571428571428569,65.071428571428569,7.4523809523809526,82.476190476190482,1.9047619047619047,0,0,0,0,0,0,0,0,null,17.642857142857142,40.261904761904759,20.166666666666668,35.571428571428569,65.071428571428569,7.4523809523809526,82.476190476190482,1.9047619047619047,0,0,0,0,0,0,0,0]
[null,44,19.25,33.954545454545453,62.113636363636367,7.1136363636363633,78.727272727272734,1.8181818181818181,0,0,0,0,0,0,0,0,null,16.84090909090909,38.43181818181818,19.25,33.954545454545453,62.113636363636367,7.1136363636363633,78.727272727272734,1.8181818181818181,0,0,0,0,0,0,0,0,null,55.272727272727273,19.25,33.954545454545453,62.113636363636367,7.1136363636363633,78.727272727272734,1.8181818181818181,0,0,0,0,0,0,0,0,null,null,null,null,null,null,null,null,null,null,null,null,null,null,null,null,null,null,null,43,19.697674418604652,34.744186046511629,63.558139534883722,7.2790697674418601,80.558139534883722,1.8604651162790697,0,0,0,0,0,0,0,0,null,17.232558139534884,39.325581395348834,19.697674418604652,34.744186046511629,63.558139534883722,7.2790697674418601,80.558139534883722,1.8604651162790697,0,0,0,0,0,0,0,0]
[null,45,18.822222222222223,33.200000000000003,60.733333333333334,6.9555555555555557,76.977777777777774,1.7777777777777777,0,0,0,0,0,0,0,0,null,16.466666666666665,37.577777777777776,18.822222222222223,33.200000000000003,60.733333333333334,6.9555555555555557,76.977777777777774,1.7777777777777777,0,0,0,0,0,0,0,0,null,54.044444444444444,18.822222222222223,33.200000000000003,60.733333333333334,6.9555555555555557,76.977777777777774,1.7777777777777777,0,0,0,0,0,0,0,0,null,null,null,null,null,null,null,null,null,null,null,null,null,null,null,null,null,null,null,44,19.25,33.954545454545453,62.113636363636367,7.1136363636363633,78.727272727272734,1.8181818181818181,0,0,0,0,0,0,0,0,null,16.84090909090909,38.43181818181818,19.25,33.954545454545453,62.113636363636367,7.1136363636363633,78.727272727272734,1.8181818181818181,0,0,0,0,0,0,0,0]
[null,46,18.413043478260871,32.478260869565219,59.413043478260867,6.8043478260869561,75.304347826086953,1.7391304347826086,0,0,0,0,0,0,0,0,null,16.108695652173914,36.760869565217391,18.413043478260871,32.478260869565219,59.413043478260867,6.8043478260869561,75.304347826086953,1.7391304347826086,0,0,0,0,0,0,0,0,null,52.869565217391305,18.413043478260871,32.478260869565219,59.413043478260867,6.8043478260869561,75.304347826086953,1.7391304347826086,0,0,0,0,0,0,0,0,null,null,null,null,null,null,null,null,null,null,null,null,null,null,null,null,null,null,null,45,18.822222222222223,33.200000000000003,60.733333333333334,6.9555555555555557,76.977777777777774,1.7777777777777777,0,0,0,0,0,0,0,0,null,16.466666666666665,37.577777777777776,18.822222222222223,33.200000000000003,60.733333333333334,6.9555555555555557,76.977777777777774,1.7777777777777777,0,0,0,0,0,0,0,0]
[null,47,18.021276595744681,31.787234042553191,58.148936170212764,6.6595744680851068,73.702127659574472,1.7021276595744681,0,0,0,0,0,0,0,0,null,15.76595744680851,35.978723404255319,18.021276595744681,31.787234042553191,58.148936170212764,6.6595744680851068,73.702127659574472,1.7021276595744681,0,0,0,0,0,0,0,0,null,51.744680851063826,18.021276595744681,31.787234042553191,58.148936170212764,6.6595744680851068,73.702127659574472,1.7021276595744681,0,0,0,0,0,0,0,0,null,null,null,null,null,null,null,null,null,null,null,null,null,null,null,null,null,null,null,46,18.413043478260871,32.478260869565219,59.413043478260867,6.8043478260869561,75.304347826086953,1.7391304347826086,0,0,0,0,0,0,0,0,null,16.108695652173914,36.760869565217391,18.413043478260871,32.478260869565219,59.413043478260867,6.8043478260869561,75.304347826086953,1.7391304347826086,0,0,0,0,0,0,0,0]
[null,48,17.645833333333332,31.125,56.9375,6.520833333333333,72.166666666666671,1.6666666666666667,0,{"$f":"$J$6/B54","v":0},0,0,0,0,0,0,null,15.4375,35.229166666666664,17.645833333333332,31.125,56.9375,6.520833333333333,72.166666666666671,1.6666666666666667,0,0,0,0,0,0,0,0,null,50.666666666666664,17.645833333333332,31.125,56.9375,6.520833333333333,72.166666666666671,1.6666666666666667,0,0,0,0,0,0,0,0,null,null,null,null,null,null,null,null,null,null,null,null,null,null,null,null,null,null,null,47,18.021276595744681,31.787234042553191,58.148936170212764,6.6595744680851068,73.702127659574472,1.7021276595744681,0,0,0,0,0,0,0,0,null,15.76595744680851,35.978723404255319,18.021276595744681,31.787234042553191,58.148936170212764,6.6595744680851068,73.702127659574472,1.7021276595744681,0,0,0,0,0,0,0,0]
[null,49,17.285714285714285,30.489795918367346,55.775510204081634,6.3877551020408161,70.693877551020407,1.6326530612244898,0,0,0,0,0,0,0,0,null,15.122448979591837,34.510204081632651,17.285714285714285,30.489795918367346,55.775510204081634,6.3877551020408161,70.693877551020407,1.6326530612244898,0,0,0,0,0,0,0,{"$f":"P55","v":0},null,49.632653061224488,17.285714285714285,30.489795918367346,55.775510204081634,6.3877551020408161,70.693877551020407,1.6326530612244898,0,0,0,0,0,0,0,{"$f":"P55","v":0},null,null,null,null,null,null,null,null,null,null,null,null,null,null,null,null,null,null,null,48,17.645833333333332,31.125,56.9375,6.520833333333333,72.166666666666671,1.6666666666666667,0,0,0,0,0,0,0,0,null,15.4375,35.229166666666664,17.645833333333332,31.125,56.9375,6.520833333333333,72.166666666666671,1.6666666666666667,0,0,0,0,0,0,0,0]
[null,50,16.940000000000001,29.88,54.66,6.26,69.28,1.6,0,0,0,0,0,0,0,0,null,14.82,33.82,16.940000000000001,29.88,54.66,6.26,69.28,1.6,0,0,0,0,0,{"$f":"N56","v":0},0,0,null,48.64,16.940000000000001,29.88,54.66,6.26,69.28,1.6,0,0,0,0,0,{"$f":"N56","v":0},0,0,null,null,null,null,null,null,null,null,null,null,null,null,null,null,null,null,null,null,null,49,17.285714285714285,30.489795918367346,55.775510204081634,6.3877551020408161,70.693877551020407,1.6326530612244898,0,0,0,0,0,0,0,0,null,15.122448979591837,34.510204081632651,17.285714285714285,30.489795918367346,55.775510204081634,6.3877551020408161,70.693877551020407,1.6326530612244898,0,0,0,0,0,0,0,0]
[null,51,16.607843137254903,29.294117647058822,53.588235294117645,6.1372549019607847,67.921568627450981,1.5686274509803921,0,0,0,0,0,0,0,0,null,14.529411764705882,33.156862745098039,16.607843137254903,29.294117647058822,53.588235294117645,6.1372549019607847,67.921568627450981,1.5686274509803921,0,0,0,0,0,0,0,0,null,47.686274509803923,16.607843137254903,29.294117647058822,53.588235294117645,6.1372549019607847,67.921568627450981,1.5686274509803921,0,0,0,0,0,0,0,0,null,null,null,null,null,null,null,null,null,null,null,null,null,null,null,null,null,null,null,50,16.940000000000001,29.88,54.66,6.26,69.28,1.6,0,0,0,0,0,0,0,0,null,14.82,33.82,16.940000000000001,29.88,54.66,6.26,69.28,1.6,0,0,0,0,0,0,0,0]
[null,52,16.28846153846154,28.73076923076923,52.557692307692307,6.0192307692307692,66.615384615384613,1.5384615384615385,0,0,0,0,0,0,0,0,null,14.25,32.519230769230766,16.28846153846154,28.73076923076923,52.557692307692307,6.0192307692307692,66.615384615384613,1.5384615384615385,0,0,0,0,0,0,0,0,null,46.769230769230766,16.28846153846154,28.73076923076923,52.557692307692307,6.0192307692307692,66.615384615384613,1.5384615384615385,0,0,0,0,0,0,0,0,null,null,null,null,null,null,null,null,null,null,null,null,null,null,null,null,null,null,null,51,16.607843137254903,29.294117647058822,53.588235294117645,6.1372549019607847,67.921568627450981,1.5686274509803921,0,0,0,0,0,0,0,0,null,14.529411764705882,33.156862745098039,16.607843137254903,29.294117647058822,53.588235294117645,6.1372549019607847,67.921568627450981,1.5686274509803921,0,0,0,0,0,0,0,0]
[null,53,{"$f":"$C$6/B59","v":15.981132075471699},{"$f":"$D$6/B59","v":28.188679245283019},{"$f":"$E$6/B59","v":51.566037735849058},{"$f":"$F$6/B59","v":5.9056603773584904},{"$f":"$G$6/B59","v":65.35849056603773},{"$f":"$H$6/B59","v":1.5094339622641511},{"$f":"$I$6/B59","v":0},0,{"$f":"$K$6/B59","v":0},{"$f":"$L$6/B59","v":0},{"$f":"$M$6/B59","v":0},0,0,{"$f":"$P$6/B59","v":0},null,{"$f":"$R$6/B59","v":13.981132075471699},{"$f":"$S$6/B59","v":31.90566037735849},15.981132075471699,28.188679245283019,51.566037735849058,5.9056603773584904,65.35849056603773,1.5094339622641511,0,0,0,0,0,{"$f":"N59","v":0},{"$f":"O59","v":0},0,null,{"$f":"$AI$6/B59","v":45.886792452830186},15.981132075471699,28.188679245283019,51.566037735849058,5.9056603773584904,65.35849056603773,1.5094339622641511,0,0,0,0,0,{"$f":"N59","v":0},{"$f":"O59","v":0},0,null,null,null,null,null,null,null,null,null,null,null,null,null,null,null,null,null,null,null,52,{"$f":"$C$6/BQ59","v":16.28846153846154},{"$f":"$D$6/BQ59","v":28.73076923076923},{"$f":"$E$6/BQ59","v":52.557692307692307},{"$f":"$F$6/BQ59","v":6.0192307692307692},{"$f":"$G$6/BQ59","v":66.615384615384613},{"$f":"$H$6/BQ59","v":1.5384615384615385},{"$f":"$I$6/BQ59","v":0},0,{"$f":"$K$6/BQ59","v":0},{"$f":"$L$6/BQ59","v":0},{"$f":"$M$6/BQ59","v":0},0,0,{"$f":"$P$6/BQ59","v":0},null,{"$f":"$R$6/BQ59","v":14.25},{"$f":"$S$6/BQ59","v":32.519230769230766},16.28846153846154,28.73076923076923,52.557692307692307,6.0192307692307692,66.615384615384613,1.5384615384615385,0,0,0,0,0,{"$f":"CC59","v":0},{"$f":"CD59","v":0},0]
[null,54,{"$f":"$C$6/B60","v":15.685185185185185},{"$f":"$D$6/B60","v":27.666666666666668},{"$f":"$E$6/B60","v":50.611111111111114},{"$f":"$F$6/B60","v":5.7962962962962967},{"$f":"$G$6/B60","v":64.148148148148152},{"$f":"$H$6/B60","v":1.4814814814814814},{"$f":"$I$6/B60","v":0},0,{"$f":"$K$6/B60","v":0},{"$f":"$L$6/B60","v":0},{"$f":"$M$6/B60","v":0},0,0,{"$f":"$P$6/B60","v":0},null,{"$f":"$R$6/B60","v":13.722222222222221},{"$f":"$S$6/B60","v":31.314814814814813},15.685185185185185,27.666666666666668,50.611111111111114,5.7962962962962967,64.148148148148152,1.4814814814814814,0,0,0,0,0,{"$f":"N60","v":0},{"$f":"O60","v":0},0,null,{"$f":"$AI$6/B60","v":45.037037037037038},15.685185185185185,27.666666666666668,50.611111111111114,5.7962962962962967,64.148148148148152,1.4814814814814814,0,0,0,0,0,{"$f":"N60","v":0},{"$f":"O60","v":0},0,null,null,null,null,null,null,null,null,null,null,null,null,null,null,null,null,null,null,null,53,{"$f":"$C$6/BQ60","v":15.981132075471699},{"$f":"$D$6/BQ60","v":28.188679245283019},{"$f":"$E$6/BQ60","v":51.566037735849058},{"$f":"$F$6/BQ60","v":5.9056603773584904},{"$f":"$G$6/BQ60","v":65.35849056603773},{"$f":"$H$6/BQ60","v":1.5094339622641511},{"$f":"$I$6/BQ60","v":0},0,{"$f":"$K$6/BQ60","v":0},{"$f":"$L$6/BQ60","v":0},{"$f":"$M$6/BQ60","v":0},0,0,{"$f":"$P$6/BQ60","v":0},null,{"$f":"$R$6/BQ60","v":13.981132075471699},{"$f":"$S$6/BQ60","v":31.90566037735849},15.981132075471699,28.188679245283019,51.566037735849058,5.9056603773584904,65.35849056603773,1.5094339622641511,0,0,0,0,0,{"$f":"CC60","v":0},{"$f":"CD60","v":0},0]
[]
[]
[null,"Nombre d'inscrits",11363]
[null,"Bulletins déposés",9672]
[null,"Blancs & Nuls",741]
[null,"Votes valables",8931]
[null,"Nombre de sièges",27]
[]
[]
[]
[]
[null,"Liste unique\nMajorité\nabsolue",{"$f":"SUM($C$73:$P$73)","v":0},null,null,null,null,null,null,null,null,null,null,null,null,null,null,{"$f":"SUM($R$73:$AG$73)","v":0},null,null,null,null,null,null,null,null,null,null,null,null,null,null,null,null,{"$f":"SUM($AI$73:$AW$73)","v":0}]
[null,null,{"$f":"IF(C7>($C$67/2),1,0)","v":0},{"$f":"IF(D7>($C$67/2),1,0)","v":0},{"$f":"IF(E7>($C$67/2),1,0)","v":0},{"$f":"IF(F7>($C$67/2),1,0)","v":0},{"$f":"IF(G7>($C$67/2),1,0)","v":0},{"$f":"IF(H7>($C$67/2),1,0)","v":0},{"$f":"IF(I7>($C$67/2),1,0)","v":0},{"$f":"IF(J7>($C$67/2),1,0)","v":0},{"$f":"IF(K7>($C$67/2),1,0)","v":0},{"$f":"IF(L7>($C$67/2),1,0)","v":0},{"$f":"IF(M7>($C$67/2),1,0)","v":0},{"$f":"IF(N7>($C$67/2),1,0)","v":0},{"$f":"IF(O7>($C$67/2),1,0)","v":0},{"$f":"IF(P7>($C$67/2),1,0)","v":0},null,{"$f":"IF(R7>($C$67/2),1,0)","v":0},{"$f":"IF(S7>($C$67/2),1,0)","v":0},{"$f":"IF(T7>($C$67/2),1,0)","v":0},{"$f":"IF(U7>($C$67/2),1,0)","v":0},{"$f":"IF(V7>($C$67/2),1,0)","v":0},{"$f":"IF(W7>($C$67/2),1,0)","v":0},{"$f":"IF(X7>($C$67/2),1,0)","v":0},{"$f":"IF(Y7>($C$67/2),1,0)","v":0},{"$f":"IF(Z7>($C$67/2),1,0)","v":0},{"$f":"IF(AA7>($C$67/2),1,0)","v":0},{"$f":"IF(AB7>($C$67/2),1,0)","v":0},{"$f":"IF(AC7>($C$67/2),1,0)","v":0},{"$f":"IF(AD7>($C$67/2),1,0)","v":0},{"$f":"IF(AE7>($C$67/2),1,0)","v":0},{"$f":"IF(AF7>($C$67/2),1,0)","v":0},{"$f":"IF(AG7>($C$67/2),1,0)","v":0},null,{"$f":"IF(AI7>($C$67/2),1,0)","v":0},{"$f":"IF(AJ7>($C$67/2),1,0)","v":0},{"$f":"IF(AK7>($C$67/2),1,0)","v":0},{"$f":"IF(AL7>($C$67/2),1,0)","v":0},{"$f":"IF(AM7>($C$67/2),1,0)","v":0},{"$f":"IF(AN7>($C$67/2),1,0)","v":0},{"$f":"IF(AO7>($C$67/2),1,0)","v":0},{"$f":"IF(AP7>($C$67/2),1,0)","v":0},{"$f":"IF(AQ7>($C$67/2),1,0)","v":0},{"$f":"IF(AR7>($C$67/2),1,0)","v":0},{"$f":"IF(AS7>($C$67/2),1,0)","v":0},{"$f":"IF(AT7>($C$67/2),1,0)","v":0},{"$f":"IF(AU7>($C$67/2),1,0)","v":0},{"$f":"IF(AV7>($C$67/2),1,0)","v":0},{"$f":"IF(AW7>($C$67/2),1,0)","v":0}]
[]
[null,"Liste unique\nMajorité\nabsolue\nnombre de voix",{"$f":"SUM($C$76:$P$76)","v":0},null,null,null,null,null,null,null,null,null,null,null,null,null,null,{"$f":"SUM(R76:AG76)","v":0},null,null,null,null,null,null,null,null,null,null,null,null,null,null,null,null,{"$f":"SUM(AI76:AW76)","v":0}]
[null,null,{"$f":"IF(C73>0,C6,0)","v":0},{"$f":"IF(D73>0,D6,0)","v":0},{"$f":"IF(E73>0,E6,0)","v":0},{"$f":"IF(F73>0,F6,0)","v":0},{"$f":"IF(G73>0,G6,0)","v":0},{"$f":"IF(H73>0,H6,0)","v":0},{"$f":"IF(I73>0,I6,0)","v":0},{"$f":"IF(J73>0,J6,0)","v":0},{"$f":"IF(K73>0,K6,0)","v":0},{"$f":"IF(L73>0,L6,0)","v":0},{"$f":"IF(M73>0,M6,0)","v":0},{"$f":"IF(N73>0,N6,0)","v":0},{"$f":"IF(O73>0,O6,0)","v":0},{"$f":"IF(P73>0,P6,0)","v":0},null,{"$f":"IF(R73>0,R6,0)","v":0},{"$f":"IF(S73>0,S6,0)","v":0},{"$f":"IF(T73>0,T6,0)","v":0},{"$f":"IF(U73>0,U6,0)","v":0},{"$f":"IF(V73>0,V6,0)","v":0},{"$f":"IF(W73>0,W6,0)","v":0},{"$f":"IF(X73>0,X6,0)","v":0},{"$f":"IF(Y73>0,Y6,0)","v":0},{"$f":"IF(Z73>0,Z6,0)","v":0},{"$f":"IF(AA73>0,AA6,0)","v":0},{"$f":"IF(AB73>0,AB6,0)","v":0},{"$f":"IF(AC73>0,AC6,0)","v":0},{"$f":"IF(AD73>0,AD6,0)","v":0},{"$f":"IF(AE73>0,AE6,0)","v":0},{"$f":"IF(AF73>0,AF6,0)","v":0},{"$f":"IF(AG73>0,AG6,0)","v":0},null,{"$f":"IF(AI73>0,AI6,0)","v":0},{"$f":"IF(AJ73>0,AJ6,0)","v":0},{"$f":"IF(AK73>0,AK6,0)","v":0},{"$f":"IF(AL73>0,AL6,0)","v":0},{"$f":"IF(AM73>0,AM6,0)","v":0},{"$f":"IF(AN73>0,AN6,0)","v":0},{"$f":"IF(AO73>0,AO6,0)","v":0},{"$f":"IF(AP73>0,AP6,0)","v":0},{"$f":"IF(AQ73>0,AQ6,0)","v":0},{"$f":"IF(AR73>0,AR6,0)","v":0},{"$f":"IF(AS73>0,AS6,0)","v":0},{"$f":"IF(AT73>0,AT6,0)","v":0},{"$f":"IF(AU73>0,AU6,0)","v":0},{"$f":"IF(AV73>0,AV6,0)","v":0},{"$f":"IF(AW73>0,AW6,0)","v":0}]
[]
[null,"Nbr voix\nCoalition",{"$f":"SUMIF(C4:P4,\"x\",C6:P6)","v":5074}]
[]
[null,"% Coalition",{"$f":"100/C63*C78","v":44.653700607234008}]
[null,"% Majorité",{"$f":"100/C63*C75","v":0}]
[]
[null,"Coalition",{"$f":"COUNTA(C4:P4)","v":3},{"$f":"IF(C83>0,1,0)","v":1}]
[]
[]
[]
[]
[]
[]
[]
[]
[]
[]
[]
[]
[null,null,null,null,null,null,null,null,null,null,null,null,null,null,null,"KOEKELBERG"]
[]
[null,null,null,null,null,null,null,null,null,null,null,null,null,null,null,null,null,{"$f":"R5","v":"Blancs & Nuls"},{"$f":"S5","v":"Non-déposés"},{"$f":"T5","v":"ALTERNATIVE Humaniste"},{"$f":"U5","v":"ECOLO-GROEN"},{"$f":"V5","v":"PS"},{"$f":"W5","v":"N-VA"},{"$f":"X5","v":"LB"},{"$f":"Y5","v":"CITOYEN D'EUROPE M3E"},{"$f":"Z5","v":0},{"$f":"AA5","v":0},{"$f":"AB5","v":0},{"$f":"AC5","v":0},{"$f":"AD5","v":0},{"$f":"AE5","v":0},{"$f":"AF5","v":0},{"$f":"AG5","v":0}]
[null,null,null,null,null,null,null,null,null,null,null,null,null,null,null,"Chiffres\nélectoraux",null,{"$f":"R6","v":741},{"$f":"S6","v":1691},{"$f":"T6","v":847},{"$f":"U6","v":1494},{"$f":"V6","v":2733},{"$f":"W6","v":313},{"$f":"X6","v":3464},{"$f":"Y6","v":80},{"$f":"Z6","v":0},{"$f":"AA6","v":0},{"$f":"AB6","v":0},{"$f":"AC6","v":0},{"$f":"AD6","v":0},{"$f":"AE6","v":0},{"$f":"AF6","v":0},{"$f":"AG6","v":0}]
[null,null,null,null,null,null,null,null,null,null,null,null,null,null,null,"Impériali",null,0,0,{"$f":"C7","v":2},{"$f":"D7","v":4},{"$f":"E7","v":9},{"$f":"F7","v":0},{"$f":"G7","v":12},{"$f":"H7","v":0},{"$f":"I7","v":0},{"$f":"J7","v":0},{"$f":"K7","v":0},{"$f":"L7","v":0},{"$f":"M7","v":0},{"$f":"N7","v":0},{"$f":"O7","v":0},{"$f":"P7","v":0}]
[null,null,null,null,null,null,null,null,null,null,null,null,null,null,null,"Impériali\n+ proportionnelle",null,{"$f":"R7","v":1},{"$f":"S7","v":4},{"$f":"T7","v":1},{"$f":"U7","v":3},{"$f":"V7","v":8},{"$f":"W7","v":0},{"$f":"X7","v":10},{"$f":"Y7","v":0},{"$f":"Z7","v":0},{"$f":"AA7","v":0},{"$f":"AB7","v":0},{"$f":"AC7","v":0},{"$f":"AD7","v":0},{"$f":"AE7","v":0},{"$f":"AF7","v":0},{"$f":"AG7","v":0}]
[null,null,null,null,null,null,null,null,null,null,null,null,null,null,null,"D'Hondt",null,0,0,{"$f":"BR7","v":2},{"$f":"BS7","v":4},{"$f":"BT7","v":9},{"$f":"BU7","v":1},{"$f":"BV7","v":11},{"$f":"BW7","v":0},{"$f":"BX7","v":0},{"$f":"BY7","v":0},{"$f":"BZ7","v":0},{"$f":"CA7","v":0},{"$f":"CB7","v":0},{"$f":"CC7","v":0},{"$f":"CD7","v":0},{"$f":"CE7","v":0}]
[null,null,null,null,null,null,null,null,null,null,null,null,null,null,null,"D'Hondt\n+ proportionnelle",null,{"$f":"CG7","v":1},{"$f":"CH7","v":4},{"$f":"CI7","v":2},{"$f":"CJ7","v":4},{"$f":"CK7","v":7},{"$f":"CL7","v":0},{"$f":"CM7","v":9},{"$f":"CN7","v":0},{"$f":"CO7","v":0},{"$f":"CP7","v":0},{"$f":"CQ7","v":0},{"$f":"CR7","v":0},{"$f":"CS7","v":0},{"$f":"CT7","v":0},{"$f":"CU7","v":0},{"$f":"CV7","v":0}]
[null,null,null,null,null,null,null,null,null,null,null,null,null,null,null,"Proportionnelle\npure",null,{"$f":"AZ7","v":1.7607146000176011},{"$f":"BA7","v":4.0180410102965762},{"$f":"BB7","v":2.0125847047434657},{"$f":"BC7","v":3.5499427967966208},{"$f":"BD7","v":6.4939716624130952},{"$f":"BE7","v":0.74372964886033621},{"$f":"BF7","v":8.2309249317961815},{"$f":"BG7","v":0.19009064507612428},{"$f":"BH7","v":0},{"$f":"BI7","v":0},{"$f":"BJ7","v":0},{"$f":"BK7","v":0},{"$f":"BL7","v":0},{"$f":"BM7","v":0},{"$f":"BN7","v":0},{"$f":"BO7","v":0}]
[]
[null,null,null,null,null,null,null,null,null,null,null,null,null,null,null,null,"Nombre de sièges à distribuer :",null,null,null,{"$f":"C67","v":27},null,"Est-ce une liste unique en majorité absolue en termes de sièges ?",null,null,null,null,null,null,{"$f":"IF(C72>0,\"Oui\",\"Non\")","v":"Non"}]
[]
[null,null,null,null,null,null,null,null,null,null,null,null,null,null,null,null,"Nombre d'inscrits :",null,null,null,{"$f":"C63","v":11363},null,"Est-ce une liste unique en majorité absolue en termes de voix ?",null,null,null,null,null,null,{"$f":"IF(C75>0,\"Oui\",\"Non\")","v":"Non"}]
[]
[null,null,null,null,null,null,null,null,null,null,null,null,null,null,null,null,"Nombre de bulletins déposés :",null,null,null,{"$f":"C64","v":9672},null,"La majorité est-elle formée par une coalition ?",null,null,null,null,null,null,{"$f":"IF(B4>0,\"Oui\",\"Non\")","v":"Oui"}]
[]
[null,null,null,null,null,null,null,null,null,null,null,null,null,null,null,null,"Nombre de votes valables :",null,null,null,{"$f":"C66","v":8931},null,"Quelle est la proportion de l'électorat représentée par la majorité ?",null,null,null,null,null,null,{"$f":"IF(D83>0,C80,C81)","v":44.653700607234008}]
[]
[null,null,null,null,null,null,null,null,null,null,null,null,null,null,null,"Comparaison\nClef Impériali\n-\nClef D'Hondt",null,{"$f":"R100-R102","v":0},{"$f":"S100-S102","v":0},0,0,0,-1,1,0,0,0,0,0,0,0,0,0]

{"sheet":"MOLENBEEK-SAINT-JEAN","index":15,"n_rows":114,"n_cols":100,"rows_kept":114,"cut":false,"hidden":false,"merged":[[1,1,1,48],[1,68,1,99],[1,50,1,66],[71,1,72,1],[113,15,113,16],[107,16,107,19],[109,16,109,19],[111,16,111,19],[74,1,75,1],[95,15,95,32],[105,22,105,27],[107,22,107,27],[109,22,109,27],[111,22,111,27],[105,16,105,19]]}
[]
[null,"IMPÉRIALI",null,null,null,null,null,null,null,null,null,null,null,null,null,null,null,null,null,null,null,null,null,null,null,null,null,null,null,null,null,null,null,null,null,null,null,null,null,null,null,null,null,null,null,null,null,null,null,null,"PROPORTIONNELLE PURE",null,null,null,null,null,null,null,null,null,null,null,null,null,null,null,null,null,"D'HONDT"]
[]
[null,"Coalition",null,null,null,"x",null,null,null,"x"]
[null,{"$f":"COUNTA(C5:P5)","v":11},"CDH-CD&V+","ECOLO SAMEN","DéFI","PS sp.a","N-VA","PTB*PVDA","Groen","LISTE BOURGMESTRE (LB)","CITOYEN D'EUROPE M3E","ISLAM","Molenbeek act",null,null,null,null,"Blancs & Nuls","Non-déposés",{"$f":"C5","v":"CDH-CD&V+"},{"$f":"D5","v":"ECOLO SAMEN"},{"$f":"E5","v":"DéFI"},{"$f":"F5","v":"PS sp.a"},{"$f":"G5","v":"N-VA"},{"$f":"H5","v":"PTB*PVDA"},{"$f":"I5","v":"Groen"},{"$f":"J5","v":"LISTE BOURGMESTRE (LB)"},{"$f":"K5","v":"CITOYEN D'EUROPE M3E"},{"$f":"L5","v":"ISLAM"},{"$f":"M5","v":"Molenbeek act"},{"$f":"N5","v":0},{"$f":"O5","v":0},{"$f":"P5","v":0},null,"Non-valables",{"$f":"C5","v":"CDH-CD&V+"},{"$f":"D5","v":"ECOLO SAMEN"},{"$f":"E5","v":"DéFI"},{"$f":"F5","v":"PS sp.a"},{"$f":"G5","v":"N-VA"},{"$f":"H5","v":"PTB*PVDA"},{"$f":"I5","v":"Groen"},{"$f":"J5","v":"LISTE BOURGMESTRE (LB)"},{"$f":"K5","v":"CITOYEN D'EUROPE M3E"},{"$f":"L5","v":"ISLAM"},{"$f":"M5","v":"Molenbeek act"},{"$f":"N5","v":0},{"$f":"O5","v":0},{"$f":"P5","v":0},null,"New Key","Blancs & Nuls","Non-déposés",{"$f":"C5","v":"CDH-CD&V+"},{"$f":"D5","v":"ECOLO SAMEN"},"DéFI","PS sp.a","N-VA","PTB*PVDA","Groen","LISTE BOURGMESTRE (LB)","CITOYEN D'EUROPE M3E","ISLAM","Molenbeek act",0,0,0,null,null,{"$f":"C5","v":"CDH-CD&V+"},{"$f":"D5","v":"ECOLO SAMEN"},"DéFI","PS sp.a","N-VA","PTB*PVDA","Groen","LISTE BOURGMESTRE (LB)","CITOYEN D'EUROPE M3E","ISLAM","Molenbeek act",0,0,0,null,"Blancs & Nuls","Non-déposés",{"$f":"C5","v":"CDH-CD&V+"},{"$f":"D5","v":"ECOLO SAMEN"},"DéFI","PS sp.a","N-VA","PTB*PVDA","Groen","LISTE BOURGMESTRE (LB)","CITOYEN D'EUROPE M3E","ISLAM","Molenbeek act",0,0,0]
[null,"Chiffres\nélectoraux",3246,3163,1842,12122,1307,5262,940,9268,95,695,734,0,0,0,null,{"$f":"C65","v":2581},{"$f":"C63-C64","v":8532},3246,3163,1842,12122,1307,5262,940,9268,95,695,734,0,0,0,null,{"$f":"R6+S6","v":11113},3246,3163,1842,12122,1307,5262,940,9268,95,695,734,0,0,0,null,null,{"$f":"C65","v":2581},{"$f":"C63-C64","v":8532},{"$f":"C6","v":3246},3163,1842,12122,1307,5262,940,9268,95,695,734,0,0,0,null,"Chiffres\nélectoraux",{"$f":"C6","v":3246},3163,1842,12122,1307,5262,940,9268,95,695,734,0,0,0,null,{"$f":"C65","v":2581},{"$f":"C63-C64","v":8532},{"$f":"C6","v":3246},3163,1842,12122,1307,5262,940,9268,95,695,734,0,0,0]
[null,"Sièges",3,3,1,17,1,7,0,13,0,0,0,0,0,0,null,2,9,3,2,1,13,0,5,0,10,0,0,0,0,0,0,null,12,2,2,1,13,0,5,0,10,0,0,0,0,0,0,null,1106.3777777777777,2.3328378894088817,7.7116516359692291,2.9338984072147349,2.8588788237893428,1.664892441802077,10.956474581718119,1.1813324763492479,4.7560608190893205,0.84961937855263425,8.3768855323678881,8.5865788257978998E-2,0.62817602988732002,0.66342619559322713,0,0,0,null,"Sièges",4,4,2,15,1,6,1,12,0,0,0,0,0,0,null,2,9,3,3,1,12,1,5,0,9,0,0,0,0,0,0]
[null,2,{"$f":"$C$6/B8","v":1623},{"$f":"$D$6/B8","v":1581.5},{"$f":"$E$6/B8","v":921},{"$f":"$F$6/B8","v":6061},{"$f":"$G$6/B8","v":653.5},{"$f":"$H$6/B8","v":2631},{"$f":"$I$6/B8","v":470},{"$f":"$J$6/B8","v":4634},{"$f":"$K$6/B8","v":47.5},{"$f":"$L$6/B8","v":347.5},{"$f":"$M$6/B8","v":367},{"$f":"$N$6/B8","v":0},{"$f":"$O$6/B8","v":0},{"$f":"$P$6/B8","v":0},null,{"$f":"$R$6/B8","v":1290.5},{"$f":"$S$6/B8","v":4266},{"$f":"C8","v":1623},{"$f":"D8","v":1581.5},{"$f":"E8","v":921},{"$f":"F8","v":6061},{"$f":"G8","v":653.5},{"$f":"H8","v":2631},{"$f":"I8","v":470},{"$f":"J8","v":4634},{"$f":"K8","v":47.5},{"$f":"L8","v":347.5},{"$f":"M8","v":367},{"$f":"N8","v":0},0,{"$f":"P8","v":0},null,{"$f":"$AI$6/B8","v":5556.5},{"$f":"C8","v":1623},{"$f":"D8","v":1581.5},{"$f":"E8","v":921},{"$f":"F8","v":6061},{"$f":"G8","v":653.5},{"$f":"H8","v":2631},{"$f":"I8","v":470},{"$f":"J8","v":4634},{"$f":"K8","v":47.5},{"$f":"L8","v":347.5},{"$f":"M8","v":367},{"$f":"N8","v":0},0,{"$f":"P8","v":0},null,null,null,null,null,null,null,null,null,null,null,null,null,null,null,null,null,null,null,1,{"$f":"$C$6/BQ8","v":3246},{"$f":"$D$6/BQ8","v":3163},{"$f":"$E$6/BQ8","v":1842},{"$f":"$F$6/BQ8","v":12122},{"$f":"$G$6/BQ8","v":1307},{"$f":"$H$6/BQ8","v":5262},{"$f":"$I$6/BQ8","v":940},{"$f":"$J$6/BQ8","v":9268},{"$f":"$K$6/BQ8","v":95},{"$f":"$L$6/BQ8","v":695},{"$f":"$M$6/BQ8","v":734},{"$f":"$N$6/BQ8","v":0},{"$f":"$O$6/BQ8","v":0},{"$f":"$P$6/BQ8","v":0},null,{"$f":"$R$6/BQ8","v":2581},{"$f":"$S$6/BQ8","v":8532},{"$f":"BR8","v":3246},{"$f":"BS8","v":3163},{"$f":"BT8","v":1842},{"$f":"BU8","v":12122},{"$f":"BV8","v":1307},{"$f":"BW8","v":5262},{"$f":"BX8","v":940},{"$f":"BY8","v":9268},{"$f":"BZ8","v":95},{"$f":"CA8","v":695},{"$f":"CB8","v":734},{"$f":"CC8","v":0},{"$f":"CD8","v":0},{"$f":"CE8","v":0}]
[null,3,{"$f":"$C$6/B9","v":1082},1054.3333333333333,{"$f":"$E$6/B9","v":614},4040.6666666666665,435.66666666666669,{"$f":"$H$6/B9","v":1754},{"$f":"$I$6/B9","v":313.33333333333331},{"$f":"$J$6/B9","v":3089.3333333333335},{"$f":"$K$6/B9","v":31.666666666666668},{"$f":"$L$6/B9","v":231.66666666666666},{"$f":"$M$6/B9","v":244.66666666666666},{"$f":"$N$6/B9","v":0},{"$f":"$O$6/B9","v":0},{"$f":"$P$6/B9","v":0},null,{"$f":"$R$6/B9","v":860.33333333333337},{"$f":"$S$6/B9","v":2844},1082,1054.3333333333333,614,4040.6666666666665,435.66666666666669,1754,313.33333333333331,3089.3333333333335,31.666666666666668,231.66666666666666,244.66666666666666,0,0,0,null,{"$f":"$AI$6/B9","v":3704.3333333333335},1082,1054.3333333333333,614,4040.6666666666665,435.66666666666669,1754,313.33333333333331,3089.3333333333335,31.666666666666668,231.66666666666666,244.66666666666666,0,0,0,null,null,null,null,null,null,null,null,null,null,null,null,null,null,null,null,null,null,null,2,{"$f":"$C$6/BQ9","v":1623},1581.5,{"$f":"$E$6/BQ9","v":921},6061,653.5,{"$f":"$H$6/BQ9","v":2631},{"$f":"$I$6/BQ9","v":470},{"$f":"$J$6/BQ9","v":4634},{"$f":"$K$6/BQ9","v":47.5},{"$f":"$L$6/BQ9","v":347.5},{"$f":"$M$6/BQ9","v":367},{"$f":"$N$6/BQ9","v":0},{"$f":"$O$6/BQ9","v":0},{"$f":"$P$6/BQ9","v":0},null,{"$f":"$R$6/BQ9","v":1290.5},{"$f":"$S$6/BQ9","v":4266},1623,1581.5,921,6061,653.5,2631,470,4634,47.5,347.5,367,0,0,0]
[null,4,811.5,790.75,460.5,3030.5,326.75,1315.5,235,2317,23.75,173.75,183.5,0,0,0,null,645.25,2133,811.5,790.75,460.5,3030.5,326.75,1315.5,235,2317,23.75,173.75,183.5,0,0,0,null,2778.25,811.5,790.75,460.5,3030.5,326.75,1315.5,235,2317,23.75,173.75,183.5,0,0,0,null,null,null,null,null,null,null,null,null,null,null,null,null,null,null,null,null,null,null,3,1082,1054.3333333333333,614,4040.6666666666665,435.66666666666669,1754,313.33333333333331,3089.3333333333335,31.666666666666668,231.66666666666666,244.66666666666666,0,0,0,null,860.33333333333337,2844,1082,1054.3333333333333,614,4040.6666666666665,435.66666666666669,1754,313.33333333333331,3089.3333333333335,31.666666666666668,231.66666666666666,244.66666666666666,0,0,0]
[null,5,649.20000000000005,632.6,368.4,2424.4,261.39999999999998,1052.4000000000001,188,1853.6,19,139,146.80000000000001,0,0,0,null,516.20000000000005,1706.4,649.20000000000005,632.6,368.4,2424.4,261.39999999999998,1052.4000000000001,188,1853.6,19,139,146.80000000000001,0,0,0,null,2222.6,649.20000000000005,632.6,368.4,2424.4,261.39999999999998,1052.4000000000001,188,1853.6,19,139,146.80000000000001,0,0,0,null,null,null,null,null,null,null,null,null,null,null,null,null,null,null,null,null,null,null,4,811.5,790.75,460.5,3030.5,326.75,1315.5,235,2317,23.75,173.75,183.5,0,0,0,null,645.25,2133,811.5,790.75,460.5,3030.5,326.75,1315.5,235,2317,23.75,173.75,183.5,0,0,0]
[null,6,541,527.16666666666663,307,2020.3333333333333,217.83333333333334,877,156.66666666666666,1544.6666666666667,15.833333333333334,115.83333333333333,122.33333333333333,0,0,0,null,430.16666666666669,1422,541,527.16666666666663,307,2020.3333333333333,217.83333333333334,877,156.66666666666666,1544.6666666666667,15.833333333333334,115.83333333333333,122.33333333333333,0,0,0,null,1852.1666666666667,541,527.16666666666663,307,2020.3333333333333,217.83333333333334,877,156.66666666666666,1544.6666666666667,15.833333333333334,115.83333333333333,122.33333333333333,0,0,0,null,null,null,null,null,null,null,null,null,null,null,null,null,null,null,null,null,null,null,5,649.20000000000005,632.6,368.4,2424.4,261.39999999999998,1052.4000000000001,188,1853.6,19,139,146.80000000000001,0,0,0,null,516.20000000000005,1706.4,649.20000000000005,632.6,368.4,2424.4,261.39999999999998,1052.4000000000001,188,1853.6,19,139,146.80000000000001,0,0,0]
[null,7,463.71428571428572,451.85714285714283,263.14285714285717,1731.7142857142858,186.71428571428572,751.71428571428567,134.28571428571428,1324,13.571428571428571,99.285714285714292,104.85714285714286,0,0,0,null,368.71428571428572,1218.8571428571429,463.71428571428572,451.85714285714283,263.14285714285717,1731.7142857142858,186.71428571428572,751.71428571428567,134.28571428571428,1324,13.571428571428571,99.285714285714292,104.85714285714286,0,0,0,null,1587.5714285714287,463.71428571428572,451.85714285714283,263.14285714285717,1731.7142857142858,186.71428571428572,751.71428571428567,134.28571428571428,1324,13.571428571428571,99.285714285714292,104.85714285714286,0,0,0,null,null,null,null,null,null,null,null,null,null,null,null,null,null,null,null,null,null,null,6,541,527.16666666666663,307,2020.3333333333333,217.83333333333334,877,156.66666666666666,1544.6666666666667,15.833333333333334,115.83333333333333,122.33333333333333,0,0,0,null,430.16666666666669,1422,541,527.16666666666663,307,2020.3333333333333,217.83333333333334,877,156.66666666666666,1544.6666666666667,15.833333333333334,115.83333333333333,122.33333333333333,0,0,0]
[null,8,405.75,395.375,230.25,1515.25,163.375,657.75,117.5,1158.5,11.875,86.875,91.75,0,0,0,null,322.625,1066.5,405.75,395.375,230.25,1515.25,163.375,657.75,117.5,1158.5,11.875,86.875,91.75,0,0,0,null,1389.125,405.75,395.375,230.25,1515.25,163.375,657.75,117.5,1158.5,11.875,86.875,91.75,0,0,0,null,null,null,null,null,null,null,null,null,null,null,null,null,null,null,null,null,null,null,7,463.71428571428572,451.85714285714283,263.14285714285717,1731.7142857142858,186.71428571428572,751.71428571428567,134.28571428571428,1324,13.571428571428571,99.285714285714292,104.85714285714286,0,0,0,null,368.71428571428572,1218.8571428571429,463.71428571428572,451.85714285714283,263.14285714285717,1731.7142857142858,186.71428571428572,751.71428571428567,134.28571428571428,1324,13.571428571428571,99.285714285714292,104.85714285714286,0,0,0]
[null,9,360.66666666666669,351.44444444444446,204.66666666666666,1346.8888888888889,145.22222222222223,584.66666666666663,104.44444444444444,1029.7777777777778,10.555555555555555,77.222222222222229,81.555555555555557,0,0,0,null,286.77777777777777,948,360.66666666666669,351.44444444444446,204.66666666666666,1346.8888888888889,145.22222222222223,584.66666666666663,104.44444444444444,1029.7777777777778,10.555555555555555,77.222222222222229,81.555555555555557,0,0,0,null,1234.7777777777778,360.66666666666669,351.44444444444446,204.66666666666666,1346.8888888888889,145.22222222222223,584.66666666666663,104.44444444444444,1029.7777777777778,10.555555555555555,77.222222222222229,81.555555555555557,0,0,0,null,null,null,null,null,null,null,null,null,null,null,null,null,null,null,null,null,null,null,8,405.75,395.375,230.25,1515.25,163.375,657.75,117.5,1158.5,11.875,86.875,91.75,0,0,0,null,322.625,1066.5,405.75,395.375,230.25,1515.25,163.375,657.75,117.5,1158.5,11.875,86.875,91.75,0,0,0]
[null,10,324.60000000000002,316.3,184.2,1212.2,130.69999999999999,526.20000000000005,94,926.8,9.5,69.5,73.400000000000006,0,0,0,null,258.10000000000002,853.2,324.60000000000002,316.3,184.2,1212.2,130.69999999999999,526.20000000000005,94,926.8,9.5,69.5,73.400000000000006,0,0,0,null,1111.3,324.60000000000002,316.3,184.2,1212.2,130.69999999999999,526.20000000000005,94,926.8,9.5,69.5,73.400000000000006,0,0,0,null,null,null,null,null,null,null,null,null,null,null,null,null,null,null,null,null,null,null,9,360.66666666666669,351.44444444444446,204.66666666666666,1346.8888888888889,145.22222222222223,584.66666666666663,104.44444444444444,1029.7777777777778,10.555555555555555,77.222222222222229,81.555555555555557,0,0,0,null,286.77777777777777,948,360.66666666666669,351.44444444444446,204.66666666666666,1346.8888888888889,145.22222222222223,584.66666666666663,104.44444444444444,1029.7777777777778,10.555555555555555,77.222222222222229,81.555555555555557,0,0,0]
[null,11,295.09090909090907,287.54545454545456,167.45454545454547,1102,118.81818181818181,478.36363636363637,85.454545454545453,842.5454545454545,8.6363636363636367,63.18181818181818,66.727272727272734,0,0,0,null,234.63636363636363,775.63636363636363,295.09090909090907,287.54545454545456,167.45454545454547,1102,118.81818181818181,478.36363636363637,85.454545454545453,842.5454545454545,8.6363636363636367,63.18181818181818,66.727272727272734,0,0,0,null,1010.2727272727273,295.09090909090907,287.54545454545456,167.45454545454547,1102,118.81818181818181,478.36363636363637,85.454545454545453,842.5454545454545,8.6363636363636367,63.18181818181818,66.727272727272734,0,0,0,null,null,null,null,null,null,null,null,null,null,null,null,null,null,null,null,null,null,null,10,324.60000000000002,316.3,184.2,1212.2,130.69999999999999,526.20000000000005,94,926.8,9.5,69.5,73.400000000000006,0,0,0,null,258.10000000000002,853.2,324.60000000000002,316.3,184.2,1212.2,130.69999999999999,526.20000000000005,94,926.8,9.5,69.5,73.400000000000006,0,0,0]
[null,12,270.5,263.58333333333331,153.5,1010.1666666666666,108.91666666666667,438.5,78.333333333333329,772.33333333333337,7.916666666666667,57.916666666666664,61.166666666666664,0,0,0,null,215.08333333333334,711,270.5,263.58333333333331,153.5,1010.1666666666666,108.91666666666667,438.5,78.333333333333329,772.33333333333337,7.916666666666667,57.916666666666664,61.166666666666664,0,0,0,null,926.08333333333337,270.5,263.58333333333331,153.5,1010.1666666666666,108.91666666666667,438.5,78.333333333333329,772.33333333333337,7.916666666666667,57.916666666666664,61.166666666666664,0,0,0,null,null,null,null,null,null,null,null,null,null,null,null,null,null,null,null,null,null,null,11,295.09090909090907,287.54545454545456,167.45454545454547,1102,118.81818181818181,478.36363636363637,85.454545454545453,842.5454545454545,8.6363636363636367,63.18181818181818,66.727272727272734,0,0,0,null,234.63636363636363,775.63636363636363,295.09090909090907,287.54545454545456,167.45454545454547,1102,118.81818181818181,478.36363636363637,85.454545454545453,842.5454545454545,8.6363636363636367,63.18181818181818,66.727272727272734,0,0,0]
[null,13,249.69230769230768,243.30769230769232,141.69230769230768,932.46153846153845,100.53846153846153,404.76923076923077,72.307692307692307,712.92307692307691,7.3076923076923075,53.46153846153846,56.46153846153846,0,0,0,null,198.53846153846155,656.30769230769226,249.69230769230768,243.30769230769232,141.69230769230768,932.46153846153845,100.53846153846153,404.76923076923077,72.307692307692307,712.92307692307691,7.3076923076923075,53.46153846153846,56.46153846153846,0,0,0,null,854.84615384615381,249.69230769230768,243.30769230769232,141.69230769230768,932.46153846153845,100.53846153846153,404.76923076923077,72.307692307692307,712.92307692307691,7.3076923076923075,53.46153846153846,56.46153846153846,0,0,0,null,null,null,null,null,null,null,null,null,null,null,null,null,null,null,null,null,null,null,12,270.5,263.58333333333331,153.5,1010.1666666666666,108.91666666666667,438.5,78.333333333333329,772.33333333333337,7.916666666666667,57.916666666666664,61.166666666666664,0,0,0,null,215.08333333333334,711,270.5,263.58333333333331,153.5,1010.1666666666666,108.91666666666667,438.5,78.333333333333329,772.33333333333337,7.916666666666667,57.916666666666664,61.166666666666664,0,0,0]
[null,14,231.85714285714286,225.92857142857142,131.57142857142858,865.85714285714289,93.357142857142861,375.85714285714283,67.142857142857139,662,6.7857142857142856,49.642857142857146,52.428571428571431,0,0,0,null,184.35714285714286,609.42857142857144,231.85714285714286,225.92857142857142,131.57142857142858,865.85714285714289,93.357142857142861,375.85714285714283,67.142857142857139,662,6.7857142857142856,49.642857142857146,52.428571428571431,0,0,0,null,793.78571428571433,231.85714285714286,225.92857142857142,131.57142857142858,865.85714285714289,93.357142857142861,375.85714285714283,67.142857142857139,662,6.7857142857142856,49.642857142857146,52.428571428571431,0,0,0,null,null,null,null,null,null,null,null,null,null,null,null,null,null,null,null,null,null,null,13,249.69230769230768,243.30769230769232,141.69230769230768,932.46153846153845,100.53846153846153,404.76923076923077,72.307692307692307,712.92307692307691,7.3076923076923075,53.46153846153846,56.46153846153846,0,0,0,null,198.53846153846155,656.30769230769226,249.69230769230768,243.30769230769232,141.69230769230768,932.46153846153845,100.53846153846153,404.76923076923077,72.307692307692307,712.92307692307691,7.3076923076923075,53.46153846153846,56.46153846153846,0,0,0]
[null,15,216.4,210.86666666666667,122.8,808.13333333333333,87.13333333333334,350.8,62.666666666666664,617.86666666666667,6.333333333333333,46.333333333333336,48.93333333333333,0,0,0,null,172.06666666666666,568.79999999999995,216.4,210.86666666666667,122.8,808.13333333333333,87.13333333333334,350.8,62.666666666666664,617.86666666666667,6.333333333333333,46.333333333333336,48.93333333333333,0,0,0,null,740.86666666666667,216.4,210.86666666666667,122.8,808.13333333333333,87.13333333333334,350.8,62.666666666666664,617.86666666666667,6.333333333333333,46.333333333333336,48.93333333333333,0,0,0,null,null,null,null,null,null,null,null,null,null,null,null,null,null,null,null,null,null,null,14,231.85714285714286,225.92857142857142,131.57142857142858,865.85714285714289,93.357142857142861,375.85714285714283,67.142857142857139,662,6.7857142857142856,49.642857142857146,52.428571428571431,0,0,0,null,184.35714285714286,609.42857142857144,231.85714285714286,225.92857142857142,131.57142857142858,865.85714285714289,93.357142857142861,375.85714285714283,67.142857142857139,662,6.7857142857142856,49.642857142857146,52.428571428571431,0,0,0]
[null,16,202.875,197.6875,115.125,757.625,81.6875,328.875,58.75,579.25,5.9375,43.4375,45.875,0,0,0,null,161.3125,533.25,202.875,197.6875,115.125,757.625,81.6875,328.875,58.75,579.25,5.9375,43.4375,45.875,0,0,0,null,694.5625,202.875,197.6875,115.125,757.625,81.6875,328.875,58.75,579.25,5.9375,43.4375,45.875,0,0,0,null,null,null,null,null,null,null,null,null,null,null,null,null,null,null,null,null,null,null,15,216.4,210.86666666666667,122.8,808.13333333333333,87.13333333333334,350.8,62.666666666666664,617.86666666666667,6.333333333333333,46.333333333333336,48.93333333333333,0,0,0,null,172.06666666666666,568.79999999999995,216.4,210.86666666666667,122.8,808.13333333333333,87.13333333333334,350.8,62.666666666666664,617.86666666666667,6.333333333333333,46.333333333333336,48.93333333333333,0,0,0]
[null,17,190.94117647058823,186.05882352941177,108.35294117647059,713.05882352941171,76.882352941176464,309.52941176470586,55.294117647058826,545.17647058823525,5.5882352941176467,40.882352941176471,43.176470588235297,0,0,0,null,151.8235294117647,501.88235294117646,190.94117647058823,186.05882352941177,108.35294117647059,713.05882352941171,76.882352941176464,309.52941176470586,55.294117647058826,545.17647058823525,5.5882352941176467,40.882352941176471,43.176470588235297,0,0,0,null,653.70588235294122,190.94117647058823,186.05882352941177,108.35294117647059,713.05882352941171,76.882352941176464,309.52941176470586,55.294117647058826,545.17647058823525,5.5882352941176467,40.882352941176471,43.176470588235297,0,0,0,null,null,null,null,null,null,null,null,null,null,null,null,null,null,null,null,null,null,null,16,202.875,197.6875,115.125,757.625,81.6875,328.875,58.75,579.25,5.9375,43.4375,45.875,0,0,0,null,161.3125,533.25,202.875,197.6875,115.125,757.625,81.6875,328.875,58.75,579.25,5.9375,43.4375,45.875,0,0,0]
[null,18,180.33333333333334,175.72222222222223,102.33333333333333,673.44444444444446,72.611111111111114,292.33333333333331,52.222222222222221,514.88888888888891,5.2777777777777777,38.611111111111114,40.777777777777779,0,0,0,null,143.38888888888889,474,180.33333333333334,175.72222222222223,102.33333333333333,673.44444444444446,72.611111111111114,292.33333333333331,52.222222222222221,514.88888888888891,5.2777777777777777,38.611111111111114,40.777777777777779,{"$f":"N24","v":0},0,0,null,617.38888888888891,180.33333333333334,175.72222222222223,102.33333333333333,673.44444444444446,72.611111111111114,292.33333333333331,52.222222222222221,514.88888888888891,5.2777777777777777,38.611111111111114,40.777777777777779,{"$f":"N24","v":0},0,0,null,null,null,null,null,null,null,null,null,null,null,null,null,null,null,null,null,null,null,17,190.94117647058823,186.05882352941177,108.35294117647059,713.05882352941171,76.882352941176464,309.52941176470586,55.294117647058826,545.17647058823525,5.5882352941176467,40.882352941176471,43.176470588235297,0,0,0,null,151.8235294117647,501.88235294117646,190.94117647058823,186.05882352941177,108.35294117647059,713.05882352941171,76.882352941176464,309.52941176470586,55.294117647058826,545.17647058823525,5.5882352941176467,40.882352941176471,43.176470588235297,0,0,0]
[null,19,170.84210526315789,166.47368421052633,96.94736842105263,638,68.78947368421052,276.94736842105266,49.473684210526315,487.78947368421052,5,36.578947368421055,38.631578947368418,0,0,0,null,135.84210526315789,449.05263157894734,170.84210526315789,166.47368421052633,96.94736842105263,638,68.78947368421052,276.94736842105266,49.473684210526315,487.78947368421052,5,36.578947368421055,38.631578947368418,0,0,0,null,584.89473684210532,170.84210526315789,166.47368421052633,96.94736842105263,638,68.78947368421052,276.94736842105266,49.473684210526315,487.78947368421052,5,36.578947368421055,38.631578947368418,0,0,0,null,null,null,null,null,null,null,null,null,null,null,null,null,null,null,null,null,null,null,18,180.33333333333334,175.72222222222223,102.33333333333333,673.44444444444446,72.611111111111114,292.33333333333331,52.222222222222221,514.88888888888891,5.2777777777777777,38.611111111111114,40.777777777777779,0,0,0,null,143.38888888888889,474,180.33333333333334,175.72222222222223,102.33333333333333,673.44444444444446,72.611111111111114,292.33333333333331,52.222222222222221,514.88888888888891,5.2777777777777777,38.611111111111114,40.777777777777779,0,0,0]
[null,20,162.30000000000001,158.15,92.1,606.1,65.349999999999994,263.10000000000002,47,463.4,4.75,34.75,36.700000000000003,0,0,0,null,129.05000000000001,426.6,162.30000000000001,158.15,92.1,606.1,65.349999999999994,263.10000000000002,47,463.4,4.75,34.75,36.700000000000003,0,0,0,null,555.65,162.30000000000001,158.15,92.1,606.1,65.349999999999994,263.10000000000002,47,463.4,4.75,34.75,36.700000000000003,0,0,0,null,null,null,null,null,null,null,null,null,null,null,null,null,null,null,null,null,null,null,19,170.84210526315789,166.47368421052633,96.94736842105263,638,68.78947368421052,276.94736842105266,49.473684210526315,487.78947368421052,5,36.578947368421055,38.631578947368418,0,0,0,null,135.84210526315789,449.05263157894734,170.84210526315789,166.47368421052633,96.94736842105263,638,68.78947368421052,276.94736842105266,49.473684210526315,487.78947368421052,5,36.578947368421055,38.631578947368418,0,0,0]
[null,21,154.57142857142858,150.61904761904762,87.714285714285708,577.23809523809518,62.238095238095241,250.57142857142858,44.761904761904759,441.33333333333331,4.5238095238095237,33.095238095238095,34.952380952380949,0,0,0,null,122.9047619047619,406.28571428571428,154.57142857142858,150.61904761904762,87.714285714285708,577.23809523809518,62.238095238095241,250.57142857142858,44.761904761904759,441.33333333333331,4.5238095238095237,33.095238095238095,34.952380952380949,0,0,{"$f":"P27","v":0},null,529.19047619047615,154.57142857142858,150.61904761904762,87.714285714285708,577.23809523809518,62.238095238095241,250.57142857142858,44.761904761904759,441.33333333333331,4.5238095238095237,33.095238095238095,34.952380952380949,0,0,{"$f":"P27","v":0},null,null,null,null,null,null,null,null,null,null,null,null,null,null,null,null,null,null,null,20,162.30000000000001,158.15,92.1,606.1,65.349999999999994,263.10000000000002,47,463.4,4.75,34.75,36.700000000000003,0,0,0,null,129.05000000000001,426.6,162.30000000000001,158.15,92.1,606.1,65.349999999999994,263.10000000000002,47,463.4,4.75,34.75,36.700000000000003,0,0,0]
[null,22,147.54545454545453,143.77272727272728,83.727272727272734,551,59.409090909090907,239.18181818181819,42.727272727272727,421.27272727272725,4.3181818181818183,31.59090909090909,33.363636363636367,0,0,0,null,117.31818181818181,387.81818181818181,147.54545454545453,143.77272727272728,83.727272727272734,551,59.409090909090907,239.18181818181819,42.727272727272727,421.27272727272725,4.3181818181818183,31.59090909090909,33.363636363636367,0,0,0,null,505.13636363636363,147.54545454545453,143.77272727272728,83.727272727272734,551,59.409090909090907,239.18181818181819,42.727272727272727,421.27272727272725,4.3181818181818183,31.59090909090909,33.363636363636367,0,0,0,null,null,null,null,null,null,null,null,null,null,null,null,null,null,null,null,null,null,null,21,154.57142857142858,150.61904761904762,87.714285714285708,577.23809523809518,62.238095238095241,250.57142857142858,44.761904761904759,441.33333333333331,4.5238095238095237,33.095238095238095,34.952380952380949,0,0,0,null,122.9047619047619,406.28571428571428,154.57142857142858,150.61904761904762,87.714285714285708,577.23809523809518,62.238095238095241,250.57142857142858,44.761904761904759,441.33333333333331,4.5238095238095237,33.095238095238095,34.952380952380949,0,0,0]
[null,23,141.13043478260869,137.52173913043478,80.086956521739125,527.04347826086962,56.826086956521742,228.78260869565219,40.869565217391305,402.95652173913044,4.1304347826086953,30.217391304347824,31.913043478260871,0,0,0,null,112.21739130434783,370.95652173913044,141.13043478260869,137.52173913043478,80.086956521739125,527.04347826086962,56.826086956521742,228.78260869565219,40.869565217391305,402.95652173913044,4.1304347826086953,30.217391304347824,31.913043478260871,0,0,0,null,483.17391304347825,141.13043478260869,137.52173913043478,80.086956521739125,527.04347826086962,56.826086956521742,228.78260869565219,40.869565217391305,402.95652173913044,4.1304347826086953,30.217391304347824,31.913043478260871,0,0,0,null,null,null,null,null,null,null,null,null,null,null,null,null,null,null,null,null,null,null,22,147.54545454545453,143.77272727272728,83.727272727272734,551,59.409090909090907,239.18181818181819,42.727272727272727,421.27272727272725,4.3181818181818183,31.59090909090909,33.363636363636367,0,0,0,null,117.31818181818181,387.81818181818181,147.54545454545453,143.77272727272728,83.727272727272734,551,59.409090909090907,239.18181818181819,42.727272727272727,421.27272727272725,4.3181818181818183,31.59090909090909,33.363636363636367,0,0,0]
[null,24,135.25,131.79166666666666,76.75,505.08333333333331,54.458333333333336,219.25,39.166666666666664,386.16666666666669,3.9583333333333335,28.958333333333332,30.583333333333332,0,0,0,null,107.54166666666667,355.5,135.25,131.79166666666666,76.75,505.08333333333331,54.458333333333336,219.25,39.166666666666664,386.16666666666669,3.9583333333333335,28.958333333333332,30.583333333333332,0,0,0,null,463.04166666666669,135.25,131.79166666666666,76.75,505.08333333333331,54.458333333333336,219.25,39.166666666666664,386.16666666666669,3.9583333333333335,28.958333333333332,30.583333333333332,0,0,0,null,null,null,null,null,null,null,null,null,null,null,null,null,null,null,null,null,null,null,23,141.13043478260869,137.52173913043478,80.086956521739125,527.04347826086962,56.826086956521742,228.78260869565219,40.869565217391305,402.95652173913044,4.1304347826086953,30.217391304347824,31.913043478260871,0,0,0,null,112.21739130434783,370.95652173913044,141.13043478260869,137.52173913043478,80.086956521739125,527.04347826086962,56.826086956521742,228.78260869565219,40.869565217391305,402.95652173913044,4.1304347826086953,30.217391304347824,31.913043478260871,0,0,0]
[null,25,129.84,126.52,73.680000000000007,484.88,52.28,210.48,37.6,370.72,3.8,27.8,29.36,0,0,0,null,103.24,341.28,129.84,126.52,73.680000000000007,484.88,52.28,210.48,37.6,370.72,3.8,27.8,29.36,0,0,0,null,444.52,129.84,126.52,73.680000000000007,484.88,52.28,210.48,37.6,370.72,3.8,27.8,29.36,0,0,0,null,null,null,null,null,null,null,null,null,null,null,null,null,null,null,null,null,null,null,24,135.25,131.79166666666666,76.75,505.08333333333331,54.458333333333336,219.25,39.166666666666664,386.16666666666669,3.9583333333333335,28.958333333333332,30.583333333333332,0,0,0,null,107.54166666666667,355.5,135.25,131.79166666666666,76.75,505.08333333333331,54.458333333333336,219.25,39.166666666666664,386.16666666666669,3.9583333333333335,28.958333333333332,30.583333333333332,0,0,0]
[null,26,124.84615384615384,121.65384615384616,70.84615384615384,466.23076923076923,50.269230769230766,202.38461538461539,36.153846153846153,356.46153846153845,3.6538461538461537,26.73076923076923,28.23076923076923,0,0,0,null,99.269230769230774,328.15384615384613,124.84615384615384,121.65384615384616,70.84615384615384,466.23076923076923,50.269230769230766,202.38461538461539,36.153846153846153,356.46153846153845,3.6538461538461537,26.73076923076923,28.23076923076923,0,0,0,null,427.42307692307691,124.84615384615384,121.65384615384616,70.84615384615384,466.23076923076923,50.269230769230766,202.38461538461539,36.153846153846153,356.46153846153845,3.6538461538461537,26.73076923076923,28.23076923076923,0,0,0,null,null,null,null,null,null,null,null,null,null,null,null,null,null,null,null,null,null,null,25,129.84,126.52,73.680000000000007,484.88,52.28,210.48,37.6,370.72,3.8,27.8,29.36,0,0,0,null,103.24,341.28,129.84,126.52,73.680000000000007,484.88,52.28,210.48,37.6,370.72,3.8,27.8,29.36,0,0,0]
[null,27,120.22222222222223,117.14814814814815,68.222222222222229,448.96296296296299,48.407407407407405,194.88888888888889,34.814814814814817,343.25925925925924,3.5185185185185186,25.74074074074074,27.185185185185187,0,0,0,null,95.592592592592595,316,120.22222222222223,117.14814814814815,68.222222222222229,448.96296296296299,48.407407407407405,194.88888888888889,34.814814814814817,343.25925925925924,3.5185185185185186,25.74074074074074,27.185185185185187,0,0,0,null,411.59259259259261,120.22222222222223,117.14814814814815,68.222222222222229,448.96296296296299,48.407407407407405,194.88888888888889,34.814814814814817,343.25925925925924,3.5185185185185186,25.74074074074074,27.185185185185187,0,0,0,null,null,null,null,null,null,null,null,null,null,null,null,null,null,null,null,null,null,null,26,124.84615384615384,121.65384615384616,70.84615384615384,466.23076923076923,50.269230769230766,202.38461538461539,36.153846153846153,356.46153846153845,3.6538461538461537,26.73076923076923,28.23076923076923,0,0,0,null,99.269230769230774,328.15384615384613,124.84615384615384,121.65384615384616,70.84615384615384,466.23076923076923,50.269230769230766,202.38461538461539,36.153846153846153,356.46153846153845,3.6538461538461537,26.73076923076923,28.23076923076923,0,0,0]
[null,28,115.92857142857143,112.96428571428571,65.785714285714292,432.92857142857144,46.678571428571431,187.92857142857142,33.571428571428569,331,3.3928571428571428,24.821428571428573,26.214285714285715,0,0,0,null,92.178571428571431,304.71428571428572,115.92857142857143,112.96428571428571,65.785714285714292,432.92857142857144,46.678571428571431,187.92857142857142,33.571428571428569,331,3.3928571428571428,24.821428571428573,26.214285714285715,0,0,0,null,396.89285714285717,115.92857142857143,112.96428571428571,65.785714285714292,432.92857142857144,46.678571428571431,187.92857142857142,33.571428571428569,331,3.3928571428571428,24.821428571428573,26.214285714285715,0,0,0,null,null,null,null,null,null,null,null,null,null,null,null,null,null,null,null,null,null,null,27,120.22222222222223,117.14814814814815,68.222222222222229,448.96296296296299,48.407407407407405,194.88888888888889,34.814814814814817,343.25925925925924,3.5185185185185186,25.74074074074074,27.185185185185187,0,0,0,null,95.592592592592595,316,120.22222222222223,117.14814814814815,68.222222222222229,448.96296296296299,48.407407407407405,194.88888888888889,34.814814814814817,343.25925925925924,3.5185185185185186,25.74074074074074,27.185185185185187,0,0,0]
[null,29,111.93103448275862,109.06896551724138,63.517241379310342,418,45.068965517241381,181.44827586206895,32.413793103448278,319.58620689655174,3.2758620689655173,23.96551724137931,25.310344827586206,0,0,0,null,89,294.20689655172413,111.93103448275862,109.06896551724138,63.517241379310342,418,45.068965517241381,181.44827586206895,32.413793103448278,319.58620689655174,3.2758620689655173,23.96551724137931,25.310344827586206,0,0,0,null,383.20689655172413,111.93103448275862,109.06896551724138,63.517241379310342,418,45.068965517241381,181.44827586206895,32.413793103448278,319.58620689655174,3.2758620689655173,23.96551724137931,25.310344827586206,0,0,0,null,null,null,null,null,null,null,null,null,null,null,null,null,null,null,null,null,null,null,28,115.92857142857143,112.96428571428571,65.785714285714292,432.92857142857144,46.678571428571431,187.92857142857142,33.571428571428569,331,3.3928571428571428,24.821428571428573,26.214285714285715,0,0,0,null,92.178571428571431,304.71428571428572,115.92857142857143,112.96428571428571,65.785714285714292,432.92857142857144,46.678571428571431,187.92857142857142,33.571428571428569,331,3.3928571428571428,24.821428571428573,26.214285714285715,0,0,0]
[null,30,108.2,105.43333333333334,61.4,404.06666666666666,43.56666666666667,175.4,31.333333333333332,308.93333333333334,3.1666666666666665,23.166666666666668,24.466666666666665,0,0,0,null,86.033333333333331,284.39999999999998,108.2,105.43333333333334,61.4,404.06666666666666,43.56666666666667,175.4,31.333333333333332,308.93333333333334,3.1666666666666665,23.166666666666668,24.466666666666665,0,0,0,null,370.43333333333334,108.2,105.43333333333334,61.4,404.06666666666666,43.56666666666667,175.4,31.333333333333332,308.93333333333334,3.1666666666666665,23.166666666666668,24.466666666666665,0,0,0,null,null,null,null,null,null,null,null,null,null,null,null,null,null,null,null,null,null,null,29,111.93103448275862,109.06896551724138,63.517241379310342,418,45.068965517241381,181.44827586206895,32.413793103448278,319.58620689655174,3.2758620689655173,23.96551724137931,25.310344827586206,0,0,0,null,89,294.20689655172413,111.93103448275862,109.06896551724138,63.517241379310342,418,45.068965517241381,181.44827586206895,32.413793103448278,319.58620689655174,3.2758620689655173,23.96551724137931,25.310344827586206,0,0,0]
[null,31,104.70967741935483,102.03225806451613,59.41935483870968,391.03225806451616,42.161290322580648,169.74193548387098,30.322580645161292,298.96774193548384,3.064516129032258,22.419354838709676,23.677419354838708,0,0,0,null,83.258064516129039,275.22580645161293,104.70967741935483,102.03225806451613,59.41935483870968,391.03225806451616,42.161290322580648,169.74193548387098,30.322580645161292,298.96774193548384,3.064516129032258,22.419354838709676,23.677419354838708,0,0,0,null,358.48387096774195,104.70967741935483,102.03225806451613,59.41935483870968,391.03225806451616,42.161290322580648,169.74193548387098,30.322580645161292,298.96774193548384,3.064516129032258,22.419354838709676,23.677419354838708,0,0,0,null,null,null,null,null,null,null,null,null,null,null,null,null,null,null,null,null,null,null,30,108.2,105.43333333333334,61.4,404.06666666666666,43.56666666666667,175.4,31.333333333333332,308.93333333333334,3.1666666666666665,23.166666666666668,24.466666666666665,0,0,0,null,86.033333333333331,284.39999999999998,108.2,105.43333333333334,61.4,404.06666666666666,43.56666666666667,175.4,31.333333333333332,308.93333333333334,3.1666666666666665,23.166666666666668,24.466666666666665,0,0,0]
[null,32,101.4375,98.84375,57.5625,378.8125,40.84375,164.4375,29.375,289.625,2.96875,21.71875,22.9375,0,0,0,null,80.65625,266.625,101.4375,98.84375,57.5625,378.8125,40.84375,164.4375,29.375,289.625,2.96875,21.71875,22.9375,0,0,0,null,347.28125,101.4375,98.84375,57.5625,378.8125,40.84375,164.4375,29.375,289.625,2.96875,21.71875,22.9375,0,0,0,null,null,null,null,null,null,null,null,null,null,null,null,null,null,null,null,null,null,null,31,104.70967741935483,102.03225806451613,59.41935483870968,391.03225806451616,42.161290322580648,169.74193548387098,30.322580645161292,298.96774193548384,3.064516129032258,22.419354838709676,23.677419354838708,0,0,0,null,83.258064516129039,275.22580645161293,104.70967741935483,102.03225806451613,59.41935483870968,391.03225806451616,42.161290322580648,169.74193548387098,30.322580645161292,298.96774193548384,3.064516129032258,22.419354838709676,23.677419354838708,0,0,0]
[null,33,98.36363636363636,95.848484848484844,55.81818181818182,367.33333333333331,39.606060606060609,159.45454545454547,28.484848484848484,280.84848484848487,2.8787878787878789,21.060606060606062,22.242424242424242,0,0,0,null,78.212121212121218,258.54545454545456,98.36363636363636,95.848484848484844,55.81818181818182,367.33333333333331,39.606060606060609,159.45454545454547,28.484848484848484,280.84848484848487,2.8787878787878789,21.060606060606062,22.242424242424242,0,0,0,null,336.75757575757575,98.36363636363636,95.848484848484844,55.81818181818182,367.33333333333331,39.606060606060609,159.45454545454547,28.484848484848484,280.84848484848487,2.8787878787878789,21.060606060606062,22.242424242424242,0,0,0,null,null,null,null,null,null,null,null,null,null,null,null,null,null,null,null,null,null,null,32,101.4375,98.84375,57.5625,378.8125,40.84375,164.4375,29.375,289.625,2.96875,21.71875,22.9375,0,0,0,null,80.65625,266.625,101.4375,98.84375,57.5625,378.8125,40.84375,164.4375,29.375,289.625,2.96875,21.71875,22.9375,0,0,0]
[null,34,95.470588235294116,93.029411764705884,54.176470588235297,356.52941176470586,38.441176470588232,154.76470588235293,27.647058823529413,272.58823529411762,2.7941176470588234,20.441176470588236,21.588235294117649,0,0,0,null,75.911764705882348,250.94117647058823,{"$f":"C40","v":95.470588235294116},{"$f":"D40","v":93.029411764705884},{"$f":"E40","v":54.176470588235297},{"$f":"F40","v":356.52941176470586},{"$f":"G40","v":38.441176470588232},{"$f":"H40","v":154.76470588235293},{"$f":"I40","v":27.647058823529413},{"$f":"J40","v":272.58823529411762},{"$f":"K40","v":2.7941176470588234},{"$f":"L40","v":20.441176470588236},{"$f":"M40","v":21.588235294117649},{"$f":"N40","v":0},0,0,null,326.85294117647061,{"$f":"C40","v":95.470588235294116},{"$f":"D40","v":93.029411764705884},{"$f":"E40","v":54.176470588235297},{"$f":"F40","v":356.52941176470586},{"$f":"G40","v":38.441176470588232},{"$f":"H40","v":154.76470588235293},{"$f":"I40","v":27.647058823529413},{"$f":"J40","v":272.58823529411762},{"$f":"K40","v":2.7941176470588234},{"$f":"L40","v":20.441176470588236},{"$f":"M40","v":21.588235294117649},{"$f":"N40","v":0},0,0,null,null,null,null,null,null,null,null,null,null,null,null,null,null,null,null,null,null,null,33,98.36363636363636,95.848484848484844,55.81818181818182,367.33333333333331,39.606060606060609,159.45454545454547,28.484848484848484,280.84848484848487,2.8787878787878789,21.060606060606062,22.242424242424242,0,0,0,null,78.212121212121218,258.54545454545456,98.36363636363636,95.848484848484844,55.81818181818182,367.33333333333331,39.606060606060609,159.45454545454547,28.484848484848484,280.84848484848487,2.8787878787878789,21.060606060606062,22.242424242424242,0,0,0]
[null,35,92.742857142857147,90.371428571428567,52.628571428571426,346.34285714285716,37.342857142857142,150.34285714285716,26.857142857142858,264.8,2.7142857142857144,19.857142857142858,20.971428571428572,0,0,0,null,73.742857142857147,243.77142857142857,92.742857142857147,90.371428571428567,52.628571428571426,346.34285714285716,37.342857142857142,150.34285714285716,26.857142857142858,264.8,2.7142857142857144,19.857142857142858,20.971428571428572,0,0,0,null,317.51428571428573,92.742857142857147,90.371428571428567,52.628571428571426,346.34285714285716,37.342857142857142,150.34285714285716,26.857142857142858,264.8,2.7142857142857144,19.857142857142858,20.971428571428572,0,0,0,null,null,null,null,null,null,null,null,null,null,null,null,null,null,null,null,null,null,null,34,95.470588235294116,93.029411764705884,54.176470588235297,356.52941176470586,38.441176470588232,154.76470588235293,27.647058823529413,272.58823529411762,2.7941176470588234,20.441176470588236,21.588235294117649,0,0,0,null,75.911764705882348,250.94117647058823,95.470588235294116,93.029411764705884,54.176470588235297,356.52941176470586,38.441176470588232,154.76470588235293,27.647058823529413,272.58823529411762,2.7941176470588234,20.441176470588236,21.588235294117649,0,0,0]
[null,36,90.166666666666671,87.861111111111114,51.166666666666664,336.72222222222223,36.305555555555557,146.16666666666666,26.111111111111111,257.44444444444446,2.6388888888888888,19.305555555555557,20.388888888888889,0,0,0,null,71.694444444444443,237,90.166666666666671,87.861111111111114,51.166666666666664,336.72222222222223,36.305555555555557,146.16666666666666,26.111111111111111,257.44444444444446,2.6388888888888888,19.305555555555557,20.388888888888889,0,0,0,null,308.69444444444446,90.166666666666671,87.861111111111114,51.166666666666664,336.72222222222223,36.305555555555557,146.16666666666666,26.111111111111111,257.44444444444446,2.6388888888888888,19.305555555555557,20.388888888888889,0,0,0,null,null,null,null,null,null,null,null,null,null,null,null,null,null,null,null,null,null,null,35,92.742857142857147,90.371428571428567,52.628571428571426,346.34285714285716,37.342857142857142,150.34285714285716,26.857142857142858,264.8,2.7142857142857144,19.857142857142858,20.971428571428572,0,0,0,null,73.742857142857147,243.77142857142857,92.742857142857147,90.371428571428567,52.628571428571426,346.34285714285716,37.342857142857142,150.34285714285716,26.857142857142858,264.8,2.7142857142857144,19.857142857142858,20.971428571428572,0,0,0]
[null,37,87.729729729729726,85.486486486486484,49.783783783783782,327.62162162162161,35.324324324324323,142.21621621621622,25.405405405405407,250.48648648648648,2.5675675675675675,18.783783783783782,19.837837837837839,0,0,0,null,69.756756756756758,230.59459459459458,87.729729729729726,85.486486486486484,49.783783783783782,327.62162162162161,35.324324324324323,142.21621621621622,25.405405405405407,250.48648648648648,2.5675675675675675,18.783783783783782,19.837837837837839,0,0,0,null,300.35135135135135,87.729729729729726,85.486486486486484,49.783783783783782,327.62162162162161,35.324324324324323,142.21621621621622,25.405405405405407,250.48648648648648,2.5675675675675675,18.783783783783782,19.837837837837839,0,0,0,null,null,null,null,null,null,null,null,null,null,null,null,null,null,null,null,null,null,null,36,90.166666666666671,87.861111111111114,51.166666666666664,336.72222222222223,36.305555555555557,146.16666666666666,26.111111111111111,257.44444444444446,2.6388888888888888,19.305555555555557,20.388888888888889,0,0,0,null,71.694444444444443,237,90.166666666666671,87.861111111111114,51.166666666666664,336.72222222222223,36.305555555555557,146.16666666666666,26.111111111111111,257.44444444444446,2.6388888888888888,19.305555555555557,20.388888888888889,0,0,0]
[null,38,85.421052631578945,83.236842105263165,48.473684210526315,319,34.39473684210526,138.47368421052633,24.736842105263158,243.89473684210526,2.5,18.289473684210527,19.315789473684209,0,0,0,null,67.921052631578945,224.52631578947367,85.421052631578945,83.236842105263165,48.473684210526315,319,34.39473684210526,138.47368421052633,24.736842105263158,243.89473684210526,2.5,18.289473684210527,19.315789473684209,0,0,0,null,292.44736842105266,85.421052631578945,83.236842105263165,48.473684210526315,319,34.39473684210526,138.47368421052633,24.736842105263158,243.89473684210526,2.5,18.289473684210527,19.315789473684209,0,0,0,null,null,null,null,null,null,null,null,null,null,null,null,null,null,null,null,null,null,null,37,87.729729729729726,85.486486486486484,49.783783783783782,327.62162162162161,35.324324324324323,142.21621621621622,25.405405405405407,250.48648648648648,2.5675675675675675,18.783783783783782,19.837837837837839,0,0,0,null,69.756756756756758,230.59459459459458,87.729729729729726,85.486486486486484,49.783783783783782,327.62162162162161,35.324324324324323,142.21621621621622,25.405405405405407,250.48648648648648,2.5675675675675675,18.783783783783782,19.837837837837839,0,0,0]
[null,39,83.230769230769226,81.102564102564102,47.230769230769234,310.82051282051282,33.512820512820511,134.92307692307693,24.102564102564102,237.64102564102564,2.4358974358974357,17.820512820512821,18.820512820512821,0,0,0,null,66.179487179487182,218.76923076923077,83.230769230769226,81.102564102564102,47.230769230769234,310.82051282051282,33.512820512820511,134.92307692307693,24.102564102564102,237.64102564102564,2.4358974358974357,17.820512820512821,18.820512820512821,0,0,0,null,284.94871794871796,83.230769230769226,81.102564102564102,47.230769230769234,310.82051282051282,33.512820512820511,134.92307692307693,24.102564102564102,237.64102564102564,2.4358974358974357,17.820512820512821,18.820512820512821,0,0,0,null,null,null,null,null,null,null,null,null,null,null,null,null,null,null,null,null,null,null,38,85.421052631578945,83.236842105263165,48.473684210526315,319,34.39473684210526,138.47368421052633,24.736842105263158,243.89473684210526,2.5,18.289473684210527,19.315789473684209,0,0,0,null,67.921052631578945,224.52631578947367,85.421052631578945,83.236842105263165,48.473684210526315,319,34.39473684210526,138.47368421052633,24.736842105263158,243.89473684210526,2.5,18.289473684210527,19.315789473684209,0,0,0]
[null,40,81.150000000000006,79.075000000000003,46.05,303.05,32.674999999999997,131.55000000000001,23.5,231.7,2.375,17.375,18.350000000000001,0,0,0,null,64.525000000000006,213.3,81.150000000000006,79.075000000000003,46.05,303.05,32.674999999999997,131.55000000000001,23.5,231.7,2.375,17.375,18.350000000000001,0,0,0,null,277.82499999999999,81.150000000000006,79.075000000000003,46.05,303.05,32.674999999999997,131.55000000000001,23.5,231.7,2.375,17.375,18.350000000000001,0,0,0,null,null,null,null,null,null,null,null,null,null,null,null,null,null,null,null,null,null,null,39,83.230769230769226,81.102564102564102,47.230769230769234,310.82051282051282,33.512820512820511,134.92307692307693,24.102564102564102,237.64102564102564,2.4358974358974357,17.820512820512821,18.820512820512821,0,0,0,null,66.179487179487182,218.76923076923077,83.230769230769226,81.102564102564102,47.230769230769234,310.82051282051282,33.512820512820511,134.92307692307693,24.102564102564102,237.64102564102564,2.4358974358974357,17.820512820512821,18.820512820512821,0,0,0]
[null,41,79.170731707317074,77.146341463414629,44.926829268292686,295.65853658536588,31.878048780487806,128.34146341463415,22.926829268292682,226.04878048780489,2.3170731707317072,16.951219512195124,17.902439024390244,0,0,0,null,62.951219512195124,208.09756097560975,79.170731707317074,77.146341463414629,44.926829268292686,295.65853658536588,31.878048780487806,128.34146341463415,22.926829268292682,226.04878048780489,2.3170731707317072,16.951219512195124,17.902439024390244,0,0,0,null,271.04878048780489,79.170731707317074,77.146341463414629,44.926829268292686,295.65853658536588,31.878048780487806,128.34146341463415,22.926829268292682,226.04878048780489,2.3170731707317072,16.951219512195124,17.902439024390244,0,0,0,null,null,null,null,null,null,null,null,null,null,null,null,null,null,null,null,null,null,null,40,81.150000000000006,79.075000000000003,46.05,303.05,32.674999999999997,131.55000000000001,23.5,231.7,2.375,17.375,18.350000000000001,0,0,0,null,64.525000000000006,213.3,81.150000000000006,79.075000000000003,46.05,303.05,32.674999999999997,131.55000000000001,23.5,231.7,2.375,17.375,18.350000000000001,0,0,0]
[null,42,77.285714285714292,75.30952380952381,43.857142857142854,288.61904761904759,31.11904761904762,125.28571428571429,22.38095238095238,220.66666666666666,2.2619047619047619,16.547619047619047,17.476190476190474,0,0,0,null,61.452380952380949,203.14285714285714,77.285714285714292,75.30952380952381,43.857142857142854,288.61904761904759,31.11904761904762,125.28571428571429,22.38095238095238,220.66666666666666,2.2619047619047619,16.547619047619047,17.476190476190474,0,0,0,null,264.59523809523807,77.285714285714292,75.30952380952381,43.857142857142854,288.61904761904759,31.11904761904762,125.28571428571429,22.38095238095238,220.66666666666666,2.2619047619047619,16.547619047619047,17.476190476190474,0,0,0,null,null,null,null,null,null,null,null,null,null,null,null,null,null,null,null,null,null,null,41,79.170731707317074,77.146341463414629,44.926829268292686,295.65853658536588,31.878048780487806,128.34146341463415,22.926829268292682,226.04878048780489,2.3170731707317072,16.951219512195124,17.902439024390244,0,0,0,null,62.951219512195124,208.09756097560975,79.170731707317074,77.146341463414629,44.926829268292686,295.65853658536588,31.878048780487806,128.34146341463415,22.926829268292682,226.04878048780489,2.3170731707317072,16.951219512195124,17.902439024390244,0,0,0]
[null,43,75.488372093023258,73.558139534883722,42.837209302325583,281.90697674418607,30.395348837209301,122.37209302325581,21.86046511627907,215.53488372093022,2.2093023255813953,16.162790697674417,17.069767441860463,0,0,0,null,60.02325581395349,198.41860465116278,75.488372093023258,73.558139534883722,42.837209302325583,281.90697674418607,30.395348837209301,122.37209302325581,21.86046511627907,215.53488372093022,2.2093023255813953,16.162790697674417,17.069767441860463,0,0,0,null,258.44186046511629,75.488372093023258,73.558139534883722,42.837209302325583,281.90697674418607,30.395348837209301,122.37209302325581,21.86046511627907,215.53488372093022,2.2093023255813953,16.162790697674417,17.069767441860463,0,0,0,null,null,null,null,null,null,null,null,null,null,null,null,null,null,null,null,null,null,null,42,77.285714285714292,75.30952380952381,43.857142857142854,288.61904761904759,31.11904761904762,125.28571428571429,22.38095238095238,220.66666666666666,2.2619047619047619,16.547619047619047,17.476190476190474,0,0,0,null,61.452380952380949,203.14285714285714,77.285714285714292,75.30952380952381,43.857142857142854,288.61904761904759,31.11904761904762,125.28571428571429,22.38095238095238,220.66666666666666,2.2619047619047619,16.547619047619047,17.476190476190474,0,0,0]
[null,44,73.772727272727266,71.88636363636364,41.863636363636367,275.5,29.704545454545453,119.59090909090909,21.363636363636363,210.63636363636363,2.1590909090909092,15.795454545454545,16.681818181818183,0,0,0,null,58.659090909090907,193.90909090909091,73.772727272727266,71.88636363636364,41.863636363636367,275.5,29.704545454545453,119.59090909090909,21.363636363636363,210.63636363636363,2.1590909090909092,15.795454545454545,16.681818181818183,0,0,0,null,252.56818181818181,73.772727272727266,71.88636363636364,41.863636363636367,275.5,29.704545454545453,119.59090909090909,21.363636363636363,210.63636363636363,2.1590909090909092,15.795454545454545,16.681818181818183,0,0,0,null,null,null,null,null,null,null,null,null,null,null,null,null,null,null,null,null,null,null,43,75.488372093023258,73.558139534883722,42.837209302325583,281.90697674418607,30.395348837209301,122.37209302325581,21.86046511627907,215.53488372093022,2.2093023255813953,16.162790697674417,17.069767441860463,0,0,0,null,60.02325581395349,198.41860465116278,75.488372093023258,73.558139534883722,42.837209302325583,281.90697674418607,30.395348837209301,122.37209302325581,21.86046511627907,215.53488372093022,2.2093023255813953,16.162790697674417,17.069767441860463,0,0,0]
[null,45,72.13333333333334,70.288888888888891,40.93333333333333,269.37777777777779,29.044444444444444,116.93333333333334,20.888888888888889,205.95555555555555,2.1111111111111112,15.444444444444445,16.31111111111111,0,0,0,null,57.355555555555554,189.6,72.13333333333334,70.288888888888891,40.93333333333333,269.37777777777779,29.044444444444444,116.93333333333334,20.888888888888889,205.95555555555555,2.1111111111111112,15.444444444444445,16.31111111111111,0,0,0,null,246.95555555555555,72.13333333333334,70.288888888888891,40.93333333333333,269.37777777777779,29.044444444444444,116.93333333333334,20.888888888888889,205.95555555555555,2.1111111111111112,15.444444444444445,16.31111111111111,0,0,0,null,null,null,null,null,null,null,null,null,null,null,null,null,null,null,null,null,null,null,44,73.772727272727266,71.88636363636364,41.863636363636367,275.5,29.704545454545453,119.59090909090909,21.363636363636363,210.63636363636363,2.1590909090909092,15.795454545454545,16.681818181818183,0,0,0,null,58.659090909090907,193.90909090909091,73.772727272727266,71.88636363636364,41.863636363636367,275.5,29.704545454545453,119.59090909090909,21.363636363636363,210.63636363636363,2.1590909090909092,15.795454545454545,16.681818181818183,0,0,0]
[null,46,70.565217391304344,68.760869565217391,40.043478260869563,263.52173913043481,28.413043478260871,114.39130434782609,20.434782608695652,201.47826086956522,2.0652173913043477,15.108695652173912,15.956521739130435,0,0,0,null,56.108695652173914,185.47826086956522,70.565217391304344,68.760869565217391,40.043478260869563,263.52173913043481,28.413043478260871,114.39130434782609,20.434782608695652,201.47826086956522,2.0652173913043477,15.108695652173912,15.956521739130435,0,0,0,null,241.58695652173913,70.565217391304344,68.760869565217391,40.043478260869563,263.52173913043481,28.413043478260871,114.39130434782609,20.434782608695652,201.47826086956522,2.0652173913043477,15.108695652173912,15.956521739130435,0,0,0,null,null,null,null,null,null,null,null,null,null,null,null,null,null,null,null,null,null,null,45,72.13333333333334,70.288888888888891,40.93333333333333,269.37777777777779,29.044444444444444,116.93333333333334,20.888888888888889,205.95555555555555,2.1111111111111112,15.444444444444445,16.31111111111111,0,0,0,null,57.355555555555554,189.6,72.13333333333334,70.288888888888891,40.93333333333333,269.37777777777779,29.044444444444444,116.93333333333334,20.888888888888889,205.95555555555555,2.1111111111111112,15.444444444444445,16.31111111111111,0,0,0]
[null,47,69.063829787234042,67.297872340425528,39.191489361702125,257.91489361702128,27.808510638297872,111.95744680851064,20,197.19148936170214,2.021276595744681,14.787234042553191,15.617021276595745,0,0,0,null,54.914893617021278,181.53191489361703,69.063829787234042,67.297872340425528,39.191489361702125,257.91489361702128,27.808510638297872,111.95744680851064,20,197.19148936170214,2.021276595744681,14.787234042553191,15.617021276595745,0,0,0,null,236.44680851063831,69.063829787234042,67.297872340425528,39.191489361702125,257.91489361702128,27.808510638297872,111.95744680851064,20,197.19148936170214,2.021276595744681,14.787234042553191,15.617021276595745,0,0,0,null,null,null,null,null,null,null,null,null,null,null,null,null,null,null,null,null,null,null,46,70.565217391304344,68.760869565217391,40.043478260869563,263.52173913043481,28.413043478260871,114.39130434782609,20.434782608695652,201.47826086956522,2.0652173913043477,15.108695652173912,15.956521739130435,0,0,0,null,56.108695652173914,185.47826086956522,70.565217391304344,68.760869565217391,40.043478260869563,263.52173913043481,28.413043478260871,114.39130434782609,20.434782608695652,201.47826086956522,2.0652173913043477,15.108695652173912,15.956521739130435,0,0,0]
[null,48,67.625,65.895833333333329,38.375,252.54166666666666,27.229166666666668,109.625,19.583333333333332,{"$f":"$J$6/B54","v":193.08333333333334},1.9791666666666667,14.479166666666666,15.291666666666666,0,0,0,null,53.770833333333336,177.75,67.625,65.895833333333329,38.375,252.54166666666666,27.229166666666668,109.625,19.583333333333332,193.08333333333334,1.9791666666666667,14.479166666666666,15.291666666666666,0,0,0,null,231.52083333333334,67.625,65.895833333333329,38.375,252.54166666666666,27.229166666666668,109.625,19.583333333333332,193.08333333333334,1.9791666666666667,14.479166666666666,15.291666666666666,0,0,0,null,null,null,null,null,null,null,null,null,null,null,null,null,null,null,null,null,null,null,47,69.063829787234042,67.297872340425528,39.191489361702125,257.91489361702128,27.808510638297872,111.95744680851064,20,197.19148936170214,2.021276595744681,14.787234042553191,15.617021276595745,0,0,0,null,54.914893617021278,181.53191489361703,69.063829787234042,67.297872340425528,39.191489361702125,257.91489361702128,27.808510638297872,111.95744680851064,20,197.19148936170214,2.021276595744681,14.787234042553191,15.617021276595745,0,0,0]
[null,49,66.244897959183675,64.551020408163268,37.591836734693878,247.38775510204081,26.673469387755102,107.38775510204081,19.183673469387756,189.14285714285714,1.9387755102040816,14.183673469387756,14.979591836734693,0,0,0,null,52.673469387755105,174.12244897959184,66.244897959183675,64.551020408163268,37.591836734693878,247.38775510204081,26.673469387755102,107.38775510204081,19.183673469387756,189.14285714285714,1.9387755102040816,14.183673469387756,14.979591836734693,0,0,{"$f":"P55","v":0},null,226.79591836734693,66.244897959183675,64.551020408163268,37.591836734693878,247.38775510204081,26.673469387755102,107.38775510204081,19.183673469387756,189.14285714285714,1.9387755102040816,14.183673469387756,14.979591836734693,0,0,{"$f":"P55","v":0},null,null,null,null,null,null,null,null,null,null,null,null,null,null,null,null,null,null,null,48,67.625,65.895833333333329,38.375,252.54166666666666,27.229166666666668,109.625,19.583333333333332,193.08333333333334,1.9791666666666667,14.479166666666666,15.291666666666666,0,0,0,null,53.770833333333336,177.75,67.625,65.895833333333329,38.375,252.54166666666666,27.229166666666668,109.625,19.583333333333332,193.08333333333334,1.9791666666666667,14.479166666666666,15.291666666666666,0,0,0]
[null,50,64.92,63.26,36.840000000000003,242.44,26.14,105.24,18.8,185.36,1.9,13.9,14.68,0,0,0,null,51.62,170.64,64.92,63.26,36.840000000000003,242.44,26.14,105.24,18.8,185.36,1.9,13.9,14.68,{"$f":"N56","v":0},0,0,null,222.26,64.92,63.26,36.840000000000003,242.44,26.14,105.24,18.8,185.36,1.9,13.9,14.68,{"$f":"N56","v":0},0,0,null,null,null,null,null,null,null,null,null,null,null,null,null,null,null,null,null,null,null,49,66.244897959183675,64.551020408163268,37.591836734693878,247.38775510204081,26.673469387755102,107.38775510204081,19.183673469387756,189.14285714285714,1.9387755102040816,14.183673469387756,14.979591836734693,0,0,0,null,52.673469387755105,174.12244897959184,66.244897959183675,64.551020408163268,37.591836734693878,247.38775510204081,26.673469387755102,107.38775510204081,19.183673469387756,189.14285714285714,1.9387755102040816,14.183673469387756,14.979591836734693,0,0,0]
[null,51,63.647058823529413,62.019607843137258,36.117647058823529,237.68627450980392,25.627450980392158,103.17647058823529,18.431372549019606,181.72549019607843,1.8627450980392157,13.627450980392156,14.392156862745098,0,0,0,null,50.607843137254903,167.29411764705881,63.647058823529413,62.019607843137258,36.117647058823529,237.68627450980392,25.627450980392158,103.17647058823529,18.431372549019606,181.72549019607843,1.8627450980392157,13.627450980392156,14.392156862745098,0,0,0,null,217.90196078431373,63.647058823529413,62.019607843137258,36.117647058823529,237.68627450980392,25.627450980392158,103.17647058823529,18.431372549019606,181.72549019607843,1.8627450980392157,13.627450980392156,14.392156862745098,0,0,0,null,null,null,null,null,null,null,null,null,null,null,null,null,null,null,null,null,null,null,50,64.92,63.26,36.840000000000003,242.44,26.14,105.24,18.8,185.36,1.9,13.9,14.68,0,0,0,null,51.62,170.64,64.92,63.26,36.840000000000003,242.44,26.14,105.24,18.8,185.36,1.9,13.9,14.68,0,0,0]
[null,52,62.42307692307692,60.82692307692308,35.42307692307692,233.11538461538461,{"$f":"$G$6/B58","v":25.134615384615383},101.19230769230769,18.076923076923077,178.23076923076923,1.8269230769230769,13.365384615384615,14.115384615384615,0,0,0,null,49.634615384615387,164.07692307692307,62.42307692307692,60.82692307692308,35.42307692307692,233.11538461538461,25.134615384615383,101.19230769230769,18.076923076923077,178.23076923076923,1.8269230769230769,13.365384615384615,14.115384615384615,0,0,0,null,213.71153846153845,62.42307692307692,60.82692307692308,35.42307692307692,233.11538461538461,25.134615384615383,101.19230769230769,18.076923076923077,178.23076923076923,1.8269230769230769,13.365384615384615,14.115384615384615,0,0,0,null,null,null,null,null,null,null,null,null,null,null,null,null,null,null,null,null,null,null,51,63.647058823529413,62.019607843137258,36.117647058823529,237.68627450980392,{"$f":"$G$6/BQ58","v":25.627450980392158},103.17647058823529,18.431372549019606,181.72549019607843,1.8627450980392157,13.627450980392156,14.392156862745098,0,0,0,null,50.607843137254903,167.29411764705881,63.647058823529413,62.019607843137258,36.117647058823529,237.68627450980392,25.627450980392158,103.17647058823529,18.431372549019606,181.72549019607843,1.8627450980392157,13.627450980392156,14.392156862745098,0,0,0]
[null,53,{"$f":"$C$6/B59","v":61.245283018867923},{"$f":"$D$6/B59","v":59.679245283018865},{"$f":"$E$6/B59","v":34.754716981132077},{"$f":"$F$6/B59","v":228.71698113207546},{"$f":"$G$6/B59","v":24.660377358490567},{"$f":"$H$6/B59","v":99.283018867924525},{"$f":"$I$6/B59","v":17.735849056603772},174.8679245283019,{"$f":"$K$6/B59","v":1.7924528301886793},{"$f":"$L$6/B59","v":13.113207547169811},{"$f":"$M$6/B59","v":13.849056603773585},0,0,{"$f":"$P$6/B59","v":0},null,{"$f":"$R$6/B59","v":48.698113207547166},{"$f":"$S$6/B59","v":160.98113207547169},61.245283018867923,59.679245283018865,34.754716981132077,228.71698113207546,24.660377358490567,99.283018867924525,17.735849056603772,174.8679245283019,1.7924528301886793,13.113207547169811,13.849056603773585,0,0,0,null,{"$f":"$AI$6/B59","v":209.67924528301887},61.245283018867923,59.679245283018865,34.754716981132077,228.71698113207546,24.660377358490567,99.283018867924525,17.735849056603772,174.8679245283019,1.7924528301886793,13.113207547169811,13.849056603773585,0,0,0,null,null,null,null,null,null,null,null,null,null,null,null,null,null,null,null,null,null,null,52,{"$f":"$C$6/BQ59","v":62.42307692307692},{"$f":"$D$6/BQ59","v":60.82692307692308},{"$f":"$E$6/BQ59","v":35.42307692307692},{"$f":"$F$6/BQ59","v":233.11538461538461},{"$f":"$G$6/BQ59","v":25.134615384615383},{"$f":"$H$6/BQ59","v":101.19230769230769},{"$f":"$I$6/BQ59","v":18.076923076923077},178.23076923076923,{"$f":"$K$6/BQ59","v":1.8269230769230769},{"$f":"$L$6/BQ59","v":13.365384615384615},{"$f":"$M$6/BQ59","v":14.115384615384615},0,0,{"$f":"$P$6/BQ59","v":0},null,{"$f":"$R$6/BQ59","v":49.634615384615387},{"$f":"$S$6/BQ59","v":164.07692307692307},62.42307692307692,60.82692307692308,35.42307692307692,233.11538461538461,25.134615384615383,101.19230769230769,18.076923076923077,178.23076923076923,1.8269230769230769,13.365384615384615,14.115384615384615,0,0,0]
[null,54,{"$f":"$C$6/B60","v":60.111111111111114},{"$f":"$D$6/B60","v":58.574074074074076},{"$f":"$E$6/B60","v":34.111111111111114},{"$f":"$F$6/B60","v":224.4814814814815},{"$f":"$G$6/B60","v":24.203703703703702},{"$f":"$H$6/B60","v":97.444444444444443},{"$f":"$I$6/B60","v":17.407407407407408},171.62962962962962,{"$f":"$K$6/B60","v":1.7592592592592593},{"$f":"$L$6/B60","v":12.87037037037037},{"$f":"$M$6/B60","v":13.592592592592593},0,0,{"$f":"$P$6/B60","v":0},null,{"$f":"$R$6/B60","v":47.796296296296298},{"$f":"$S$6/B60","v":158},60.111111111111114,58.574074074074076,34.111111111111114,224.4814814814815,24.203703703703702,97.444444444444443,17.407407407407408,171.62962962962962,1.7592592592592593,12.87037037037037,13.592592592592593,0,0,0,null,{"$f":"$AI$6/B60","v":205.7962962962963},60.111111111111114,58.574074074074076,34.111111111111114,224.4814814814815,24.203703703703702,97.444444444444443,17.407407407407408,171.62962962962962,1.7592592592592593,12.87037037037037,13.592592592592593,0,0,0,null,null,null,null,null,null,null,null,null,null,null,null,null,null,null,null,null,null,null,53,{"$f":"$C$6/BQ60","v":61.245283018867923},{"$f":"$D$6/BQ60","v":59.679245283018865},{"$f":"$E$6/BQ60","v":34.754716981132077},{"$f":"$F$6/BQ60","v":228.71698113207546},{"$f":"$G$6/BQ60","v":24.660377358490567},{"$f":"$H$6/BQ60","v":99.283018867924525},{"$f":"$I$6/BQ60","v":17.735849056603772},174.8679245283019,{"$f":"$K$6/BQ60","v":1.7924528301886793},{"$f":"$L$6/BQ60","v":13.113207547169811},{"$f":"$M$6/BQ60","v":13.849056603773585},0,0,{"$f":"$P$6/BQ60","v":0},null,{"$f":"$R$6/BQ60","v":48.698113207547166},{"$f":"$S$6/BQ60","v":160.98113207547169},61.245283018867923,59.679245283018865,34.754716981132077,228.71698113207546,24.660377358490567,99.283018867924525,17.735849056603772,174.8679245283019,1.7924528301886793,13.113207547169811,13.849056603773585,0,0,0]
[]
[]
[null,"Nombre d'inscrits",49787]
[null,"Bulletins déposés",41255]
[null,"Blancs & Nuls",2581]
[null,"Votes valables",38674]
[null,"Nombre de sièges",45]
[]
[]
[]
[]
[null,"Liste unique\nMajorité\nabsolue",{"$f":"SUM($C$73:$P$73)","v":0},null,null,null,null,null,null,null,null,null,null,null,null,null,null,{"$f":"SUM($R$73:$AG$73)","v":0},null,null,null,null,null,null,null,null,null,null,null,null,null,null,null,null,{"$f":"SUM($AI$73:$AW$73)","v":0}]
[null,null,{"$f":"IF(C7>($C$67/2),1,0)","v":0},{"$f":"IF(D7>($C$67/2),1,0)","v":0},{"$f":"IF(E7>($C$67/2),1,0)","v":0},{"$f":"IF(F7>($C$67/2),1,0)","v":0},{"$f":"IF(G7>($C$67/2),1,0)","v":0},{"$f":"IF(H7>($C$67/2),1,0)","v":0},{"$f":"IF(I7>($C$67/2),1,0)","v":0},{"$f":"IF(J7>($C$67/2),1,0)","v":0},{"$f":"IF(K7>($C$67/2),1,0)","v":0},{"$f":"IF(L7>($C$67/2),1,0)","v":0},{"$f":"IF(M7>($C$67/2),1,0)","v":0},{"$f":"IF(N7>($C$67/2),1,0)","v":0},{"$f":"IF(O7>($C$67/2),1,0)","v":0},{"$f":"IF(P7>($C$67/2),1,0)","v":0},null,{"$f":"IF(R7>($C$67/2),1,0)","v":0},{"$f":"IF(S7>($C$67/2),1,0)","v":0},{"$f":"IF(T7>($C$67/2),1,0)","v":0},{"$f":"IF(U7>($C$67/2),1,0)","v":0},{"$f":"IF(V7>($C$67/2),1,0)","v":0},{"$f":"IF(W7>($C$67/2),1,0)","v":0},{"$f":"IF(X7>($C$67/2),1,0)","v":0},{"$f":"IF(Y7>($C$67/2),1,0)","v":0},{"$f":"IF(Z7>($C$67/2),1,0)","v":0},{"$f":"IF(AA7>($C$67/2),1,0)","v":0},{"$f":"IF(AB7>($C$67/2),1,0)","v":0},{"$f":"IF(AC7>($C$67/2),1,0)","v":0},{"$f":"IF(AD7>($C$67/2),1,0)","v":0},{"$f":"IF(AE7>($C$67/2),1,0)","v":0},{"$f":"IF(AF7>($C$67/2),1,0)","v":0},{"$f":"IF(AG7>($C$67/2),1,0)","v":0},null,{"$f":"IF(AI7>($C$67/2),1,0)","v":0},{"$f":"IF(AJ7>($C$67/2),1,0)","v":0},{"$f":"IF(AK7>($C$67/2),1,0)","v":0},{"$f":"IF(AL7>($C$67/2),1,0)","v":0},{"$f":"IF(AM7>($C$67/2),1,0)","v":0},{"$f":"IF(AN7>($C$67/2),1,0)","v":0},{"$f":"IF(AO7>($C$67/2),1,0)","v":0},{"$f":"IF(AP7>($C$67/2),1,0)","v":0},{"$f":"IF(AQ7>($C$67/2),1,0)","v":0},{"$f":"IF(AR7>($C$67/2),1,0)","v":0},{"$f":"IF(AS7>($C$67/2),1,0)","v":0},{"$f":"IF(AT7>($C$67/2),1,0)","v":0},{"$f":"IF(AU7>($C$67/2),1,0)","v":0},{"$f":"IF(AV7>($C$67/2),1,0)","v":0},{"$f":"IF(AW7>($C$67/2),1,0)","v":0}]
[]
[null,"Liste unique\nMajorité\nabsolue\nnombre de voix",{"$f":"SUM($C$76:$P$76)","v":0},null,null,null,null,null,null,null,null,null,null,null,null,null,null,{"$f":"SUM(R76:AG76)","v":0},null,null,null,null,null,null,null,null,null,null,null,null,null,null,null,null,{"$f":"SUM(AI76:AW76)","v":0}]
[null,null,{"$f":"IF(C73>0,C6,0)","v":0},{"$f":"IF(D73>0,D6,0)","v":0},{"$f":"IF(E73>0,E6,0)","v":0},{"$f":"IF(F73>0,F6,0)","v":0},{"$f":"IF(G73>0,G6,0)","v":0},{"$f":"IF(H73>0,H6,0)","v":0},{"$f":"IF(I73>0,I6,0)","v":0},{"$f":"IF(J73>0,J6,0)","v":0},{"$f":"IF(K73>0,K6,0)","v":0},{"$f":"IF(L73>0,L6,0)","v":0},{"$f":"IF(M73>0,M6,0)","v":0},{"$f":"IF(N73>0,N6,0)","v":0},{"$f":"IF(O73>0,O6,0)","v":0},{"$f":"IF(P73>0,P6,0)","v":0},null,{"$f":"IF(R73>0,R6,0)","v":0},{"$f":"IF(S73>0,S6,0)","v":0},{"$f":"IF(T73>0,T6,0)","v":0},{"$f":"IF(U73>0,U6,0)","v":0},{"$f":"IF(V73>0,V6,0)","v":0},{"$f":"IF(W73>0,W6,0)","v":0},{"$f":"IF(X73>0,X6,0)","v":0},{"$f":"IF(Y73>0,Y6,0)","v":0},{"$f":"IF(Z73>0,Z6,0)","v":0},{"$f":"IF(AA73>0,AA6,0)","v":0},{"$f":"IF(AB73>0,AB6,0)","v":0},{"$f":"IF(AC73>0,AC6,0)","v":0},{"$f":"IF(AD73>0,AD6,0)","v":0},{"$f":"IF(AE73>0,AE6,0)","v":0},{"$f":"IF(AF73>0,AF6,0)","v":0},{"$f":"IF(AG73>0,AG6,0)","v":0},null,{"$f":"IF(AI73>0,AI6,0)","v":0},{"$f":"IF(AJ73>0,AJ6,0)","v":0},{"$f":"IF(AK73>0,AK6,0)","v":0},{"$f":"IF(AL73>0,AL6,0)","v":0},{"$f":"IF(AM73>0,AM6,0)","v":0},{"$f":"IF(AN73>0,AN6,0)","v":0},{"$f":"IF(AO73>0,AO6,0)","v":0},{"$f":"IF(AP73>0,AP6,0)","v":0},{"$f":"IF(AQ73>0,AQ6,0)","v":0},{"$f":"IF(AR73>0,AR6,0)","v":0},{"$f":"IF(AS73>0,AS6,0)","v":0},{"$f":"IF(AT73>0,AT6,0)","v":0},{"$f":"IF(AU73>0,AU6,0)","v":0},{"$f":"IF(AV73>0,AV6,0)","v":0},{"$f":"IF(AW73>0,AW6,0)","v":0}]
[]
[null,"Nbr voix\nCoalition",{"$f":"SUMIF(C4:P4,\"x\",C6:P6)","v":21390}]
[]
[null,"% Coalition",{"$f":"100/C63*C78","v":42.963022475746683}]
[null,"% Majorité",{"$f":"100/C63*C75","v":0}]
[]
[null,"Coalition",{"$f":"COUNTA(C4:P4)","v":2},{"$f":"IF(C83>0,1,0)","v":1}]
[]
[]
[]
[]
[]
[]
[]
[]
[]
[]
[]
[]
[null,null,null,null,null,null,null,null,null,null,null,null,null,null,null,"MOLENBEEK-SAINT-JEAN"]
[]
[null,null,null,null,null,null,null,null,null,null,null,null,null,null,null,null,null,{"$f":"R5","v":"Blancs & Nuls"},{"$f":"S5","v":"Non-déposés"},{"$f":"T5","v":"CDH-CD&V+"},{"$f":"U5","v":"ECOLO SAMEN"},{"$f":"V5","v":"DéFI"},{"$f":"W5","v":"PS sp.a"},{"$f":"X5","v":"N-VA"},{"$f":"Y5","v":"PTB*PVDA"},{"$f":"Z5","v":"Groen"},{"$f":"AA5","v":"LISTE BOURGMESTRE (LB)"},{"$f":"AB5","v":"CITOYEN D'EUROPE M3E"},{"$f":"AC5","v":"ISLAM"},{"$f":"AD5","v":"Molenbeek act"},{"$f":"AE5","v":0},{"$f":"AF5","v":0},{"$f":"AG5","v":0}]
[null,null,null,null,null,null,null,null,null,null,null,null,null,null,null,"Chiffres\nélectoraux",null,{"$f":"R6","v":2581},{"$f":"S6","v":8532},{"$f":"T6","v":3246},{"$f":"U6","v":3163},{"$f":"V6","v":1842},{"$f":"W6","v":12122},{"$f":"X6","v":1307},{"$f":"Y6","v":5262},{"$f":"Z6","v":940},{"$f":"AA6","v":9268},{"$f":"AB6","v":95},{"$f":"AC6","v":695},{"$f":"AD6","v":734},{"$f":"AE6","v":0},{"$f":"AF6","v":0},{"$f":"AG6","v":0}]
[null,null,null,null,null,null,null,null,null,null,null,null,null,null,null,"Impériali",null,0,0,{"$f":"C7","v":3},{"$f":"D7","v":3},{"$f":"E7","v":1},{"$f":"F7","v":17},{"$f":"G7","v":1},{"$f":"H7","v":7},{"$f":"I7","v":0},{"$f":"J7","v":13},{"$f":"K7","v":0},{"$f":"L7","v":0},{"$f":"M7","v":0},{"$f":"N7","v":0},{"$f":"O7","v":0},{"$f":"P7","v":0}]
[null,null,null,null,null,null,null,null,null,null,null,null,null,null,null,"Impériali\n+ proportionnelle",null,{"$f":"R7","v":2},{"$f":"S7","v":9},{"$f":"T7","v":3},{"$f":"U7","v":2},{"$f":"V7","v":1},{"$f":"W7","v":13},{"$f":"X7","v":0},{"$f":"Y7","v":5},{"$f":"Z7","v":0},{"$f":"AA7","v":10},{"$f":"AB7","v":0},{"$f":"AC7","v":0},{"$f":"AD7","v":0},{"$f":"AE7","v":0},{"$f":"AF7","v":0},{"$f":"AG7","v":0}]
[null,null,null,null,null,null,null,null,null,null,null,null,null,null,null,"D'Hondt",null,0,0,{"$f":"BR7","v":4},{"$f":"BS7","v":4},{"$f":"BT7","v":2},{"$f":"BU7","v":15},{"$f":"BV7","v":1},{"$f":"BW7","v":6},{"$f":"BX7","v":1},{"$f":"BY7","v":12},{"$f":"BZ7","v":0},{"$f":"CA7","v":0},{"$f":"CB7","v":0},{"$f":"CC7","v":0},{"$f":"CD7","v":0},{"$f":"CE7","v":0}]
[null,null,null,null,null,null,null,null,null,null,null,null,null,null,null,"D'Hondt\n+ proportionnelle",null,{"$f":"CG7","v":2},{"$f":"CH7","v":9},{"$f":"CI7","v":3},{"$f":"CJ7","v":3},{"$f":"CK7","v":1},{"$f":"CL7","v":12},{"$f":"CM7","v":1},{"$f":"CN7","v":5},{"$f":"CO7","v":0},{"$f":"CP7","v":9},{"$f":"CQ7","v":0},{"$f":"CR7","v":0},{"$f":"CS7","v":0},{"$f":"CT7","v":0},{"$f":"CU7","v":0},{"$f":"CV7","v":0}]
[null,null,null,null,null,null,null,null,null,null,null,null,null,null,null,"Proportionnelle\npure",null,{"$f":"AZ7","v":2.3328378894088817},{"$f":"BA7","v":7.7116516359692291},{"$f":"BB7","v":2.9338984072147349},{"$f":"BC7","v":2.8588788237893428},{"$f":"BD7","v":1.664892441802077},{"$f":"BE7","v":10.956474581718119},{"$f":"BF7","v":1.1813324763492479},{"$f":"BG7","v":4.7560608190893205},{"$f":"BH7","v":0.84961937855263425},{"$f":"BI7","v":8.3768855323678881},{"$f":"BJ7","v":8.5865788257978998E-2},{"$f":"BK7","v":0.62817602988732002},{"$f":"BL7","v":0.66342619559322713},{"$f":"BM7","v":0},{"$f":"BN7","v":0},{"$f":"BO7","v":0}]
[]
[null,null,null,null,null,null,null,null,null,null,null,null,null,null,null,null,"Nombre de sièges à distribuer :",null,null,null,{"$f":"C67","v":45},null,"Est-ce une liste unique en majorité absolue en termes de sièges ?",null,null,null,null,null,null,{"$f":"IF(C72>0,\"Oui\",\"Non\")","v":"Non"}]
[]
[null,null,null,null,null,null,null,null,null,null,null,null,null,null,null,null,"Nombre d'inscrits :",null,null,null,{"$f":"C63","v":49787},null,"Est-ce une liste unique en majorité absolue en termes de voix ?",null,null,null,null,null,null,{"$f":"IF(C75>0,\"Oui\",\"Non\")","v":"Non"}]
[]
[null,null,null,null,null,null,null,null,null,null,null,null,null,null,null,null,"Nombre de bulletins déposés :",null,null,null,{"$f":"C64","v":41255},null,"La majorité est-elle formée par une coalition ?",null,null,null,null,null,null,{"$f":"IF(B4>0,\"Oui\",\"Non\")","v":"Oui"}]
[]
[null,null,null,null,null,null,null,null,null,null,null,null,null,null,null,null,"Nombre de votes valables :",null,null,null,{"$f":"C66","v":38674},null,"Quelle est la proportion de l'électorat représentée par la majorité ?",null,null,null,null,null,null,{"$f":"IF(D83>0,C80,C81)","v":42.963022475746683}]
[]
[null,null,null,null,null,null,null,null,null,null,null,null,null,null,null,"Comparaison\nClef Impériali\n-\nClef D'Hondt",null,{"$f":"R100-R102","v":0},{"$f":"S100-S102","v":0},-1,-1,-1,2,0,1,-1,1,0,0,0,0,0,0]

{"sheet":"SAINT-GILLES","index":16,"n_rows":114,"n_cols":100,"rows_kept":114,"cut":false,"hidden":false,"merged":[[1,1,1,48],[1,68,1,99],[1,50,1,66],[71,1,72,1],[113,15,113,16],[107,16,107,19],[109,16,109,19],[111,16,111,19],[74,1,75,1],[95,15,95,32],[105,22,105,27],[107,22,107,27],[109,22,109,27],[111,22,111,27],[105,16,105,19]]}
[]
[null,"IMPÉRIALI",null,null,null,null,null,null,null,null,null,null,null,null,null,null,null,null,null,null,null,null,null,null,null,null,null,null,null,null,null,null,null,null,null,null,null,null,null,null,null,null,null,null,null,null,null,null,null,null,"PROPORTIONNELLE PURE",null,null,null,null,null,null,null,null,null,null,null,null,null,null,null,null,null,"D'HONDT"]
[]
[null,"Coalition",null,"x",null,"x"]
[null,{"$f":"COUNTA(C5:P5)","v":9},"CDH + CD&V","ECOLO-GROEN","DéFI","Liste du Bourgmestre","PTB*PVDA","MR","B.U.B.","GAUCHES COMMUNES","QQVF",null,null,null,null,null,null,"Blancs & Nuls","Non-déposés",{"$f":"C5","v":"CDH + CD&V"},{"$f":"D5","v":"ECOLO-GROEN"},"DéFI","Liste du Bourgmestre","PTB*PVDA","MR","B.U.B.","GAUCHES COMMUNES","QQVF",0,0,0,0,0,null,"Non-valables",{"$f":"C5","v":"CDH + CD&V"},{"$f":"D5","v":"ECOLO-GROEN"},"DéFI","Liste du Bourgmestre","PTB*PVDA","MR","B.U.B.","GAUCHES COMMUNES","QQVF",0,0,0,0,0,null,"New Key","Blancs & Nuls","Non-déposés",{"$f":"C5","v":"CDH + CD&V"},{"$f":"D5","v":"ECOLO-GROEN"},"DéFI","Liste du Bourgmestre","PTB*PVDA","MR","B.U.B.","GAUCHES COMMUNES","QQVF",0,0,0,0,0,null,null,{"$f":"C5","v":"CDH + CD&V"},{"$f":"D5","v":"ECOLO-GROEN"},"DéFI","Liste du Bourgmestre","PTB*PVDA","MR","B.U.B.","GAUCHES COMMUNES","QQVF",0,0,0,0,0,null,"Blancs & Nuls","Non-déposés",{"$f":"C5","v":"CDH + CD&V"},{"$f":"D5","v":"ECOLO-GROEN"},"DéFI","Liste du Bourgmestre","PTB*PVDA","MR","B.U.B.","GAUCHES COMMUNES","QQVF",0,0,0,0,0]
[null,"Chiffres\nélectoraux",683,5230,617,7369,2419,1678,81,423,86,0,0,0,0,0,null,{"$f":"C65","v":1178},{"$f":"C63-C64","v":3909},{"$f":"C6","v":683},5230,617,7369,2419,1678,81,423,86,0,0,0,0,0,null,{"$f":"S6+R6","v":5087},{"$f":"C6","v":683},5230,617,7369,2419,1678,81,423,86,0,0,0,0,0,null,null,{"$f":"C65","v":1178},{"$f":"C63-C64","v":3909},{"$f":"C6","v":683},5230,617,7369,2419,1678,81,423,86,0,0,0,0,0,null,"Chiffres\nélectoraux",{"$f":"C6","v":683},5230,617,7369,2419,1678,81,423,86,0,0,0,0,0,null,{"$f":"C65","v":1178},{"$f":"C63-C64","v":3909},{"$f":"C6","v":683},5230,617,7369,2419,1678,81,423,86,0,0,0,0,0]
[null,"Sièges",0,11,0,17,4,3,0,0,0,0,0,0,0,0,null,1,6,0,9,0,14,3,2,0,0,0,0,0,0,0,0,null,8,0,9,0,13,3,2,0,0,0,0,0,0,0,0,null,676.37142857142862,1.7416466016136525,5.7793689012799385,1.0098001943141974,7.7324377983356563,0.91222067334093682,10.894901364423603,3.5764372914290541,2.4808853968656273,0.11975668483081991,0.62539602078317069,0.12714907278333967,0,0,0,0,0,null,"Sièges",1,10,1,15,5,3,0,0,0,0,0,0,0,0,null,1,6,1,8,1,12,4,2,0,0,0,0,0,0,0,0]
[null,2,{"$f":"$C$6/B8","v":341.5},{"$f":"$D$6/B8","v":2615},{"$f":"$E$6/B8","v":308.5},{"$f":"$F$6/B8","v":3684.5},{"$f":"$G$6/B8","v":1209.5},{"$f":"$H$6/B8","v":839},{"$f":"$I$6/B8","v":40.5},{"$f":"$J$6/B8","v":211.5},{"$f":"$K$6/B8","v":43},{"$f":"$L$6/B8","v":0},{"$f":"$M$6/B8","v":0},{"$f":"$N$6/B8","v":0},{"$f":"$O$6/B8","v":0},{"$f":"$P$6/B8","v":0},null,{"$f":"$R$6/B8","v":589},{"$f":"$S$6/B8","v":1954.5},{"$f":"C8","v":341.5},{"$f":"D8","v":2615},{"$f":"E8","v":308.5},{"$f":"F8","v":3684.5},{"$f":"G8","v":1209.5},{"$f":"H8","v":839},{"$f":"I8","v":40.5},{"$f":"J8","v":211.5},{"$f":"K8","v":43},{"$f":"L8","v":0},{"$f":"M8","v":0},{"$f":"N8","v":0},{"$f":"O8","v":0},{"$f":"P8","v":0},null,{"$f":"$AI$6/B8","v":2543.5},{"$f":"C8","v":341.5},{"$f":"D8","v":2615},308.5,3684.5,1209.5,839,40.5,211.5,43,0,0,0,0,0,null,null,null,null,null,null,null,null,null,null,null,null,null,null,null,null,null,null,null,1,{"$f":"$C$6/BQ8","v":683},{"$f":"$D$6/BQ8","v":5230},{"$f":"$E$6/BQ8","v":617},{"$f":"$F$6/BQ8","v":7369},{"$f":"$G$6/BQ8","v":2419},{"$f":"$H$6/BQ8","v":1678},{"$f":"$I$6/BQ8","v":81},{"$f":"$J$6/BQ8","v":423},{"$f":"$K$6/BQ8","v":86},{"$f":"$L$6/BQ8","v":0},{"$f":"$M$6/BQ8","v":0},{"$f":"$N$6/BQ8","v":0},{"$f":"$O$6/BQ8","v":0},{"$f":"$P$6/BQ8","v":0},null,{"$f":"$R$6/BQ8","v":1178},{"$f":"$S$6/BQ8","v":3909},{"$f":"BR8","v":683},{"$f":"BS8","v":5230},{"$f":"BT8","v":617},{"$f":"BU8","v":7369},{"$f":"BV8","v":2419},{"$f":"BW8","v":1678},{"$f":"BX8","v":81},{"$f":"BY8","v":423},{"$f":"BZ8","v":86},{"$f":"CA8","v":0},{"$f":"CB8","v":0},{"$f":"CC8","v":0},{"$f":"CD8","v":0},{"$f":"CE8","v":0}]
[null,3,{"$f":"$C$6/B9","v":227.66666666666666},1743.3333333333333,{"$f":"$E$6/B9","v":205.66666666666666},2456.3333333333335,806.33333333333337,{"$f":"$H$6/B9","v":559.33333333333337},{"$f":"$I$6/B9","v":27},{"$f":"$J$6/B9","v":141},{"$f":"$K$6/B9","v":28.666666666666668},{"$f":"$L$6/B9","v":0},{"$f":"$M$6/B9","v":0},{"$f":"$N$6/B9","v":0},{"$f":"$O$6/B9","v":0},{"$f":"$P$6/B9","v":0},null,{"$f":"$R$6/B9","v":392.66666666666669},{"$f":"$S$6/B9","v":1303},{"$f":"C9","v":227.66666666666666},{"$f":"D9","v":1743.3333333333333},{"$f":"E9","v":205.66666666666666},{"$f":"F9","v":2456.3333333333335},{"$f":"G9","v":806.33333333333337},{"$f":"H9","v":559.33333333333337},{"$f":"I9","v":27},{"$f":"J9","v":141},{"$f":"K9","v":28.666666666666668},{"$f":"L9","v":0},{"$f":"M9","v":0},{"$f":"N9","v":0},{"$f":"O9","v":0},{"$f":"P9","v":0},null,{"$f":"$AI$6/B9","v":1695.6666666666667},{"$f":"C9","v":227.66666666666666},{"$f":"D9","v":1743.3333333333333},{"$f":"E9","v":205.66666666666666},{"$f":"F9","v":2456.3333333333335},{"$f":"G9","v":806.33333333333337},{"$f":"H9","v":559.33333333333337},{"$f":"I9","v":27},{"$f":"J9","v":141},{"$f":"K9","v":28.666666666666668},{"$f":"L9","v":0},{"$f":"M9","v":0},{"$f":"N9","v":0},{"$f":"O9","v":0},{"$f":"P9","v":0},null,null,null,null,null,null,null,null,null,null,null,null,null,null,null,null,null,null,null,2,{"$f":"$C$6/BQ9","v":341.5},2615,{"$f":"$E$6/BQ9","v":308.5},3684.5,1209.5,{"$f":"$H$6/BQ9","v":839},{"$f":"$I$6/BQ9","v":40.5},{"$f":"$J$6/BQ9","v":211.5},{"$f":"$K$6/BQ9","v":43},{"$f":"$L$6/BQ9","v":0},{"$f":"$M$6/BQ9","v":0},{"$f":"$N$6/BQ9","v":0},{"$f":"$O$6/BQ9","v":0},{"$f":"$P$6/BQ9","v":0},null,{"$f":"$R$6/BQ9","v":589},{"$f":"$S$6/BQ9","v":1954.5},341.5,2615,308.5,3684.5,1209.5,839,40.5,211.5,43,0,0,0,0,0]
[null,4,170.75,1307.5,154.25,1842.25,604.75,419.5,20.25,105.75,21.5,0,0,0,0,0,null,294.5,977.25,170.75,1307.5,154.25,1842.25,604.75,419.5,20.25,105.75,21.5,0,0,0,0,0,null,1271.75,170.75,1307.5,154.25,1842.25,604.75,419.5,20.25,105.75,21.5,0,0,0,0,0,null,null,null,null,null,null,null,null,null,null,null,null,null,null,null,null,null,null,null,3,227.66666666666666,1743.3333333333333,205.66666666666666,2456.3333333333335,806.33333333333337,559.33333333333337,27,141,28.666666666666668,0,0,0,0,0,null,392.66666666666669,1303,227.66666666666666,1743.3333333333333,205.66666666666666,2456.3333333333335,806.33333333333337,559.33333333333337,27,141,28.666666666666668,0,0,0,0,0]
[null,5,136.6,1046,123.4,1473.8,483.8,335.6,16.2,84.6,17.2,0,0,0,0,0,null,235.6,781.8,136.6,1046,123.4,1473.8,483.8,335.6,16.2,84.6,17.2,0,0,0,0,0,null,1017.4,136.6,1046,123.4,1473.8,483.8,335.6,16.2,84.6,17.2,0,0,0,0,0,null,null,null,null,null,null,null,null,null,null,null,null,null,null,null,null,null,null,null,4,170.75,1307.5,154.25,1842.25,604.75,419.5,20.25,105.75,21.5,0,0,0,0,0,null,294.5,977.25,170.75,1307.5,154.25,1842.25,604.75,419.5,20.25,105.75,21.5,0,0,0,0,0]
[null,6,113.83333333333333,871.66666666666663,102.83333333333333,1228.1666666666667,403.16666666666669,279.66666666666669,13.5,70.5,14.333333333333334,0,0,0,0,0,null,196.33333333333334,651.5,113.83333333333333,871.66666666666663,102.83333333333333,1228.1666666666667,403.16666666666669,279.66666666666669,13.5,70.5,14.333333333333334,0,0,0,0,0,null,847.83333333333337,113.83333333333333,871.66666666666663,102.83333333333333,1228.1666666666667,403.16666666666669,279.66666666666669,13.5,70.5,14.333333333333334,0,0,0,0,0,null,null,null,null,null,null,null,null,null,null,null,null,null,null,null,null,null,null,null,5,136.6,1046,123.4,1473.8,483.8,335.6,16.2,84.6,17.2,0,0,0,0,0,null,235.6,781.8,136.6,1046,123.4,1473.8,483.8,335.6,16.2,84.6,17.2,0,0,0,0,0]
[null,7,97.571428571428569,747.14285714285711,88.142857142857139,1052.7142857142858,345.57142857142856,239.71428571428572,11.571428571428571,60.428571428571431,12.285714285714286,0,0,0,0,0,null,168.28571428571428,558.42857142857144,97.571428571428569,747.14285714285711,88.142857142857139,1052.7142857142858,345.57142857142856,239.71428571428572,11.571428571428571,60.428571428571431,12.285714285714286,0,0,0,0,0,null,726.71428571428567,97.571428571428569,747.14285714285711,88.142857142857139,1052.7142857142858,345.57142857142856,239.71428571428572,11.571428571428571,60.428571428571431,12.285714285714286,0,0,0,0,0,null,null,null,null,null,null,null,null,null,null,null,null,null,null,null,null,null,null,null,6,113.83333333333333,871.66666666666663,102.83333333333333,1228.1666666666667,403.16666666666669,279.66666666666669,13.5,70.5,14.333333333333334,0,0,0,0,0,null,196.33333333333334,651.5,113.83333333333333,871.66666666666663,102.83333333333333,1228.1666666666667,403.16666666666669,279.66666666666669,13.5,70.5,14.333333333333334,0,0,0,0,0]
[null,8,85.375,653.75,77.125,921.125,302.375,209.75,10.125,52.875,10.75,0,0,0,0,0,null,147.25,488.625,85.375,653.75,77.125,921.125,302.375,209.75,10.125,52.875,10.75,0,0,0,0,0,null,635.875,85.375,653.75,77.125,921.125,302.375,209.75,10.125,52.875,10.75,0,0,0,0,0,null,null,null,null,null,null,null,null,null,null,null,null,null,null,null,null,null,null,null,7,97.571428571428569,747.14285714285711,88.142857142857139,1052.7142857142858,345.57142857142856,239.71428571428572,11.571428571428571,60.428571428571431,12.285714285714286,0,0,0,0,0,null,168.28571428571428,558.42857142857144,97.571428571428569,747.14285714285711,88.142857142857139,1052.7142857142858,345.57142857142856,239.71428571428572,11.571428571428571,60.428571428571431,12.285714285714286,0,0,0,0,0]
[null,9,75.888888888888886,581.11111111111109,68.555555555555557,818.77777777777783,268.77777777777777,186.44444444444446,9,47,9.5555555555555554,0,0,0,0,0,null,130.88888888888889,434.33333333333331,75.888888888888886,581.11111111111109,68.555555555555557,818.77777777777783,268.77777777777777,186.44444444444446,9,47,9.5555555555555554,0,0,0,0,0,null,565.22222222222217,75.888888888888886,581.11111111111109,68.555555555555557,818.77777777777783,268.77777777777777,186.44444444444446,9,47,9.5555555555555554,0,0,0,0,0,null,null,null,null,null,null,null,null,null,null,null,null,null,null,null,null,null,null,null,8,85.375,653.75,77.125,921.125,302.375,209.75,10.125,52.875,10.75,0,0,0,0,0,null,147.25,488.625,85.375,653.75,77.125,921.125,302.375,209.75,10.125,52.875,10.75,0,0,0,0,0]
[null,10,68.3,523,61.7,736.9,241.9,167.8,8.1,42.3,8.6,0,0,0,0,0,null,117.8,390.9,68.3,523,61.7,736.9,241.9,167.8,8.1,42.3,8.6,0,0,0,0,0,null,508.7,68.3,523,61.7,736.9,241.9,167.8,8.1,42.3,8.6,0,0,0,0,0,null,null,null,null,null,null,null,null,null,null,null,null,null,null,null,null,null,null,null,9,75.888888888888886,581.11111111111109,68.555555555555557,818.77777777777783,268.77777777777777,186.44444444444446,9,47,9.5555555555555554,0,0,0,0,0,null,130.88888888888889,434.33333333333331,75.888888888888886,581.11111111111109,68.555555555555557,818.77777777777783,268.77777777777777,186.44444444444446,9,47,9.5555555555555554,0,0,0,0,0]
[null,11,62.090909090909093,475.45454545454544,56.090909090909093,669.90909090909088,219.90909090909091,152.54545454545453,7.3636363636363633,38.454545454545453,7.8181818181818183,0,0,0,0,0,null,107.09090909090909,355.36363636363637,62.090909090909093,475.45454545454544,56.090909090909093,669.90909090909088,219.90909090909091,152.54545454545453,7.3636363636363633,38.454545454545453,7.8181818181818183,0,0,0,0,0,null,462.45454545454544,62.090909090909093,475.45454545454544,56.090909090909093,669.90909090909088,219.90909090909091,152.54545454545453,7.3636363636363633,38.454545454545453,7.8181818181818183,0,0,0,0,0,null,null,null,null,null,null,null,null,null,null,null,null,null,null,null,null,null,null,null,10,68.3,523,61.7,736.9,241.9,167.8,8.1,42.3,8.6,0,0,0,0,0,null,117.8,390.9,68.3,523,61.7,736.9,241.9,167.8,8.1,42.3,8.6,0,0,0,0,0]
[null,12,56.916666666666664,435.83333333333331,51.416666666666664,614.08333333333337,201.58333333333334,139.83333333333334,6.75,35.25,7.166666666666667,0,0,0,0,0,null,98.166666666666671,325.75,56.916666666666664,435.83333333333331,51.416666666666664,614.08333333333337,201.58333333333334,139.83333333333334,6.75,35.25,7.166666666666667,0,0,0,0,0,null,423.91666666666669,56.916666666666664,435.83333333333331,51.416666666666664,614.08333333333337,201.58333333333334,139.83333333333334,6.75,35.25,7.166666666666667,0,0,0,0,0,null,null,null,null,null,null,null,null,null,null,null,null,null,null,null,null,null,null,null,11,62.090909090909093,475.45454545454544,56.090909090909093,669.90909090909088,219.90909090909091,152.54545454545453,7.3636363636363633,38.454545454545453,7.8181818181818183,0,0,0,0,0,null,107.09090909090909,355.36363636363637,62.090909090909093,475.45454545454544,56.090909090909093,669.90909090909088,219.90909090909091,152.54545454545453,7.3636363636363633,38.454545454545453,7.8181818181818183,0,0,0,0,0]
[null,13,52.53846153846154,402.30769230769232,47.46153846153846,566.84615384615381,186.07692307692307,129.07692307692307,6.2307692307692308,32.53846153846154,6.615384615384615,0,0,0,0,0,null,90.615384615384613,300.69230769230768,52.53846153846154,402.30769230769232,47.46153846153846,566.84615384615381,186.07692307692307,129.07692307692307,6.2307692307692308,32.53846153846154,6.615384615384615,0,0,0,0,0,null,391.30769230769232,52.53846153846154,402.30769230769232,47.46153846153846,566.84615384615381,186.07692307692307,129.07692307692307,6.2307692307692308,32.53846153846154,6.615384615384615,0,0,0,0,0,null,null,null,null,null,null,null,null,null,null,null,null,null,null,null,null,null,null,null,12,56.916666666666664,435.83333333333331,51.416666666666664,614.08333333333337,201.58333333333334,139.83333333333334,6.75,35.25,7.166666666666667,0,0,0,0,0,null,98.166666666666671,325.75,56.916666666666664,435.83333333333331,51.416666666666664,614.08333333333337,201.58333333333334,139.83333333333334,6.75,35.25,7.166666666666667,0,0,0,0,0]
[null,14,48.785714285714285,373.57142857142856,44.071428571428569,526.35714285714289,172.78571428571428,119.85714285714286,5.7857142857142856,30.214285714285715,6.1428571428571432,0,0,0,0,0,null,84.142857142857139,279.21428571428572,48.785714285714285,373.57142857142856,44.071428571428569,526.35714285714289,172.78571428571428,119.85714285714286,5.7857142857142856,30.214285714285715,6.1428571428571432,0,0,0,0,0,null,363.35714285714283,48.785714285714285,373.57142857142856,44.071428571428569,526.35714285714289,172.78571428571428,119.85714285714286,5.7857142857142856,30.214285714285715,6.1428571428571432,0,0,0,0,0,null,null,null,null,null,null,null,null,null,null,null,null,null,null,null,null,null,null,null,13,52.53846153846154,402.30769230769232,47.46153846153846,566.84615384615381,186.07692307692307,129.07692307692307,6.2307692307692308,32.53846153846154,6.615384615384615,0,0,0,0,0,null,90.615384615384613,300.69230769230768,52.53846153846154,402.30769230769232,47.46153846153846,566.84615384615381,186.07692307692307,129.07692307692307,6.2307692307692308,32.53846153846154,6.615384615384615,0,0,0,0,0]
[null,15,45.533333333333331,348.66666666666669,41.133333333333333,491.26666666666665,161.26666666666668,111.86666666666666,5.4,28.2,5.7333333333333334,0,0,0,0,0,null,78.533333333333331,260.60000000000002,45.533333333333331,348.66666666666669,41.133333333333333,491.26666666666665,161.26666666666668,111.86666666666666,5.4,28.2,5.7333333333333334,0,0,0,0,0,null,339.13333333333333,45.533333333333331,348.66666666666669,41.133333333333333,491.26666666666665,161.26666666666668,111.86666666666666,5.4,28.2,5.7333333333333334,0,0,0,0,0,null,null,null,null,null,null,null,null,null,null,null,null,null,null,null,null,null,null,null,14,48.785714285714285,373.57142857142856,44.071428571428569,526.35714285714289,172.78571428571428,119.85714285714286,5.7857142857142856,30.214285714285715,6.1428571428571432,0,0,0,0,0,null,84.142857142857139,279.21428571428572,48.785714285714285,373.57142857142856,44.071428571428569,526.35714285714289,172.78571428571428,119.85714285714286,5.7857142857142856,30.214285714285715,6.1428571428571432,0,0,0,0,0]
[null,16,42.6875,326.875,38.5625,460.5625,151.1875,104.875,5.0625,26.4375,5.375,0,0,0,0,0,null,73.625,244.3125,42.6875,326.875,38.5625,460.5625,151.1875,104.875,5.0625,26.4375,5.375,0,0,0,0,0,null,317.9375,42.6875,326.875,38.5625,460.5625,151.1875,104.875,5.0625,26.4375,5.375,0,0,0,0,0,null,null,null,null,null,null,null,null,null,null,null,null,null,null,null,null,null,null,null,15,45.533333333333331,348.66666666666669,41.133333333333333,491.26666666666665,161.26666666666668,111.86666666666666,5.4,28.2,5.7333333333333334,0,0,0,0,0,null,78.533333333333331,260.60000000000002,45.533333333333331,348.66666666666669,41.133333333333333,491.26666666666665,161.26666666666668,111.86666666666666,5.4,28.2,5.7333333333333334,0,0,0,0,0]
[null,17,40.176470588235297,307.64705882352939,36.294117647058826,433.47058823529414,142.29411764705881,98.705882352941174,4.7647058823529411,24.882352941176471,5.0588235294117645,0,0,0,0,0,null,69.294117647058826,229.94117647058823,40.176470588235297,307.64705882352939,36.294117647058826,433.47058823529414,142.29411764705881,98.705882352941174,4.7647058823529411,24.882352941176471,5.0588235294117645,0,0,0,0,0,null,299.23529411764707,40.176470588235297,307.64705882352939,36.294117647058826,433.47058823529414,142.29411764705881,98.705882352941174,4.7647058823529411,24.882352941176471,5.0588235294117645,0,0,0,0,0,null,null,null,null,null,null,null,null,null,null,null,null,null,null,null,null,null,null,null,16,42.6875,326.875,38.5625,460.5625,151.1875,104.875,5.0625,26.4375,5.375,0,0,0,0,0,null,73.625,244.3125,42.6875,326.875,38.5625,460.5625,151.1875,104.875,5.0625,26.4375,5.375,0,0,0,0,0]
[null,18,37.944444444444443,290.55555555555554,34.277777777777779,409.38888888888891,134.38888888888889,93.222222222222229,4.5,23.5,4.7777777777777777,0,0,0,0,0,null,65.444444444444443,217.16666666666666,37.944444444444443,290.55555555555554,34.277777777777779,409.38888888888891,134.38888888888889,93.222222222222229,4.5,23.5,4.7777777777777777,0,0,0,0,0,null,282.61111111111109,37.944444444444443,290.55555555555554,34.277777777777779,409.38888888888891,134.38888888888889,93.222222222222229,4.5,23.5,4.7777777777777777,0,0,0,0,0,null,null,null,null,null,null,null,null,null,null,null,null,null,null,null,null,null,null,null,17,40.176470588235297,307.64705882352939,36.294117647058826,433.47058823529414,142.29411764705881,98.705882352941174,4.7647058823529411,24.882352941176471,5.0588235294117645,0,0,0,0,0,null,69.294117647058826,229.94117647058823,40.176470588235297,307.64705882352939,36.294117647058826,433.47058823529414,142.29411764705881,98.705882352941174,4.7647058823529411,24.882352941176471,5.0588235294117645,0,0,0,0,0]
[null,19,35.94736842105263,275.26315789473682,32.473684210526315,387.84210526315792,127.31578947368421,88.315789473684205,4.2631578947368425,22.263157894736842,4.5263157894736841,0,0,0,0,0,null,62,205.73684210526315,35.94736842105263,275.26315789473682,32.473684210526315,387.84210526315792,127.31578947368421,88.315789473684205,4.2631578947368425,22.263157894736842,4.5263157894736841,0,0,0,0,0,null,267.73684210526318,35.94736842105263,275.26315789473682,32.473684210526315,387.84210526315792,127.31578947368421,88.315789473684205,4.2631578947368425,22.263157894736842,4.5263157894736841,0,0,0,0,0,null,null,null,null,null,null,null,null,null,null,null,null,null,null,null,null,null,null,null,18,37.944444444444443,290.55555555555554,34.277777777777779,409.38888888888891,134.38888888888889,93.222222222222229,4.5,23.5,4.7777777777777777,0,0,0,0,0,null,65.444444444444443,217.16666666666666,37.944444444444443,290.55555555555554,34.277777777777779,409.38888888888891,134.38888888888889,93.222222222222229,4.5,23.5,4.7777777777777777,0,0,0,0,0]
[null,20,34.15,261.5,30.85,368.45,120.95,83.9,4.05,21.15,4.3,0,0,0,0,0,null,58.9,195.45,34.15,261.5,30.85,368.45,120.95,83.9,4.05,21.15,4.3,0,0,0,0,0,null,254.35,34.15,261.5,30.85,368.45,120.95,83.9,4.05,21.15,4.3,0,0,0,0,0,null,null,null,null,null,null,null,null,null,null,null,null,null,null,null,null,null,null,null,19,35.94736842105263,275.26315789473682,32.473684210526315,387.84210526315792,127.31578947368421,88.315789473684205,4.2631578947368425,22.263157894736842,4.5263157894736841,0,0,0,0,0,null,62,205.73684210526315,35.94736842105263,275.26315789473682,32.473684210526315,387.84210526315792,127.31578947368421,88.315789473684205,4.2631578947368425,22.263157894736842,4.5263157894736841,0,0,0,0,0]
[null,21,32.523809523809526,249.04761904761904,29.38095238095238,350.90476190476193,115.19047619047619,79.904761904761898,3.8571428571428572,20.142857142857142,4.0952380952380949,0,0,0,0,0,null,56.095238095238095,186.14285714285714,32.523809523809526,249.04761904761904,29.38095238095238,350.90476190476193,115.19047619047619,79.904761904761898,3.8571428571428572,20.142857142857142,4.0952380952380949,0,0,0,0,0,null,242.23809523809524,32.523809523809526,249.04761904761904,29.38095238095238,350.90476190476193,115.19047619047619,79.904761904761898,3.8571428571428572,20.142857142857142,4.0952380952380949,0,0,0,0,0,null,null,null,null,null,null,null,null,null,null,null,null,null,null,null,null,null,null,null,20,34.15,261.5,30.85,368.45,120.95,83.9,4.05,21.15,4.3,0,0,0,0,0,null,58.9,195.45,34.15,261.5,30.85,368.45,120.95,83.9,4.05,21.15,4.3,0,0,0,0,0]
[null,22,31.045454545454547,237.72727272727272,28.045454545454547,334.95454545454544,109.95454545454545,76.272727272727266,3.6818181818181817,19.227272727272727,3.9090909090909092,0,0,0,0,0,null,53.545454545454547,177.68181818181819,31.045454545454547,237.72727272727272,28.045454545454547,334.95454545454544,109.95454545454545,76.272727272727266,3.6818181818181817,19.227272727272727,3.9090909090909092,0,0,0,0,0,null,231.22727272727272,31.045454545454547,237.72727272727272,28.045454545454547,334.95454545454544,109.95454545454545,76.272727272727266,3.6818181818181817,19.227272727272727,3.9090909090909092,0,0,0,0,0,null,null,null,null,null,null,null,null,null,null,null,null,null,null,null,null,null,null,null,21,32.523809523809526,249.04761904761904,29.38095238095238,350.90476190476193,115.19047619047619,79.904761904761898,3.8571428571428572,20.142857142857142,4.0952380952380949,0,0,0,0,0,null,56.095238095238095,186.14285714285714,32.523809523809526,249.04761904761904,29.38095238095238,350.90476190476193,115.19047619047619,79.904761904761898,3.8571428571428572,20.142857142857142,4.0952380952380949,0,0,0,0,0]
[null,23,29.695652173913043,227.39130434782609,26.826086956521738,320.39130434782606,105.17391304347827,72.956521739130437,3.5217391304347827,18.391304347826086,3.7391304347826089,0,0,0,0,0,null,51.217391304347828,169.95652173913044,29.695652173913043,227.39130434782609,26.826086956521738,320.39130434782606,105.17391304347827,72.956521739130437,3.5217391304347827,18.391304347826086,3.7391304347826089,0,0,0,0,0,null,221.17391304347825,29.695652173913043,227.39130434782609,26.826086956521738,320.39130434782606,105.17391304347827,72.956521739130437,3.5217391304347827,18.391304347826086,3.7391304347826089,0,0,0,0,0,null,null,null,null,null,null,null,null,null,null,null,null,null,null,null,null,null,null,null,22,31.045454545454547,237.72727272727272,28.045454545454547,334.95454545454544,109.95454545454545,76.272727272727266,3.6818181818181817,19.227272727272727,3.9090909090909092,0,0,0,0,0,null,53.545454545454547,177.68181818181819,31.045454545454547,237.72727272727272,28.045454545454547,334.95454545454544,109.95454545454545,76.272727272727266,3.6818181818181817,19.227272727272727,3.9090909090909092,0,0,0,0,0]
[null,24,28.458333333333332,217.91666666666666,25.708333333333332,307.04166666666669,100.79166666666667,69.916666666666671,3.375,17.625,3.5833333333333335,0,0,0,0,0,null,49.083333333333336,162.875,28.458333333333332,217.91666666666666,25.708333333333332,307.04166666666669,100.79166666666667,69.916666666666671,3.375,17.625,3.5833333333333335,0,0,0,0,0,null,211.95833333333334,28.458333333333332,217.91666666666666,25.708333333333332,307.04166666666669,100.79166666666667,69.916666666666671,3.375,17.625,3.5833333333333335,0,0,0,0,0,null,null,null,null,null,null,null,null,null,null,null,null,null,null,null,null,null,null,null,23,29.695652173913043,227.39130434782609,26.826086956521738,320.39130434782606,105.17391304347827,72.956521739130437,3.5217391304347827,18.391304347826086,3.7391304347826089,0,0,0,0,0,null,51.217391304347828,169.95652173913044,29.695652173913043,227.39130434782609,26.826086956521738,320.39130434782606,105.17391304347827,72.956521739130437,3.5217391304347827,18.391304347826086,3.7391304347826089,0,0,0,0,0]
[null,25,27.32,209.2,24.68,294.76,96.76,67.12,3.24,16.920000000000002,3.44,0,0,0,0,0,null,47.12,156.36000000000001,27.32,209.2,24.68,294.76,96.76,67.12,3.24,16.920000000000002,3.44,0,0,0,0,0,null,203.48,27.32,209.2,24.68,294.76,96.76,67.12,3.24,16.920000000000002,3.44,0,0,0,0,0,null,null,null,null,null,null,null,null,null,null,null,null,null,null,null,null,null,null,null,24,28.458333333333332,217.91666666666666,25.708333333333332,307.04166666666669,100.79166666666667,69.916666666666671,3.375,17.625,3.5833333333333335,0,0,0,0,0,null,49.083333333333336,162.875,28.458333333333332,217.91666666666666,25.708333333333332,307.04166666666669,100.79166666666667,69.916666666666671,3.375,17.625,3.5833333333333335,0,0,0,0,0]
[null,26,26.26923076923077,201.15384615384616,23.73076923076923,283.42307692307691,93.038461538461533,64.538461538461533,3.1153846153846154,16.26923076923077,3.3076923076923075,0,0,0,0,0,null,45.307692307692307,150.34615384615384,26.26923076923077,201.15384615384616,23.73076923076923,283.42307692307691,93.038461538461533,64.538461538461533,3.1153846153846154,16.26923076923077,3.3076923076923075,0,0,0,0,0,null,195.65384615384616,26.26923076923077,201.15384615384616,23.73076923076923,283.42307692307691,93.038461538461533,64.538461538461533,3.1153846153846154,16.26923076923077,3.3076923076923075,0,0,0,0,0,null,null,null,null,null,null,null,null,null,null,null,null,null,null,null,null,null,null,null,25,27.32,209.2,24.68,294.76,96.76,67.12,3.24,16.920000000000002,3.44,0,0,0,0,0,null,47.12,156.36000000000001,27.32,209.2,24.68,294.76,96.76,67.12,3.24,16.920000000000002,3.44,0,0,0,0,0]
[null,27,25.296296296296298,193.7037037037037,22.851851851851851,272.92592592592592,89.592592592592595,62.148148148148145,3,15.666666666666666,3.1851851851851851,0,0,0,0,0,null,43.629629629629626,144.77777777777777,25.296296296296298,193.7037037037037,22.851851851851851,272.92592592592592,89.592592592592595,62.148148148148145,3,15.666666666666666,3.1851851851851851,0,0,0,0,0,null,188.40740740740742,25.296296296296298,193.7037037037037,22.851851851851851,272.92592592592592,89.592592592592595,62.148148148148145,3,15.666666666666666,3.1851851851851851,0,0,0,0,0,null,null,null,null,null,null,null,null,null,null,null,null,null,null,null,null,null,null,null,26,26.26923076923077,201.15384615384616,23.73076923076923,283.42307692307691,93.038461538461533,64.538461538461533,3.1153846153846154,16.26923076923077,3.3076923076923075,0,0,0,0,0,null,45.307692307692307,150.34615384615384,26.26923076923077,201.15384615384616,23.73076923076923,283.42307692307691,93.038461538461533,64.538461538461533,3.1153846153846154,16.26923076923077,3.3076923076923075,0,0,0,0,0]
[null,28,24.392857142857142,186.78571428571428,22.035714285714285,263.17857142857144,86.392857142857139,59.928571428571431,2.8928571428571428,15.107142857142858,3.0714285714285716,0,0,0,0,0,null,42.071428571428569,139.60714285714286,24.392857142857142,186.78571428571428,22.035714285714285,263.17857142857144,86.392857142857139,59.928571428571431,2.8928571428571428,15.107142857142858,3.0714285714285716,0,0,0,0,0,null,181.67857142857142,24.392857142857142,186.78571428571428,22.035714285714285,263.17857142857144,86.392857142857139,59.928571428571431,2.8928571428571428,15.107142857142858,3.0714285714285716,0,0,0,0,0,null,null,null,null,null,null,null,null,null,null,null,null,null,null,null,null,null,null,null,27,25.296296296296298,193.7037037037037,22.851851851851851,272.92592592592592,89.592592592592595,62.148148148148145,3,15.666666666666666,3.1851851851851851,0,0,0,0,0,null,43.629629629629626,144.77777777777777,25.296296296296298,193.7037037037037,22.851851851851851,272.92592592592592,89.592592592592595,62.148148148148145,3,15.666666666666666,3.1851851851851851,0,0,0,0,0]
[null,29,23.551724137931036,180.34482758620689,21.275862068965516,254.10344827586206,83.41379310344827,57.862068965517238,2.7931034482758621,14.586206896551724,2.9655172413793105,0,0,0,0,0,null,40.620689655172413,134.79310344827587,23.551724137931036,180.34482758620689,21.275862068965516,254.10344827586206,83.41379310344827,57.862068965517238,2.7931034482758621,14.586206896551724,2.9655172413793105,0,0,0,0,0,null,175.41379310344828,23.551724137931036,180.34482758620689,21.275862068965516,254.10344827586206,83.41379310344827,57.862068965517238,2.7931034482758621,14.586206896551724,2.9655172413793105,0,0,0,0,0,null,null,null,null,null,null,null,null,null,null,null,null,null,null,null,null,null,null,null,28,24.392857142857142,186.78571428571428,22.035714285714285,263.17857142857144,86.392857142857139,59.928571428571431,2.8928571428571428,15.107142857142858,3.0714285714285716,0,0,0,0,0,null,42.071428571428569,139.60714285714286,24.392857142857142,186.78571428571428,22.035714285714285,263.17857142857144,86.392857142857139,59.928571428571431,2.8928571428571428,15.107142857142858,3.0714285714285716,0,0,0,0,0]
[null,30,22.766666666666666,174.33333333333334,20.566666666666666,245.63333333333333,80.63333333333334,55.93333333333333,2.7,14.1,2.8666666666666667,0,0,0,0,0,null,39.266666666666666,130.30000000000001,22.766666666666666,174.33333333333334,20.566666666666666,245.63333333333333,80.63333333333334,55.93333333333333,2.7,14.1,2.8666666666666667,0,0,0,0,0,null,169.56666666666666,22.766666666666666,174.33333333333334,20.566666666666666,245.63333333333333,80.63333333333334,55.93333333333333,2.7,14.1,2.8666666666666667,0,0,0,0,0,null,null,null,null,null,null,null,null,null,null,null,null,null,null,null,null,null,null,null,29,23.551724137931036,180.34482758620689,21.275862068965516,254.10344827586206,83.41379310344827,57.862068965517238,2.7931034482758621,14.586206896551724,2.9655172413793105,0,0,0,0,0,null,40.620689655172413,134.79310344827587,23.551724137931036,180.34482758620689,21.275862068965516,254.10344827586206,83.41379310344827,57.862068965517238,2.7931034482758621,14.586206896551724,2.9655172413793105,0,0,0,0,0]
[null,31,22.032258064516128,168.70967741935485,19.903225806451612,237.70967741935485,78.032258064516128,54.12903225806452,2.6129032258064515,13.64516129032258,2.774193548387097,0,0,0,0,0,null,38,126.09677419354838,22.032258064516128,168.70967741935485,19.903225806451612,237.70967741935485,78.032258064516128,54.12903225806452,2.6129032258064515,13.64516129032258,2.774193548387097,0,0,0,0,0,null,164.09677419354838,22.032258064516128,168.70967741935485,19.903225806451612,237.70967741935485,78.032258064516128,54.12903225806452,2.6129032258064515,13.64516129032258,2.774193548387097,0,0,0,0,0,null,null,null,null,null,null,null,null,null,null,null,null,null,null,null,null,null,null,null,30,22.766666666666666,174.33333333333334,20.566666666666666,245.63333333333333,80.63333333333334,55.93333333333333,2.7,14.1,2.8666666666666667,0,0,0,0,0,null,39.266666666666666,130.30000000000001,22.766666666666666,174.33333333333334,20.566666666666666,245.63333333333333,80.63333333333334,55.93333333333333,2.7,14.1,2.8666666666666667,0,0,0,0,0]
[null,32,21.34375,163.4375,19.28125,230.28125,75.59375,52.4375,2.53125,13.21875,2.6875,0,0,0,0,0,null,36.8125,122.15625,21.34375,163.4375,19.28125,230.28125,75.59375,52.4375,2.53125,13.21875,2.6875,0,0,0,0,0,null,158.96875,21.34375,163.4375,19.28125,230.28125,75.59375,52.4375,2.53125,13.21875,2.6875,0,0,0,0,0,null,null,null,null,null,null,null,null,null,null,null,null,null,null,null,null,null,null,null,31,22.032258064516128,168.70967741935485,19.903225806451612,237.70967741935485,78.032258064516128,54.12903225806452,2.6129032258064515,13.64516129032258,2.774193548387097,0,0,0,0,0,null,38,126.09677419354838,22.032258064516128,168.70967741935485,19.903225806451612,237.70967741935485,78.032258064516128,54.12903225806452,2.6129032258064515,13.64516129032258,2.774193548387097,0,0,0,0,0]
[null,33,20.696969696969695,158.4848484848485,18.696969696969695,223.30303030303031,73.303030303030297,50.848484848484851,2.4545454545454546,12.818181818181818,2.606060606060606,0,0,0,0,0,null,35.696969696969695,118.45454545454545,20.696969696969695,158.4848484848485,18.696969696969695,223.30303030303031,73.303030303030297,50.848484848484851,2.4545454545454546,12.818181818181818,2.606060606060606,0,0,0,0,0,null,154.15151515151516,20.696969696969695,158.4848484848485,18.696969696969695,223.30303030303031,73.303030303030297,50.848484848484851,2.4545454545454546,12.818181818181818,2.606060606060606,0,0,0,0,0,null,null,null,null,null,null,null,null,null,null,null,null,null,null,null,null,null,null,null,32,21.34375,163.4375,19.28125,230.28125,75.59375,52.4375,2.53125,13.21875,2.6875,0,0,0,0,0,null,36.8125,122.15625,21.34375,163.4375,19.28125,230.28125,75.59375,52.4375,2.53125,13.21875,2.6875,0,0,0,0,0]
[null,34,20.088235294117649,153.8235294117647,18.147058823529413,216.73529411764707,71.147058823529406,49.352941176470587,2.3823529411764706,12.441176470588236,2.5294117647058822,0,0,0,0,0,null,34.647058823529413,114.97058823529412,20.088235294117649,153.8235294117647,18.147058823529413,216.73529411764707,71.147058823529406,49.352941176470587,2.3823529411764706,12.441176470588236,2.5294117647058822,0,0,0,0,0,null,149.61764705882354,20.088235294117649,153.8235294117647,18.147058823529413,216.73529411764707,71.147058823529406,49.352941176470587,2.3823529411764706,12.441176470588236,2.5294117647058822,0,0,0,0,0,null,null,null,null,null,null,null,null,null,null,null,null,null,null,null,null,null,null,null,33,20.696969696969695,158.4848484848485,18.696969696969695,223.30303030303031,73.303030303030297,50.848484848484851,2.4545454545454546,12.818181818181818,2.606060606060606,0,0,0,0,0,null,35.696969696969695,118.45454545454545,20.696969696969695,158.4848484848485,18.696969696969695,223.30303030303031,73.303030303030297,50.848484848484851,2.4545454545454546,12.818181818181818,2.606060606060606,0,0,0,0,0]
[null,35,19.514285714285716,149.42857142857142,17.62857142857143,210.54285714285714,69.114285714285714,47.942857142857143,2.3142857142857145,12.085714285714285,2.4571428571428573,0,0,0,0,0,null,33.657142857142858,111.68571428571428,19.514285714285716,149.42857142857142,17.62857142857143,210.54285714285714,69.114285714285714,47.942857142857143,2.3142857142857145,12.085714285714285,2.4571428571428573,0,0,0,0,0,null,145.34285714285716,19.514285714285716,149.42857142857142,17.62857142857143,210.54285714285714,69.114285714285714,47.942857142857143,2.3142857142857145,12.085714285714285,2.4571428571428573,0,0,0,0,0,null,null,null,null,null,null,null,null,null,null,null,null,null,null,null,null,null,null,null,34,20.088235294117649,153.8235294117647,18.147058823529413,216.73529411764707,71.147058823529406,49.352941176470587,2.3823529411764706,12.441176470588236,2.5294117647058822,0,0,0,0,0,null,34.647058823529413,114.97058823529412,20.088235294117649,153.8235294117647,18.147058823529413,216.73529411764707,71.147058823529406,49.352941176470587,2.3823529411764706,12.441176470588236,2.5294117647058822,0,0,0,0,0]
[null,36,18.972222222222221,145.27777777777777,17.138888888888889,204.69444444444446,67.194444444444443,46.611111111111114,2.25,11.75,2.3888888888888888,0,0,0,0,0,null,32.722222222222221,108.58333333333333,18.972222222222221,145.27777777777777,17.138888888888889,204.69444444444446,67.194444444444443,46.611111111111114,2.25,11.75,2.3888888888888888,0,0,0,0,0,null,141.30555555555554,18.972222222222221,145.27777777777777,17.138888888888889,204.69444444444446,67.194444444444443,46.611111111111114,2.25,11.75,2.3888888888888888,0,0,0,0,0,null,null,null,null,null,null,null,null,null,null,null,null,null,null,null,null,null,null,null,35,19.514285714285716,149.42857142857142,17.62857142857143,210.54285714285714,69.114285714285714,47.942857142857143,2.3142857142857145,12.085714285714285,2.4571428571428573,0,0,0,0,0,null,33.657142857142858,111.68571428571428,19.514285714285716,149.42857142857142,17.62857142857143,210.54285714285714,69.114285714285714,47.942857142857143,2.3142857142857145,12.085714285714285,2.4571428571428573,0,0,0,0,0]
[null,37,18.45945945945946,141.35135135135135,16.675675675675677,199.16216216216216,65.378378378378372,45.351351351351354,2.189189189189189,11.432432432432432,2.3243243243243241,0,0,0,0,0,null,31.837837837837839,105.64864864864865,18.45945945945946,141.35135135135135,16.675675675675677,199.16216216216216,65.378378378378372,45.351351351351354,2.189189189189189,11.432432432432432,2.3243243243243241,0,0,0,0,0,null,137.48648648648648,18.45945945945946,141.35135135135135,16.675675675675677,199.16216216216216,65.378378378378372,45.351351351351354,2.189189189189189,11.432432432432432,2.3243243243243241,0,0,0,0,0,null,null,null,null,null,null,null,null,null,null,null,null,null,null,null,null,null,null,null,36,18.972222222222221,145.27777777777777,17.138888888888889,204.69444444444446,67.194444444444443,46.611111111111114,2.25,11.75,2.3888888888888888,0,0,0,0,0,null,32.722222222222221,108.58333333333333,18.972222222222221,145.27777777777777,17.138888888888889,204.69444444444446,67.194444444444443,46.611111111111114,2.25,11.75,2.3888888888888888,0,0,0,0,0]
[null,38,17.973684210526315,137.63157894736841,16.236842105263158,193.92105263157896,63.657894736842103,44.157894736842103,2.1315789473684212,11.131578947368421,2.263157894736842,0,0,0,0,0,null,31,102.86842105263158,17.973684210526315,137.63157894736841,16.236842105263158,193.92105263157896,63.657894736842103,44.157894736842103,2.1315789473684212,11.131578947368421,2.263157894736842,0,0,0,0,0,null,133.86842105263159,17.973684210526315,137.63157894736841,16.236842105263158,193.92105263157896,63.657894736842103,44.157894736842103,2.1315789473684212,11.131578947368421,2.263157894736842,0,0,0,0,0,null,null,null,null,null,null,null,null,null,null,null,null,null,null,null,null,null,null,null,37,18.45945945945946,141.35135135135135,16.675675675675677,199.16216216216216,65.378378378378372,45.351351351351354,2.189189189189189,11.432432432432432,2.3243243243243241,0,0,0,0,0,null,31.837837837837839,105.64864864864865,18.45945945945946,141.35135135135135,16.675675675675677,199.16216216216216,65.378378378378372,45.351351351351354,2.189189189189189,11.432432432432432,2.3243243243243241,0,0,0,0,0]
[null,39,17.512820512820515,134.10256410256412,15.820512820512821,188.94871794871796,62.025641025641029,43.025641025641029,2.0769230769230771,10.846153846153847,2.2051282051282053,0,0,0,0,0,null,30.205128205128204,100.23076923076923,17.512820512820515,134.10256410256412,15.820512820512821,188.94871794871796,62.025641025641029,43.025641025641029,2.0769230769230771,10.846153846153847,2.2051282051282053,0,0,0,0,0,null,130.43589743589743,17.512820512820515,134.10256410256412,15.820512820512821,188.94871794871796,62.025641025641029,43.025641025641029,2.0769230769230771,10.846153846153847,2.2051282051282053,0,0,0,0,0,null,null,null,null,null,null,null,null,null,null,null,null,null,null,null,null,null,null,null,38,17.973684210526315,137.63157894736841,16.236842105263158,193.92105263157896,63.657894736842103,44.157894736842103,2.1315789473684212,11.131578947368421,2.263157894736842,0,0,0,0,0,null,31,102.86842105263158,17.973684210526315,137.63157894736841,16.236842105263158,193.92105263157896,63.657894736842103,44.157894736842103,2.1315789473684212,11.131578947368421,2.263157894736842,0,0,0,0,0]
[null,40,17.074999999999999,130.75,15.425000000000001,184.22499999999999,60.475000000000001,41.95,2.0249999999999999,10.574999999999999,2.15,0,0,0,0,0,null,29.45,97.724999999999994,17.074999999999999,130.75,15.425000000000001,184.22499999999999,60.475000000000001,41.95,2.0249999999999999,10.574999999999999,2.15,0,0,0,0,0,null,127.175,17.074999999999999,130.75,15.425000000000001,184.22499999999999,60.475000000000001,41.95,2.0249999999999999,10.574999999999999,2.15,0,0,0,0,0,null,null,null,null,null,null,null,null,null,null,null,null,null,null,null,null,null,null,null,39,17.512820512820515,134.10256410256412,15.820512820512821,188.94871794871796,62.025641025641029,43.025641025641029,2.0769230769230771,10.846153846153847,2.2051282051282053,0,0,0,0,0,null,30.205128205128204,100.23076923076923,17.512820512820515,134.10256410256412,15.820512820512821,188.94871794871796,62.025641025641029,43.025641025641029,2.0769230769230771,10.846153846153847,2.2051282051282053,0,0,0,0,0]
[null,41,16.658536585365855,127.5609756097561,15.048780487804878,179.73170731707316,59,40.926829268292686,1.975609756097561,10.317073170731707,2.0975609756097562,0,0,0,0,0,null,28.73170731707317,95.341463414634148,16.658536585365855,127.5609756097561,15.048780487804878,179.73170731707316,59,40.926829268292686,1.975609756097561,10.317073170731707,2.0975609756097562,0,0,0,0,0,null,124.07317073170732,16.658536585365855,127.5609756097561,15.048780487804878,179.73170731707316,59,40.926829268292686,1.975609756097561,10.317073170731707,2.0975609756097562,0,0,0,0,0,null,null,null,null,null,null,null,null,null,null,null,null,null,null,null,null,null,null,null,40,17.074999999999999,130.75,15.425000000000001,184.22499999999999,60.475000000000001,41.95,2.0249999999999999,10.574999999999999,2.15,0,0,0,0,0,null,29.45,97.724999999999994,17.074999999999999,130.75,15.425000000000001,184.22499999999999,60.475000000000001,41.95,2.0249999999999999,10.574999999999999,2.15,0,0,0,0,0]
[null,42,16.261904761904763,124.52380952380952,14.69047619047619,175.45238095238096,57.595238095238095,39.952380952380949,1.9285714285714286,10.071428571428571,2.0476190476190474,0,0,0,0,0,null,28.047619047619047,93.071428571428569,16.261904761904763,124.52380952380952,14.69047619047619,175.45238095238096,57.595238095238095,39.952380952380949,1.9285714285714286,10.071428571428571,2.0476190476190474,0,0,0,0,0,null,121.11904761904762,16.261904761904763,124.52380952380952,14.69047619047619,175.45238095238096,57.595238095238095,39.952380952380949,1.9285714285714286,10.071428571428571,2.0476190476190474,0,0,0,0,0,null,null,null,null,null,null,null,null,null,null,null,null,null,null,null,null,null,null,null,41,16.658536585365855,127.5609756097561,15.048780487804878,179.73170731707316,59,40.926829268292686,1.975609756097561,10.317073170731707,2.0975609756097562,0,0,0,0,0,null,28.73170731707317,95.341463414634148,16.658536585365855,127.5609756097561,15.048780487804878,179.73170731707316,59,40.926829268292686,1.975609756097561,10.317073170731707,2.0975609756097562,0,0,0,0,0]
[null,43,15.883720930232558,121.62790697674419,14.348837209302326,171.37209302325581,56.255813953488371,39.02325581395349,1.8837209302325582,9.8372093023255811,2,0,0,0,0,0,null,27.395348837209301,90.906976744186053,15.883720930232558,121.62790697674419,14.348837209302326,171.37209302325581,56.255813953488371,39.02325581395349,1.8837209302325582,9.8372093023255811,2,0,0,0,0,0,null,118.30232558139535,15.883720930232558,121.62790697674419,14.348837209302326,171.37209302325581,56.255813953488371,39.02325581395349,1.8837209302325582,9.8372093023255811,2,0,0,0,0,0,null,null,null,null,null,null,null,null,null,null,null,null,null,null,null,null,null,null,null,42,16.261904761904763,124.52380952380952,14.69047619047619,175.45238095238096,57.595238095238095,39.952380952380949,1.9285714285714286,10.071428571428571,2.0476190476190474,0,0,0,0,0,null,28.047619047619047,93.071428571428569,16.261904761904763,124.52380952380952,14.69047619047619,175.45238095238096,57.595238095238095,39.952380952380949,1.9285714285714286,10.071428571428571,2.0476190476190474,0,0,0,0,0]
[null,44,15.522727272727273,118.86363636363636,14.022727272727273,167.47727272727272,54.977272727272727,38.136363636363633,1.8409090909090908,9.6136363636363633,1.9545454545454546,0,0,0,0,0,null,26.772727272727273,88.840909090909093,15.522727272727273,118.86363636363636,14.022727272727273,167.47727272727272,54.977272727272727,38.136363636363633,1.8409090909090908,9.6136363636363633,1.9545454545454546,0,0,0,0,0,null,115.61363636363636,15.522727272727273,118.86363636363636,14.022727272727273,167.47727272727272,54.977272727272727,38.136363636363633,1.8409090909090908,9.6136363636363633,1.9545454545454546,0,0,0,0,0,null,null,null,null,null,null,null,null,null,null,null,null,null,null,null,null,null,null,null,43,15.883720930232558,121.62790697674419,14.348837209302326,171.37209302325581,56.255813953488371,39.02325581395349,1.8837209302325582,9.8372093023255811,2,0,0,0,0,0,null,27.395348837209301,90.906976744186053,15.883720930232558,121.62790697674419,14.348837209302326,171.37209302325581,56.255813953488371,39.02325581395349,1.8837209302325582,9.8372093023255811,2,0,0,0,0,0]
[null,45,15.177777777777777,116.22222222222223,13.71111111111111,163.75555555555556,53.755555555555553,37.288888888888891,1.8,9.4,1.9111111111111112,0,0,0,0,0,null,26.177777777777777,86.86666666666666,15.177777777777777,116.22222222222223,13.71111111111111,163.75555555555556,53.755555555555553,37.288888888888891,1.8,9.4,1.9111111111111112,0,0,0,0,0,null,113.04444444444445,15.177777777777777,116.22222222222223,13.71111111111111,163.75555555555556,53.755555555555553,37.288888888888891,1.8,9.4,1.9111111111111112,0,0,0,0,0,null,null,null,null,null,null,null,null,null,null,null,null,null,null,null,null,null,null,null,44,15.522727272727273,118.86363636363636,14.022727272727273,167.47727272727272,54.977272727272727,38.136363636363633,1.8409090909090908,9.6136363636363633,1.9545454545454546,0,0,0,0,0,null,26.772727272727273,88.840909090909093,15.522727272727273,118.86363636363636,14.022727272727273,167.47727272727272,54.977272727272727,38.136363636363633,1.8409090909090908,9.6136363636363633,1.9545454545454546,0,0,0,0,0]
[null,46,14.847826086956522,113.69565217391305,13.413043478260869,160.19565217391303,52.586956521739133,36.478260869565219,1.7608695652173914,9.195652173913043,1.8695652173913044,0,0,0,0,0,null,25.608695652173914,84.978260869565219,14.847826086956522,113.69565217391305,13.413043478260869,160.19565217391303,52.586956521739133,36.478260869565219,1.7608695652173914,9.195652173913043,1.8695652173913044,0,0,0,0,0,null,110.58695652173913,14.847826086956522,113.69565217391305,13.413043478260869,160.19565217391303,52.586956521739133,36.478260869565219,1.7608695652173914,9.195652173913043,1.8695652173913044,0,0,0,0,0,null,null,null,null,null,null,null,null,null,null,null,null,null,null,null,null,null,null,null,45,15.177777777777777,116.22222222222223,13.71111111111111,163.75555555555556,53.755555555555553,37.288888888888891,1.8,9.4,1.9111111111111112,0,0,0,0,0,null,26.177777777777777,86.86666666666666,15.177777777777777,116.22222222222223,13.71111111111111,163.75555555555556,53.755555555555553,37.288888888888891,1.8,9.4,1.9111111111111112,0,0,0,0,0]
[null,47,14.531914893617021,111.27659574468085,13.127659574468085,156.78723404255319,51.468085106382979,35.702127659574465,1.7234042553191489,9,1.8297872340425532,0,0,0,0,0,null,25.063829787234042,83.170212765957444,14.531914893617021,111.27659574468085,13.127659574468085,156.78723404255319,51.468085106382979,35.702127659574465,1.7234042553191489,9,1.8297872340425532,0,0,0,0,0,null,108.23404255319149,14.531914893617021,111.27659574468085,13.127659574468085,156.78723404255319,51.468085106382979,35.702127659574465,1.7234042553191489,9,1.8297872340425532,0,0,0,0,0,null,null,null,null,null,null,null,null,null,null,null,null,null,null,null,null,null,null,null,46,14.847826086956522,113.69565217391305,13.413043478260869,160.19565217391303,52.586956521739133,36.478260869565219,1.7608695652173914,9.195652173913043,1.8695652173913044,0,0,0,0,0,null,25.608695652173914,84.978260869565219,14.847826086956522,113.69565217391305,13.413043478260869,160.19565217391303,52.586956521739133,36.478260869565219,1.7608695652173914,9.195652173913043,1.8695652173913044,0,0,0,0,0]
[null,48,14.229166666666666,108.95833333333333,12.854166666666666,153.52083333333334,50.395833333333336,34.958333333333336,1.6875,{"$f":"$J$6/B54","v":8.8125},1.7916666666666667,0,0,0,0,0,null,24.541666666666668,81.4375,14.229166666666666,108.95833333333333,12.854166666666666,153.52083333333334,50.395833333333336,34.958333333333336,1.6875,8.8125,1.7916666666666667,0,0,0,0,0,null,105.97916666666667,14.229166666666666,108.95833333333333,12.854166666666666,153.52083333333334,50.395833333333336,34.958333333333336,1.6875,8.8125,1.7916666666666667,0,0,0,0,0,null,null,null,null,null,null,null,null,null,null,null,null,null,null,null,null,null,null,null,47,14.531914893617021,111.27659574468085,13.127659574468085,156.78723404255319,51.468085106382979,35.702127659574465,1.7234042553191489,9,1.8297872340425532,0,0,0,0,0,null,25.063829787234042,83.170212765957444,14.531914893617021,111.27659574468085,13.127659574468085,156.78723404255319,51.468085106382979,35.702127659574465,1.7234042553191489,9,1.8297872340425532,0,0,0,0,0]
[null,49,13.938775510204081,106.73469387755102,12.591836734693878,150.38775510204081,49.367346938775512,34.244897959183675,1.653061224489796,8.6326530612244898,1.7551020408163265,0,0,0,0,0,null,24.040816326530614,79.775510204081627,13.938775510204081,106.73469387755102,12.591836734693878,150.38775510204081,49.367346938775512,34.244897959183675,1.653061224489796,8.6326530612244898,1.7551020408163265,0,0,0,0,0,null,103.81632653061224,13.938775510204081,106.73469387755102,12.591836734693878,150.38775510204081,49.367346938775512,34.244897959183675,1.653061224489796,8.6326530612244898,1.7551020408163265,0,0,0,0,0,null,null,null,null,null,null,null,null,null,null,null,null,null,null,null,null,null,null,null,48,14.229166666666666,108.95833333333333,12.854166666666666,153.52083333333334,50.395833333333336,34.958333333333336,1.6875,8.8125,1.7916666666666667,0,0,0,0,0,null,24.541666666666668,81.4375,14.229166666666666,108.95833333333333,12.854166666666666,153.52083333333334,50.395833333333336,34.958333333333336,1.6875,8.8125,1.7916666666666667,0,0,0,0,0]
[null,50,13.66,104.6,12.34,147.38,48.38,33.56,1.62,8.4600000000000009,1.72,0,0,0,0,0,null,23.56,78.180000000000007,13.66,104.6,12.34,147.38,48.38,33.56,1.62,8.4600000000000009,1.72,0,0,0,0,0,null,101.74,13.66,104.6,12.34,147.38,48.38,33.56,1.62,8.4600000000000009,1.72,0,0,0,0,0,null,null,null,null,null,null,null,null,null,null,null,null,null,null,null,null,null,null,null,49,13.938775510204081,106.73469387755102,12.591836734693878,150.38775510204081,49.367346938775512,34.244897959183675,1.653061224489796,8.6326530612244898,1.7551020408163265,0,0,0,0,0,null,24.040816326530614,79.775510204081627,13.938775510204081,106.73469387755102,12.591836734693878,150.38775510204081,49.367346938775512,34.244897959183675,1.653061224489796,8.6326530612244898,1.7551020408163265,0,0,0,0,0]
[null,51,13.392156862745098,102.54901960784314,12.098039215686274,144.49019607843138,47.431372549019606,32.901960784313722,1.588235294117647,8.2941176470588243,1.6862745098039216,0,0,0,0,0,null,23.098039215686274,76.647058823529406,13.392156862745098,102.54901960784314,12.098039215686274,144.49019607843138,47.431372549019606,32.901960784313722,1.588235294117647,8.2941176470588243,1.6862745098039216,0,0,0,0,0,null,99.745098039215691,13.392156862745098,102.54901960784314,12.098039215686274,144.49019607843138,47.431372549019606,32.901960784313722,1.588235294117647,8.2941176470588243,1.6862745098039216,0,0,0,0,0,null,null,null,null,null,null,null,null,null,null,null,null,null,null,null,null,null,null,null,50,13.66,104.6,12.34,147.38,48.38,33.56,1.62,8.4600000000000009,1.72,0,0,0,0,0,null,23.56,78.180000000000007,13.66,104.6,12.34,147.38,48.38,33.56,1.62,8.4600000000000009,1.72,0,0,0,0,0]
[null,52,13.134615384615385,100.57692307692308,11.865384615384615,141.71153846153845,46.519230769230766,32.269230769230766,1.5576923076923077,8.134615384615385,1.6538461538461537,0,0,0,0,0,null,22.653846153846153,75.17307692307692,13.134615384615385,100.57692307692308,11.865384615384615,141.71153846153845,46.519230769230766,32.269230769230766,1.5576923076923077,8.134615384615385,1.6538461538461537,0,0,0,0,0,null,97.82692307692308,13.134615384615385,100.57692307692308,11.865384615384615,141.71153846153845,46.519230769230766,32.269230769230766,1.5576923076923077,8.134615384615385,1.6538461538461537,0,0,0,0,0,null,null,null,null,null,null,null,null,null,null,null,null,null,null,null,null,null,null,null,51,13.392156862745098,102.54901960784314,12.098039215686274,144.49019607843138,47.431372549019606,32.901960784313722,1.588235294117647,8.2941176470588243,1.6862745098039216,0,0,0,0,0,null,23.098039215686274,76.647058823529406,13.392156862745098,102.54901960784314,12.098039215686274,144.49019607843138,47.431372549019606,32.901960784313722,1.588235294117647,8.2941176470588243,1.6862745098039216,0,0,0,0,0]
[null,53,{"$f":"$C$6/B59","v":12.886792452830189},{"$f":"$D$6/B59","v":98.679245283018872},{"$f":"$E$6/B59","v":11.641509433962264},{"$f":"$F$6/B59","v":139.03773584905662},{"$f":"$G$6/B59","v":45.641509433962263},{"$f":"$H$6/B59","v":31.660377358490567},{"$f":"$I$6/B59","v":1.5283018867924529},7.9811320754716979,{"$f":"$K$6/B59","v":1.6226415094339623},{"$f":"$L$6/B59","v":0},{"$f":"$M$6/B59","v":0},0,0,{"$f":"$P$6/B59","v":0},null,{"$f":"$R$6/B59","v":22.226415094339622},{"$f":"$S$6/B59","v":73.754716981132077},12.886792452830189,98.679245283018872,11.641509433962264,139.03773584905662,45.641509433962263,31.660377358490567,1.5283018867924529,7.9811320754716979,1.6226415094339623,0,0,0,0,0,null,95.981132075471692,12.886792452830189,98.679245283018872,11.641509433962264,139.03773584905662,45.641509433962263,31.660377358490567,1.5283018867924529,7.9811320754716979,1.6226415094339623,0,0,0,0,0,null,null,null,null,null,null,null,null,null,null,null,null,null,null,null,null,null,null,null,52,{"$f":"$C$6/BQ59","v":13.134615384615385},{"$f":"$D$6/BQ59","v":100.57692307692308},{"$f":"$E$6/BQ59","v":11.865384615384615},{"$f":"$F$6/BQ59","v":141.71153846153845},{"$f":"$G$6/BQ59","v":46.519230769230766},{"$f":"$H$6/BQ59","v":32.269230769230766},{"$f":"$I$6/BQ59","v":1.5576923076923077},8.134615384615385,{"$f":"$K$6/BQ59","v":1.6538461538461537},{"$f":"$L$6/BQ59","v":0},{"$f":"$M$6/BQ59","v":0},0,0,{"$f":"$P$6/BQ59","v":0},null,{"$f":"$R$6/BQ59","v":22.653846153846153},{"$f":"$S$6/BQ59","v":75.17307692307692},13.134615384615385,100.57692307692308,11.865384615384615,141.71153846153845,46.519230769230766,32.269230769230766,1.5576923076923077,8.134615384615385,1.6538461538461537,0,0,0,0,0]
[null,54,{"$f":"$C$6/B60","v":12.648148148148149},{"$f":"$D$6/B60","v":96.851851851851848},{"$f":"$E$6/B60","v":11.425925925925926},{"$f":"$F$6/B60","v":136.46296296296296},{"$f":"$G$6/B60","v":44.796296296296298},{"$f":"$H$6/B60","v":31.074074074074073},{"$f":"$I$6/B60","v":1.5},7.833333333333333,{"$f":"$K$6/B60","v":1.5925925925925926},{"$f":"$L$6/B60","v":0},{"$f":"$M$6/B60","v":0},0,0,{"$f":"$P$6/B60","v":0},null,{"$f":"$R$6/B60","v":21.814814814814813},{"$f":"$S$6/B60","v":72.388888888888886},12.648148148148149,96.851851851851848,11.425925925925926,136.46296296296296,44.796296296296298,31.074074074074073,1.5,7.833333333333333,1.5925925925925926,0,0,0,0,0,null,94.203703703703709,12.648148148148149,96.851851851851848,11.425925925925926,136.46296296296296,44.796296296296298,31.074074074074073,1.5,7.833333333333333,1.5925925925925926,0,0,0,0,0,null,null,null,null,null,null,null,null,null,null,null,null,null,null,null,null,null,null,null,53,{"$f":"$C$6/BQ60","v":12.886792452830189},{"$f":"$D$6/BQ60","v":98.679245283018872},{"$f":"$E$6/BQ60","v":11.641509433962264},{"$f":"$F$6/BQ60","v":139.03773584905662},{"$f":"$G$6/BQ60","v":45.641509433962263},{"$f":"$H$6/BQ60","v":31.660377358490567},{"$f":"$I$6/BQ60","v":1.5283018867924529},7.9811320754716979,{"$f":"$K$6/BQ60","v":1.6226415094339623},{"$f":"$L$6/BQ60","v":0},{"$f":"$M$6/BQ60","v":0},0,0,{"$f":"$P$6/BQ60","v":0},null,{"$f":"$R$6/BQ60","v":22.226415094339622},{"$f":"$S$6/BQ60","v":73.754716981132077},12.886792452830189,98.679245283018872,11.641509433962264,139.03773584905662,45.641509433962263,31.660377358490567,1.5283018867924529,7.9811320754716979,1.6226415094339623,0,0,0,0,0]
[]
[]
[null,"Nombre d'inscrits",23673]
[null,"Bulletins déposés",19764]
[null,"Blancs & Nuls",1178]
[null,"Votes valables",18586]
[null,"Nombre de sièges",35]
[]
[]
[]
[]
[null,"Liste unique\nMajorité\nabsolue",{"$f":"SUM($C$73:$P$73)","v":0},null,null,null,null,null,null,null,null,null,null,null,null,null,null,{"$f":"SUM($R$73:$AG$73)","v":0},null,null,null,null,null,null,null,null,null,null,null,null,null,null,null,null,{"$f":"SUM($AI$73:$AW$73)","v":0}]
[null,null,{"$f":"IF(C7>($C$67/2),1,0)","v":0},{"$f":"IF(D7>($C$67/2),1,0)","v":0},{"$f":"IF(E7>($C$67/2),1,0)","v":0},{"$f":"IF(F7>($C$67/2),1,0)","v":0},{"$f":"IF(G7>($C$67/2),1,0)","v":0},{"$f":"IF(H7>($C$67/2),1,0)","v":0},{"$f":"IF(I7>($C$67/2),1,0)","v":0},{"$f":"IF(J7>($C$67/2),1,0)","v":0},{"$f":"IF(K7>($C$67/2),1,0)","v":0},{"$f":"IF(L7>($C$67/2),1,0)","v":0},{"$f":"IF(M7>($C$67/2),1,0)","v":0},{"$f":"IF(N7>($C$67/2),1,0)","v":0},{"$f":"IF(O7>($C$67/2),1,0)","v":0},{"$f":"IF(P7>($C$67/2),1,0)","v":0},null,{"$f":"IF(R7>($C$67/2),1,0)","v":0},{"$f":"IF(S7>($C$67/2),1,0)","v":0},{"$f":"IF(T7>($C$67/2),1,0)","v":0},{"$f":"IF(U7>($C$67/2),1,0)","v":0},{"$f":"IF(V7>($C$67/2),1,0)","v":0},{"$f":"IF(W7>($C$67/2),1,0)","v":0},{"$f":"IF(X7>($C$67/2),1,0)","v":0},{"$f":"IF(Y7>($C$67/2),1,0)","v":0},{"$f":"IF(Z7>($C$67/2),1,0)","v":0},{"$f":"IF(AA7>($C$67/2),1,0)","v":0},{"$f":"IF(AB7>($C$67/2),1,0)","v":0},{"$f":"IF(AC7>($C$67/2),1,0)","v":0},{"$f":"IF(AD7>($C$67/2),1,0)","v":0},{"$f":"IF(AE7>($C$67/2),1,0)","v":0},{"$f":"IF(AF7>($C$67/2),1,0)","v":0},{"$f":"IF(AG7>($C$67/2),1,0)","v":0},null,{"$f":"IF(AI7>($C$67/2),1,0)","v":0},{"$f":"IF(AJ7>($C$67/2),1,0)","v":0},{"$f":"IF(AK7>($C$67/2),1,0)","v":0},{"$f":"IF(AL7>($C$67/2),1,0)","v":0},{"$f":"IF(AM7>($C$67/2),1,0)","v":0},{"$f":"IF(AN7>($C$67/2),1,0)","v":0},{"$f":"IF(AO7>($C$67/2),1,0)","v":0},{"$f":"IF(AP7>($C$67/2),1,0)","v":0},{"$f":"IF(AQ7>($C$67/2),1,0)","v":0},{"$f":"IF(AR7>($C$67/2),1,0)","v":0},{"$f":"IF(AS7>($C$67/2),1,0)","v":0},{"$f":"IF(AT7>($C$67/2),1,0)","v":0},{"$f":"IF(AU7>($C$67/2),1,0)","v":0},{"$f":"IF(AV7>($C$67/2),1,0)","v":0},{"$f":"IF(AW7>($C$67/2),1,0)","v":0}]
[]
[null,"Liste unique\nMajorité\nabsolue\nnombre de voix",{"$f":"SUM($C$76:$P$76)","v":0},null,null,null,null,null,null,null,null,null,null,null,null,null,null,{"$f":"SUM(R76:AG76)","v":0},null,null,null,null,null,null,null,null,null,null,null,null,null,null,null,null,{"$f":"SUM(AI76:AW76)","v":0}]
[null,null,{"$f":"IF(C73>0,C6,0)","v":0},{"$f":"IF(D73>0,D6,0)","v":0},{"$f":"IF(E73>0,E6,0)","v":0},{"$f":"IF(F73>0,F6,0)","v":0},{"$f":"IF(G73>0,G6,0)","v":0},{"$f":"IF(H73>0,H6,0)","v":0},{"$f":"IF(I73>0,I6,0)","v":0},{"$f":"IF(J73>0,J6,0)","v":0},{"$f":"IF(K73>0,K6,0)","v":0},{"$f":"IF(L73>0,L6,0)","v":0},{"$f":"IF(M73>0,M6,0)","v":0},{"$f":"IF(N73>0,N6,0)","v":0},{"$f":"IF(O73>0,O6,0)","v":0},{"$f":"IF(P73>0,P6,0)","v":0},null,{"$f":"IF(R73>0,R6,0)","v":0},{"$f":"IF(S73>0,S6,0)","v":0},{"$f":"IF(T73>0,T6,0)","v":0},{"$f":"IF(U73>0,U6,0)","v":0},{"$f":"IF(V73>0,V6,0)","v":0},{"$f":"IF(W73>0,W6,0)","v":0},{"$f":"IF(X73>0,X6,0)","v":0},{"$f":"IF(Y73>0,Y6,0)","v":0},{"$f":"IF(Z73>0,Z6,0)","v":0},{"$f":"IF(AA73>0,AA6,0)","v":0},{"$f":"IF(AB73>0,AB6,0)","v":0},{"$f":"IF(AC73>0,AC6,0)","v":0},{"$f":"IF(AD73>0,AD6,0)","v":0},{"$f":"IF(AE73>0,AE6,0)","v":0},{"$f":"IF(AF73>0,AF6,0)","v":0},{"$f":"IF(AG73>0,AG6,0)","v":0},null,{"$f":"IF(AI73>0,AI6,0)","v":0},{"$f":"IF(AJ73>0,AJ6,0)","v":0},{"$f":"IF(AK73>0,AK6,0)","v":0},{"$f":"IF(AL73>0,AL6,0)","v":0},{"$f":"IF(AM73>0,AM6,0)","v":0},{"$f":"IF(AN73>0,AN6,0)","v":0},{"$f":"IF(AO73>0,AO6,0)","v":0},{"$f":"IF(AP73>0,AP6,0)","v":0},{"$f":"IF(AQ73>0,AQ6,0)","v":0},{"$f":"IF(AR73>0,AR6,0)","v":0},{"$f":"IF(AS73>0,AS6,0)","v":0},{"$f":"IF(AT73>0,AT6,0)","v":0},{"$f":"IF(AU73>0,AU6,0)","v":0},{"$f":"IF(AV73>0,AV6,0)","v":0},{"$f":"IF(AW73>0,AW6,0)","v":0}]
[]
[null,"Nbr voix\nCoalition",{"$f":"SUMIF(C4:P4,\"x\",C6:P6)","v":12599}]
[]
[null,"% Coalition",{"$f":"100/C63*C78","v":53.220969036455031}]
[null,"% Majorité",{"$f":"100/C63*C75","v":0}]
[]
[null,"Coalition",{"$f":"COUNTA(C4:P4)","v":2},{"$f":"IF(C83>0,1,0)","v":1}]
[]
[]
[]
[]
[]
[]
[]
[]
[]
[]
[]
[]
[null,null,null,null,null,null,null,null,null,null,null,null,null,null,null,"SAINT-GILLES"]
[]
[null,null,null,null,null,null,null,null,null,null,null,null,null,null,null,null,null,{"$f":"R5","v":"Blancs & Nuls"},{"$f":"S5","v":"Non-déposés"},{"$f":"T5","v":"CDH + CD&V"},{"$f":"U5","v":"ECOLO-GROEN"},{"$f":"V5","v":"DéFI"},{"$f":"W5","v":"Liste du Bourgmestre"},{"$f":"X5","v":"PTB*PVDA"},{"$f":"Y5","v":"MR"},{"$f":"Z5","v":"B.U.B."},{"$f":"AA5","v":"GAUCHES COMMUNES"},{"$f":"AB5","v":"QQVF"},{"$f":"AC5","v":0},{"$f":"AD5","v":0},{"$f":"AE5","v":0},{"$f":"AF5","v":0},{"$f":"AG5","v":0}]
[null,null,null,null,null,null,null,null,null,null,null,null,null,null,null,"Chiffres\nélectoraux",null,{"$f":"R6","v":1178},{"$f":"S6","v":3909},{"$f":"T6","v":683},{"$f":"U6","v":5230},{"$f":"V6","v":617},{"$f":"W6","v":7369},{"$f":"X6","v":2419},{"$f":"Y6","v":1678},{"$f":"Z6","v":81},{"$f":"AA6","v":423},{"$f":"AB6","v":86},{"$f":"AC6","v":0},{"$f":"AD6","v":0},{"$f":"AE6","v":0},{"$f":"AF6","v":0},{"$f":"AG6","v":0}]
[null,null,null,null,null,null,null,null,null,null,null,null,null,null,null,"Impériali",null,0,0,{"$f":"C7","v":0},{"$f":"D7","v":11},{"$f":"E7","v":0},{"$f":"F7","v":17},{"$f":"G7","v":4},{"$f":"H7","v":3},{"$f":"I7","v":0},{"$f":"J7","v":0},{"$f":"K7","v":0},{"$f":"L7","v":0},{"$f":"M7","v":0},{"$f":"N7","v":0},{"$f":"O7","v":0},{"$f":"P7","v":0}]
[null,null,null,null,null,null,null,null,null,null,null,null,null,null,null,"Impériali\n+ proportionnelle",null,{"$f":"R7","v":1},{"$f":"S7","v":6},{"$f":"T7","v":0},{"$f":"U7","v":9},{"$f":"V7","v":0},{"$f":"W7","v":14},{"$f":"X7","v":3},{"$f":"Y7","v":2},{"$f":"Z7","v":0},{"$f":"AA7","v":0},{"$f":"AB7","v":0},{"$f":"AC7","v":0},{"$f":"AD7","v":0},{"$f":"AE7","v":0},{"$f":"AF7","v":0},{"$f":"AG7","v":0}]
[null,null,null,null,null,null,null,null,null,null,null,null,null,null,null,"D'Hondt",null,0,0,{"$f":"BR7","v":1},{"$f":"BS7","v":10},{"$f":"BT7","v":1},{"$f":"BU7","v":15},{"$f":"BV7","v":5},{"$f":"BW7","v":3},{"$f":"BX7","v":0},{"$f":"BY7","v":0},{"$f":"BZ7","v":0},{"$f":"CA7","v":0},{"$f":"CB7","v":0},{"$f":"CC7","v":0},{"$f":"CD7","v":0},{"$f":"CE7","v":0}]
[null,null,null,null,null,null,null,null,null,null,null,null,null,null,null,"D'Hondt\n+ proportionnelle",null,{"$f":"CG7","v":1},{"$f":"CH7","v":6},{"$f":"CI7","v":1},{"$f":"CJ7","v":8},{"$f":"CK7","v":1},{"$f":"CL7","v":12},{"$f":"CM7","v":4},{"$f":"CN7","v":2},{"$f":"CO7","v":0},{"$f":"CP7","v":0},{"$f":"CQ7","v":0},{"$f":"CR7","v":0},{"$f":"CS7","v":0},{"$f":"CT7","v":0},{"$f":"CU7","v":0},{"$f":"CV7","v":0}]
[null,null,null,null,null,null,null,null,null,null,null,null,null,null,null,"Proportionnelle\npure",null,{"$f":"AZ7","v":1.7416466016136525},{"$f":"BA7","v":5.7793689012799385},{"$f":"BB7","v":1.0098001943141974},{"$f":"BC7","v":7.7324377983356563},{"$f":"BD7","v":0.91222067334093682},{"$f":"BE7","v":10.894901364423603},{"$f":"BF7","v":3.5764372914290541},{"$f":"BG7","v":2.4808853968656273},{"$f":"BH7","v":0.11975668483081991},{"$f":"BI7","v":0.62539602078317069},{"$f":"BJ7","v":0.12714907278333967},{"$f":"BK7","v":0},{"$f":"BL7","v":0},{"$f":"BM7","v":0},{"$f":"BN7","v":0},{"$f":"BO7","v":0}]
[]
[null,null,null,null,null,null,null,null,null,null,null,null,null,null,null,null,"Nombre de sièges à distribuer :",null,null,null,{"$f":"C67","v":35},null,"Est-ce une liste unique en majorité absolue en termes de sièges ?",null,null,null,null,null,null,{"$f":"IF(C72>0,\"Oui\",\"Non\")","v":"Non"}]
[]
[null,null,null,null,null,null,null,null,null,null,null,null,null,null,null,null,"Nombre d'inscrits :",null,null,null,{"$f":"C63","v":23673},null,"Est-ce une liste unique en majorité absolue en termes de voix ?",null,null,null,null,null,null,{"$f":"IF(C75>0,\"Oui\",\"Non\")","v":"Non"}]
[]
[null,null,null,null,null,null,null,null,null,null,null,null,null,null,null,null,"Nombre de bulletins déposés :",null,null,null,{"$f":"C64","v":19764},null,"La majorité est-elle formée par une coalition ?",null,null,null,null,null,null,{"$f":"IF(B4>0,\"Oui\",\"Non\")","v":"Oui"}]
[]
[null,null,null,null,null,null,null,null,null,null,null,null,null,null,null,null,"Nombre de votes valables :",null,null,null,{"$f":"C66","v":18586},null,"Quelle est la proportion de l'électorat représentée par la majorité ?",null,null,null,null,null,null,{"$f":"IF(D83>0,C80,C81)","v":53.220969036455031}]
[]
[null,null,null,null,null,null,null,null,null,null,null,null,null,null,null,"Comparaison\nClef Impériali\n-\nClef D'Hondt",null,{"$f":"R100-R102","v":0},{"$f":"S100-S102","v":0},-1,1,-1,2,-1,0,0,0,0,0,0,0,0,0]

{"sheet":"SAINT-JOSSE-TEN-NOODE","index":17,"n_rows":114,"n_cols":100,"rows_kept":114,"cut":false,"hidden":false,"merged":[[1,1,1,48],[1,68,1,99],[1,50,1,66],[71,1,72,1],[113,15,113,16],[107,16,107,19],[109,16,109,19],[111,16,111,19],[74,1,75,1],[95,15,95,32],[105,22,105,27],[107,22,107,27],[109,22,109,27],[111,22,111,27],[105,16,105,19]]}
[]
[null,"IMPÉRIALI",null,null,null,null,null,null,null,null,null,null,null,null,null,null,null,null,null,null,null,null,null,null,null,null,null,null,null,null,null,null,null,null,null,null,null,null,null,null,null,null,null,null,null,null,null,null,null,null,"PROPORTIONNELLE PURE",null,null,null,null,null,null,null,null,null,null,null,null,null,null,null,null,null,"D'HONDT"]
[]
[null,"Coalition"]
[null,{"$f":"COUNTA(C5:P5)","v":7},"CDH + Indépendant","ECOLO-GROEN","DéFI","LB","N-VA","MR Open Vld","LISTE COMMUNALE",null,null,null,null,null,null,null,null,"Blancs & Nuls","Non-déposés",{"$f":"C5","v":"CDH + Indépendant"},{"$f":"D5","v":"ECOLO-GROEN"},{"$f":"E5","v":"DéFI"},{"$f":"F5","v":"LB"},{"$f":"G5","v":"N-VA"},{"$f":"H5","v":"MR Open Vld"},{"$f":"I5","v":"LISTE COMMUNALE"},{"$f":"J5","v":0},{"$f":"K5","v":0},{"$f":"L5","v":0},{"$f":"M5","v":0},{"$f":"N5","v":0},{"$f":"O5","v":0},{"$f":"P5","v":0},null,"Non-valables",{"$f":"C5","v":"CDH + Indépendant"},{"$f":"D5","v":"ECOLO-GROEN"},{"$f":"E5","v":"DéFI"},{"$f":"F5","v":"LB"},{"$f":"G5","v":"N-VA"},{"$f":"H5","v":"MR Open Vld"},{"$f":"I5","v":"LISTE COMMUNALE"},{"$f":"J5","v":0},{"$f":"K5","v":0},{"$f":"L5","v":0},{"$f":"M5","v":0},{"$f":"N5","v":0},{"$f":"O5","v":0},{"$f":"P5","v":0},null,"New Key","Blancs & Nuls","Non-déposés",{"$f":"C5","v":"CDH + Indépendant"},{"$f":"D5","v":"ECOLO-GROEN"},"DéFI","LB","N-VA","MR Open Vld","LISTE COMMUNALE",0,0,0,0,0,0,0,null,null,{"$f":"C5","v":"CDH + Indépendant"},{"$f":"D5","v":"ECOLO-GROEN"},"DéFI","LB","N-VA","MR Open Vld","LISTE COMMUNALE",0,0,0,0,0,0,0,null,"Blancs & Nuls","Non-déposés",{"$f":"C5","v":"CDH + Indépendant"},{"$f":"D5","v":"ECOLO-GROEN"},"DéFI","LB","N-VA","MR Open Vld","LISTE COMMUNALE",0,0,0,0,0,0,0]
[null,"Chiffres\nélectoraux",736,2626,461,4987,220,781,600,0,0,0,0,0,0,0,null,{"$f":"C65","v":713},{"$f":"C63-C64","v":1903},736,2626,461,4987,220,781,600,0,0,0,0,0,0,0,null,{"$f":"R6+S6","v":2616},736,2626,461,4987,220,781,600,0,0,0,0,0,0,0,null,null,{"$f":"C65","v":713},{"$f":"C63-C64","v":1903},{"$f":"C6","v":736},2626,461,4987,220,781,600,0,0,0,0,0,0,0,null,"Chiffres\nélectoraux",{"$f":"C6","v":736},2626,461,4987,220,781,600,0,0,0,0,0,0,0,null,{"$f":"C65","v":713},{"$f":"C63-C64","v":1903},{"$f":"C6","v":736},2626,461,4987,220,781,600,0,0,0,0,0,0,0]
[null,"Sièges",1,9,0,17,0,1,1,0,0,0,0,0,0,0,null,1,5,1,7,0,14,0,1,0,0,0,0,0,0,0,0,null,6,1,7,0,14,0,1,0,0,0,0,0,0,0,0,null,449.20689655172413,1.5872418822445691,4.2363552621478471,1.6384432332847163,5.8458586013663929,1.0262531665003454,11.101788592922393,0.48975205342749673,1.7386197896676134,1.3356874184386276,0,0,0,0,0,0,0,null,"Sièges",2,8,1,15,0,2,1,0,0,0,0,0,0,0,null,1,4,1,6,1,13,0,2,1,0,0,0,0,0,0,0]
[null,2,{"$f":"$C$6/B8","v":368},{"$f":"$D$6/B8","v":1313},{"$f":"$E$6/B8","v":230.5},{"$f":"$F$6/B8","v":2493.5},{"$f":"$G$6/B8","v":110},{"$f":"$H$6/B8","v":390.5},{"$f":"$I$6/B8","v":300},{"$f":"$J$6/B8","v":0},{"$f":"$K$6/B8","v":0},{"$f":"$L$6/B8","v":0},{"$f":"$M$6/B8","v":0},{"$f":"$N$6/B8","v":0},{"$f":"$O$6/B8","v":0},{"$f":"$P$6/B8","v":0},null,{"$f":"$R$6/B8","v":356.5},{"$f":"$S$6/B8","v":951.5},{"$f":"C8","v":368},1313,230.5,2493.5,110,390.5,300,0,0,0,0,{"$f":"N8","v":0},0,{"$f":"P8","v":0},null,{"$f":"$AI$6/B8","v":1308},{"$f":"C8","v":368},{"$f":"D8","v":1313},{"$f":"E8","v":230.5},{"$f":"F8","v":2493.5},{"$f":"G8","v":110},{"$f":"H8","v":390.5},{"$f":"I8","v":300},{"$f":"J8","v":0},{"$f":"K8","v":0},{"$f":"L8","v":0},{"$f":"M8","v":0},{"$f":"N8","v":0},0,{"$f":"P8","v":0},null,null,null,null,null,null,null,null,null,null,null,null,null,null,null,null,null,null,null,1,{"$f":"$C$6/BQ8","v":736},{"$f":"$D$6/BQ8","v":2626},{"$f":"$E$6/BQ8","v":461},{"$f":"$F$6/BQ8","v":4987},{"$f":"$G$6/BQ8","v":220},{"$f":"$H$6/BQ8","v":781},{"$f":"$I$6/BQ8","v":600},{"$f":"$J$6/BQ8","v":0},{"$f":"$K$6/BQ8","v":0},{"$f":"$L$6/BQ8","v":0},{"$f":"$M$6/BQ8","v":0},{"$f":"$N$6/BQ8","v":0},{"$f":"$O$6/BQ8","v":0},{"$f":"$P$6/BQ8","v":0},null,{"$f":"$R$6/BQ8","v":713},{"$f":"$S$6/BQ8","v":1903},{"$f":"BR8","v":736},{"$f":"BS8","v":2626},{"$f":"BT8","v":461},{"$f":"BU8","v":4987},{"$f":"BV8","v":220},{"$f":"BW8","v":781},{"$f":"BX8","v":600},{"$f":"BY8","v":0},{"$f":"BZ8","v":0},{"$f":"CA8","v":0},{"$f":"CB8","v":0},{"$f":"CC8","v":0},{"$f":"CD8","v":0},{"$f":"CE8","v":0}]
[null,3,{"$f":"$C$6/B9","v":245.33333333333334},875.33333333333337,{"$f":"$E$6/B9","v":153.66666666666666},1662.3333333333333,73.333333333333329,{"$f":"$H$6/B9","v":260.33333333333331},{"$f":"$I$6/B9","v":200},{"$f":"$J$6/B9","v":0},{"$f":"$K$6/B9","v":0},{"$f":"$L$6/B9","v":0},{"$f":"$M$6/B9","v":0},{"$f":"$N$6/B9","v":0},{"$f":"$O$6/B9","v":0},{"$f":"$P$6/B9","v":0},null,{"$f":"$R$6/B9","v":237.66666666666666},{"$f":"$S$6/B9","v":634.33333333333337},{"$f":"C9","v":245.33333333333334},{"$f":"D9","v":875.33333333333337},{"$f":"E9","v":153.66666666666666},{"$f":"F9","v":1662.3333333333333},{"$f":"G9","v":73.333333333333329},{"$f":"H9","v":260.33333333333331},{"$f":"I9","v":200},{"$f":"J9","v":0},{"$f":"K9","v":0},{"$f":"L9","v":0},{"$f":"M9","v":0},0,0,0,null,{"$f":"$AI$6/B9","v":872},245.33333333333334,875.33333333333337,153.66666666666666,1662.3333333333333,73.333333333333329,260.33333333333331,200,0,0,0,0,0,0,0,null,null,null,null,null,null,null,null,null,null,null,null,null,null,null,null,null,null,null,2,{"$f":"$C$6/BQ9","v":368},1313,{"$f":"$E$6/BQ9","v":230.5},2493.5,110,{"$f":"$H$6/BQ9","v":390.5},{"$f":"$I$6/BQ9","v":300},{"$f":"$J$6/BQ9","v":0},{"$f":"$K$6/BQ9","v":0},{"$f":"$L$6/BQ9","v":0},{"$f":"$M$6/BQ9","v":0},{"$f":"$N$6/BQ9","v":0},{"$f":"$O$6/BQ9","v":0},{"$f":"$P$6/BQ9","v":0},null,{"$f":"$R$6/BQ9","v":356.5},{"$f":"$S$6/BQ9","v":951.5},368,1313,230.5,2493.5,110,390.5,300,0,0,0,0,0,0,0]
[null,4,184,656.5,115.25,1246.75,55,195.25,150,0,0,0,0,0,0,0,null,178.25,475.75,184,656.5,115.25,1246.75,55,195.25,150,0,0,0,0,0,0,0,null,654,184,656.5,115.25,1246.75,55,195.25,150,0,0,0,0,0,0,0,null,null,null,null,null,null,null,null,null,null,null,null,null,null,null,null,null,null,null,3,245.33333333333334,875.33333333333337,153.66666666666666,1662.3333333333333,73.333333333333329,260.33333333333331,200,0,0,0,0,0,0,0,null,237.66666666666666,634.33333333333337,245.33333333333334,875.33333333333337,153.66666666666666,1662.3333333333333,73.333333333333329,260.33333333333331,200,0,0,0,0,0,0,0]
[null,5,147.19999999999999,525.20000000000005,92.2,997.4,44,156.19999999999999,120,0,0,0,0,0,0,0,null,142.6,380.6,147.19999999999999,525.20000000000005,92.2,997.4,44,156.19999999999999,120,0,0,0,0,0,0,0,null,523.20000000000005,147.19999999999999,525.20000000000005,92.2,997.4,44,156.19999999999999,120,0,0,0,0,0,0,0,null,null,null,null,null,null,null,null,null,null,null,null,null,null,null,null,null,null,null,4,184,656.5,115.25,1246.75,55,195.25,150,0,0,0,0,0,0,0,null,178.25,475.75,184,656.5,115.25,1246.75,55,195.25,150,0,0,0,0,0,0,0]
[null,6,122.66666666666667,437.66666666666669,76.833333333333329,831.16666666666663,36.666666666666664,130.16666666666666,100,0,0,0,0,0,0,0,null,118.83333333333333,317.16666666666669,122.66666666666667,437.66666666666669,76.833333333333329,831.16666666666663,36.666666666666664,130.16666666666666,100,0,0,0,0,0,0,0,null,436,122.66666666666667,437.66666666666669,76.833333333333329,831.16666666666663,36.666666666666664,130.16666666666666,100,0,0,0,0,0,0,0,null,null,null,null,null,null,null,null,null,null,null,null,null,null,null,null,null,null,null,5,147.19999999999999,525.20000000000005,92.2,997.4,44,156.19999999999999,120,0,0,0,0,0,0,0,null,142.6,380.6,147.19999999999999,525.20000000000005,92.2,997.4,44,156.19999999999999,120,0,0,0,0,0,0,0]
[null,7,105.14285714285714,375.14285714285717,65.857142857142861,712.42857142857144,31.428571428571427,111.57142857142857,85.714285714285708,0,0,0,0,0,0,0,null,101.85714285714286,271.85714285714283,105.14285714285714,375.14285714285717,65.857142857142861,712.42857142857144,31.428571428571427,111.57142857142857,85.714285714285708,0,0,0,0,0,0,0,null,373.71428571428572,105.14285714285714,375.14285714285717,65.857142857142861,712.42857142857144,31.428571428571427,111.57142857142857,85.714285714285708,0,0,0,0,0,0,0,null,null,null,null,null,null,null,null,null,null,null,null,null,null,null,null,null,null,null,6,122.66666666666667,437.66666666666669,76.833333333333329,831.16666666666663,36.666666666666664,130.16666666666666,100,0,0,0,0,0,0,0,null,118.83333333333333,317.16666666666669,122.66666666666667,437.66666666666669,76.833333333333329,831.16666666666663,36.666666666666664,130.16666666666666,100,0,0,0,0,0,0,0]
[null,8,92,328.25,57.625,623.375,27.5,97.625,75,0,0,0,0,0,0,0,null,89.125,237.875,92,328.25,57.625,623.375,27.5,97.625,75,0,0,0,0,0,0,0,null,327,92,328.25,57.625,623.375,27.5,97.625,75,0,0,0,0,0,0,0,null,null,null,null,null,null,null,null,null,null,null,null,null,null,null,null,null,null,null,7,105.14285714285714,375.14285714285717,65.857142857142861,712.42857142857144,31.428571428571427,111.57142857142857,85.714285714285708,0,0,0,0,0,0,0,null,101.85714285714286,271.85714285714283,105.14285714285714,375.14285714285717,65.857142857142861,712.42857142857144,31.428571428571427,111.57142857142857,85.714285714285708,0,0,0,0,0,0,0]
[null,9,81.777777777777771,291.77777777777777,51.222222222222221,554.11111111111109,24.444444444444443,86.777777777777771,66.666666666666671,0,0,0,0,0,0,0,null,79.222222222222229,211.44444444444446,81.777777777777771,291.77777777777777,51.222222222222221,554.11111111111109,24.444444444444443,86.777777777777771,66.666666666666671,0,0,0,0,0,0,0,null,290.66666666666669,81.777777777777771,291.77777777777777,51.222222222222221,554.11111111111109,24.444444444444443,86.777777777777771,66.666666666666671,0,0,0,0,0,0,0,null,null,null,null,null,null,null,null,null,null,null,null,null,null,null,null,null,null,null,8,92,328.25,57.625,623.375,27.5,97.625,75,0,0,0,0,0,0,0,null,89.125,237.875,92,328.25,57.625,623.375,27.5,97.625,75,0,0,0,0,0,0,0]
[null,10,73.599999999999994,262.60000000000002,46.1,498.7,22,78.099999999999994,60,0,0,0,0,0,0,0,null,71.3,190.3,73.599999999999994,262.60000000000002,46.1,498.7,22,78.099999999999994,60,0,0,0,0,0,0,0,null,261.60000000000002,73.599999999999994,262.60000000000002,46.1,498.7,22,78.099999999999994,60,0,0,0,0,0,0,0,null,null,null,null,null,null,null,null,null,null,null,null,null,null,null,null,null,null,null,9,81.777777777777771,291.77777777777777,51.222222222222221,554.11111111111109,24.444444444444443,86.777777777777771,66.666666666666671,0,0,0,0,0,0,0,null,79.222222222222229,211.44444444444446,81.777777777777771,291.77777777777777,51.222222222222221,554.11111111111109,24.444444444444443,86.777777777777771,66.666666666666671,0,0,0,0,0,0,0]
[null,11,66.909090909090907,238.72727272727272,41.909090909090907,453.36363636363637,20,71,54.545454545454547,0,0,0,0,0,0,0,null,64.818181818181813,173,66.909090909090907,238.72727272727272,41.909090909090907,453.36363636363637,20,71,54.545454545454547,0,0,0,0,0,0,0,null,237.81818181818181,66.909090909090907,238.72727272727272,41.909090909090907,453.36363636363637,20,71,54.545454545454547,0,0,0,0,0,0,0,null,null,null,null,null,null,null,null,null,null,null,null,null,null,null,null,null,null,null,10,73.599999999999994,262.60000000000002,46.1,498.7,22,78.099999999999994,60,0,0,0,0,0,0,0,null,71.3,190.3,73.599999999999994,262.60000000000002,46.1,498.7,22,78.099999999999994,60,0,0,0,0,0,0,0]
[null,12,61.333333333333336,218.83333333333334,38.416666666666664,415.58333333333331,18.333333333333332,65.083333333333329,50,0,0,0,0,0,0,0,null,59.416666666666664,158.58333333333334,61.333333333333336,218.83333333333334,38.416666666666664,415.58333333333331,18.333333333333332,65.083333333333329,50,0,0,0,0,0,0,0,null,218,61.333333333333336,218.83333333333334,38.416666666666664,415.58333333333331,18.333333333333332,65.083333333333329,50,0,0,0,0,0,0,0,null,null,null,null,null,null,null,null,null,null,null,null,null,null,null,null,null,null,null,11,66.909090909090907,238.72727272727272,41.909090909090907,453.36363636363637,20,71,54.545454545454547,0,0,0,0,0,0,0,null,64.818181818181813,173,66.909090909090907,238.72727272727272,41.909090909090907,453.36363636363637,20,71,54.545454545454547,0,0,0,0,0,0,0]
[null,13,56.615384615384613,202,35.46153846153846,383.61538461538464,16.923076923076923,60.07692307692308,46.153846153846153,0,0,0,0,0,0,0,null,54.846153846153847,146.38461538461539,56.615384615384613,202,35.46153846153846,383.61538461538464,16.923076923076923,60.07692307692308,46.153846153846153,0,0,0,0,0,0,0,null,201.23076923076923,56.615384615384613,202,35.46153846153846,383.61538461538464,16.923076923076923,60.07692307692308,46.153846153846153,0,0,0,0,0,0,0,null,null,null,null,null,null,null,null,null,null,null,null,null,null,null,null,null,null,null,12,61.333333333333336,218.83333333333334,38.416666666666664,415.58333333333331,18.333333333333332,65.083333333333329,50,0,0,0,0,0,0,0,null,59.416666666666664,158.58333333333334,61.333333333333336,218.83333333333334,38.416666666666664,415.58333333333331,18.333333333333332,65.083333333333329,50,0,0,0,0,0,0,0]
[null,14,52.571428571428569,187.57142857142858,32.928571428571431,356.21428571428572,15.714285714285714,55.785714285714285,42.857142857142854,0,0,0,0,0,0,0,null,50.928571428571431,135.92857142857142,52.571428571428569,187.57142857142858,32.928571428571431,356.21428571428572,15.714285714285714,55.785714285714285,42.857142857142854,0,0,0,0,0,0,0,null,186.85714285714286,52.571428571428569,187.57142857142858,32.928571428571431,356.21428571428572,15.714285714285714,55.785714285714285,42.857142857142854,0,0,0,0,0,0,0,null,null,null,null,null,null,null,null,null,null,null,null,null,null,null,null,null,null,null,13,56.615384615384613,202,35.46153846153846,383.61538461538464,16.923076923076923,60.07692307692308,46.153846153846153,0,0,0,0,0,0,0,null,54.846153846153847,146.38461538461539,56.615384615384613,202,35.46153846153846,383.61538461538464,16.923076923076923,60.07692307692308,46.153846153846153,0,0,0,0,0,0,0]
[null,15,49.06666666666667,175.06666666666666,30.733333333333334,332.46666666666664,14.666666666666666,52.06666666666667,40,0,0,0,0,0,0,0,null,47.533333333333331,126.86666666666666,49.06666666666667,175.06666666666666,30.733333333333334,332.46666666666664,14.666666666666666,52.06666666666667,40,0,0,0,0,0,0,0,null,174.4,49.06666666666667,175.06666666666666,30.733333333333334,332.46666666666664,14.666666666666666,52.06666666666667,40,0,0,0,0,0,0,0,null,null,null,null,null,null,null,null,null,null,null,null,null,null,null,null,null,null,null,14,52.571428571428569,187.57142857142858,32.928571428571431,356.21428571428572,15.714285714285714,55.785714285714285,42.857142857142854,0,0,0,0,0,0,0,null,50.928571428571431,135.92857142857142,52.571428571428569,187.57142857142858,32.928571428571431,356.21428571428572,15.714285714285714,55.785714285714285,42.857142857142854,0,0,0,0,0,0,0]
[null,16,46,164.125,28.8125,311.6875,13.75,48.8125,37.5,0,0,0,0,0,0,0,null,44.5625,118.9375,46,164.125,28.8125,311.6875,13.75,48.8125,37.5,0,0,0,0,0,0,0,null,163.5,46,164.125,28.8125,311.6875,13.75,48.8125,37.5,0,0,0,0,0,0,0,null,null,null,null,null,null,null,null,null,null,null,null,null,null,null,null,null,null,null,15,49.06666666666667,175.06666666666666,30.733333333333334,332.46666666666664,14.666666666666666,52.06666666666667,40,0,0,0,0,0,0,0,null,47.533333333333331,126.86666666666666,49.06666666666667,175.06666666666666,30.733333333333334,332.46666666666664,14.666666666666666,52.06666666666667,40,0,0,0,0,0,0,0]
[null,17,43.294117647058826,154.47058823529412,27.117647058823529,293.35294117647061,12.941176470588236,45.941176470588232,35.294117647058826,0,0,0,0,0,0,0,null,41.941176470588232,111.94117647058823,43.294117647058826,154.47058823529412,27.117647058823529,293.35294117647061,12.941176470588236,45.941176470588232,35.294117647058826,0,0,0,0,0,0,0,null,153.88235294117646,43.294117647058826,154.47058823529412,27.117647058823529,293.35294117647061,12.941176470588236,45.941176470588232,35.294117647058826,0,0,0,0,0,0,0,null,null,null,null,null,null,null,null,null,null,null,null,null,null,null,null,null,null,null,16,46,164.125,28.8125,311.6875,13.75,48.8125,37.5,0,0,0,0,0,0,0,null,44.5625,118.9375,46,164.125,28.8125,311.6875,13.75,48.8125,37.5,0,0,0,0,0,0,0]
[null,18,40.888888888888886,145.88888888888889,25.611111111111111,277.05555555555554,12.222222222222221,43.388888888888886,33.333333333333336,0,0,0,0,0,0,0,null,39.611111111111114,105.72222222222223,40.888888888888886,145.88888888888889,25.611111111111111,277.05555555555554,12.222222222222221,43.388888888888886,33.333333333333336,0,0,0,0,{"$f":"N24","v":0},{"$f":"O24","v":0},0,null,145.33333333333334,40.888888888888886,145.88888888888889,25.611111111111111,277.05555555555554,12.222222222222221,43.388888888888886,33.333333333333336,0,0,0,0,{"$f":"N24","v":0},0,0,null,null,null,null,null,null,null,null,null,null,null,null,null,null,null,null,null,null,null,17,43.294117647058826,154.47058823529412,27.117647058823529,293.35294117647061,12.941176470588236,45.941176470588232,35.294117647058826,0,0,0,0,0,0,0,null,41.941176470588232,111.94117647058823,43.294117647058826,154.47058823529412,27.117647058823529,293.35294117647061,12.941176470588236,45.941176470588232,35.294117647058826,0,0,0,0,0,0,0]
[null,19,38.736842105263158,138.21052631578948,24.263157894736842,262.4736842105263,11.578947368421053,41.10526315789474,31.578947368421051,0,0,0,0,0,0,0,null,37.526315789473685,100.15789473684211,38.736842105263158,138.21052631578948,24.263157894736842,262.4736842105263,11.578947368421053,41.10526315789474,31.578947368421051,0,0,0,0,0,0,0,null,137.68421052631578,38.736842105263158,138.21052631578948,24.263157894736842,262.4736842105263,11.578947368421053,41.10526315789474,31.578947368421051,0,0,0,0,0,0,0,null,null,null,null,null,null,null,null,null,null,null,null,null,null,null,null,null,null,null,18,40.888888888888886,145.88888888888889,25.611111111111111,277.05555555555554,12.222222222222221,43.388888888888886,33.333333333333336,0,0,0,0,0,0,0,null,39.611111111111114,105.72222222222223,40.888888888888886,145.88888888888889,25.611111111111111,277.05555555555554,12.222222222222221,43.388888888888886,33.333333333333336,0,0,0,0,0,0,0]
[null,20,36.799999999999997,131.30000000000001,23.05,249.35,11,39.049999999999997,30,0,0,0,0,0,0,0,null,35.65,95.15,36.799999999999997,131.30000000000001,23.05,249.35,11,39.049999999999997,30,0,0,0,0,0,0,0,null,130.80000000000001,36.799999999999997,131.30000000000001,23.05,249.35,11,39.049999999999997,30,0,0,0,0,0,0,0,null,null,null,null,null,null,null,null,null,null,null,null,null,null,null,null,null,null,null,19,38.736842105263158,138.21052631578948,24.263157894736842,262.4736842105263,11.578947368421053,41.10526315789474,31.578947368421051,0,0,0,0,0,0,0,null,37.526315789473685,100.15789473684211,38.736842105263158,138.21052631578948,24.263157894736842,262.4736842105263,11.578947368421053,41.10526315789474,31.578947368421051,0,0,0,0,0,0,0]
[null,21,35.047619047619051,125.04761904761905,21.952380952380953,237.47619047619048,10.476190476190476,37.19047619047619,28.571428571428573,0,0,0,0,0,0,0,null,33.952380952380949,90.61904761904762,35.047619047619051,125.04761904761905,21.952380952380953,237.47619047619048,10.476190476190476,37.19047619047619,28.571428571428573,0,0,0,0,0,0,{"$f":"P27","v":0},null,124.57142857142857,35.047619047619051,125.04761904761905,21.952380952380953,237.47619047619048,10.476190476190476,37.19047619047619,28.571428571428573,0,0,0,0,0,0,{"$f":"P27","v":0},null,null,null,null,null,null,null,null,null,null,null,null,null,null,null,null,null,null,null,20,36.799999999999997,131.30000000000001,23.05,249.35,11,39.049999999999997,30,0,0,0,0,0,0,0,null,35.65,95.15,36.799999999999997,131.30000000000001,23.05,249.35,11,39.049999999999997,30,0,0,0,0,0,0,0]
[null,22,33.454545454545453,119.36363636363636,20.954545454545453,226.68181818181819,10,35.5,27.272727272727273,0,0,0,0,0,0,0,null,32.409090909090907,86.5,33.454545454545453,119.36363636363636,20.954545454545453,226.68181818181819,10,35.5,27.272727272727273,0,0,0,0,0,0,0,null,118.90909090909091,33.454545454545453,119.36363636363636,20.954545454545453,226.68181818181819,10,35.5,27.272727272727273,0,0,0,0,0,0,0,null,null,null,null,null,null,null,null,null,null,null,null,null,null,null,null,null,null,null,21,35.047619047619051,125.04761904761905,21.952380952380953,237.47619047619048,10.476190476190476,37.19047619047619,28.571428571428573,0,0,0,0,0,0,0,null,33.952380952380949,90.61904761904762,35.047619047619051,125.04761904761905,21.952380952380953,237.47619047619048,10.476190476190476,37.19047619047619,28.571428571428573,0,0,0,0,0,0,0]
[null,23,32,114.17391304347827,20.043478260869566,216.82608695652175,9.5652173913043477,33.956521739130437,26.086956521739129,0,0,0,0,0,0,0,null,31,82.739130434782609,32,114.17391304347827,20.043478260869566,216.82608695652175,9.5652173913043477,33.956521739130437,26.086956521739129,0,0,0,0,0,0,0,null,113.73913043478261,32,114.17391304347827,20.043478260869566,216.82608695652175,9.5652173913043477,33.956521739130437,26.086956521739129,0,0,0,0,0,0,0,null,null,null,null,null,null,null,null,null,null,null,null,null,null,null,null,null,null,null,22,33.454545454545453,119.36363636363636,20.954545454545453,226.68181818181819,10,35.5,27.272727272727273,0,0,0,0,0,0,0,null,32.409090909090907,86.5,33.454545454545453,119.36363636363636,20.954545454545453,226.68181818181819,10,35.5,27.272727272727273,0,0,0,0,0,0,0]
[null,24,30.666666666666668,109.41666666666667,19.208333333333332,207.79166666666666,9.1666666666666661,32.541666666666664,25,0,0,0,0,0,0,0,null,29.708333333333332,79.291666666666671,30.666666666666668,109.41666666666667,19.208333333333332,207.79166666666666,9.1666666666666661,32.541666666666664,25,0,0,0,0,0,0,0,null,109,30.666666666666668,109.41666666666667,19.208333333333332,207.79166666666666,9.1666666666666661,32.541666666666664,25,0,0,0,0,0,0,0,null,null,null,null,null,null,null,null,null,null,null,null,null,null,null,null,null,null,null,23,32,114.17391304347827,20.043478260869566,216.82608695652175,9.5652173913043477,33.956521739130437,26.086956521739129,0,0,0,0,0,0,0,null,31,82.739130434782609,32,114.17391304347827,20.043478260869566,216.82608695652175,9.5652173913043477,33.956521739130437,26.086956521739129,0,0,0,0,0,0,0]
[null,25,29.44,105.04,18.440000000000001,199.48,8.8000000000000007,31.24,24,0,0,0,0,0,0,0,null,28.52,76.12,29.44,105.04,18.440000000000001,199.48,8.8000000000000007,31.24,24,0,0,0,0,0,0,0,null,104.64,29.44,105.04,18.440000000000001,199.48,8.8000000000000007,31.24,24,0,0,0,0,0,0,0,null,null,null,null,null,null,null,null,null,null,null,null,null,null,null,null,null,null,null,24,30.666666666666668,109.41666666666667,19.208333333333332,207.79166666666666,9.1666666666666661,32.541666666666664,25,0,0,0,0,0,0,0,null,29.708333333333332,79.291666666666671,30.666666666666668,109.41666666666667,19.208333333333332,207.79166666666666,9.1666666666666661,32.541666666666664,25,0,0,0,0,0,0,0]
[null,26,28.307692307692307,101,17.73076923076923,191.80769230769232,8.4615384615384617,30.03846153846154,23.076923076923077,0,0,0,0,0,0,0,null,27.423076923076923,73.192307692307693,28.307692307692307,101,17.73076923076923,191.80769230769232,8.4615384615384617,30.03846153846154,23.076923076923077,0,0,0,0,0,0,0,null,100.61538461538461,28.307692307692307,101,17.73076923076923,191.80769230769232,8.4615384615384617,30.03846153846154,23.076923076923077,0,0,0,0,0,0,0,null,null,null,null,null,null,null,null,null,null,null,null,null,null,null,null,null,null,null,25,29.44,105.04,18.440000000000001,199.48,8.8000000000000007,31.24,24,0,0,0,0,0,0,0,null,28.52,76.12,29.44,105.04,18.440000000000001,199.48,8.8000000000000007,31.24,24,0,0,0,0,0,0,0]
[null,27,27.25925925925926,97.259259259259252,17.074074074074073,184.7037037037037,8.1481481481481488,28.925925925925927,22.222222222222221,0,0,0,0,0,0,0,null,26.407407407407408,70.481481481481481,27.25925925925926,97.259259259259252,17.074074074074073,184.7037037037037,8.1481481481481488,28.925925925925927,22.222222222222221,0,0,0,0,0,0,0,null,96.888888888888886,27.25925925925926,97.259259259259252,17.074074074074073,184.7037037037037,8.1481481481481488,28.925925925925927,22.222222222222221,0,0,0,0,0,0,0,null,null,null,null,null,null,null,null,null,null,null,null,null,null,null,null,null,null,null,26,28.307692307692307,101,17.73076923076923,191.80769230769232,8.4615384615384617,30.03846153846154,23.076923076923077,0,0,0,0,0,0,0,null,27.423076923076923,73.192307692307693,28.307692307692307,101,17.73076923076923,191.80769230769232,8.4615384615384617,30.03846153846154,23.076923076923077,0,0,0,0,0,0,0]
[null,28,26.285714285714285,93.785714285714292,16.464285714285715,178.10714285714286,7.8571428571428568,27.892857142857142,21.428571428571427,0,0,0,0,0,0,0,null,25.464285714285715,67.964285714285708,26.285714285714285,93.785714285714292,16.464285714285715,178.10714285714286,7.8571428571428568,27.892857142857142,21.428571428571427,0,0,0,0,0,0,0,null,93.428571428571431,26.285714285714285,93.785714285714292,16.464285714285715,178.10714285714286,7.8571428571428568,27.892857142857142,21.428571428571427,0,0,0,0,0,0,0,null,null,null,null,null,null,null,null,null,null,null,null,null,null,null,null,null,null,null,27,27.25925925925926,97.259259259259252,17.074074074074073,184.7037037037037,8.1481481481481488,28.925925925925927,22.222222222222221,0,0,0,0,0,0,0,null,26.407407407407408,70.481481481481481,27.25925925925926,97.259259259259252,17.074074074074073,184.7037037037037,8.1481481481481488,28.925925925925927,22.222222222222221,0,0,0,0,0,0,0]
[null,29,25.379310344827587,90.551724137931032,15.896551724137931,171.9655172413793,7.5862068965517242,26.931034482758619,20.689655172413794,0,0,0,0,0,0,0,null,24.586206896551722,65.620689655172413,25.379310344827587,90.551724137931032,15.896551724137931,171.9655172413793,7.5862068965517242,26.931034482758619,20.689655172413794,0,0,0,0,0,0,0,null,90.206896551724142,25.379310344827587,90.551724137931032,15.896551724137931,171.9655172413793,7.5862068965517242,26.931034482758619,20.689655172413794,0,0,0,0,0,0,0,null,null,null,null,null,null,null,null,null,null,null,null,null,null,null,null,null,null,null,28,26.285714285714285,93.785714285714292,16.464285714285715,178.10714285714286,7.8571428571428568,27.892857142857142,21.428571428571427,0,0,0,0,0,0,0,null,25.464285714285715,67.964285714285708,26.285714285714285,93.785714285714292,16.464285714285715,178.10714285714286,7.8571428571428568,27.892857142857142,21.428571428571427,0,0,0,0,0,0,0]
[null,30,24.533333333333335,87.533333333333331,15.366666666666667,166.23333333333332,7.333333333333333,26.033333333333335,20,0,0,0,0,0,0,0,null,23.766666666666666,63.43333333333333,24.533333333333335,87.533333333333331,15.366666666666667,166.23333333333332,7.333333333333333,26.033333333333335,20,0,0,0,0,0,0,0,null,87.2,24.533333333333335,87.533333333333331,15.366666666666667,166.23333333333332,7.333333333333333,26.033333333333335,20,0,0,0,0,0,0,0,null,null,null,null,null,null,null,null,null,null,null,null,null,null,null,null,null,null,null,29,25.379310344827587,90.551724137931032,15.896551724137931,171.9655172413793,7.5862068965517242,26.931034482758619,20.689655172413794,0,0,0,0,0,0,0,null,24.586206896551722,65.620689655172413,25.379310344827587,90.551724137931032,15.896551724137931,171.9655172413793,7.5862068965517242,26.931034482758619,20.689655172413794,0,0,0,0,0,0,0]
[null,31,23.741935483870968,84.709677419354833,14.870967741935484,160.87096774193549,7.096774193548387,25.193548387096776,19.35483870967742,0,0,0,0,0,0,0,null,23,61.387096774193552,23.741935483870968,84.709677419354833,14.870967741935484,160.87096774193549,7.096774193548387,25.193548387096776,19.35483870967742,0,0,0,0,0,0,0,null,84.387096774193552,23.741935483870968,84.709677419354833,14.870967741935484,160.87096774193549,7.096774193548387,25.193548387096776,19.35483870967742,0,0,0,0,0,0,0,null,null,null,null,null,null,null,null,null,null,null,null,null,null,null,null,null,null,null,30,24.533333333333335,87.533333333333331,15.366666666666667,166.23333333333332,7.333333333333333,26.033333333333335,20,0,0,0,0,0,0,0,null,23.766666666666666,63.43333333333333,24.533333333333335,87.533333333333331,15.366666666666667,166.23333333333332,7.333333333333333,26.033333333333335,20,0,0,0,0,0,0,0]
[null,32,23,82.0625,14.40625,155.84375,6.875,24.40625,18.75,0,0,0,0,0,0,0,null,22.28125,59.46875,23,82.0625,14.40625,155.84375,6.875,24.40625,18.75,0,0,0,0,0,0,0,null,81.75,23,82.0625,14.40625,155.84375,6.875,24.40625,18.75,0,0,0,0,0,0,0,null,null,null,null,null,null,null,null,null,null,null,null,null,null,null,null,null,null,null,31,23.741935483870968,84.709677419354833,14.870967741935484,160.87096774193549,7.096774193548387,25.193548387096776,19.35483870967742,0,0,0,0,0,0,0,null,23,61.387096774193552,23.741935483870968,84.709677419354833,14.870967741935484,160.87096774193549,7.096774193548387,25.193548387096776,19.35483870967742,0,0,0,0,0,0,0]
[null,33,22.303030303030305,79.575757575757578,13.969696969696969,151.12121212121212,6.666666666666667,23.666666666666668,18.181818181818183,0,0,0,0,0,0,0,null,21.606060606060606,57.666666666666664,22.303030303030305,79.575757575757578,13.969696969696969,151.12121212121212,6.666666666666667,23.666666666666668,18.181818181818183,0,0,0,0,0,0,0,null,79.272727272727266,22.303030303030305,79.575757575757578,13.969696969696969,151.12121212121212,6.666666666666667,23.666666666666668,18.181818181818183,0,0,0,0,0,0,0,null,null,null,null,null,null,null,null,null,null,null,null,null,null,null,null,null,null,null,32,23,82.0625,14.40625,155.84375,6.875,24.40625,18.75,0,0,0,0,0,0,0,null,22.28125,59.46875,23,82.0625,14.40625,155.84375,6.875,24.40625,18.75,0,0,0,0,0,0,0]
[null,34,21.647058823529413,77.235294117647058,13.558823529411764,146.6764705882353,6.4705882352941178,22.970588235294116,17.647058823529413,0,0,0,0,0,0,0,null,20.970588235294116,55.970588235294116,21.647058823529413,77.235294117647058,13.558823529411764,146.6764705882353,6.4705882352941178,22.970588235294116,17.647058823529413,0,0,0,0,0,0,0,null,76.941176470588232,{"$f":"C40","v":21.647058823529413},{"$f":"D40","v":77.235294117647058},{"$f":"E40","v":13.558823529411764},{"$f":"F40","v":146.6764705882353},{"$f":"G40","v":6.4705882352941178},{"$f":"H40","v":22.970588235294116},{"$f":"I40","v":17.647058823529413},{"$f":"J40","v":0},{"$f":"K40","v":0},{"$f":"L40","v":0},{"$f":"M40","v":0},{"$f":"N40","v":0},0,0,null,null,null,null,null,null,null,null,null,null,null,null,null,null,null,null,null,null,null,33,22.303030303030305,79.575757575757578,13.969696969696969,151.12121212121212,6.666666666666667,23.666666666666668,18.181818181818183,0,0,0,0,0,0,0,null,21.606060606060606,57.666666666666664,22.303030303030305,79.575757575757578,13.969696969696969,151.12121212121212,6.666666666666667,23.666666666666668,18.181818181818183,0,0,0,0,0,0,0]
[null,35,21.028571428571428,75.028571428571425,13.171428571428571,142.48571428571429,6.2857142857142856,22.314285714285713,17.142857142857142,0,0,0,0,0,0,0,null,20.37142857142857,54.371428571428574,{"$f":"C41","v":21.028571428571428},{"$f":"D41","v":75.028571428571425},{"$f":"E41","v":13.171428571428571},{"$f":"F41","v":142.48571428571429},{"$f":"G41","v":6.2857142857142856},{"$f":"H41","v":22.314285714285713},{"$f":"I41","v":17.142857142857142},{"$f":"J41","v":0},{"$f":"K41","v":0},{"$f":"L41","v":0},0,0,0,0,null,74.742857142857147,21.028571428571428,75.028571428571425,13.171428571428571,142.48571428571429,6.2857142857142856,22.314285714285713,17.142857142857142,0,0,0,0,0,0,0,null,null,null,null,null,null,null,null,null,null,null,null,null,null,null,null,null,null,null,34,21.647058823529413,77.235294117647058,13.558823529411764,146.6764705882353,6.4705882352941178,22.970588235294116,17.647058823529413,0,0,0,0,0,0,0,null,20.970588235294116,55.970588235294116,21.647058823529413,77.235294117647058,13.558823529411764,146.6764705882353,6.4705882352941178,22.970588235294116,17.647058823529413,0,0,0,0,0,0,0]
[null,36,20.444444444444443,72.944444444444443,12.805555555555555,138.52777777777777,6.1111111111111107,21.694444444444443,16.666666666666668,0,0,0,0,0,0,0,null,19.805555555555557,52.861111111111114,20.444444444444443,72.944444444444443,12.805555555555555,138.52777777777777,6.1111111111111107,21.694444444444443,16.666666666666668,0,0,0,0,0,0,0,null,72.666666666666671,20.444444444444443,72.944444444444443,12.805555555555555,138.52777777777777,6.1111111111111107,21.694444444444443,16.666666666666668,0,0,0,0,0,0,0,null,null,null,null,null,null,null,null,null,null,null,null,null,null,null,null,null,null,null,35,21.028571428571428,75.028571428571425,13.171428571428571,142.48571428571429,6.2857142857142856,22.314285714285713,17.142857142857142,0,0,0,0,0,0,0,null,20.37142857142857,54.371428571428574,21.028571428571428,75.028571428571425,13.171428571428571,142.48571428571429,6.2857142857142856,22.314285714285713,17.142857142857142,0,0,0,0,0,0,0]
[null,37,19.891891891891891,70.972972972972968,12.45945945945946,134.78378378378378,5.9459459459459456,21.108108108108109,16.216216216216218,0,0,0,0,0,0,0,null,19.27027027027027,51.432432432432435,19.891891891891891,70.972972972972968,12.45945945945946,134.78378378378378,5.9459459459459456,21.108108108108109,16.216216216216218,0,0,0,0,0,0,0,null,70.702702702702709,19.891891891891891,70.972972972972968,12.45945945945946,134.78378378378378,5.9459459459459456,21.108108108108109,16.216216216216218,0,0,0,0,0,0,0,null,null,null,null,null,null,null,null,null,null,null,null,null,null,null,null,null,null,null,36,20.444444444444443,72.944444444444443,12.805555555555555,138.52777777777777,6.1111111111111107,21.694444444444443,16.666666666666668,0,0,0,0,0,0,0,null,19.805555555555557,52.861111111111114,20.444444444444443,72.944444444444443,12.805555555555555,138.52777777777777,6.1111111111111107,21.694444444444443,16.666666666666668,0,0,0,0,0,0,0]
[null,38,19.368421052631579,69.10526315789474,12.131578947368421,131.23684210526315,5.7894736842105265,20.55263157894737,15.789473684210526,0,0,0,0,0,0,0,null,18.763157894736842,50.078947368421055,19.368421052631579,69.10526315789474,12.131578947368421,131.23684210526315,5.7894736842105265,20.55263157894737,15.789473684210526,0,0,0,0,0,0,0,null,68.84210526315789,19.368421052631579,69.10526315789474,12.131578947368421,131.23684210526315,5.7894736842105265,20.55263157894737,15.789473684210526,0,0,0,0,0,0,0,null,null,null,null,null,null,null,null,null,null,null,null,null,null,null,null,null,null,null,37,19.891891891891891,70.972972972972968,12.45945945945946,134.78378378378378,5.9459459459459456,21.108108108108109,16.216216216216218,0,0,0,0,0,0,0,null,19.27027027027027,51.432432432432435,19.891891891891891,70.972972972972968,12.45945945945946,134.78378378378378,5.9459459459459456,21.108108108108109,16.216216216216218,0,0,0,0,0,0,0]
[null,39,18.871794871794872,67.333333333333329,11.820512820512821,127.87179487179488,5.6410256410256414,20.025641025641026,15.384615384615385,0,0,0,0,0,0,0,null,18.282051282051281,48.794871794871796,18.871794871794872,67.333333333333329,11.820512820512821,127.87179487179488,5.6410256410256414,20.025641025641026,15.384615384615385,0,0,0,0,0,0,0,null,67.07692307692308,18.871794871794872,67.333333333333329,11.820512820512821,127.87179487179488,5.6410256410256414,20.025641025641026,15.384615384615385,0,0,0,0,0,0,0,null,null,null,null,null,null,null,null,null,null,null,null,null,null,null,null,null,null,null,38,19.368421052631579,69.10526315789474,12.131578947368421,131.23684210526315,5.7894736842105265,20.55263157894737,15.789473684210526,0,0,0,0,0,0,0,null,18.763157894736842,50.078947368421055,19.368421052631579,69.10526315789474,12.131578947368421,131.23684210526315,5.7894736842105265,20.55263157894737,15.789473684210526,0,0,0,0,0,0,0]
[null,40,18.399999999999999,65.650000000000006,11.525,124.675,5.5,19.524999999999999,15,0,0,0,0,0,0,0,null,17.824999999999999,47.575000000000003,18.399999999999999,65.650000000000006,11.525,124.675,5.5,19.524999999999999,15,0,0,0,0,0,0,0,null,65.400000000000006,18.399999999999999,65.650000000000006,11.525,124.675,5.5,19.524999999999999,15,0,0,0,0,0,0,0,null,null,null,null,null,null,null,null,null,null,null,null,null,null,null,null,null,null,null,39,18.871794871794872,67.333333333333329,11.820512820512821,127.87179487179488,5.6410256410256414,20.025641025641026,15.384615384615385,0,0,0,0,0,0,0,null,18.282051282051281,48.794871794871796,18.871794871794872,67.333333333333329,11.820512820512821,127.87179487179488,5.6410256410256414,20.025641025641026,15.384615384615385,0,0,0,0,0,0,0]
[null,41,17.951219512195124,64.048780487804876,11.24390243902439,121.63414634146342,5.3658536585365857,19.048780487804876,14.634146341463415,0,0,0,0,0,0,0,null,17.390243902439025,46.414634146341463,17.951219512195124,64.048780487804876,11.24390243902439,121.63414634146342,5.3658536585365857,19.048780487804876,14.634146341463415,0,0,0,0,0,0,0,null,63.804878048780488,17.951219512195124,64.048780487804876,11.24390243902439,121.63414634146342,5.3658536585365857,19.048780487804876,14.634146341463415,0,0,0,0,0,0,0,null,null,null,null,null,null,null,null,null,null,null,null,null,null,null,null,null,null,null,40,18.399999999999999,65.650000000000006,11.525,124.675,5.5,19.524999999999999,15,0,0,0,0,0,0,0,null,17.824999999999999,47.575000000000003,18.399999999999999,65.650000000000006,11.525,124.675,5.5,19.524999999999999,15,0,0,0,0,0,0,0]
[null,42,17.523809523809526,62.523809523809526,10.976190476190476,118.73809523809524,5.2380952380952381,18.595238095238095,14.285714285714286,0,0,0,0,0,0,0,null,16.976190476190474,45.30952380952381,17.523809523809526,62.523809523809526,10.976190476190476,118.73809523809524,5.2380952380952381,18.595238095238095,14.285714285714286,0,0,0,0,0,0,0,null,62.285714285714285,17.523809523809526,62.523809523809526,10.976190476190476,118.73809523809524,5.2380952380952381,18.595238095238095,14.285714285714286,0,0,0,0,0,0,0,null,null,null,null,null,null,null,null,null,null,null,null,null,null,null,null,null,null,null,41,17.951219512195124,64.048780487804876,11.24390243902439,121.63414634146342,5.3658536585365857,19.048780487804876,14.634146341463415,0,0,0,0,0,0,0,null,17.390243902439025,46.414634146341463,17.951219512195124,64.048780487804876,11.24390243902439,121.63414634146342,5.3658536585365857,19.048780487804876,14.634146341463415,0,0,0,0,0,0,0]
[null,43,17.11627906976744,61.069767441860463,10.720930232558139,115.97674418604652,5.1162790697674421,18.162790697674417,13.953488372093023,0,0,0,0,0,0,0,null,16.581395348837209,44.255813953488371,17.11627906976744,61.069767441860463,10.720930232558139,115.97674418604652,5.1162790697674421,18.162790697674417,13.953488372093023,0,0,0,0,0,0,0,null,60.837209302325583,17.11627906976744,61.069767441860463,10.720930232558139,115.97674418604652,5.1162790697674421,18.162790697674417,13.953488372093023,0,0,0,0,0,0,0,null,null,null,null,null,null,null,null,null,null,null,null,null,null,null,null,null,null,null,42,17.523809523809526,62.523809523809526,10.976190476190476,118.73809523809524,5.2380952380952381,18.595238095238095,14.285714285714286,0,0,0,0,0,0,0,null,16.976190476190474,45.30952380952381,17.523809523809526,62.523809523809526,10.976190476190476,118.73809523809524,5.2380952380952381,18.595238095238095,14.285714285714286,0,0,0,0,0,0,0]
[null,44,16.727272727272727,59.68181818181818,10.477272727272727,113.34090909090909,5,17.75,13.636363636363637,0,0,0,0,0,0,0,null,16.204545454545453,43.25,16.727272727272727,59.68181818181818,10.477272727272727,113.34090909090909,5,17.75,13.636363636363637,0,0,0,0,0,0,0,null,59.454545454545453,16.727272727272727,59.68181818181818,10.477272727272727,113.34090909090909,5,17.75,13.636363636363637,0,0,0,0,0,0,0,null,null,null,null,null,null,null,null,null,null,null,null,null,null,null,null,null,null,null,43,17.11627906976744,61.069767441860463,10.720930232558139,115.97674418604652,5.1162790697674421,18.162790697674417,13.953488372093023,0,0,0,0,0,0,0,null,16.581395348837209,44.255813953488371,17.11627906976744,61.069767441860463,10.720930232558139,115.97674418604652,5.1162790697674421,18.162790697674417,13.953488372093023,0,0,0,0,0,0,0]
[null,45,16.355555555555554,58.355555555555554,10.244444444444444,110.82222222222222,4.8888888888888893,17.355555555555554,13.333333333333334,0,0,0,0,0,0,0,null,15.844444444444445,42.288888888888891,16.355555555555554,58.355555555555554,10.244444444444444,110.82222222222222,4.8888888888888893,17.355555555555554,13.333333333333334,0,0,0,0,0,0,0,null,58.133333333333333,16.355555555555554,58.355555555555554,10.244444444444444,110.82222222222222,4.8888888888888893,17.355555555555554,13.333333333333334,0,0,0,0,0,0,0,null,null,null,null,null,null,null,null,null,null,null,null,null,null,null,null,null,null,null,44,16.727272727272727,59.68181818181818,10.477272727272727,113.34090909090909,5,17.75,13.636363636363637,0,0,0,0,0,0,0,null,16.204545454545453,43.25,16.727272727272727,59.68181818181818,10.477272727272727,113.34090909090909,5,17.75,13.636363636363637,0,0,0,0,0,0,0]
[null,46,16,57.086956521739133,10.021739130434783,108.41304347826087,4.7826086956521738,16.978260869565219,13.043478260869565,0,0,0,0,0,0,0,null,15.5,41.369565217391305,16,57.086956521739133,10.021739130434783,108.41304347826087,4.7826086956521738,16.978260869565219,13.043478260869565,0,0,0,0,0,0,0,null,56.869565217391305,16,57.086956521739133,10.021739130434783,108.41304347826087,4.7826086956521738,16.978260869565219,13.043478260869565,0,0,0,0,0,0,0,null,null,null,null,null,null,null,null,null,null,null,null,null,null,null,null,null,null,null,45,16.355555555555554,58.355555555555554,10.244444444444444,110.82222222222222,4.8888888888888893,17.355555555555554,13.333333333333334,0,0,0,0,0,0,0,null,15.844444444444445,42.288888888888891,16.355555555555554,58.355555555555554,10.244444444444444,110.82222222222222,4.8888888888888893,17.355555555555554,13.333333333333334,0,0,0,0,0,0,0]
[null,47,15.659574468085106,55.872340425531917,9.8085106382978715,106.1063829787234,4.6808510638297873,16.617021276595743,12.76595744680851,0,0,0,0,0,0,0,null,15.170212765957446,40.48936170212766,15.659574468085106,55.872340425531917,9.8085106382978715,106.1063829787234,4.6808510638297873,16.617021276595743,12.76595744680851,0,0,0,0,0,0,0,null,55.659574468085104,15.659574468085106,55.872340425531917,9.8085106382978715,106.1063829787234,4.6808510638297873,16.617021276595743,12.76595744680851,0,0,0,0,0,0,0,null,null,null,null,null,null,null,null,null,null,null,null,null,null,null,null,null,null,null,46,16,57.086956521739133,10.021739130434783,108.41304347826087,4.7826086956521738,16.978260869565219,13.043478260869565,0,0,0,0,0,0,0,null,15.5,41.369565217391305,16,57.086956521739133,10.021739130434783,108.41304347826087,4.7826086956521738,16.978260869565219,13.043478260869565,0,0,0,0,0,0,0]
[null,48,15.333333333333334,54.708333333333336,9.6041666666666661,103.89583333333333,4.583333333333333,16.270833333333332,12.5,{"$f":"$J$6/B54","v":0},0,0,0,0,0,0,null,14.854166666666666,39.645833333333336,15.333333333333334,54.708333333333336,9.6041666666666661,103.89583333333333,4.583333333333333,16.270833333333332,12.5,0,0,0,0,0,0,0,null,54.5,15.333333333333334,54.708333333333336,9.6041666666666661,103.89583333333333,4.583333333333333,16.270833333333332,12.5,0,0,0,0,0,0,0,null,null,null,null,null,null,null,null,null,null,null,null,null,null,null,null,null,null,null,47,15.659574468085106,55.872340425531917,9.8085106382978715,106.1063829787234,4.6808510638297873,16.617021276595743,12.76595744680851,0,0,0,0,0,0,0,null,15.170212765957446,40.48936170212766,15.659574468085106,55.872340425531917,9.8085106382978715,106.1063829787234,4.6808510638297873,16.617021276595743,12.76595744680851,0,0,0,0,0,0,0]
[null,49,15.020408163265307,53.591836734693878,9.408163265306122,101.77551020408163,4.4897959183673466,15.938775510204081,12.244897959183673,0,0,0,0,0,0,0,null,14.551020408163266,38.836734693877553,15.020408163265307,53.591836734693878,9.408163265306122,101.77551020408163,4.4897959183673466,15.938775510204081,12.244897959183673,0,0,0,0,0,0,{"$f":"P55","v":0},null,53.387755102040813,15.020408163265307,53.591836734693878,9.408163265306122,101.77551020408163,4.4897959183673466,15.938775510204081,12.244897959183673,0,0,0,0,0,0,{"$f":"P55","v":0},null,null,null,null,null,null,null,null,null,null,null,null,null,null,null,null,null,null,null,48,15.333333333333334,54.708333333333336,9.6041666666666661,103.89583333333333,4.583333333333333,16.270833333333332,12.5,0,0,0,0,0,0,0,null,14.854166666666666,39.645833333333336,15.333333333333334,54.708333333333336,9.6041666666666661,103.89583333333333,4.583333333333333,16.270833333333332,12.5,0,0,0,0,0,0,0]
[null,50,14.72,52.52,9.2200000000000006,99.74,4.4000000000000004,15.62,12,0,0,0,0,0,0,0,null,14.26,38.06,14.72,52.52,9.2200000000000006,99.74,4.4000000000000004,15.62,12,0,0,0,0,0,0,0,null,52.32,14.72,52.52,9.2200000000000006,99.74,4.4000000000000004,15.62,12,0,0,0,0,{"$f":"N56","v":0},0,0,null,null,null,null,null,null,null,null,null,null,null,null,null,null,null,null,null,null,null,49,15.020408163265307,53.591836734693878,9.408163265306122,101.77551020408163,4.4897959183673466,15.938775510204081,12.244897959183673,0,0,0,0,0,0,0,null,14.551020408163266,38.836734693877553,15.020408163265307,53.591836734693878,9.408163265306122,101.77551020408163,4.4897959183673466,15.938775510204081,12.244897959183673,0,0,0,0,0,0,0]
[null,51,14.431372549019608,51.490196078431374,9.0392156862745097,97.784313725490193,4.3137254901960782,15.313725490196079,11.764705882352942,0,0,0,0,0,0,0,null,13.980392156862745,37.313725490196077,14.431372549019608,51.490196078431374,9.0392156862745097,97.784313725490193,4.3137254901960782,15.313725490196079,11.764705882352942,0,0,0,0,0,0,0,null,51.294117647058826,14.431372549019608,51.490196078431374,9.0392156862745097,97.784313725490193,4.3137254901960782,15.313725490196079,11.764705882352942,0,0,0,0,0,0,0,null,null,null,null,null,null,null,null,null,null,null,null,null,null,null,null,null,null,null,50,14.72,52.52,9.2200000000000006,99.74,4.4000000000000004,15.62,12,0,0,0,0,0,0,0,null,14.26,38.06,14.72,52.52,9.2200000000000006,99.74,4.4000000000000004,15.62,12,0,0,0,0,0,0,0]
[null,52,14.153846153846153,50.5,8.865384615384615,95.90384615384616,4.2307692307692308,15.01923076923077,11.538461538461538,0,0,0,0,0,0,0,null,13.711538461538462,36.596153846153847,14.153846153846153,50.5,8.865384615384615,95.90384615384616,4.2307692307692308,15.01923076923077,11.538461538461538,0,0,0,0,0,0,0,null,50.307692307692307,14.153846153846153,50.5,8.865384615384615,95.90384615384616,4.2307692307692308,15.01923076923077,11.538461538461538,0,0,0,0,0,0,0,null,null,null,null,null,null,null,null,null,null,null,null,null,null,null,null,null,null,null,51,14.431372549019608,51.490196078431374,9.0392156862745097,97.784313725490193,4.3137254901960782,15.313725490196079,11.764705882352942,0,0,0,0,0,0,0,null,13.980392156862745,37.313725490196077,14.431372549019608,51.490196078431374,9.0392156862745097,97.784313725490193,4.3137254901960782,15.313725490196079,11.764705882352942,0,0,0,0,0,0,0]
[null,53,{"$f":"$C$6/B59","v":13.886792452830189},{"$f":"$D$6/B59","v":49.547169811320757},{"$f":"$E$6/B59","v":8.6981132075471699},{"$f":"$F$6/B59","v":94.094339622641513},{"$f":"$G$6/B59","v":4.1509433962264151},{"$f":"$H$6/B59","v":14.735849056603774},{"$f":"$I$6/B59","v":11.320754716981131},0,{"$f":"$K$6/B59","v":0},{"$f":"$L$6/B59","v":0},{"$f":"$M$6/B59","v":0},0,0,{"$f":"$P$6/B59","v":0},null,{"$f":"$R$6/B59","v":13.452830188679245},{"$f":"$S$6/B59","v":35.905660377358494},13.886792452830189,49.547169811320757,8.6981132075471699,94.094339622641513,4.1509433962264151,14.735849056603774,11.320754716981131,0,0,0,0,0,0,0,null,{"$f":"$AI$6/B59","v":49.358490566037737},13.886792452830189,49.547169811320757,8.6981132075471699,94.094339622641513,4.1509433962264151,14.735849056603774,11.320754716981131,0,0,0,0,0,0,0,null,null,null,null,null,null,null,null,null,null,null,null,null,null,null,null,null,null,null,52,{"$f":"$C$6/BQ59","v":14.153846153846153},{"$f":"$D$6/BQ59","v":50.5},{"$f":"$E$6/BQ59","v":8.865384615384615},{"$f":"$F$6/BQ59","v":95.90384615384616},{"$f":"$G$6/BQ59","v":4.2307692307692308},{"$f":"$H$6/BQ59","v":15.01923076923077},{"$f":"$I$6/BQ59","v":11.538461538461538},0,{"$f":"$K$6/BQ59","v":0},{"$f":"$L$6/BQ59","v":0},{"$f":"$M$6/BQ59","v":0},0,0,{"$f":"$P$6/BQ59","v":0},null,{"$f":"$R$6/BQ59","v":13.711538461538462},{"$f":"$S$6/BQ59","v":36.596153846153847},14.153846153846153,50.5,8.865384615384615,95.90384615384616,4.2307692307692308,15.01923076923077,11.538461538461538,0,0,0,0,0,0,0]
[null,54,{"$f":"$C$6/B60","v":13.62962962962963},{"$f":"$D$6/B60","v":48.629629629629626},{"$f":"$E$6/B60","v":8.5370370370370363},{"$f":"$F$6/B60","v":92.351851851851848},{"$f":"$G$6/B60","v":4.0740740740740744},{"$f":"$H$6/B60","v":14.462962962962964},{"$f":"$I$6/B60","v":11.111111111111111},0,{"$f":"$K$6/B60","v":0},{"$f":"$L$6/B60","v":0},{"$f":"$M$6/B60","v":0},0,0,{"$f":"$P$6/B60","v":0},null,{"$f":"$R$6/B60","v":13.203703703703704},{"$f":"$S$6/B60","v":35.24074074074074},13.62962962962963,48.629629629629626,8.5370370370370363,92.351851851851848,4.0740740740740744,14.462962962962964,11.111111111111111,0,0,0,0,0,0,0,null,{"$f":"$AI$6/B60","v":48.444444444444443},13.62962962962963,48.629629629629626,8.5370370370370363,92.351851851851848,4.0740740740740744,14.462962962962964,11.111111111111111,0,0,0,0,0,0,0,null,null,null,null,null,null,null,null,null,null,null,null,null,null,null,null,null,null,null,53,{"$f":"$C$6/BQ60","v":13.886792452830189},{"$f":"$D$6/BQ60","v":49.547169811320757},{"$f":"$E$6/BQ60","v":8.6981132075471699},{"$f":"$F$6/BQ60","v":94.094339622641513},{"$f":"$G$6/BQ60","v":4.1509433962264151},{"$f":"$H$6/BQ60","v":14.735849056603774},{"$f":"$I$6/BQ60","v":11.320754716981131},0,{"$f":"$K$6/BQ60","v":0},{"$f":"$L$6/BQ60","v":0},{"$f":"$M$6/BQ60","v":0},0,0,{"$f":"$P$6/BQ60","v":0},null,{"$f":"$R$6/BQ60","v":13.452830188679245},{"$f":"$S$6/BQ60","v":35.905660377358494},13.886792452830189,49.547169811320757,8.6981132075471699,94.094339622641513,4.1509433962264151,14.735849056603774,11.320754716981131,0,0,0,0,0,0,0]
[]
[]
[null,"Nombre d'inscrits",13027]
[null,"Bulletins déposés",11124]
[null,"Blancs & Nuls",713]
[null,"Votes valables",10411]
[null,"Nombre de sièges",29]
[]
[]
[]
[]
[null,"Liste unique\nMajorité\nabsolue",{"$f":"SUM($C$73:$P$73)","v":1},null,null,null,null,null,null,null,null,null,null,null,null,null,null,{"$f":"SUM($R$73:$AG$73)","v":0},null,null,null,null,null,null,null,null,null,null,null,null,null,null,null,null,{"$f":"SUM($AI$73:$AW$73)","v":0}]
[null,null,{"$f":"IF(C7>($C$67/2),1,0)","v":0},{"$f":"IF(D7>($C$67/2),1,0)","v":0},{"$f":"IF(E7>($C$67/2),1,0)","v":0},{"$f":"IF(F7>($C$67/2),1,0)","v":1},{"$f":"IF(G7>($C$67/2),1,0)","v":0},{"$f":"IF(H7>($C$67/2),1,0)","v":0},{"$f":"IF(I7>($C$67/2),1,0)","v":0},{"$f":"IF(J7>($C$67/2),1,0)","v":0},{"$f":"IF(K7>($C$67/2),1,0)","v":0},{"$f":"IF(L7>($C$67/2),1,0)","v":0},{"$f":"IF(M7>($C$67/2),1,0)","v":0},{"$f":"IF(N7>($C$67/2),1,0)","v":0},{"$f":"IF(O7>($C$67/2),1,0)","v":0},{"$f":"IF(P7>($C$67/2),1,0)","v":0},null,{"$f":"IF(R7>($C$67/2),1,0)","v":0},{"$f":"IF(S7>($C$67/2),1,0)","v":0},{"$f":"IF(T7>($C$67/2),1,0)","v":0},{"$f":"IF(U7>($C$67/2),1,0)","v":0},{"$f":"IF(V7>($C$67/2),1,0)","v":0},{"$f":"IF(W7>($C$67/2),1,0)","v":0},{"$f":"IF(X7>($C$67/2),1,0)","v":0},{"$f":"IF(Y7>($C$67/2),1,0)","v":0},{"$f":"IF(Z7>($C$67/2),1,0)","v":0},{"$f":"IF(AA7>($C$67/2),1,0)","v":0},{"$f":"IF(AB7>($C$67/2),1,0)","v":0},{"$f":"IF(AC7>($C$67/2),1,0)","v":0},{"$f":"IF(AD7>($C$67/2),1,0)","v":0},{"$f":"IF(AE7>($C$67/2),1,0)","v":0},{"$f":"IF(AF7>($C$67/2),1,0)","v":0},{"$f":"IF(AG7>($C$67/2),1,0)","v":0},null,{"$f":"IF(AI7>($C$67/2),1,0)","v":0},{"$f":"IF(AJ7>($C$67/2),1,0)","v":0},{"$f":"IF(AK7>($C$67/2),1,0)","v":0},{"$f":"IF(AL7>($C$67/2),1,0)","v":0},{"$f":"IF(AM7>($C$67/2),1,0)","v":0},{"$f":"IF(AN7>($C$67/2),1,0)","v":0},{"$f":"IF(AO7>($C$67/2),1,0)","v":0},{"$f":"IF(AP7>($C$67/2),1,0)","v":0},{"$f":"IF(AQ7>($C$67/2),1,0)","v":0},{"$f":"IF(AR7>($C$67/2),1,0)","v":0},{"$f":"IF(AS7>($C$67/2),1,0)","v":0},{"$f":"IF(AT7>($C$67/2),1,0)","v":0},{"$f":"IF(AU7>($C$67/2),1,0)","v":0},{"$f":"IF(AV7>($C$67/2),1,0)","v":0},{"$f":"IF(AW7>($C$67/2),1,0)","v":0}]
[]
[null,"Liste unique\nMajorité\nabsolue\nnombre de voix",{"$f":"SUM($C$76:$P$76)","v":4987},null,null,null,null,null,null,null,null,null,null,null,null,null,null,{"$f":"SUM(R76:AG76)","v":0},null,null,null,null,null,null,null,null,null,null,null,null,null,null,null,null,{"$f":"SUM(AI76:AW76)","v":0}]
[null,null,{"$f":"IF(C73>0,C6,0)","v":0},{"$f":"IF(D73>0,D6,0)","v":0},{"$f":"IF(E73>0,E6,0)","v":0},{"$f":"IF(F73>0,F6,0)","v":4987},{"$f":"IF(G73>0,G6,0)","v":0},{"$f":"IF(H73>0,H6,0)","v":0},{"$f":"IF(I73>0,I6,0)","v":0},{"$f":"IF(J73>0,J6,0)","v":0},{"$f":"IF(K73>0,K6,0)","v":0},{"$f":"IF(L73>0,L6,0)","v":0},{"$f":"IF(M73>0,M6,0)","v":0},{"$f":"IF(N73>0,N6,0)","v":0},{"$f":"IF(O73>0,O6,0)","v":0},{"$f":"IF(P73>0,P6,0)","v":0},null,{"$f":"IF(R73>0,R6,0)","v":0},{"$f":"IF(S73>0,S6,0)","v":0},{"$f":"IF(T73>0,T6,0)","v":0},{"$f":"IF(U73>0,U6,0)","v":0},{"$f":"IF(V73>0,V6,0)","v":0},{"$f":"IF(W73>0,W6,0)","v":0},{"$f":"IF(X73>0,X6,0)","v":0},{"$f":"IF(Y73>0,Y6,0)","v":0},{"$f":"IF(Z73>0,Z6,0)","v":0},{"$f":"IF(AA73>0,AA6,0)","v":0},{"$f":"IF(AB73>0,AB6,0)","v":0},{"$f":"IF(AC73>0,AC6,0)","v":0},{"$f":"IF(AD73>0,AD6,0)","v":0},{"$f":"IF(AE73>0,AE6,0)","v":0},{"$f":"IF(AF73>0,AF6,0)","v":0},{"$f":"IF(AG73>0,AG6,0)","v":0},null,{"$f":"IF(AI73>0,AI6,0)","v":0},{"$f":"IF(AJ73>0,AJ6,0)","v":0},{"$f":"IF(AK73>0,AK6,0)","v":0},{"$f":"IF(AL73>0,AL6,0)","v":0},{"$f":"IF(AM73>0,AM6,0)","v":0},{"$f":"IF(AN73>0,AN6,0)","v":0},{"$f":"IF(AO73>0,AO6,0)","v":0},{"$f":"IF(AP73>0,AP6,0)","v":0},{"$f":"IF(AQ73>0,AQ6,0)","v":0},{"$f":"IF(AR73>0,AR6,0)","v":0},{"$f":"IF(AS73>0,AS6,0)","v":0},{"$f":"IF(AT73>0,AT6,0)","v":0},{"$f":"IF(AU73>0,AU6,0)","v":0},{"$f":"IF(AV73>0,AV6,0)","v":0},{"$f":"IF(AW73>0,AW6,0)","v":0}]
[]
[null,"Nbr voix\nCoalition",{"$f":"SUMIF(C4:P4,\"x\",C6:P6)","v":0}]
[]
[null,"% Coalition",{"$f":"100/C63*C78","v":0}]
[null,"% Majorité",{"$f":"100/C63*C75","v":38.282029630766871}]
[]
[null,"Coalition",{"$f":"COUNTA(C4:P4)","v":0},{"$f":"IF(C83>0,1,0)","v":0}]
[]
[]
[]
[]
[]
[]
[]
[]
[]
[]
[]
[]
[null,null,null,null,null,null,null,null,null,null,null,null,null,null,null,"SAINT-JOSSE-TEN-NOODE"]
[]
[null,null,null,null,null,null,null,null,null,null,null,null,null,null,null,null,null,{"$f":"R5","v":"Blancs & Nuls"},{"$f":"S5","v":"Non-déposés"},{"$f":"T5","v":"CDH + Indépendant"},{"$f":"U5","v":"ECOLO-GROEN"},{"$f":"V5","v":"DéFI"},{"$f":"W5","v":"LB"},{"$f":"X5","v":"N-VA"},{"$f":"Y5","v":"MR Open Vld"},{"$f":"Z5","v":"LISTE COMMUNALE"},{"$f":"AA5","v":0},{"$f":"AB5","v":0},{"$f":"AC5","v":0},{"$f":"AD5","v":0},{"$f":"AE5","v":0},{"$f":"AF5","v":0},{"$f":"AG5","v":0}]
[null,null,null,null,null,null,null,null,null,null,null,null,null,null,null,"Chiffres\nélectoraux",null,{"$f":"R6","v":713},{"$f":"S6","v":1903},{"$f":"T6","v":736},{"$f":"U6","v":2626},{"$f":"V6","v":461},{"$f":"W6","v":4987},{"$f":"X6","v":220},{"$f":"Y6","v":781},{"$f":"Z6","v":600},{"$f":"AA6","v":0},{"$f":"AB6","v":0},{"$f":"AC6","v":0},{"$f":"AD6","v":0},{"$f":"AE6","v":0},{"$f":"AF6","v":0},{"$f":"AG6","v":0}]
[null,null,null,null,null,null,null,null,null,null,null,null,null,null,null,"Impériali",null,0,0,{"$f":"C7","v":1},{"$f":"D7","v":9},{"$f":"E7","v":0},{"$f":"F7","v":17},{"$f":"G7","v":0},{"$f":"H7","v":1},{"$f":"I7","v":1},{"$f":"J7","v":0},{"$f":"K7","v":0},{"$f":"L7","v":0},{"$f":"M7","v":0},{"$f":"N7","v":0},{"$f":"O7","v":0},{"$f":"P7","v":0}]
[null,null,null,null,null,null,null,null,null,null,null,null,null,null,null,"Impériali\n+ proportionnelle",null,{"$f":"R7","v":1},{"$f":"S7","v":5},{"$f":"T7","v":1},{"$f":"U7","v":7},{"$f":"V7","v":0},{"$f":"W7","v":14},{"$f":"X7","v":0},{"$f":"Y7","v":1},{"$f":"Z7","v":0},{"$f":"AA7","v":0},{"$f":"AB7","v":0},{"$f":"AC7","v":0},{"$f":"AD7","v":0},{"$f":"AE7","v":0},{"$f":"AF7","v":0},{"$f":"AG7","v":0}]
[null,null,null,null,null,null,null,null,null,null,null,null,null,null,null,"D'Hondt",null,0,0,{"$f":"BR7","v":2},{"$f":"BS7","v":8},{"$f":"BT7","v":1},{"$f":"BU7","v":15},{"$f":"BV7","v":0},{"$f":"BW7","v":2},{"$f":"BX7","v":1},{"$f":"BY7","v":0},{"$f":"BZ7","v":0},{"$f":"CA7","v":0},{"$f":"CB7","v":0},{"$f":"CC7","v":0},{"$f":"CD7","v":0},{"$f":"CE7","v":0}]
[null,null,null,null,null,null,null,null,null,null,null,null,null,null,null,"D'Hondt\n+ proportionnelle",null,{"$f":"CG7","v":1},{"$f":"CH7","v":4},{"$f":"CI7","v":1},{"$f":"CJ7","v":6},{"$f":"CK7","v":1},{"$f":"CL7","v":13},{"$f":"CM7","v":0},{"$f":"CN7","v":2},{"$f":"CO7","v":1},{"$f":"CP7","v":0},{"$f":"CQ7","v":0},{"$f":"CR7","v":0},{"$f":"CS7","v":0},{"$f":"CT7","v":0},{"$f":"CU7","v":0},{"$f":"CV7","v":0}]
[null,null,null,null,null,null,null,null,null,null,null,null,null,null,null,"Proportionnelle\npure",null,{"$f":"AZ7","v":1.5872418822445691},{"$f":"BA7","v":4.2363552621478471},{"$f":"BB7","v":1.6384432332847163},{"$f":"BC7","v":5.8458586013663929},{"$f":"BD7","v":1.0262531665003454},{"$f":"BE7","v":11.101788592922393},{"$f":"BF7","v":0.48975205342749673},{"$f":"BG7","v":1.7386197896676134},{"$f":"BH7","v":1.3356874184386276},{"$f":"BI7","v":0},{"$f":"BJ7","v":0},{"$f":"BK7","v":0},{"$f":"BL7","v":0},{"$f":"BM7","v":0},{"$f":"BN7","v":0},{"$f":"BO7","v":0}]
[]
[null,null,null,null,null,null,null,null,null,null,null,null,null,null,null,null,"Nombre de sièges à distribuer :",null,null,null,{"$f":"C67","v":29},null,"Est-ce une liste unique en majorité absolue en termes de sièges ?",null,null,null,null,null,null,{"$f":"IF(C72>0,\"Oui\",\"Non\")","v":"Oui"}]
[]
[null,null,null,null,null,null,null,null,null,null,null,null,null,null,null,null,"Nombre d'inscrits :",null,null,null,{"$f":"C63","v":13027},null,"Est-ce une liste unique en majorité absolue en termes de voix ?",null,null,null,null,null,null,{"$f":"IF(C75>0,\"Oui\",\"Non\")","v":"Oui"}]
[]
[null,null,null,null,null,null,null,null,null,null,null,null,null,null,null,null,"Nombre de bulletins déposés :",null,null,null,{"$f":"C64","v":11124},null,"La majorité est-elle formée par une coalition ?",null,null,null,null,null,null,{"$f":"IF(B4>0,\"Oui\",\"Non\")","v":"Oui"}]
[]
[null,null,null,null,null,null,null,null,null,null,null,null,null,null,null,null,"Nombre de votes valables :",null,null,null,{"$f":"C66","v":10411},null,"Quelle est la proportion de l'électorat représentée par la majorité ?",null,null,null,null,null,null,{"$f":"IF(D83>0,C80,C81)","v":38.282029630766871}]
[]
[null,null,null,null,null,null,null,null,null,null,null,null,null,null,null,"Comparaison\nClef Impériali\n-\nClef D'Hondt",null,{"$f":"R100-R102","v":0},{"$f":"S100-S102","v":0},-1,1,-1,2,0,-1,0,0,0,0,0,0,0,0]

{"sheet":"SCHAERBEEK","index":18,"n_rows":114,"n_cols":100,"rows_kept":114,"cut":false,"hidden":false,"merged":[[1,1,1,48],[1,68,1,99],[1,50,1,66],[71,1,72,1],[113,15,113,16],[107,16,107,19],[109,16,109,19],[111,16,111,19],[74,1,75,1],[95,15,95,32],[105,22,105,27],[107,22,107,27],[109,22,109,27],[111,22,111,27],[105,16,105,19]]}
[]
[null,"IMPÉRIALI",null,null,null,null,null,null,null,null,null,null,null,null,null,null,null,null,null,null,null,null,null,null,null,null,null,null,null,null,null,null,null,null,null,null,null,null,null,null,null,null,null,null,null,null,null,null,null,null,"PROPORTIONNELLE PURE",null,null,null,null,null,null,null,null,null,null,null,null,null,null,null,null,null,"D'HONDT"]
[]
[null,"Coalition",null,"x",null,"x"]
[null,{"$f":"COUNTA(C5:P5)","v":9},"CDH-CD&V+","ECOLO-GROEN","VLAAMS BELANG","LISTE BOURGMESTRE","PS-sp.a","N-VA","PTB*PVDA","MR & CITOYENS","CITOYEN D'EUROPE M3E",null,null,null,null,null,null,"Blancs & Nuls","Non-déposés",{"$f":"C5","v":"CDH-CD&V+"},{"$f":"D5","v":"ECOLO-GROEN"},"VLAAMS BELANG","LISTE BOURGMESTRE","PS-sp.a","N-VA","PTB*PVDA","MR & CITOYENS","CITOYEN D'EUROPE M3E",0,0,0,0,0,null,"Non-valables",null,null,null,null,null,null,null,null,null,null,null,null,null,null,null,"New Key","Blancs & Nuls","Non-déposés",{"$f":"C5","v":"CDH-CD&V+"},{"$f":"D5","v":"ECOLO-GROEN"},"VLAAMS BELANG","LISTE BOURGMESTRE","PS-sp.a","N-VA","PTB*PVDA","MR & CITOYENS","CITOYEN D'EUROPE M3E",0,0,0,0,0,null,null,{"$f":"C5","v":"CDH-CD&V+"},{"$f":"D5","v":"ECOLO-GROEN"},"VLAAMS BELANG","LISTE BOURGMESTRE","PS-sp.a","N-VA","PTB*PVDA","MR & CITOYENS","CITOYEN D'EUROPE M3E",0,0,0,0,0,null,"Blancs & Nuls","Non-déposés",{"$f":"C5","v":"CDH-CD&V+"},{"$f":"D5","v":"ECOLO-GROEN"},"VLAAMS BELANG","LISTE BOURGMESTRE","PS-sp.a","N-VA","PTB*PVDA","MR & CITOYENS","CITOYEN D'EUROPE M3E",0,0,0,0,0]
[null,"Chiffres\nélectoraux",3814,10241,620,16887,9557,1444,6688,3291,285,0,0,0,0,0,null,{"$f":"C65","v":3712},{"$f":"C63-C64","v":10873},{"$f":"C6","v":3814},10241,620,16887,9557,1444,6688,3291,285,0,0,0,0,0,null,{"$f":"R6+S6","v":14585},null,null,null,null,null,null,null,null,null,null,null,null,null,null,null,null,{"$f":"C65","v":3712},{"$f":"C63-C64","v":10873},{"$f":"C6","v":3814},10241,620,16887,9557,1444,6688,3291,285,0,0,0,0,0,null,"Chiffres\nélectoraux",{"$f":"C6","v":3814},10241,620,16887,9557,1444,6688,3291,285,0,0,0,0,0,null,{"$f":"C65","v":3712},{"$f":"C63-C64","v":10873},{"$f":"C6","v":3814},10241,620,16887,9557,1444,6688,3291,285,0,0,0,0,0]
[null,"Sièges",3,10,0,17,9,0,6,2,0,0,0,0,0,0,null,2,8,2,8,0,14,7,0,5,1,0,0,0,0,0,0,null,11,2,8,0,14,7,0,4,1,0,0,0,0,0,0,null,1434.2978723404256,2.5880258707648491,7.58071263276568,2.6591408057912536,7.1400789177001123,0.43226725212128403,11.773704978342135,6.6631905298759859,1.0067643742953776,4.6629086809470124,2.2945024624695898,0.19870349492671927,0,0,0,0,0,null,"Sièges",3,9,0,16,9,1,6,3,0,0,0,0,0,0,null,2,8,2,7,0,13,7,1,5,2,0,0,0,0,0,0]
[null,2,{"$f":"$C$6/B8","v":1907},{"$f":"$D$6/B8","v":5120.5},{"$f":"$E$6/B8","v":310},{"$f":"$F$6/B8","v":8443.5},{"$f":"$G$6/B8","v":4778.5},{"$f":"$H$6/B8","v":722},{"$f":"$I$6/B8","v":3344},{"$f":"$J$6/B8","v":1645.5},{"$f":"$K$6/B8","v":142.5},{"$f":"$L$6/B8","v":0},{"$f":"$M$6/B8","v":0},{"$f":"$N$6/$B8","v":0},{"$f":"$O$6/$B8","v":0},{"$f":"$P$6/B8","v":0},null,{"$f":"$R$6/B8","v":1856},{"$f":"$S$6/B8","v":5436.5},{"$f":"C8","v":1907},{"$f":"D8","v":5120.5},{"$f":"E8","v":310},{"$f":"F8","v":8443.5},{"$f":"G8","v":4778.5},{"$f":"H8","v":722},{"$f":"I8","v":3344},{"$f":"J8","v":1645.5},{"$f":"K8","v":142.5},{"$f":"L8","v":0},{"$f":"M8","v":0},{"$f":"N8","v":0},0,{"$f":"P8","v":0},null,{"$f":"$AI$6/B8","v":7292.5},{"$f":"C8","v":1907},{"$f":"D8","v":5120.5},{"$f":"E8","v":310},{"$f":"F8","v":8443.5},{"$f":"G8","v":4778.5},{"$f":"H8","v":722},{"$f":"I8","v":3344},{"$f":"J8","v":1645.5},{"$f":"K8","v":142.5},{"$f":"L8","v":0},{"$f":"M8","v":0},0,{"$f":"M8","v":0},{"$f":"P8","v":0},null,null,null,null,null,null,null,null,null,null,null,null,null,null,null,null,null,null,null,1,{"$f":"$C$6/BQ8","v":3814},{"$f":"$D$6/BQ8","v":10241},{"$f":"$E$6/BQ8","v":620},{"$f":"$F$6/BQ8","v":16887},{"$f":"$G$6/BQ8","v":9557},{"$f":"$H$6/BQ8","v":1444},{"$f":"$I$6/BQ8","v":6688},{"$f":"$J$6/BQ8","v":3291},{"$f":"$K$6/BQ8","v":285},{"$f":"$L$6/BQ8","v":0},{"$f":"$M$6/BQ8","v":0},{"$f":"$N$6/$B8","v":0},{"$f":"$O$6/$B8","v":0},{"$f":"$P$6/BQ8","v":0},null,{"$f":"$R$6/BQ8","v":3712},{"$f":"$S$6/BQ8","v":10873},{"$f":"BR8","v":3814},{"$f":"BS8","v":10241},{"$f":"BT8","v":620},{"$f":"BU8","v":16887},{"$f":"BV8","v":9557},{"$f":"BW8","v":1444},{"$f":"BX8","v":6688},{"$f":"BY8","v":3291},{"$f":"BZ8","v":285},{"$f":"CA8","v":0},{"$f":"CB8","v":0},{"$f":"CC8","v":0},{"$f":"CD8","v":0},{"$f":"CE8","v":0}]
[null,3,{"$f":"$C$6/B9","v":1271.3333333333333},3413.6666666666665,{"$f":"$E$6/B9","v":206.66666666666666},5629,3185.6666666666665,{"$f":"$H$6/B9","v":481.33333333333331},{"$f":"$I$6/B9","v":2229.3333333333335},{"$f":"$J$6/B9","v":1097},{"$f":"$K$6/B9","v":95},{"$f":"$L$6/B9","v":0},{"$f":"$M$6/B9","v":0},{"$f":"$N$6/$B9","v":0},{"$f":"$O$6/$B9","v":0},{"$f":"$P$6/B9","v":0},null,{"$f":"$R$6/B9","v":1237.3333333333333},{"$f":"$S$6/B9","v":3624.3333333333335},1271.3333333333333,3413.6666666666665,206.66666666666666,5629,3185.6666666666665,481.33333333333331,2229.3333333333335,1097,95,0,0,0,0,0,null,{"$f":"$AI$6/B9","v":4861.666666666667},1271.3333333333333,3413.6666666666665,206.66666666666666,5629,3185.6666666666665,481.33333333333331,2229.3333333333335,1097,95,0,0,0,0,0,null,null,null,null,null,null,null,null,null,null,null,null,null,null,null,null,null,null,null,2,{"$f":"$C$6/BQ9","v":1907},5120.5,{"$f":"$E$6/BQ9","v":310},8443.5,4778.5,{"$f":"$H$6/BQ9","v":722},{"$f":"$I$6/BQ9","v":3344},{"$f":"$J$6/BQ9","v":1645.5},{"$f":"$K$6/BQ9","v":142.5},{"$f":"$L$6/BQ9","v":0},{"$f":"$M$6/BQ9","v":0},{"$f":"$N$6/$B9","v":0},{"$f":"$O$6/$B9","v":0},{"$f":"$P$6/BQ9","v":0},null,{"$f":"$R$6/BQ9","v":1856},{"$f":"$S$6/BQ9","v":5436.5},1907,5120.5,310,8443.5,4778.5,722,3344,1645.5,142.5,0,0,0,0,0]
[null,4,953.5,2560.25,155,4221.75,2389.25,361,1672,822.75,71.25,0,0,0,0,0,null,928,2718.25,953.5,2560.25,155,4221.75,2389.25,361,1672,822.75,71.25,0,0,0,0,0,null,3646.25,953.5,2560.25,155,4221.75,2389.25,361,1672,822.75,71.25,0,0,0,0,0,null,null,null,null,null,null,null,null,null,null,null,null,null,null,null,null,null,null,null,3,1271.3333333333333,3413.6666666666665,206.66666666666666,5629,3185.6666666666665,481.33333333333331,2229.3333333333335,1097,95,0,0,0,0,0,null,1237.3333333333333,3624.3333333333335,1271.3333333333333,3413.6666666666665,206.66666666666666,5629,3185.6666666666665,481.33333333333331,2229.3333333333335,1097,95,0,0,0,0,0]
[null,5,762.8,2048.1999999999998,124,3377.4,1911.4,288.8,1337.6,658.2,57,0,0,0,0,0,null,742.4,2174.6,762.8,2048.1999999999998,124,3377.4,1911.4,288.8,1337.6,658.2,57,0,0,0,0,0,null,2917,762.8,2048.1999999999998,124,3377.4,1911.4,288.8,1337.6,658.2,57,0,0,0,0,0,null,null,null,null,null,null,null,null,null,null,null,null,null,null,null,null,null,null,null,4,953.5,2560.25,155,4221.75,2389.25,361,1672,822.75,71.25,0,0,0,0,0,null,928,2718.25,953.5,2560.25,155,4221.75,2389.25,361,1672,822.75,71.25,0,0,0,0,0]
[null,6,635.66666666666663,1706.8333333333333,103.33333333333333,2814.5,1592.8333333333333,240.66666666666666,1114.6666666666667,548.5,47.5,0,0,0,0,0,null,618.66666666666663,1812.1666666666667,635.66666666666663,1706.8333333333333,103.33333333333333,2814.5,1592.8333333333333,240.66666666666666,1114.6666666666667,548.5,47.5,0,0,0,0,0,null,2430.8333333333335,635.66666666666663,1706.8333333333333,103.33333333333333,2814.5,1592.8333333333333,240.66666666666666,1114.6666666666667,548.5,47.5,0,0,0,0,0,null,null,null,null,null,null,null,null,null,null,null,null,null,null,null,null,null,null,null,5,762.8,2048.1999999999998,124,3377.4,1911.4,288.8,1337.6,658.2,57,0,0,0,0,0,null,742.4,2174.6,762.8,2048.1999999999998,124,3377.4,1911.4,288.8,1337.6,658.2,57,0,0,0,0,0]
[null,7,544.85714285714289,1463,88.571428571428569,2412.4285714285716,1365.2857142857142,206.28571428571428,955.42857142857144,470.14285714285717,40.714285714285715,0,0,0,0,0,null,530.28571428571433,1553.2857142857142,544.85714285714289,1463,88.571428571428569,2412.4285714285716,1365.2857142857142,206.28571428571428,955.42857142857144,470.14285714285717,40.714285714285715,0,0,0,0,0,null,2083.5714285714284,544.85714285714289,1463,88.571428571428569,2412.4285714285716,1365.2857142857142,206.28571428571428,955.42857142857144,470.14285714285717,40.714285714285715,0,0,0,0,0,null,null,null,null,null,null,null,null,null,null,null,null,null,null,null,null,null,null,null,6,635.66666666666663,1706.8333333333333,103.33333333333333,2814.5,1592.8333333333333,240.66666666666666,1114.6666666666667,548.5,47.5,0,0,0,0,0,null,618.66666666666663,1812.1666666666667,635.66666666666663,1706.8333333333333,103.33333333333333,2814.5,1592.8333333333333,240.66666666666666,1114.6666666666667,548.5,47.5,0,0,0,0,0]
[null,8,476.75,1280.125,77.5,2110.875,1194.625,180.5,836,411.375,35.625,0,0,0,0,0,null,464,1359.125,476.75,1280.125,77.5,2110.875,1194.625,180.5,836,411.375,35.625,0,0,0,0,0,null,1823.125,476.75,1280.125,77.5,2110.875,1194.625,180.5,836,411.375,35.625,0,0,0,0,0,null,null,null,null,null,null,null,null,null,null,null,null,null,null,null,null,null,null,null,7,544.85714285714289,1463,88.571428571428569,2412.4285714285716,1365.2857142857142,206.28571428571428,955.42857142857144,470.14285714285717,40.714285714285715,0,0,0,0,0,null,530.28571428571433,1553.2857142857142,544.85714285714289,1463,88.571428571428569,2412.4285714285716,1365.2857142857142,206.28571428571428,955.42857142857144,470.14285714285717,40.714285714285715,0,0,0,0,0]
[null,9,423.77777777777777,1137.8888888888889,68.888888888888886,1876.3333333333333,1061.8888888888889,160.44444444444446,743.11111111111109,365.66666666666669,31.666666666666668,0,0,0,0,0,null,412.44444444444446,1208.1111111111111,423.77777777777777,1137.8888888888889,68.888888888888886,1876.3333333333333,1061.8888888888889,160.44444444444446,743.11111111111109,365.66666666666669,31.666666666666668,0,0,0,0,0,null,1620.5555555555557,423.77777777777777,1137.8888888888889,68.888888888888886,1876.3333333333333,1061.8888888888889,160.44444444444446,743.11111111111109,365.66666666666669,31.666666666666668,0,0,0,0,0,null,null,null,null,null,null,null,null,null,null,null,null,null,null,null,null,null,null,null,8,476.75,1280.125,77.5,2110.875,1194.625,180.5,836,411.375,35.625,0,0,0,0,0,null,464,1359.125,476.75,1280.125,77.5,2110.875,1194.625,180.5,836,411.375,35.625,0,0,0,0,0]
[null,10,381.4,1024.0999999999999,62,1688.7,955.7,144.4,668.8,329.1,28.5,0,0,0,0,0,null,371.2,1087.3,381.4,1024.0999999999999,62,1688.7,955.7,144.4,668.8,329.1,28.5,0,0,0,0,0,null,1458.5,381.4,1024.0999999999999,62,1688.7,955.7,144.4,668.8,329.1,28.5,0,0,0,0,0,null,null,null,null,null,null,null,null,null,null,null,null,null,null,null,null,null,null,null,9,423.77777777777777,1137.8888888888889,68.888888888888886,1876.3333333333333,1061.8888888888889,160.44444444444446,743.11111111111109,365.66666666666669,31.666666666666668,0,0,0,0,0,null,412.44444444444446,1208.1111111111111,423.77777777777777,1137.8888888888889,68.888888888888886,1876.3333333333333,1061.8888888888889,160.44444444444446,743.11111111111109,365.66666666666669,31.666666666666668,0,0,0,0,0]
[null,11,346.72727272727275,931,56.363636363636367,1535.1818181818182,868.81818181818187,131.27272727272728,608,299.18181818181819,25.90909090909091,0,0,0,0,0,null,337.45454545454544,988.4545454545455,346.72727272727275,931,56.363636363636367,1535.1818181818182,868.81818181818187,131.27272727272728,608,299.18181818181819,25.90909090909091,0,0,0,0,0,null,1325.909090909091,346.72727272727275,931,56.363636363636367,1535.1818181818182,868.81818181818187,131.27272727272728,608,299.18181818181819,25.90909090909091,0,0,0,0,0,null,null,null,null,null,null,null,null,null,null,null,null,null,null,null,null,null,null,null,10,381.4,1024.0999999999999,62,1688.7,955.7,144.4,668.8,329.1,28.5,0,0,0,0,0,null,371.2,1087.3,381.4,1024.0999999999999,62,1688.7,955.7,144.4,668.8,329.1,28.5,0,0,0,0,0]
[null,12,317.83333333333331,853.41666666666663,51.666666666666664,1407.25,796.41666666666663,120.33333333333333,557.33333333333337,274.25,23.75,0,0,0,0,0,null,309.33333333333331,906.08333333333337,317.83333333333331,853.41666666666663,51.666666666666664,1407.25,796.41666666666663,120.33333333333333,557.33333333333337,274.25,23.75,0,0,0,0,0,null,1215.4166666666667,317.83333333333331,853.41666666666663,51.666666666666664,1407.25,796.41666666666663,120.33333333333333,557.33333333333337,274.25,23.75,0,0,0,0,0,null,null,null,null,null,null,null,null,null,null,null,null,null,null,null,null,null,null,null,11,346.72727272727275,931,56.363636363636367,1535.1818181818182,868.81818181818187,131.27272727272728,608,299.18181818181819,25.90909090909091,0,0,0,0,0,null,337.45454545454544,988.4545454545455,346.72727272727275,931,56.363636363636367,1535.1818181818182,868.81818181818187,131.27272727272728,608,299.18181818181819,25.90909090909091,0,0,0,0,0]
[null,13,293.38461538461536,787.76923076923072,47.692307692307693,1299,735.15384615384619,111.07692307692308,514.46153846153845,253.15384615384616,21.923076923076923,0,0,0,0,0,null,285.53846153846155,836.38461538461536,293.38461538461536,787.76923076923072,47.692307692307693,1299,735.15384615384619,111.07692307692308,514.46153846153845,253.15384615384616,21.923076923076923,0,0,0,0,0,null,1121.9230769230769,293.38461538461536,787.76923076923072,47.692307692307693,1299,735.15384615384619,111.07692307692308,514.46153846153845,253.15384615384616,21.923076923076923,0,0,0,0,0,null,null,null,null,null,null,null,null,null,null,null,null,null,null,null,null,null,null,null,12,317.83333333333331,853.41666666666663,51.666666666666664,1407.25,796.41666666666663,120.33333333333333,557.33333333333337,274.25,23.75,0,0,0,0,0,null,309.33333333333331,906.08333333333337,317.83333333333331,853.41666666666663,51.666666666666664,1407.25,796.41666666666663,120.33333333333333,557.33333333333337,274.25,23.75,0,0,0,0,0]
[null,14,272.42857142857144,731.5,44.285714285714285,1206.2142857142858,682.64285714285711,103.14285714285714,477.71428571428572,235.07142857142858,20.357142857142858,0,0,0,0,0,null,265.14285714285717,776.64285714285711,272.42857142857144,731.5,44.285714285714285,1206.2142857142858,682.64285714285711,103.14285714285714,477.71428571428572,235.07142857142858,20.357142857142858,0,0,0,0,0,null,1041.7857142857142,272.42857142857144,731.5,44.285714285714285,1206.2142857142858,682.64285714285711,103.14285714285714,477.71428571428572,235.07142857142858,20.357142857142858,0,0,0,0,0,null,null,null,null,null,null,null,null,null,null,null,null,null,null,null,null,null,null,null,13,293.38461538461536,787.76923076923072,47.692307692307693,1299,735.15384615384619,111.07692307692308,514.46153846153845,253.15384615384616,21.923076923076923,0,0,0,0,0,null,285.53846153846155,836.38461538461536,293.38461538461536,787.76923076923072,47.692307692307693,1299,735.15384615384619,111.07692307692308,514.46153846153845,253.15384615384616,21.923076923076923,0,0,0,0,0]
[null,15,254.26666666666668,682.73333333333335,41.333333333333336,1125.8,637.13333333333333,96.266666666666666,445.86666666666667,219.4,19,0,0,0,0,0,null,247.46666666666667,724.86666666666667,254.26666666666668,682.73333333333335,41.333333333333336,1125.8,637.13333333333333,96.266666666666666,445.86666666666667,219.4,19,0,0,0,0,0,null,972.33333333333337,254.26666666666668,682.73333333333335,41.333333333333336,1125.8,637.13333333333333,96.266666666666666,445.86666666666667,219.4,19,0,0,0,0,0,null,null,null,null,null,null,null,null,null,null,null,null,null,null,null,null,null,null,null,14,272.42857142857144,731.5,44.285714285714285,1206.2142857142858,682.64285714285711,103.14285714285714,477.71428571428572,235.07142857142858,20.357142857142858,0,0,0,0,0,null,265.14285714285717,776.64285714285711,272.42857142857144,731.5,44.285714285714285,1206.2142857142858,682.64285714285711,103.14285714285714,477.71428571428572,235.07142857142858,20.357142857142858,0,0,0,0,0]
[null,16,238.375,640.0625,38.75,1055.4375,597.3125,90.25,418,205.6875,17.8125,0,0,0,0,0,null,232,679.5625,238.375,640.0625,38.75,1055.4375,597.3125,90.25,418,205.6875,17.8125,0,0,0,0,0,null,911.5625,238.375,640.0625,38.75,1055.4375,597.3125,90.25,418,205.6875,17.8125,0,0,0,0,0,null,null,null,null,null,null,null,null,null,null,null,null,null,null,null,null,null,null,null,15,254.26666666666668,682.73333333333335,41.333333333333336,1125.8,637.13333333333333,96.266666666666666,445.86666666666667,219.4,19,0,0,0,0,0,null,247.46666666666667,724.86666666666667,254.26666666666668,682.73333333333335,41.333333333333336,1125.8,637.13333333333333,96.266666666666666,445.86666666666667,219.4,19,0,0,0,0,0]
[null,17,224.35294117647058,602.41176470588232,36.470588235294116,993.35294117647061,562.17647058823525,84.941176470588232,393.41176470588238,193.58823529411765,16.764705882352942,0,0,0,0,0,null,218.35294117647058,639.58823529411768,224.35294117647058,602.41176470588232,36.470588235294116,993.35294117647061,562.17647058823525,84.941176470588232,393.41176470588238,193.58823529411765,16.764705882352942,0,0,0,0,0,null,857.94117647058829,224.35294117647058,602.41176470588232,36.470588235294116,993.35294117647061,562.17647058823525,84.941176470588232,393.41176470588238,193.58823529411765,16.764705882352942,0,0,0,0,0,null,null,null,null,null,null,null,null,null,null,null,null,null,null,null,null,null,null,null,16,238.375,640.0625,38.75,1055.4375,597.3125,90.25,418,205.6875,17.8125,0,0,0,0,0,null,232,679.5625,238.375,640.0625,38.75,1055.4375,597.3125,90.25,418,205.6875,17.8125,0,0,0,0,0]
[null,18,211.88888888888889,568.94444444444446,34.444444444444443,938.16666666666663,530.94444444444446,80.222222222222229,371.55555555555554,182.83333333333334,15.833333333333334,0,0,0,0,0,null,206.22222222222223,604.05555555555554,211.88888888888889,568.94444444444446,34.444444444444443,938.16666666666663,530.94444444444446,80.222222222222229,371.55555555555554,182.83333333333334,15.833333333333334,0,0,{"$f":"N24","v":0},0,0,null,810.27777777777783,211.88888888888889,568.94444444444446,34.444444444444443,938.16666666666663,530.94444444444446,80.222222222222229,371.55555555555554,182.83333333333334,15.833333333333334,0,{"$f":"M24","v":0},0,0,0,null,null,null,null,null,null,null,null,null,null,null,null,null,null,null,null,null,null,null,17,224.35294117647058,602.41176470588232,36.470588235294116,993.35294117647061,562.17647058823525,84.941176470588232,393.41176470588238,193.58823529411765,16.764705882352942,0,0,0,0,0,null,218.35294117647058,639.58823529411768,224.35294117647058,602.41176470588232,36.470588235294116,993.35294117647061,562.17647058823525,84.941176470588232,393.41176470588238,193.58823529411765,16.764705882352942,0,0,0,0,0]
[null,19,200.73684210526315,539,32.631578947368418,888.78947368421052,503,76,352,173.21052631578948,15,0,0,0,0,0,null,195.36842105263159,572.26315789473688,200.73684210526315,539,32.631578947368418,888.78947368421052,503,76,352,173.21052631578948,15,0,0,0,0,0,null,767.63157894736844,200.73684210526315,539,32.631578947368418,888.78947368421052,503,76,352,173.21052631578948,15,0,0,0,0,0,null,null,null,null,null,null,null,null,null,null,null,null,null,null,null,null,null,null,null,18,211.88888888888889,568.94444444444446,34.444444444444443,938.16666666666663,530.94444444444446,80.222222222222229,371.55555555555554,182.83333333333334,15.833333333333334,0,0,0,0,0,null,206.22222222222223,604.05555555555554,211.88888888888889,568.94444444444446,34.444444444444443,938.16666666666663,530.94444444444446,80.222222222222229,371.55555555555554,182.83333333333334,15.833333333333334,0,0,0,0,0]
[null,20,190.7,512.04999999999995,31,844.35,477.85,72.2,334.4,164.55,14.25,0,0,0,0,0,null,185.6,543.65,190.7,512.04999999999995,31,844.35,477.85,72.2,334.4,164.55,14.25,0,0,0,0,0,null,729.25,190.7,512.04999999999995,31,844.35,477.85,72.2,334.4,164.55,14.25,0,0,0,0,0,null,null,null,null,null,null,null,null,null,null,null,null,null,null,null,null,null,null,null,19,200.73684210526315,539,32.631578947368418,888.78947368421052,503,76,352,173.21052631578948,15,0,0,0,0,0,null,195.36842105263159,572.26315789473688,200.73684210526315,539,32.631578947368418,888.78947368421052,503,76,352,173.21052631578948,15,0,0,0,0,0]
[null,21,181.61904761904762,487.66666666666669,29.523809523809526,804.14285714285711,455.09523809523807,68.761904761904759,318.47619047619048,156.71428571428572,13.571428571428571,0,0,0,0,0,null,176.76190476190476,517.76190476190482,181.61904761904762,487.66666666666669,29.523809523809526,804.14285714285711,455.09523809523807,68.761904761904759,318.47619047619048,156.71428571428572,13.571428571428571,0,0,0,0,{"$f":"P27","v":0},null,694.52380952380952,181.61904761904762,487.66666666666669,29.523809523809526,804.14285714285711,455.09523809523807,68.761904761904759,318.47619047619048,156.71428571428572,13.571428571428571,0,0,0,0,{"$f":"P27","v":0},null,null,null,null,null,null,null,null,null,null,null,null,null,null,null,null,null,null,null,20,190.7,512.04999999999995,31,844.35,477.85,72.2,334.4,164.55,14.25,0,0,0,0,0,null,185.6,543.65,190.7,512.04999999999995,31,844.35,477.85,72.2,334.4,164.55,14.25,0,0,0,0,0]
[null,22,173.36363636363637,465.5,28.181818181818183,767.59090909090912,434.40909090909093,65.63636363636364,304,149.59090909090909,12.954545454545455,0,0,0,0,0,null,168.72727272727272,494.22727272727275,173.36363636363637,465.5,28.181818181818183,767.59090909090912,434.40909090909093,65.63636363636364,304,149.59090909090909,12.954545454545455,0,0,0,0,0,null,662.9545454545455,173.36363636363637,465.5,28.181818181818183,767.59090909090912,434.40909090909093,65.63636363636364,304,149.59090909090909,12.954545454545455,0,0,0,0,0,null,null,null,null,null,null,null,null,null,null,null,null,null,null,null,null,null,null,null,21,181.61904761904762,487.66666666666669,29.523809523809526,804.14285714285711,455.09523809523807,68.761904761904759,318.47619047619048,156.71428571428572,13.571428571428571,0,0,0,0,0,null,176.76190476190476,517.76190476190482,181.61904761904762,487.66666666666669,29.523809523809526,804.14285714285711,455.09523809523807,68.761904761904759,318.47619047619048,156.71428571428572,13.571428571428571,0,0,0,0,0]
[null,23,165.82608695652175,445.26086956521738,26.956521739130434,734.21739130434787,415.52173913043481,62.782608695652172,290.78260869565219,143.08695652173913,12.391304347826088,0,0,0,0,0,null,161.39130434782609,472.73913043478262,165.82608695652175,445.26086956521738,26.956521739130434,734.21739130434787,415.52173913043481,62.782608695652172,290.78260869565219,143.08695652173913,12.391304347826088,0,0,0,0,0,null,634.13043478260875,165.82608695652175,445.26086956521738,26.956521739130434,734.21739130434787,415.52173913043481,62.782608695652172,290.78260869565219,143.08695652173913,12.391304347826088,0,0,0,0,0,null,null,null,null,null,null,null,null,null,null,null,null,null,null,null,null,null,null,null,22,173.36363636363637,465.5,28.181818181818183,767.59090909090912,434.40909090909093,65.63636363636364,304,149.59090909090909,12.954545454545455,0,0,0,0,0,null,168.72727272727272,494.22727272727275,173.36363636363637,465.5,28.181818181818183,767.59090909090912,434.40909090909093,65.63636363636364,304,149.59090909090909,12.954545454545455,0,0,0,0,0]
[null,24,158.91666666666666,426.70833333333331,25.833333333333332,703.625,398.20833333333331,60.166666666666664,278.66666666666669,137.125,11.875,0,0,0,0,0,null,154.66666666666666,453.04166666666669,158.91666666666666,426.70833333333331,25.833333333333332,703.625,398.20833333333331,60.166666666666664,278.66666666666669,137.125,11.875,0,0,0,0,0,null,607.70833333333337,158.91666666666666,426.70833333333331,25.833333333333332,703.625,398.20833333333331,60.166666666666664,278.66666666666669,137.125,11.875,0,0,0,0,0,null,null,null,null,null,null,null,null,null,null,null,null,null,null,null,null,null,null,null,23,165.82608695652175,445.26086956521738,26.956521739130434,734.21739130434787,415.52173913043481,62.782608695652172,290.78260869565219,143.08695652173913,12.391304347826088,0,0,0,0,0,null,161.39130434782609,472.73913043478262,165.82608695652175,445.26086956521738,26.956521739130434,734.21739130434787,415.52173913043481,62.782608695652172,290.78260869565219,143.08695652173913,12.391304347826088,0,0,0,0,0]
[null,25,152.56,409.64,24.8,675.48,382.28,57.76,267.52,131.63999999999999,11.4,0,0,0,0,0,null,148.47999999999999,434.92,152.56,409.64,24.8,675.48,382.28,57.76,267.52,131.63999999999999,11.4,0,0,0,0,0,null,583.4,152.56,409.64,24.8,675.48,382.28,57.76,267.52,131.63999999999999,11.4,0,0,0,0,0,null,null,null,null,null,null,null,null,null,null,null,null,null,null,null,null,null,null,null,24,158.91666666666666,426.70833333333331,25.833333333333332,703.625,398.20833333333331,60.166666666666664,278.66666666666669,137.125,11.875,0,0,0,0,0,null,154.66666666666666,453.04166666666669,158.91666666666666,426.70833333333331,25.833333333333332,703.625,398.20833333333331,60.166666666666664,278.66666666666669,137.125,11.875,0,0,0,0,0]
[null,26,146.69230769230768,393.88461538461536,23.846153846153847,649.5,367.57692307692309,55.53846153846154,257.23076923076923,126.57692307692308,10.961538461538462,0,0,0,0,0,null,142.76923076923077,418.19230769230768,146.69230769230768,393.88461538461536,23.846153846153847,649.5,367.57692307692309,55.53846153846154,257.23076923076923,126.57692307692308,10.961538461538462,0,0,0,0,0,null,560.96153846153845,146.69230769230768,393.88461538461536,23.846153846153847,649.5,367.57692307692309,55.53846153846154,257.23076923076923,126.57692307692308,10.961538461538462,0,0,0,0,0,null,null,null,null,null,null,null,null,null,null,null,null,null,null,null,null,null,null,null,25,152.56,409.64,24.8,675.48,382.28,57.76,267.52,131.63999999999999,11.4,0,0,0,0,0,null,148.47999999999999,434.92,152.56,409.64,24.8,675.48,382.28,57.76,267.52,131.63999999999999,11.4,0,0,0,0,0]
[null,27,141.25925925925927,379.2962962962963,22.962962962962962,625.44444444444446,353.96296296296299,53.481481481481481,247.7037037037037,121.88888888888889,10.555555555555555,0,0,0,0,0,null,137.4814814814815,402.7037037037037,141.25925925925927,379.2962962962963,22.962962962962962,625.44444444444446,353.96296296296299,53.481481481481481,247.7037037037037,121.88888888888889,10.555555555555555,0,0,0,0,0,null,540.18518518518522,141.25925925925927,379.2962962962963,22.962962962962962,625.44444444444446,353.96296296296299,53.481481481481481,247.7037037037037,121.88888888888889,10.555555555555555,0,0,0,0,0,null,null,null,null,null,null,null,null,null,null,null,null,null,null,null,null,null,null,null,26,146.69230769230768,393.88461538461536,23.846153846153847,649.5,367.57692307692309,55.53846153846154,257.23076923076923,126.57692307692308,10.961538461538462,0,0,0,0,0,null,142.76923076923077,418.19230769230768,146.69230769230768,393.88461538461536,23.846153846153847,649.5,367.57692307692309,55.53846153846154,257.23076923076923,126.57692307692308,10.961538461538462,0,0,0,0,0]
[null,28,136.21428571428572,365.75,22.142857142857142,603.10714285714289,341.32142857142856,51.571428571428569,238.85714285714286,117.53571428571429,10.178571428571429,0,0,0,0,0,null,132.57142857142858,388.32142857142856,136.21428571428572,365.75,22.142857142857142,603.10714285714289,341.32142857142856,51.571428571428569,238.85714285714286,117.53571428571429,10.178571428571429,0,0,0,0,0,null,520.89285714285711,136.21428571428572,365.75,22.142857142857142,603.10714285714289,341.32142857142856,51.571428571428569,238.85714285714286,117.53571428571429,10.178571428571429,0,0,0,0,0,null,null,null,null,null,null,null,null,null,null,null,null,null,null,null,null,null,null,null,27,141.25925925925927,379.2962962962963,22.962962962962962,625.44444444444446,353.96296296296299,53.481481481481481,247.7037037037037,121.88888888888889,10.555555555555555,0,0,0,0,0,null,137.4814814814815,402.7037037037037,141.25925925925927,379.2962962962963,22.962962962962962,625.44444444444446,353.96296296296299,53.481481481481481,247.7037037037037,121.88888888888889,10.555555555555555,0,0,0,0,0]
[null,29,131.51724137931035,353.13793103448273,21.379310344827587,582.31034482758616,329.55172413793105,49.793103448275865,230.62068965517241,113.48275862068965,9.8275862068965516,0,0,0,0,0,null,128,374.93103448275861,131.51724137931035,353.13793103448273,21.379310344827587,582.31034482758616,329.55172413793105,49.793103448275865,230.62068965517241,113.48275862068965,9.8275862068965516,0,0,0,0,0,null,502.93103448275861,131.51724137931035,353.13793103448273,21.379310344827587,582.31034482758616,329.55172413793105,49.793103448275865,230.62068965517241,113.48275862068965,9.8275862068965516,0,0,0,0,0,null,null,null,null,null,null,null,null,null,null,null,null,null,null,null,null,null,null,null,28,136.21428571428572,365.75,22.142857142857142,603.10714285714289,341.32142857142856,51.571428571428569,238.85714285714286,117.53571428571429,10.178571428571429,0,0,0,0,0,null,132.57142857142858,388.32142857142856,136.21428571428572,365.75,22.142857142857142,603.10714285714289,341.32142857142856,51.571428571428569,238.85714285714286,117.53571428571429,10.178571428571429,0,0,0,0,0]
[null,30,127.13333333333334,341.36666666666667,20.666666666666668,562.9,318.56666666666666,48.133333333333333,222.93333333333334,109.7,9.5,0,0,0,0,0,null,123.73333333333333,362.43333333333334,127.13333333333334,341.36666666666667,20.666666666666668,562.9,318.56666666666666,48.133333333333333,222.93333333333334,109.7,9.5,0,0,0,0,0,null,486.16666666666669,127.13333333333334,341.36666666666667,20.666666666666668,562.9,318.56666666666666,48.133333333333333,222.93333333333334,109.7,9.5,0,0,0,0,0,null,null,null,null,null,null,null,null,null,null,null,null,null,null,null,null,null,null,null,29,131.51724137931035,353.13793103448273,21.379310344827587,582.31034482758616,329.55172413793105,49.793103448275865,230.62068965517241,113.48275862068965,9.8275862068965516,0,0,0,0,0,null,128,374.93103448275861,131.51724137931035,353.13793103448273,21.379310344827587,582.31034482758616,329.55172413793105,49.793103448275865,230.62068965517241,113.48275862068965,9.8275862068965516,0,0,0,0,0]
[null,31,123.03225806451613,330.35483870967744,20,544.74193548387098,308.29032258064518,46.58064516129032,215.74193548387098,106.16129032258064,9.193548387096774,0,0,0,0,0,null,119.74193548387096,350.74193548387098,123.03225806451613,330.35483870967744,20,544.74193548387098,308.29032258064518,46.58064516129032,215.74193548387098,106.16129032258064,9.193548387096774,0,0,0,0,0,null,470.48387096774195,123.03225806451613,330.35483870967744,20,544.74193548387098,308.29032258064518,46.58064516129032,215.74193548387098,106.16129032258064,9.193548387096774,0,0,0,0,0,null,null,null,null,null,null,null,null,null,null,null,null,null,null,null,null,null,null,null,30,127.13333333333334,341.36666666666667,20.666666666666668,562.9,318.56666666666666,48.133333333333333,222.93333333333334,109.7,9.5,0,0,0,0,0,null,123.73333333333333,362.43333333333334,127.13333333333334,341.36666666666667,20.666666666666668,562.9,318.56666666666666,48.133333333333333,222.93333333333334,109.7,9.5,0,0,0,0,0]
[null,32,119.1875,320.03125,19.375,527.71875,298.65625,45.125,209,102.84375,8.90625,0,0,0,0,0,null,116,339.78125,119.1875,320.03125,19.375,527.71875,298.65625,45.125,209,102.84375,8.90625,0,0,0,0,0,null,455.78125,119.1875,320.03125,19.375,527.71875,298.65625,45.125,209,102.84375,8.90625,0,0,0,0,0,null,null,null,null,null,null,null,null,null,null,null,null,null,null,null,null,null,null,null,31,123.03225806451613,330.35483870967744,20,544.74193548387098,308.29032258064518,46.58064516129032,215.74193548387098,106.16129032258064,9.193548387096774,0,0,0,0,0,null,119.74193548387096,350.74193548387098,123.03225806451613,330.35483870967744,20,544.74193548387098,308.29032258064518,46.58064516129032,215.74193548387098,106.16129032258064,9.193548387096774,0,0,0,0,0]
[null,33,115.57575757575758,310.33333333333331,18.787878787878789,511.72727272727275,289.60606060606062,43.757575757575758,202.66666666666666,99.727272727272734,8.6363636363636367,0,0,0,0,0,null,112.48484848484848,329.4848484848485,115.57575757575758,310.33333333333331,18.787878787878789,511.72727272727275,289.60606060606062,43.757575757575758,202.66666666666666,99.727272727272734,8.6363636363636367,0,0,0,0,0,null,441.969696969697,115.57575757575758,310.33333333333331,18.787878787878789,511.72727272727275,289.60606060606062,43.757575757575758,202.66666666666666,99.727272727272734,8.6363636363636367,0,0,0,0,0,null,null,null,null,null,null,null,null,null,null,null,null,null,null,null,null,null,null,null,32,119.1875,320.03125,19.375,527.71875,298.65625,45.125,209,102.84375,8.90625,0,0,0,0,0,null,116,339.78125,119.1875,320.03125,19.375,527.71875,298.65625,45.125,209,102.84375,8.90625,0,0,0,0,0]
[null,34,112.17647058823529,301.20588235294116,18.235294117647058,496.6764705882353,281.08823529411762,42.470588235294116,196.70588235294119,96.794117647058826,8.382352941176471,0,0,0,0,0,null,109.17647058823529,319.79411764705884,{"$f":"C40","v":112.17647058823529},{"$f":"D40","v":301.20588235294116},{"$f":"E40","v":18.235294117647058},{"$f":"F40","v":496.6764705882353},{"$f":"G40","v":281.08823529411762},{"$f":"H40","v":42.470588235294116},{"$f":"I40","v":196.70588235294119},{"$f":"J40","v":96.794117647058826},{"$f":"K40","v":8.382352941176471},{"$f":"L40","v":0},{"$f":"M40","v":0},{"$f":"N40","v":0},0,0,null,428.97058823529414,{"$f":"C40","v":112.17647058823529},{"$f":"D40","v":301.20588235294116},{"$f":"E40","v":18.235294117647058},{"$f":"F40","v":496.6764705882353},{"$f":"G40","v":281.08823529411762},{"$f":"H40","v":42.470588235294116},{"$f":"I40","v":196.70588235294119},{"$f":"J40","v":96.794117647058826},{"$f":"K40","v":8.382352941176471},{"$f":"L40","v":0},{"$f":"M40","v":0},0,{"$f":"M40","v":0},0,null,null,null,null,null,null,null,null,null,null,null,null,null,null,null,null,null,null,null,33,115.57575757575758,310.33333333333331,18.787878787878789,511.72727272727275,289.60606060606062,43.757575757575758,202.66666666666666,99.727272727272734,8.6363636363636367,0,0,0,0,0,null,112.48484848484848,329.4848484848485,115.57575757575758,310.33333333333331,18.787878787878789,511.72727272727275,289.60606060606062,43.757575757575758,202.66666666666666,99.727272727272734,8.6363636363636367,0,0,0,0,0]
[null,35,108.97142857142858,292.60000000000002,17.714285714285715,482.48571428571427,273.05714285714288,41.25714285714286,191.08571428571429,94.028571428571425,8.1428571428571423,0,0,0,0,0,null,106.05714285714286,310.65714285714284,108.97142857142858,292.60000000000002,17.714285714285715,482.48571428571427,273.05714285714288,41.25714285714286,191.08571428571429,94.028571428571425,8.1428571428571423,0,0,0,0,0,null,416.71428571428572,108.97142857142858,292.60000000000002,17.714285714285715,482.48571428571427,273.05714285714288,41.25714285714286,191.08571428571429,94.028571428571425,8.1428571428571423,0,0,0,0,0,null,null,null,null,null,null,null,null,null,null,null,null,null,null,null,null,null,null,null,34,112.17647058823529,301.20588235294116,18.235294117647058,496.6764705882353,281.08823529411762,42.470588235294116,196.70588235294119,96.794117647058826,8.382352941176471,0,0,0,0,0,null,109.17647058823529,319.79411764705884,112.17647058823529,301.20588235294116,18.235294117647058,496.6764705882353,281.08823529411762,42.470588235294116,196.70588235294119,96.794117647058826,8.382352941176471,0,0,0,0,0]
[null,36,105.94444444444444,284.47222222222223,17.222222222222221,469.08333333333331,265.47222222222223,40.111111111111114,185.77777777777777,91.416666666666671,7.916666666666667,0,0,0,0,0,null,103.11111111111111,302.02777777777777,105.94444444444444,284.47222222222223,17.222222222222221,469.08333333333331,265.47222222222223,40.111111111111114,185.77777777777777,91.416666666666671,7.916666666666667,0,0,0,0,0,null,405.13888888888891,105.94444444444444,284.47222222222223,17.222222222222221,469.08333333333331,265.47222222222223,40.111111111111114,185.77777777777777,91.416666666666671,7.916666666666667,0,0,0,0,0,null,null,null,null,null,null,null,null,null,null,null,null,null,null,null,null,null,null,null,35,108.97142857142858,292.60000000000002,17.714285714285715,482.48571428571427,273.05714285714288,41.25714285714286,191.08571428571429,94.028571428571425,8.1428571428571423,0,0,0,0,0,null,106.05714285714286,310.65714285714284,108.97142857142858,292.60000000000002,17.714285714285715,482.48571428571427,273.05714285714288,41.25714285714286,191.08571428571429,94.028571428571425,8.1428571428571423,0,0,0,0,0]
[null,37,103.08108108108108,276.7837837837838,16.756756756756758,456.40540540540542,258.29729729729729,39.027027027027025,180.75675675675674,88.945945945945951,7.7027027027027026,0,0,0,0,0,null,100.32432432432432,293.86486486486484,103.08108108108108,276.7837837837838,16.756756756756758,456.40540540540542,258.29729729729729,39.027027027027025,180.75675675675674,88.945945945945951,7.7027027027027026,0,0,0,0,0,null,394.18918918918916,103.08108108108108,276.7837837837838,16.756756756756758,456.40540540540542,258.29729729729729,39.027027027027025,180.75675675675674,88.945945945945951,7.7027027027027026,0,0,0,0,0,null,null,null,null,null,null,null,null,null,null,null,null,null,null,null,null,null,null,null,36,105.94444444444444,284.47222222222223,17.222222222222221,469.08333333333331,265.47222222222223,40.111111111111114,185.77777777777777,91.416666666666671,7.916666666666667,0,0,0,0,0,null,103.11111111111111,302.02777777777777,105.94444444444444,284.47222222222223,17.222222222222221,469.08333333333331,265.47222222222223,40.111111111111114,185.77777777777777,91.416666666666671,7.916666666666667,0,0,0,0,0]
[null,38,100.36842105263158,269.5,16.315789473684209,444.39473684210526,251.5,38,176,86.60526315789474,7.5,0,0,0,0,0,null,97.684210526315795,286.13157894736844,100.36842105263158,269.5,16.315789473684209,444.39473684210526,251.5,38,176,86.60526315789474,7.5,0,0,0,0,0,null,383.81578947368422,100.36842105263158,269.5,16.315789473684209,444.39473684210526,251.5,38,176,86.60526315789474,7.5,0,0,0,0,0,null,null,null,null,null,null,null,null,null,null,null,null,null,null,null,null,null,null,null,37,103.08108108108108,276.7837837837838,16.756756756756758,456.40540540540542,258.29729729729729,39.027027027027025,180.75675675675674,88.945945945945951,7.7027027027027026,0,0,0,0,0,null,100.32432432432432,293.86486486486484,103.08108108108108,276.7837837837838,16.756756756756758,456.40540540540542,258.29729729729729,39.027027027027025,180.75675675675674,88.945945945945951,7.7027027027027026,0,0,0,0,0]
[null,39,97.794871794871796,262.58974358974359,15.897435897435898,433,245.05128205128204,37.025641025641029,171.48717948717947,84.384615384615387,7.3076923076923075,0,0,0,0,0,null,95.179487179487182,278.79487179487177,97.794871794871796,262.58974358974359,15.897435897435898,433,245.05128205128204,37.025641025641029,171.48717948717947,84.384615384615387,7.3076923076923075,0,0,0,0,0,null,373.97435897435895,97.794871794871796,262.58974358974359,15.897435897435898,433,245.05128205128204,37.025641025641029,171.48717948717947,84.384615384615387,7.3076923076923075,0,0,0,0,0,null,null,null,null,null,null,null,null,null,null,null,null,null,null,null,null,null,null,null,38,100.36842105263158,269.5,16.315789473684209,444.39473684210526,251.5,38,176,86.60526315789474,7.5,0,0,0,0,0,null,97.684210526315795,286.13157894736844,100.36842105263158,269.5,16.315789473684209,444.39473684210526,251.5,38,176,86.60526315789474,7.5,0,0,0,0,0]
[null,40,95.35,256.02499999999998,15.5,422.17500000000001,238.92500000000001,36.1,167.2,82.275000000000006,7.125,0,0,0,0,0,null,92.8,271.82499999999999,95.35,256.02499999999998,15.5,422.17500000000001,238.92500000000001,36.1,167.2,82.275000000000006,7.125,0,0,0,0,0,null,364.625,95.35,256.02499999999998,15.5,422.17500000000001,238.92500000000001,36.1,167.2,82.275000000000006,7.125,0,0,0,0,0,null,null,null,null,null,null,null,null,null,null,null,null,null,null,null,null,null,null,null,39,97.794871794871796,262.58974358974359,15.897435897435898,433,245.05128205128204,37.025641025641029,171.48717948717947,84.384615384615387,7.3076923076923075,0,0,0,0,0,null,95.179487179487182,278.79487179487177,97.794871794871796,262.58974358974359,15.897435897435898,433,245.05128205128204,37.025641025641029,171.48717948717947,84.384615384615387,7.3076923076923075,0,0,0,0,0]
[null,41,93.024390243902445,249.78048780487805,15.121951219512194,411.8780487804878,233.09756097560975,35.219512195121951,163.1219512195122,80.268292682926827,6.9512195121951219,0,0,0,0,0,null,90.536585365853654,265.19512195121951,93.024390243902445,249.78048780487805,15.121951219512194,411.8780487804878,233.09756097560975,35.219512195121951,163.1219512195122,80.268292682926827,6.9512195121951219,0,0,0,0,0,null,355.73170731707319,93.024390243902445,249.78048780487805,15.121951219512194,411.8780487804878,233.09756097560975,35.219512195121951,163.1219512195122,80.268292682926827,6.9512195121951219,0,0,0,0,0,null,null,null,null,null,null,null,null,null,null,null,null,null,null,null,null,null,null,null,40,95.35,256.02499999999998,15.5,422.17500000000001,238.92500000000001,36.1,167.2,82.275000000000006,7.125,0,0,0,0,0,null,92.8,271.82499999999999,95.35,256.02499999999998,15.5,422.17500000000001,238.92500000000001,36.1,167.2,82.275000000000006,7.125,0,0,0,0,0]
[null,42,90.80952380952381,243.83333333333334,14.761904761904763,402.07142857142856,227.54761904761904,34.38095238095238,159.23809523809524,78.357142857142861,6.7857142857142856,0,0,0,0,0,null,88.38095238095238,258.88095238095241,90.80952380952381,243.83333333333334,14.761904761904763,402.07142857142856,227.54761904761904,34.38095238095238,159.23809523809524,78.357142857142861,6.7857142857142856,0,0,0,0,0,null,347.26190476190476,90.80952380952381,243.83333333333334,14.761904761904763,402.07142857142856,227.54761904761904,34.38095238095238,159.23809523809524,78.357142857142861,6.7857142857142856,0,0,0,0,0,null,null,null,null,null,null,null,null,null,null,null,null,null,null,null,null,null,null,null,41,93.024390243902445,249.78048780487805,15.121951219512194,411.8780487804878,233.09756097560975,35.219512195121951,163.1219512195122,80.268292682926827,6.9512195121951219,0,0,0,0,0,null,90.536585365853654,265.19512195121951,93.024390243902445,249.78048780487805,15.121951219512194,411.8780487804878,233.09756097560975,35.219512195121951,163.1219512195122,80.268292682926827,6.9512195121951219,0,0,0,0,0]
[null,43,88.697674418604649,238.16279069767441,14.418604651162791,392.72093023255815,222.25581395348837,33.581395348837212,155.53488372093022,76.534883720930239,6.6279069767441863,0,0,0,0,0,null,86.325581395348834,252.86046511627907,88.697674418604649,238.16279069767441,14.418604651162791,392.72093023255815,222.25581395348837,33.581395348837212,155.53488372093022,76.534883720930239,6.6279069767441863,0,0,0,0,0,null,339.18604651162792,88.697674418604649,238.16279069767441,14.418604651162791,392.72093023255815,222.25581395348837,33.581395348837212,155.53488372093022,76.534883720930239,6.6279069767441863,0,0,0,0,0,null,null,null,null,null,null,null,null,null,null,null,null,null,null,null,null,null,null,null,42,90.80952380952381,243.83333333333334,14.761904761904763,402.07142857142856,227.54761904761904,34.38095238095238,159.23809523809524,78.357142857142861,6.7857142857142856,0,0,0,0,0,null,88.38095238095238,258.88095238095241,90.80952380952381,243.83333333333334,14.761904761904763,402.07142857142856,227.54761904761904,34.38095238095238,159.23809523809524,78.357142857142861,6.7857142857142856,0,0,0,0,0]
[null,44,86.681818181818187,232.75,14.090909090909092,383.79545454545456,217.20454545454547,32.81818181818182,152,74.795454545454547,6.4772727272727275,0,0,0,0,0,null,84.36363636363636,247.11363636363637,86.681818181818187,232.75,14.090909090909092,383.79545454545456,217.20454545454547,32.81818181818182,152,74.795454545454547,6.4772727272727275,0,0,0,0,0,null,331.47727272727275,86.681818181818187,232.75,14.090909090909092,383.79545454545456,217.20454545454547,32.81818181818182,152,74.795454545454547,6.4772727272727275,0,0,0,0,0,null,null,null,null,null,null,null,null,null,null,null,null,null,null,null,null,null,null,null,43,88.697674418604649,238.16279069767441,14.418604651162791,392.72093023255815,222.25581395348837,33.581395348837212,155.53488372093022,76.534883720930239,6.6279069767441863,0,0,0,0,0,null,86.325581395348834,252.86046511627907,88.697674418604649,238.16279069767441,14.418604651162791,392.72093023255815,222.25581395348837,33.581395348837212,155.53488372093022,76.534883720930239,6.6279069767441863,0,0,0,0,0]
[null,45,84.75555555555556,227.57777777777778,13.777777777777779,375.26666666666665,212.37777777777777,32.088888888888889,148.62222222222223,73.13333333333334,6.333333333333333,0,0,0,0,0,null,82.488888888888894,241.62222222222223,84.75555555555556,227.57777777777778,13.777777777777779,375.26666666666665,212.37777777777777,32.088888888888889,148.62222222222223,73.13333333333334,6.333333333333333,0,0,0,0,0,null,324.11111111111109,84.75555555555556,227.57777777777778,13.777777777777779,375.26666666666665,212.37777777777777,32.088888888888889,148.62222222222223,73.13333333333334,6.333333333333333,0,0,0,0,0,null,null,null,null,null,null,null,null,null,null,null,null,null,null,null,null,null,null,null,44,86.681818181818187,232.75,14.090909090909092,383.79545454545456,217.20454545454547,32.81818181818182,152,74.795454545454547,6.4772727272727275,0,0,0,0,0,null,84.36363636363636,247.11363636363637,86.681818181818187,232.75,14.090909090909092,383.79545454545456,217.20454545454547,32.81818181818182,152,74.795454545454547,6.4772727272727275,0,0,0,0,0]
[null,46,82.913043478260875,222.63043478260869,13.478260869565217,367.10869565217394,207.7608695652174,31.391304347826086,145.39130434782609,71.543478260869563,6.1956521739130439,0,0,0,0,0,null,80.695652173913047,236.36956521739131,82.913043478260875,222.63043478260869,13.478260869565217,367.10869565217394,207.7608695652174,31.391304347826086,145.39130434782609,71.543478260869563,6.1956521739130439,0,0,0,0,0,null,317.06521739130437,82.913043478260875,222.63043478260869,13.478260869565217,367.10869565217394,207.7608695652174,31.391304347826086,145.39130434782609,71.543478260869563,6.1956521739130439,0,0,0,0,0,null,null,null,null,null,null,null,null,null,null,null,null,null,null,null,null,null,null,null,45,84.75555555555556,227.57777777777778,13.777777777777779,375.26666666666665,212.37777777777777,32.088888888888889,148.62222222222223,73.13333333333334,6.333333333333333,0,0,0,0,0,null,82.488888888888894,241.62222222222223,84.75555555555556,227.57777777777778,13.777777777777779,375.26666666666665,212.37777777777777,32.088888888888889,148.62222222222223,73.13333333333334,6.333333333333333,0,0,0,0,0]
[null,47,81.148936170212764,217.89361702127658,13.191489361702128,359.29787234042556,203.34042553191489,30.723404255319149,142.29787234042553,70.021276595744681,6.0638297872340425,0,0,0,0,0,null,78.978723404255319,231.34042553191489,81.148936170212764,217.89361702127658,13.191489361702128,359.29787234042556,203.34042553191489,30.723404255319149,142.29787234042553,70.021276595744681,6.0638297872340425,0,0,0,0,0,null,310.31914893617022,81.148936170212764,217.89361702127658,13.191489361702128,359.29787234042556,203.34042553191489,30.723404255319149,142.29787234042553,70.021276595744681,6.0638297872340425,0,0,0,0,0,null,null,null,null,null,null,null,null,null,null,null,null,null,null,null,null,null,null,null,46,82.913043478260875,222.63043478260869,13.478260869565217,367.10869565217394,207.7608695652174,31.391304347826086,145.39130434782609,71.543478260869563,6.1956521739130439,0,0,0,0,0,null,80.695652173913047,236.36956521739131,82.913043478260875,222.63043478260869,13.478260869565217,367.10869565217394,207.7608695652174,31.391304347826086,145.39130434782609,71.543478260869563,6.1956521739130439,0,0,0,0,0]
[null,48,79.458333333333329,213.35416666666666,12.916666666666666,351.8125,199.10416666666666,30.083333333333332,139.33333333333334,{"$f":"$J$6/B54","v":68.5625},5.9375,0,0,0,0,0,null,77.333333333333329,226.52083333333334,79.458333333333329,213.35416666666666,12.916666666666666,351.8125,199.10416666666666,30.083333333333332,139.33333333333334,68.5625,5.9375,0,0,0,0,0,null,303.85416666666669,79.458333333333329,213.35416666666666,12.916666666666666,351.8125,199.10416666666666,30.083333333333332,139.33333333333334,68.5625,5.9375,0,0,0,0,0,null,null,null,null,null,null,null,null,null,null,null,null,null,null,null,null,null,null,null,47,81.148936170212764,217.89361702127658,13.191489361702128,359.29787234042556,203.34042553191489,30.723404255319149,142.29787234042553,70.021276595744681,6.0638297872340425,0,0,0,0,0,null,78.978723404255319,231.34042553191489,81.148936170212764,217.89361702127658,13.191489361702128,359.29787234042556,203.34042553191489,30.723404255319149,142.29787234042553,70.021276595744681,6.0638297872340425,0,0,0,0,0]
[null,49,77.836734693877546,209,12.653061224489797,344.63265306122452,195.0408163265306,29.469387755102041,136.48979591836735,67.163265306122454,5.8163265306122449,0,0,0,0,0,null,75.755102040816325,221.89795918367346,77.836734693877546,209,12.653061224489797,344.63265306122452,195.0408163265306,29.469387755102041,136.48979591836735,67.163265306122454,5.8163265306122449,0,0,0,0,{"$f":"P55","v":0},null,297.65306122448982,77.836734693877546,209,12.653061224489797,344.63265306122452,195.0408163265306,29.469387755102041,136.48979591836735,67.163265306122454,5.8163265306122449,0,0,0,0,{"$f":"P55","v":0},null,null,null,null,null,null,null,null,null,null,null,null,null,null,null,null,null,null,null,48,79.458333333333329,213.35416666666666,12.916666666666666,351.8125,199.10416666666666,30.083333333333332,139.33333333333334,68.5625,5.9375,0,0,0,0,0,null,77.333333333333329,226.52083333333334,79.458333333333329,213.35416666666666,12.916666666666666,351.8125,199.10416666666666,30.083333333333332,139.33333333333334,68.5625,5.9375,0,0,0,0,0]
[null,50,76.28,204.82,12.4,337.74,191.14,28.88,133.76,65.819999999999993,5.7,0,0,0,0,0,null,74.239999999999995,217.46,76.28,204.82,12.4,337.74,191.14,28.88,133.76,65.819999999999993,5.7,0,0,{"$f":"N56","v":0},0,0,null,291.7,76.28,204.82,12.4,337.74,191.14,28.88,133.76,65.819999999999993,5.7,0,{"$f":"M56","v":0},0,0,0,null,null,null,null,null,null,null,null,null,null,null,null,null,null,null,null,null,null,null,49,77.836734693877546,209,12.653061224489797,344.63265306122452,195.0408163265306,29.469387755102041,136.48979591836735,67.163265306122454,5.8163265306122449,0,0,0,0,0,null,75.755102040816325,221.89795918367346,77.836734693877546,209,12.653061224489797,344.63265306122452,195.0408163265306,29.469387755102041,136.48979591836735,67.163265306122454,5.8163265306122449,0,0,0,0,0]
[null,51,74.784313725490193,200.80392156862746,12.156862745098039,331.11764705882354,187.39215686274511,28.313725490196077,131.13725490196077,64.529411764705884,5.5882352941176467,0,0,0,0,0,null,72.784313725490193,213.19607843137254,74.784313725490193,200.80392156862746,12.156862745098039,331.11764705882354,187.39215686274511,28.313725490196077,131.13725490196077,64.529411764705884,5.5882352941176467,0,0,0,0,0,null,285.98039215686276,74.784313725490193,200.80392156862746,12.156862745098039,331.11764705882354,187.39215686274511,28.313725490196077,131.13725490196077,64.529411764705884,5.5882352941176467,0,0,0,0,0,null,null,null,null,null,null,null,null,null,null,null,null,null,null,null,null,null,null,null,50,76.28,204.82,12.4,337.74,191.14,28.88,133.76,65.819999999999993,5.7,0,0,0,0,0,null,74.239999999999995,217.46,76.28,204.82,12.4,337.74,191.14,28.88,133.76,65.819999999999993,5.7,0,0,0,0,0]
[null,52,73.34615384615384,196.94230769230768,11.923076923076923,324.75,183.78846153846155,27.76923076923077,128.61538461538461,63.28846153846154,5.4807692307692308,0,0,0,0,0,null,71.384615384615387,209.09615384615384,73.34615384615384,196.94230769230768,11.923076923076923,324.75,183.78846153846155,27.76923076923077,128.61538461538461,63.28846153846154,5.4807692307692308,0,0,0,0,0,null,280.48076923076923,73.34615384615384,196.94230769230768,11.923076923076923,324.75,183.78846153846155,27.76923076923077,128.61538461538461,63.28846153846154,5.4807692307692308,0,0,0,0,0,null,null,null,null,null,null,null,null,null,null,null,null,null,null,null,null,null,null,null,51,74.784313725490193,200.80392156862746,12.156862745098039,331.11764705882354,187.39215686274511,28.313725490196077,131.13725490196077,64.529411764705884,5.5882352941176467,0,0,0,0,0,null,72.784313725490193,213.19607843137254,74.784313725490193,200.80392156862746,12.156862745098039,331.11764705882354,187.39215686274511,28.313725490196077,131.13725490196077,64.529411764705884,5.5882352941176467,0,0,0,0,0]
[null,53,{"$f":"$C$6/B59","v":71.962264150943398},{"$f":"$D$6/B59","v":193.22641509433961},{"$f":"$E$6/B59","v":11.69811320754717},{"$f":"$F$6/B59","v":318.62264150943395},{"$f":"$G$6/B59","v":180.32075471698113},{"$f":"$H$6/B59","v":27.245283018867923},{"$f":"$I$6/B59","v":126.18867924528301},62.094339622641506,{"$f":"$K$6/B59","v":5.3773584905660377},{"$f":"$L$6/B59","v":0},{"$f":"$M$6/B59","v":0},0,0,{"$f":"$P$6/B59","v":0},null,{"$f":"$R$6/B59","v":70.037735849056602},{"$f":"$S$6/B59","v":205.15094339622641},71.962264150943398,193.22641509433961,11.69811320754717,318.62264150943395,180.32075471698113,27.245283018867923,126.18867924528301,62.094339622641506,5.3773584905660377,0,0,0,0,0,null,{"$f":"$AI$6/B59","v":275.18867924528303},71.962264150943398,193.22641509433961,11.69811320754717,318.62264150943395,180.32075471698113,27.245283018867923,126.18867924528301,62.094339622641506,5.3773584905660377,0,0,0,0,0,null,null,null,null,null,null,null,null,null,null,null,null,null,null,null,null,null,null,null,52,{"$f":"$C$6/BQ59","v":73.34615384615384},{"$f":"$D$6/BQ59","v":196.94230769230768},{"$f":"$E$6/BQ59","v":11.923076923076923},{"$f":"$F$6/BQ59","v":324.75},{"$f":"$G$6/BQ59","v":183.78846153846155},{"$f":"$H$6/BQ59","v":27.76923076923077},{"$f":"$I$6/BQ59","v":128.61538461538461},63.28846153846154,{"$f":"$K$6/BQ59","v":5.4807692307692308},{"$f":"$L$6/BQ59","v":0},{"$f":"$M$6/BQ59","v":0},0,0,{"$f":"$P$6/BQ59","v":0},null,{"$f":"$R$6/BQ59","v":71.384615384615387},{"$f":"$S$6/BQ59","v":209.09615384615384},73.34615384615384,196.94230769230768,11.923076923076923,324.75,183.78846153846155,27.76923076923077,128.61538461538461,63.28846153846154,5.4807692307692308,0,0,0,0,0]
[null,54,{"$f":"$C$6/B60","v":70.629629629629633},{"$f":"$D$6/B60","v":189.64814814814815},{"$f":"$E$6/B60","v":11.481481481481481},{"$f":"$F$6/B60","v":312.72222222222223},{"$f":"$G$6/B60","v":176.9814814814815},{"$f":"$H$6/B60","v":26.74074074074074},{"$f":"$I$6/B60","v":123.85185185185185},60.944444444444443,{"$f":"$K$6/B60","v":5.2777777777777777},{"$f":"$L$6/B60","v":0},{"$f":"$M$6/B60","v":0},0,0,{"$f":"$P$6/B60","v":0},null,{"$f":"$R$6/B60","v":68.740740740740748},{"$f":"$S$6/B60","v":201.35185185185185},70.629629629629633,189.64814814814815,11.481481481481481,312.72222222222223,176.9814814814815,26.74074074074074,123.85185185185185,60.944444444444443,5.2777777777777777,0,0,0,0,0,null,{"$f":"$AI$6/B60","v":270.09259259259261},70.629629629629633,189.64814814814815,11.481481481481481,312.72222222222223,176.9814814814815,26.74074074074074,123.85185185185185,60.944444444444443,5.2777777777777777,0,0,0,0,0,null,null,null,null,null,null,null,null,null,null,null,null,null,null,null,null,null,null,null,53,{"$f":"$C$6/BQ60","v":71.962264150943398},{"$f":"$D$6/BQ60","v":193.22641509433961},{"$f":"$E$6/BQ60","v":11.69811320754717},{"$f":"$F$6/BQ60","v":318.62264150943395},{"$f":"$G$6/BQ60","v":180.32075471698113},{"$f":"$H$6/BQ60","v":27.245283018867923},{"$f":"$I$6/BQ60","v":126.18867924528301},62.094339622641506,{"$f":"$K$6/BQ60","v":5.3773584905660377},{"$f":"$L$6/BQ60","v":0},{"$f":"$M$6/BQ60","v":0},0,0,{"$f":"$P$6/BQ60","v":0},null,{"$f":"$R$6/BQ60","v":70.037735849056602},{"$f":"$S$6/BQ60","v":205.15094339622641},71.962264150943398,193.22641509433961,11.69811320754717,318.62264150943395,180.32075471698113,27.245283018867923,126.18867924528301,62.094339622641506,5.3773584905660377,0,0,0,0,0]
[]
[]
[null,"Nombre d'inscrits",67412]
[null,"Bulletins déposés",56539]
[null,"Blancs & Nuls",3712]
[null,"Votes valables",52827]
[null,"Nombre de sièges",47]
[]
[]
[]
[]
[null,"Liste unique\nMajorité\nabsolue",{"$f":"SUM($C$73:$P$73)","v":0},null,null,null,null,null,null,null,null,null,null,null,null,null,null,{"$f":"SUM($R$73:$AG$73)","v":0},null,null,null,null,null,null,null,null,null,null,null,null,null,null,null,null,{"$f":"SUM($AI$73:$AW$73)","v":0}]
[null,null,{"$f":"IF(C7>($C$67/2),1,0)","v":0},{"$f":"IF(D7>($C$67/2),1,0)","v":0},{"$f":"IF(E7>($C$67/2),1,0)","v":0},{"$f":"IF(F7>($C$67/2),1,0)","v":0},{"$f":"IF(G7>($C$67/2),1,0)","v":0},{"$f":"IF(H7>($C$67/2),1,0)","v":0},{"$f":"IF(I7>($C$67/2),1,0)","v":0},{"$f":"IF(J7>($C$67/2),1,0)","v":0},{"$f":"IF(K7>($C$67/2),1,0)","v":0},{"$f":"IF(L7>($C$67/2),1,0)","v":0},{"$f":"IF(M7>($C$67/2),1,0)","v":0},{"$f":"IF(N7>($C$67/2),1,0)","v":0},{"$f":"IF(O7>($C$67/2),1,0)","v":0},{"$f":"IF(P7>($C$67/2),1,0)","v":0},null,{"$f":"IF(R7>($C$67/2),1,0)","v":0},{"$f":"IF(S7>($C$67/2),1,0)","v":0},{"$f":"IF(T7>($C$67/2),1,0)","v":0},{"$f":"IF(U7>($C$67/2),1,0)","v":0},{"$f":"IF(V7>($C$67/2),1,0)","v":0},{"$f":"IF(W7>($C$67/2),1,0)","v":0},{"$f":"IF(X7>($C$67/2),1,0)","v":0},{"$f":"IF(Y7>($C$67/2),1,0)","v":0},{"$f":"IF(Z7>($C$67/2),1,0)","v":0},{"$f":"IF(AA7>($C$67/2),1,0)","v":0},{"$f":"IF(AB7>($C$67/2),1,0)","v":0},{"$f":"IF(AC7>($C$67/2),1,0)","v":0},{"$f":"IF(AD7>($C$67/2),1,0)","v":0},{"$f":"IF(AE7>($C$67/2),1,0)","v":0},{"$f":"IF(AF7>($C$67/2),1,0)","v":0},{"$f":"IF(AG7>($C$67/2),1,0)","v":0},null,{"$f":"IF(AI7>($C$67/2),1,0)","v":0},{"$f":"IF(AJ7>($C$67/2),1,0)","v":0},{"$f":"IF(AK7>($C$67/2),1,0)","v":0},{"$f":"IF(AL7>($C$67/2),1,0)","v":0},{"$f":"IF(AM7>($C$67/2),1,0)","v":0},{"$f":"IF(AN7>($C$67/2),1,0)","v":0},{"$f":"IF(AO7>($C$67/2),1,0)","v":0},{"$f":"IF(AP7>($C$67/2),1,0)","v":0},{"$f":"IF(AQ7>($C$67/2),1,0)","v":0},{"$f":"IF(AR7>($C$67/2),1,0)","v":0},{"$f":"IF(AS7>($C$67/2),1,0)","v":0},{"$f":"IF(AT7>($C$67/2),1,0)","v":0},{"$f":"IF(AU7>($C$67/2),1,0)","v":0},{"$f":"IF(AV7>($C$67/2),1,0)","v":0},{"$f":"IF(AW7>($C$67/2),1,0)","v":0}]
[]
[null,"Liste unique\nMajorité\nabsolue\nnombre de voix",{"$f":"SUM($C$76:$P$76)","v":0},null,null,null,null,null,null,null,null,null,null,null,null,null,null,{"$f":"SUM(R76:AG76)","v":0},null,null,null,null,null,null,null,null,null,null,null,null,null,null,null,null,{"$f":"SUM(AI76:AW76)","v":0}]
[null,null,{"$f":"IF(C73>0,C6,0)","v":0},{"$f":"IF(D73>0,D6,0)","v":0},{"$f":"IF(E73>0,E6,0)","v":0},{"$f":"IF(F73>0,F6,0)","v":0},{"$f":"IF(G73>0,G6,0)","v":0},{"$f":"IF(H73>0,H6,0)","v":0},{"$f":"IF(I73>0,I6,0)","v":0},{"$f":"IF(J73>0,J6,0)","v":0},{"$f":"IF(K73>0,K6,0)","v":0},{"$f":"IF(L73>0,L6,0)","v":0},{"$f":"IF(M73>0,M6,0)","v":0},{"$f":"IF(N73>0,N6,0)","v":0},{"$f":"IF(O73>0,O6,0)","v":0},{"$f":"IF(P73>0,P6,0)","v":0},null,{"$f":"IF(R73>0,R6,0)","v":0},{"$f":"IF(S73>0,S6,0)","v":0},{"$f":"IF(T73>0,T6,0)","v":0},{"$f":"IF(U73>0,U6,0)","v":0},{"$f":"IF(V73>0,V6,0)","v":0},{"$f":"IF(W73>0,W6,0)","v":0},{"$f":"IF(X73>0,X6,0)","v":0},{"$f":"IF(Y73>0,Y6,0)","v":0},{"$f":"IF(Z73>0,Z6,0)","v":0},{"$f":"IF(AA73>0,AA6,0)","v":0},{"$f":"IF(AB73>0,AB6,0)","v":0},{"$f":"IF(AC73>0,AC6,0)","v":0},{"$f":"IF(AD73>0,AD6,0)","v":0},{"$f":"IF(AE73>0,AE6,0)","v":0},{"$f":"IF(AF73>0,AF6,0)","v":0},{"$f":"IF(AG73>0,AG6,0)","v":0},null,{"$f":"IF(AI73>0,AI6,0)","v":0},{"$f":"IF(AJ73>0,AJ6,0)","v":0},{"$f":"IF(AK73>0,AK6,0)","v":0},{"$f":"IF(AL73>0,AL6,0)","v":0},{"$f":"IF(AM73>0,AM6,0)","v":0},{"$f":"IF(AN73>0,AN6,0)","v":0},{"$f":"IF(AO73>0,AO6,0)","v":0},{"$f":"IF(AP73>0,AP6,0)","v":0},{"$f":"IF(AQ73>0,AQ6,0)","v":0},{"$f":"IF(AR73>0,AR6,0)","v":0},{"$f":"IF(AS73>0,AS6,0)","v":0},{"$f":"IF(AT73>0,AT6,0)","v":0},{"$f":"IF(AU73>0,AU6,0)","v":0},{"$f":"IF(AV73>0,AV6,0)","v":0},{"$f":"IF(AW73>0,AW6,0)","v":0}]
[]
[null,"Nbr voix\nCoalition",{"$f":"SUMIF(C4:P4,\"x\",C6:P6)","v":27128}]
[]
[null,"% Coalition",{"$f":"100/C63*C78","v":40.242093395834573}]
[null,"% Majorité",{"$f":"100/C63*C75","v":0}]
[]
[null,"Coalition",{"$f":"COUNTA(C4:P4)","v":2},{"$f":"IF(C83>0,1,0)","v":1}]
[]
[]
[]
[]
[]
[]
[]
[]
[]
[]
[]
[]
[null,null,null,null,null,null,null,null,null,null,null,null,null,null,null,"SCHAERBEEK"]
[]
[null,null,null,null,null,null,null,null,null,null,null,null,null,null,null,null,null,{"$f":"R5","v":"Blancs & Nuls"},{"$f":"S5","v":"Non-déposés"},{"$f":"T5","v":"CDH-CD&V+"},{"$f":"U5","v":"ECOLO-GROEN"},{"$f":"V5","v":"VLAAMS BELANG"},{"$f":"W5","v":"LISTE BOURGMESTRE"},{"$f":"X5","v":"PS-sp.a"},{"$f":"Y5","v":"N-VA"},{"$f":"Z5","v":"PTB*PVDA"},{"$f":"AA5","v":"MR & CITOYENS"},{"$f":"AB5","v":"CITOYEN D'EUROPE M3E"},{"$f":"AC5","v":0},{"$f":"AD5","v":0},{"$f":"AE5","v":0},{"$f":"AF5","v":0},{"$f":"AG5","v":0}]
[null,null,null,null,null,null,null,null,null,null,null,null,null,null,null,"Chiffres\nélectoraux",null,{"$f":"R6","v":3712},{"$f":"S6","v":10873},{"$f":"T6","v":3814},{"$f":"U6","v":10241},{"$f":"V6","v":620},{"$f":"W6","v":16887},{"$f":"X6","v":9557},{"$f":"Y6","v":1444},{"$f":"Z6","v":6688},{"$f":"AA6","v":3291},{"$f":"AB6","v":285},{"$f":"AC6","v":0},{"$f":"AD6","v":0},{"$f":"AE6","v":0},{"$f":"AF6","v":0},{"$f":"AG6","v":0}]
[null,null,null,null,null,null,null,null,null,null,null,null,null,null,null,"Impériali",null,0,0,{"$f":"C7","v":3},{"$f":"D7","v":10},{"$f":"E7","v":0},{"$f":"F7","v":17},{"$f":"G7","v":9},{"$f":"H7","v":0},{"$f":"I7","v":6},{"$f":"J7","v":2},{"$f":"K7","v":0},{"$f":"L7","v":0},{"$f":"M7","v":0},{"$f":"N7","v":0},{"$f":"O7","v":0},{"$f":"P7","v":0}]
[null,null,null,null,null,null,null,null,null,null,null,null,null,null,null,"Impériali\n+ proportionnelle",null,{"$f":"R7","v":2},{"$f":"S7","v":8},{"$f":"T7","v":2},{"$f":"U7","v":8},{"$f":"V7","v":0},{"$f":"W7","v":14},{"$f":"X7","v":7},{"$f":"Y7","v":0},{"$f":"Z7","v":5},{"$f":"AA7","v":1},{"$f":"AB7","v":0},{"$f":"AC7","v":0},{"$f":"AD7","v":0},{"$f":"AE7","v":0},{"$f":"AF7","v":0},{"$f":"AG7","v":0}]
[null,null,null,null,null,null,null,null,null,null,null,null,null,null,null,"D'Hondt",null,0,0,{"$f":"BR7","v":3},{"$f":"BS7","v":9},{"$f":"BT7","v":0},{"$f":"BU7","v":16},{"$f":"BV7","v":9},{"$f":"BW7","v":1},{"$f":"BX7","v":6},{"$f":"BY7","v":3},{"$f":"BZ7","v":0},{"$f":"CA7","v":0},{"$f":"CB7","v":0},{"$f":"CC7","v":0},{"$f":"CD7","v":0},{"$f":"CE7","v":0}]
[null,null,null,null,null,null,null,null,null,null,null,null,null,null,null,"D'Hondt\n+ proportionnelle",null,{"$f":"CG7","v":2},{"$f":"CH7","v":8},{"$f":"CI7","v":2},{"$f":"CJ7","v":7},{"$f":"CK7","v":0},{"$f":"CL7","v":13},{"$f":"CM7","v":7},{"$f":"CN7","v":1},{"$f":"CO7","v":5},{"$f":"CP7","v":2},{"$f":"CQ7","v":0},{"$f":"CR7","v":0},{"$f":"CS7","v":0},{"$f":"CT7","v":0},{"$f":"CU7","v":0},{"$f":"CV7","v":0}]
[null,null,null,null,null,null,null,null,null,null,null,null,null,null,null,"Proportionnelle\npure",null,{"$f":"AZ7","v":2.5880258707648491},{"$f":"BA7","v":7.58071263276568},{"$f":"BB7","v":2.6591408057912536},{"$f":"BC7","v":7.1400789177001123},{"$f":"BD7","v":0.43226725212128403},{"$f":"BE7","v":11.773704978342135},{"$f":"BF7","v":6.6631905298759859},{"$f":"BG7","v":1.0067643742953776},{"$f":"BH7","v":4.6629086809470124},{"$f":"BI7","v":2.2945024624695898},{"$f":"BJ7","v":0.19870349492671927},{"$f":"BK7","v":0},{"$f":"BL7","v":0},{"$f":"BM7","v":0},{"$f":"BN7","v":0},{"$f":"BO7","v":0}]
[]
[null,null,null,null,null,null,null,null,null,null,null,null,null,null,null,null,"Nombre de sièges à distribuer :",null,null,null,{"$f":"C67","v":47},null,"Est-ce une liste unique en majorité absolue en termes de sièges ?",null,null,null,null,null,null,{"$f":"IF(C72>0,\"Oui\",\"Non\")","v":"Non"}]
[]
[null,null,null,null,null,null,null,null,null,null,null,null,null,null,null,null,"Nombre d'inscrits :",null,null,null,{"$f":"C63","v":67412},null,"Est-ce une liste unique en majorité absolue en termes de voix ?",null,null,null,null,null,null,{"$f":"IF(C75>0,\"Oui\",\"Non\")","v":"Non"}]
[]
[null,null,null,null,null,null,null,null,null,null,null,null,null,null,null,null,"Nombre de bulletins déposés :",null,null,null,{"$f":"C64","v":56539},null,"La majorité est-elle formée par une coalition ?",null,null,null,null,null,null,{"$f":"IF(B4>0,\"Oui\",\"Non\")","v":"Oui"}]
[]
[null,null,null,null,null,null,null,null,null,null,null,null,null,null,null,null,"Nombre de votes valables :",null,null,null,{"$f":"C66","v":52827},null,"Quelle est la proportion de l'électorat représentée par la majorité ?",null,null,null,null,null,null,{"$f":"IF(D83>0,C80,C81)","v":40.242093395834573}]
[]
[null,null,null,null,null,null,null,null,null,null,null,null,null,null,null,"Comparaison\nClef Impériali\n-\nClef D'Hondt",null,{"$f":"R100-R102","v":0},{"$f":"S100-S102","v":0},0,1,0,1,0,-1,0,-1,0,0,0,0,0,0]

{"sheet":"UCCLE","index":19,"n_rows":114,"n_cols":100,"rows_kept":114,"cut":false,"hidden":false,"merged":[[1,1,1,48],[1,68,1,99],[1,50,1,66],[71,1,72,1],[113,15,113,16],[107,16,107,19],[109,16,109,19],[111,16,111,19],[74,1,75,1],[95,15,95,32],[105,22,105,27],[107,22,107,27],[109,22,109,27],[111,22,111,27],[105,16,105,19]]}
[]
[null,"IMPÉRIALI",null,null,null,null,null,null,null,null,null,null,null,null,null,null,null,null,null,null,null,null,null,null,null,null,null,null,null,null,null,null,null,null,null,null,null,null,null,null,null,null,null,null,null,null,null,null,null,null,"PROPORTIONNELLE PURE",null,null,null,null,null,null,null,null,null,null,null,null,null,null,null,null,null,"D'HONDT"]
[]
[null,"Coalition","x","x",null,null,null,"x"]
[null,{"$f":"COUNTA(C5:P5)","v":8},"CDH","ECOLO - GROEN","DéFI","PS","N-VA","MR","UCCLE EN AVANT","CITOYEN D'EUROPE M3E",null,null,null,null,null,null,null,"Blancs & Nuls","Non-déposés",{"$f":"C5","v":"CDH"},{"$f":"D5","v":"ECOLO - GROEN"},{"$f":"E5","v":"DéFI"},{"$f":"F5","v":"PS"},{"$f":"G5","v":"N-VA"},{"$f":"H5","v":"MR"},{"$f":"I5","v":"UCCLE EN AVANT"},{"$f":"J5","v":"CITOYEN D'EUROPE M3E"},{"$f":"K5","v":0},{"$f":"L5","v":0},{"$f":"M5","v":0},{"$f":"N5","v":0},{"$f":"O5","v":0},{"$f":"P5","v":0},null,"Non-valables",{"$f":"C5","v":"CDH"},{"$f":"D5","v":"ECOLO - GROEN"},{"$f":"E5","v":"DéFI"},{"$f":"F5","v":"PS"},{"$f":"G5","v":"N-VA"},{"$f":"H5","v":"MR"},{"$f":"I5","v":"UCCLE EN AVANT"},{"$f":"J5","v":"CITOYEN D'EUROPE M3E"},{"$f":"K5","v":0},{"$f":"L5","v":0},{"$f":"M5","v":0},{"$f":"N5","v":0},{"$f":"O5","v":0},{"$f":"P5","v":0},null,"New Key","Blancs & Nuls","Non-déposés",{"$f":"C5","v":"CDH"},{"$f":"D5","v":"ECOLO - GROEN"},"DéFI","PS","N-VA","MR","UCCLE EN AVANT","CITOYEN D'EUROPE M3E",0,0,0,0,0,0,null,null,{"$f":"C5","v":"CDH"},{"$f":"D5","v":"ECOLO - GROEN"},"DéFI","PS","N-VA","MR","UCCLE EN AVANT","CITOYEN D'EUROPE M3E",0,0,0,0,0,0,null,"Blancs & Nuls","Non-déposés",{"$f":"C5","v":"CDH"},{"$f":"D5","v":"ECOLO - GROEN"},"DéFI","PS","N-VA","MR","UCCLE EN AVANT","CITOYEN D'EUROPE M3E",0,0,0,0,0,0]
[null,"Chiffres\nélectoraux",2883,10282,5094,2972,867,12472,3623,173,0,0,0,0,0,0,null,{"$f":"C65","v":1804},{"$f":"C63-C64","v":8007},2883,10282,5094,2972,867,12472,3623,173,0,0,0,0,0,0,null,{"$f":"R6+S6","v":9811},2883,10282,5094,2972,867,12472,3623,173,0,0,0,0,0,0,null,null,{"$f":"C65","v":1804},{"$f":"C63-C64","v":8007},{"$f":"C6","v":2883},10282,5094,2972,867,12472,3623,173,0,0,0,0,0,0,null,"Chiffres\nélectoraux",{"$f":"C6","v":2883},10282,5094,2972,867,12472,3623,173,0,0,0,0,0,0,null,{"$f":"C65","v":1804},{"$f":"C63-C64","v":8007},{"$f":"C6","v":2883},10282,5094,2972,867,12472,3623,173,0,0,0,0,0,0]
[null,"Sièges",2,13,6,3,0,16,3,0,0,0,0,0,0,0,null,1,8,2,10,4,2,0,13,3,0,0,0,0,0,0,0,null,10,2,10,4,2,0,12,3,0,0,0,0,0,0,0,null,1120.3953488372092,1.6101459202524027,7.1465844697677321,2.5731988293168944,9.177117711771178,4.5466093779189247,2.6526350748282379,0.77383398717230223,11.131784876600868,3.2336799717707621,0.1544097806007016,0,0,0,0,0,0,null,"Sièges",3,12,6,3,1,14,4,0,0,0,0,0,0,0,null,1,8,2,10,5,2,0,12,3,0,0,0,0,0,0,0]
[null,2,{"$f":"$C$6/B8","v":1441.5},{"$f":"$D$6/B8","v":5141},{"$f":"$E$6/B8","v":2547},{"$f":"$F$6/B8","v":1486},{"$f":"$G$6/B8","v":433.5},{"$f":"$H$6/B8","v":6236},{"$f":"$I$6/B8","v":1811.5},{"$f":"$J$6/B8","v":86.5},{"$f":"$K$6/B8","v":0},{"$f":"$L$6/B8","v":0},{"$f":"$M$6/B8","v":0},{"$f":"$N$6/$B8","v":0},{"$f":"$O$6/$B8","v":0},{"$f":"$P$6/B8","v":0},null,{"$f":"$R$6/B8","v":902},{"$f":"$S$6/B8","v":4003.5},{"$f":"C8","v":1441.5},5141,2547,1486,433.5,6236,1811.5,86.5,0,0,0,{"$f":"N8","v":0},0,{"$f":"P8","v":0},null,{"$f":"$AI$6/B8","v":4905.5},{"$f":"C8","v":1441.5},{"$f":"D8","v":5141},{"$f":"E8","v":2547},{"$f":"F8","v":1486},{"$f":"G8","v":433.5},{"$f":"H8","v":6236},{"$f":"I8","v":1811.5},{"$f":"J8","v":86.5},{"$f":"K8","v":0},{"$f":"L8","v":0},{"$f":"M8","v":0},{"$f":"N8","v":0},0,{"$f":"P8","v":0},null,null,null,null,null,null,null,null,null,null,null,null,null,null,null,null,null,null,null,1,{"$f":"$C$6/BQ8","v":2883},{"$f":"$D$6/BQ8","v":10282},{"$f":"$E$6/BQ8","v":5094},{"$f":"$F$6/BQ8","v":2972},{"$f":"$G$6/BQ8","v":867},{"$f":"$H$6/BQ8","v":12472},{"$f":"$I$6/BQ8","v":3623},{"$f":"$J$6/BQ8","v":173},{"$f":"$K$6/BQ8","v":0},{"$f":"$L$6/BQ8","v":0},{"$f":"$M$6/BQ8","v":0},{"$f":"$N$6/$B8","v":0},{"$f":"$O$6/$B8","v":0},{"$f":"$P$6/BQ8","v":0},null,{"$f":"$R$6/BQ8","v":1804},{"$f":"$S$6/BQ8","v":8007},{"$f":"BR8","v":2883},{"$f":"BS8","v":10282},{"$f":"BT8","v":5094},{"$f":"BU8","v":2972},{"$f":"BV8","v":867},{"$f":"BW8","v":12472},{"$f":"BX8","v":3623},{"$f":"BY8","v":173},{"$f":"BZ8","v":0},{"$f":"CA8","v":0},{"$f":"CB8","v":0},{"$f":"CC8","v":0},{"$f":"CD8","v":0},{"$f":"CE8","v":0}]
[null,3,{"$f":"$C$6/B9","v":961},3427.3333333333335,{"$f":"$E$6/B9","v":1698},990.66666666666663,289,{"$f":"$H$6/B9","v":4157.333333333333},{"$f":"$I$6/B9","v":1207.6666666666667},{"$f":"$J$6/B9","v":57.666666666666664},{"$f":"$K$6/B9","v":0},{"$f":"$L$6/B9","v":0},{"$f":"$M$6/B9","v":0},{"$f":"$N$6/$B9","v":0},{"$f":"$O$6/$B9","v":0},{"$f":"$P$6/B9","v":0},null,{"$f":"$R$6/B9","v":601.33333333333337},{"$f":"$S$6/B9","v":2669},{"$f":"C9","v":961},{"$f":"D9","v":3427.3333333333335},{"$f":"E9","v":1698},{"$f":"F9","v":990.66666666666663},{"$f":"G9","v":289},{"$f":"H9","v":4157.333333333333},{"$f":"I9","v":1207.6666666666667},{"$f":"J9","v":57.666666666666664},{"$f":"K9","v":0},{"$f":"L9","v":0},{"$f":"M9","v":0},0,0,0,null,{"$f":"$AI$6/B9","v":3270.3333333333335},961,3427.3333333333335,1698,990.66666666666663,289,4157.333333333333,1207.6666666666667,57.666666666666664,0,0,0,0,0,0,null,null,null,null,null,null,null,null,null,null,null,null,null,null,null,null,null,null,null,2,{"$f":"$C$6/BQ9","v":1441.5},5141,{"$f":"$E$6/BQ9","v":2547},1486,433.5,{"$f":"$H$6/BQ9","v":6236},{"$f":"$I$6/BQ9","v":1811.5},{"$f":"$J$6/BQ9","v":86.5},{"$f":"$K$6/BQ9","v":0},{"$f":"$L$6/BQ9","v":0},{"$f":"$M$6/BQ9","v":0},{"$f":"$N$6/$B9","v":0},{"$f":"$O$6/$B9","v":0},{"$f":"$P$6/BQ9","v":0},null,{"$f":"$R$6/BQ9","v":902},{"$f":"$S$6/BQ9","v":4003.5},1441.5,5141,2547,1486,433.5,6236,1811.5,86.5,0,0,0,0,0,0]
[null,4,720.75,2570.5,1273.5,743,216.75,3118,905.75,43.25,0,0,0,0,0,0,null,451,2001.75,720.75,2570.5,1273.5,743,216.75,3118,905.75,43.25,0,0,0,0,0,0,null,2452.75,720.75,2570.5,1273.5,743,216.75,3118,905.75,43.25,0,0,0,0,0,0,null,null,null,null,null,null,null,null,null,null,null,null,null,null,null,null,null,null,null,3,961,3427.3333333333335,1698,990.66666666666663,289,4157.333333333333,1207.6666666666667,57.666666666666664,0,0,0,0,0,0,null,601.33333333333337,2669,961,3427.3333333333335,1698,990.66666666666663,289,4157.333333333333,1207.6666666666667,57.666666666666664,0,0,0,0,0,0]
[null,5,576.6,2056.4,1018.8,594.4,173.4,2494.4,724.6,34.6,0,0,0,0,0,0,null,360.8,1601.4,576.6,2056.4,1018.8,594.4,173.4,2494.4,724.6,34.6,0,0,0,0,0,0,null,1962.2,576.6,2056.4,1018.8,594.4,173.4,2494.4,724.6,34.6,0,0,0,0,0,0,null,null,null,null,null,null,null,null,null,null,null,null,null,null,null,null,null,null,null,4,720.75,2570.5,1273.5,743,216.75,3118,905.75,43.25,0,0,0,0,0,0,null,451,2001.75,720.75,2570.5,1273.5,743,216.75,3118,905.75,43.25,0,0,0,0,0,0]
[null,6,480.5,1713.6666666666667,849,495.33333333333331,144.5,2078.6666666666665,603.83333333333337,28.833333333333332,0,0,0,0,0,0,null,300.66666666666669,1334.5,480.5,1713.6666666666667,849,495.33333333333331,144.5,2078.6666666666665,603.83333333333337,28.833333333333332,0,0,0,0,0,0,null,1635.1666666666667,480.5,1713.6666666666667,849,495.33333333333331,144.5,2078.6666666666665,603.83333333333337,28.833333333333332,0,0,0,0,0,0,null,null,null,null,null,null,null,null,null,null,null,null,null,null,null,null,null,null,null,5,576.6,2056.4,1018.8,594.4,173.4,2494.4,724.6,34.6,0,0,0,0,0,0,null,360.8,1601.4,576.6,2056.4,1018.8,594.4,173.4,2494.4,724.6,34.6,0,0,0,0,0,0]
[null,7,411.85714285714283,1468.8571428571429,727.71428571428567,424.57142857142856,123.85714285714286,1781.7142857142858,517.57142857142856,24.714285714285715,0,0,0,0,0,0,null,257.71428571428572,1143.8571428571429,411.85714285714283,1468.8571428571429,727.71428571428567,424.57142857142856,123.85714285714286,1781.7142857142858,517.57142857142856,24.714285714285715,0,0,0,0,0,0,null,1401.5714285714287,411.85714285714283,1468.8571428571429,727.71428571428567,424.57142857142856,123.85714285714286,1781.7142857142858,517.57142857142856,24.714285714285715,0,0,0,0,0,0,null,null,null,null,null,null,null,null,null,null,null,null,null,null,null,null,null,null,null,6,480.5,1713.6666666666667,849,495.33333333333331,144.5,2078.6666666666665,603.83333333333337,28.833333333333332,0,0,0,0,0,0,null,300.66666666666669,1334.5,480.5,1713.6666666666667,849,495.33333333333331,144.5,2078.6666666666665,603.83333333333337,28.833333333333332,0,0,0,0,0,0]
[null,8,360.375,1285.25,636.75,371.5,108.375,1559,452.875,21.625,0,0,0,0,0,0,null,225.5,1000.875,360.375,1285.25,636.75,371.5,108.375,1559,452.875,21.625,0,0,0,0,0,0,null,1226.375,360.375,1285.25,636.75,371.5,108.375,1559,452.875,21.625,0,0,0,0,0,0,null,null,null,null,null,null,null,null,null,null,null,null,null,null,null,null,null,null,null,7,411.85714285714283,1468.8571428571429,727.71428571428567,424.57142857142856,123.85714285714286,1781.7142857142858,517.57142857142856,24.714285714285715,0,0,0,0,0,0,null,257.71428571428572,1143.8571428571429,411.85714285714283,1468.8571428571429,727.71428571428567,424.57142857142856,123.85714285714286,1781.7142857142858,517.57142857142856,24.714285714285715,0,0,0,0,0,0]
[null,9,320.33333333333331,1142.4444444444443,566,330.22222222222223,96.333333333333329,1385.7777777777778,402.55555555555554,19.222222222222221,0,0,0,0,0,0,null,200.44444444444446,889.66666666666663,320.33333333333331,1142.4444444444443,566,330.22222222222223,96.333333333333329,1385.7777777777778,402.55555555555554,19.222222222222221,0,0,0,0,0,0,null,1090.1111111111111,320.33333333333331,1142.4444444444443,566,330.22222222222223,96.333333333333329,1385.7777777777778,402.55555555555554,19.222222222222221,0,0,0,0,0,0,null,null,null,null,null,null,null,null,null,null,null,null,null,null,null,null,null,null,null,8,360.375,1285.25,636.75,371.5,108.375,1559,452.875,21.625,0,0,0,0,0,0,null,225.5,1000.875,360.375,1285.25,636.75,371.5,108.375,1559,452.875,21.625,0,0,0,0,0,0]
[null,10,288.3,1028.2,509.4,297.2,86.7,1247.2,362.3,17.3,0,0,0,0,0,0,null,180.4,800.7,288.3,1028.2,509.4,297.2,86.7,1247.2,362.3,17.3,0,0,0,0,0,0,null,981.1,288.3,1028.2,509.4,297.2,86.7,1247.2,362.3,17.3,0,0,0,0,0,0,null,null,null,null,null,null,null,null,null,null,null,null,null,null,null,null,null,null,null,9,320.33333333333331,1142.4444444444443,566,330.22222222222223,96.333333333333329,1385.7777777777778,402.55555555555554,19.222222222222221,0,0,0,0,0,0,null,200.44444444444446,889.66666666666663,320.33333333333331,1142.4444444444443,566,330.22222222222223,96.333333333333329,1385.7777777777778,402.55555555555554,19.222222222222221,0,0,0,0,0,0]
[null,11,262.09090909090907,934.72727272727275,463.09090909090907,270.18181818181819,78.818181818181813,1133.8181818181818,329.36363636363637,15.727272727272727,0,0,0,0,0,0,null,164,727.90909090909088,262.09090909090907,934.72727272727275,463.09090909090907,270.18181818181819,78.818181818181813,1133.8181818181818,329.36363636363637,15.727272727272727,0,0,0,0,0,0,null,891.90909090909088,262.09090909090907,934.72727272727275,463.09090909090907,270.18181818181819,78.818181818181813,1133.8181818181818,329.36363636363637,15.727272727272727,0,0,0,0,0,0,null,null,null,null,null,null,null,null,null,null,null,null,null,null,null,null,null,null,null,10,288.3,1028.2,509.4,297.2,86.7,1247.2,362.3,17.3,0,0,0,0,0,0,null,180.4,800.7,288.3,1028.2,509.4,297.2,86.7,1247.2,362.3,17.3,0,0,0,0,0,0]
[null,12,240.25,856.83333333333337,424.5,247.66666666666666,72.25,1039.3333333333333,301.91666666666669,14.416666666666666,0,0,0,0,0,0,null,150.33333333333334,667.25,240.25,856.83333333333337,424.5,247.66666666666666,72.25,1039.3333333333333,301.91666666666669,14.416666666666666,0,0,0,0,0,0,null,817.58333333333337,240.25,856.83333333333337,424.5,247.66666666666666,72.25,1039.3333333333333,301.91666666666669,14.416666666666666,0,0,0,0,0,0,null,null,null,null,null,null,null,null,null,null,null,null,null,null,null,null,null,null,null,11,262.09090909090907,934.72727272727275,463.09090909090907,270.18181818181819,78.818181818181813,1133.8181818181818,329.36363636363637,15.727272727272727,0,0,0,0,0,0,null,164,727.90909090909088,262.09090909090907,934.72727272727275,463.09090909090907,270.18181818181819,78.818181818181813,1133.8181818181818,329.36363636363637,15.727272727272727,0,0,0,0,0,0]
[null,13,221.76923076923077,790.92307692307691,391.84615384615387,228.61538461538461,66.692307692307693,959.38461538461536,278.69230769230768,13.307692307692308,0,0,0,0,0,0,null,138.76923076923077,615.92307692307691,221.76923076923077,790.92307692307691,391.84615384615387,228.61538461538461,66.692307692307693,959.38461538461536,278.69230769230768,13.307692307692308,0,0,0,0,0,0,null,754.69230769230774,221.76923076923077,790.92307692307691,391.84615384615387,228.61538461538461,66.692307692307693,959.38461538461536,278.69230769230768,13.307692307692308,0,0,0,0,0,0,null,null,null,null,null,null,null,null,null,null,null,null,null,null,null,null,null,null,null,12,240.25,856.83333333333337,424.5,247.66666666666666,72.25,1039.3333333333333,301.91666666666669,14.416666666666666,0,0,0,0,0,0,null,150.33333333333334,667.25,240.25,856.83333333333337,424.5,247.66666666666666,72.25,1039.3333333333333,301.91666666666669,14.416666666666666,0,0,0,0,0,0]
[null,14,205.92857142857142,734.42857142857144,363.85714285714283,212.28571428571428,61.928571428571431,890.85714285714289,258.78571428571428,12.357142857142858,0,0,0,0,0,0,null,128.85714285714286,571.92857142857144,205.92857142857142,734.42857142857144,363.85714285714283,212.28571428571428,61.928571428571431,890.85714285714289,258.78571428571428,12.357142857142858,0,0,0,0,0,0,null,700.78571428571433,205.92857142857142,734.42857142857144,363.85714285714283,212.28571428571428,61.928571428571431,890.85714285714289,258.78571428571428,12.357142857142858,0,0,0,0,0,0,null,null,null,null,null,null,null,null,null,null,null,null,null,null,null,null,null,null,null,13,221.76923076923077,790.92307692307691,391.84615384615387,228.61538461538461,66.692307692307693,959.38461538461536,278.69230769230768,13.307692307692308,0,0,0,0,0,0,null,138.76923076923077,615.92307692307691,221.76923076923077,790.92307692307691,391.84615384615387,228.61538461538461,66.692307692307693,959.38461538461536,278.69230769230768,13.307692307692308,0,0,0,0,0,0]
[null,15,192.2,685.4666666666667,339.6,198.13333333333333,57.8,831.4666666666667,241.53333333333333,11.533333333333333,0,0,0,0,0,0,null,120.26666666666667,533.79999999999995,192.2,685.4666666666667,339.6,198.13333333333333,57.8,831.4666666666667,241.53333333333333,11.533333333333333,0,0,0,0,0,0,null,654.06666666666672,192.2,685.4666666666667,339.6,198.13333333333333,57.8,831.4666666666667,241.53333333333333,11.533333333333333,0,0,0,0,0,0,null,null,null,null,null,null,null,null,null,null,null,null,null,null,null,null,null,null,null,14,205.92857142857142,734.42857142857144,363.85714285714283,212.28571428571428,61.928571428571431,890.85714285714289,258.78571428571428,12.357142857142858,0,0,0,0,0,0,null,128.85714285714286,571.92857142857144,205.92857142857142,734.42857142857144,363.85714285714283,212.28571428571428,61.928571428571431,890.85714285714289,258.78571428571428,12.357142857142858,0,0,0,0,0,0]
[null,16,180.1875,642.625,318.375,185.75,54.1875,779.5,226.4375,10.8125,0,0,0,0,0,0,null,112.75,500.4375,180.1875,642.625,318.375,185.75,54.1875,779.5,226.4375,10.8125,0,0,0,0,0,0,null,613.1875,180.1875,642.625,318.375,185.75,54.1875,779.5,226.4375,10.8125,0,0,0,0,0,0,null,null,null,null,null,null,null,null,null,null,null,null,null,null,null,null,null,null,null,15,192.2,685.4666666666667,339.6,198.13333333333333,57.8,831.4666666666667,241.53333333333333,11.533333333333333,0,0,0,0,0,0,null,120.26666666666667,533.79999999999995,192.2,685.4666666666667,339.6,198.13333333333333,57.8,831.4666666666667,241.53333333333333,11.533333333333333,0,0,0,0,0,0]
[null,17,169.58823529411765,604.82352941176475,299.64705882352939,174.8235294117647,51,733.64705882352939,213.11764705882354,10.176470588235293,0,0,0,0,0,0,null,106.11764705882354,471,169.58823529411765,604.82352941176475,299.64705882352939,174.8235294117647,51,733.64705882352939,213.11764705882354,10.176470588235293,0,0,0,0,0,0,null,577.11764705882354,169.58823529411765,604.82352941176475,299.64705882352939,174.8235294117647,51,733.64705882352939,213.11764705882354,10.176470588235293,0,0,0,0,0,0,null,null,null,null,null,null,null,null,null,null,null,null,null,null,null,null,null,null,null,16,180.1875,642.625,318.375,185.75,54.1875,779.5,226.4375,10.8125,0,0,0,0,0,0,null,112.75,500.4375,180.1875,642.625,318.375,185.75,54.1875,779.5,226.4375,10.8125,0,0,0,0,0,0]
[null,18,160.16666666666666,571.22222222222217,283,165.11111111111111,48.166666666666664,692.88888888888891,201.27777777777777,9.6111111111111107,0,0,0,0,0,0,null,100.22222222222223,444.83333333333331,160.16666666666666,571.22222222222217,283,165.11111111111111,48.166666666666664,692.88888888888891,201.27777777777777,9.6111111111111107,0,0,0,{"$f":"N24","v":0},{"$f":"O24","v":0},0,null,545.05555555555554,160.16666666666666,571.22222222222217,283,165.11111111111111,48.166666666666664,692.88888888888891,201.27777777777777,9.6111111111111107,0,0,0,{"$f":"N24","v":0},0,0,null,null,null,null,null,null,null,null,null,null,null,null,null,null,null,null,null,null,null,17,169.58823529411765,604.82352941176475,299.64705882352939,174.8235294117647,51,733.64705882352939,213.11764705882354,10.176470588235293,0,0,0,0,0,0,null,106.11764705882354,471,169.58823529411765,604.82352941176475,299.64705882352939,174.8235294117647,51,733.64705882352939,213.11764705882354,10.176470588235293,0,0,0,0,0,0]
[null,19,151.73684210526315,541.15789473684208,268.10526315789474,156.42105263157896,45.631578947368418,656.42105263157896,190.68421052631578,9.1052631578947363,0,0,0,0,0,0,null,94.94736842105263,421.42105263157896,151.73684210526315,541.15789473684208,268.10526315789474,156.42105263157896,45.631578947368418,656.42105263157896,190.68421052631578,9.1052631578947363,0,0,0,0,0,0,null,516.36842105263156,151.73684210526315,541.15789473684208,268.10526315789474,156.42105263157896,45.631578947368418,656.42105263157896,190.68421052631578,9.1052631578947363,0,0,0,0,0,0,null,null,null,null,null,null,null,null,null,null,null,null,null,null,null,null,null,null,null,18,160.16666666666666,571.22222222222217,283,165.11111111111111,48.166666666666664,692.88888888888891,201.27777777777777,9.6111111111111107,0,0,0,0,0,0,null,100.22222222222223,444.83333333333331,160.16666666666666,571.22222222222217,283,165.11111111111111,48.166666666666664,692.88888888888891,201.27777777777777,9.6111111111111107,0,0,0,0,0,0]
[null,20,144.15,514.1,254.7,148.6,43.35,623.6,181.15,8.65,0,0,0,0,0,0,null,90.2,400.35,144.15,514.1,254.7,148.6,43.35,623.6,181.15,8.65,0,0,0,0,0,0,null,490.55,144.15,514.1,254.7,148.6,43.35,623.6,181.15,8.65,0,0,0,0,0,0,null,null,null,null,null,null,null,null,null,null,null,null,null,null,null,null,null,null,null,19,151.73684210526315,541.15789473684208,268.10526315789474,156.42105263157896,45.631578947368418,656.42105263157896,190.68421052631578,9.1052631578947363,0,0,0,0,0,0,null,94.94736842105263,421.42105263157896,151.73684210526315,541.15789473684208,268.10526315789474,156.42105263157896,45.631578947368418,656.42105263157896,190.68421052631578,9.1052631578947363,0,0,0,0,0,0]
[null,21,137.28571428571428,489.61904761904759,242.57142857142858,141.52380952380952,41.285714285714285,593.90476190476193,172.52380952380952,8.2380952380952372,0,0,0,0,0,0,null,85.904761904761898,381.28571428571428,137.28571428571428,489.61904761904759,242.57142857142858,141.52380952380952,41.285714285714285,593.90476190476193,172.52380952380952,8.2380952380952372,0,0,0,0,0,{"$f":"P27","v":0},null,467.1904761904762,137.28571428571428,489.61904761904759,242.57142857142858,141.52380952380952,41.285714285714285,593.90476190476193,172.52380952380952,8.2380952380952372,0,0,0,0,0,{"$f":"P27","v":0},null,null,null,null,null,null,null,null,null,null,null,null,null,null,null,null,null,null,null,20,144.15,514.1,254.7,148.6,43.35,623.6,181.15,8.65,0,0,0,0,0,0,null,90.2,400.35,144.15,514.1,254.7,148.6,43.35,623.6,181.15,8.65,0,0,0,0,0,0]
[null,22,131.04545454545453,467.36363636363637,231.54545454545453,135.09090909090909,39.409090909090907,566.90909090909088,164.68181818181819,7.8636363636363633,0,0,0,0,0,0,null,82,363.95454545454544,131.04545454545453,467.36363636363637,231.54545454545453,135.09090909090909,39.409090909090907,566.90909090909088,164.68181818181819,7.8636363636363633,0,0,0,0,0,0,null,445.95454545454544,131.04545454545453,467.36363636363637,231.54545454545453,135.09090909090909,39.409090909090907,566.90909090909088,164.68181818181819,7.8636363636363633,0,0,0,0,0,0,null,null,null,null,null,null,null,null,null,null,null,null,null,null,null,null,null,null,null,21,137.28571428571428,489.61904761904759,242.57142857142858,141.52380952380952,41.285714285714285,593.90476190476193,172.52380952380952,8.2380952380952372,0,0,0,0,0,0,null,85.904761904761898,381.28571428571428,137.28571428571428,489.61904761904759,242.57142857142858,141.52380952380952,41.285714285714285,593.90476190476193,172.52380952380952,8.2380952380952372,0,0,0,0,0,0]
[null,23,125.34782608695652,447.04347826086956,221.47826086956522,129.21739130434781,37.695652173913047,542.26086956521738,157.52173913043478,7.5217391304347823,0,0,0,0,0,0,null,78.434782608695656,348.13043478260869,125.34782608695652,447.04347826086956,221.47826086956522,129.21739130434781,37.695652173913047,542.26086956521738,157.52173913043478,7.5217391304347823,0,0,0,0,0,0,null,426.56521739130437,125.34782608695652,447.04347826086956,221.47826086956522,129.21739130434781,37.695652173913047,542.26086956521738,157.52173913043478,7.5217391304347823,0,0,0,0,0,0,null,null,null,null,null,null,null,null,null,null,null,null,null,null,null,null,null,null,null,22,131.04545454545453,467.36363636363637,231.54545454545453,135.09090909090909,39.409090909090907,566.90909090909088,164.68181818181819,7.8636363636363633,0,0,0,0,0,0,null,82,363.95454545454544,131.04545454545453,467.36363636363637,231.54545454545453,135.09090909090909,39.409090909090907,566.90909090909088,164.68181818181819,7.8636363636363633,0,0,0,0,0,0]
[null,24,120.125,428.41666666666669,212.25,123.83333333333333,36.125,519.66666666666663,150.95833333333334,7.208333333333333,0,0,0,0,0,0,null,75.166666666666671,333.625,120.125,428.41666666666669,212.25,123.83333333333333,36.125,519.66666666666663,150.95833333333334,7.208333333333333,0,0,0,0,0,0,null,408.79166666666669,120.125,428.41666666666669,212.25,123.83333333333333,36.125,519.66666666666663,150.95833333333334,7.208333333333333,0,0,0,0,0,0,null,null,null,null,null,null,null,null,null,null,null,null,null,null,null,null,null,null,null,23,125.34782608695652,447.04347826086956,221.47826086956522,129.21739130434781,37.695652173913047,542.26086956521738,157.52173913043478,7.5217391304347823,0,0,0,0,0,0,null,78.434782608695656,348.13043478260869,125.34782608695652,447.04347826086956,221.47826086956522,129.21739130434781,37.695652173913047,542.26086956521738,157.52173913043478,7.5217391304347823,0,0,0,0,0,0]
[null,25,115.32,411.28,203.76,118.88,34.68,498.88,144.91999999999999,6.92,0,0,0,0,0,0,null,72.16,320.27999999999997,115.32,411.28,203.76,118.88,34.68,498.88,144.91999999999999,6.92,0,0,0,0,0,0,null,392.44,115.32,411.28,203.76,118.88,34.68,498.88,144.91999999999999,6.92,0,0,0,0,0,0,null,null,null,null,null,null,null,null,null,null,null,null,null,null,null,null,null,null,null,24,120.125,428.41666666666669,212.25,123.83333333333333,36.125,519.66666666666663,150.95833333333334,7.208333333333333,0,0,0,0,0,0,null,75.166666666666671,333.625,120.125,428.41666666666669,212.25,123.83333333333333,36.125,519.66666666666663,150.95833333333334,7.208333333333333,0,0,0,0,0,0]
[null,26,110.88461538461539,395.46153846153845,195.92307692307693,114.30769230769231,33.346153846153847,479.69230769230768,139.34615384615384,6.6538461538461542,0,0,0,0,0,0,null,69.384615384615387,307.96153846153845,110.88461538461539,395.46153846153845,195.92307692307693,114.30769230769231,33.346153846153847,479.69230769230768,139.34615384615384,6.6538461538461542,0,0,0,0,0,0,null,377.34615384615387,110.88461538461539,395.46153846153845,195.92307692307693,114.30769230769231,33.346153846153847,479.69230769230768,139.34615384615384,6.6538461538461542,0,0,0,0,0,0,null,null,null,null,null,null,null,null,null,null,null,null,null,null,null,null,null,null,null,25,115.32,411.28,203.76,118.88,34.68,498.88,144.91999999999999,6.92,0,0,0,0,0,0,null,72.16,320.27999999999997,115.32,411.28,203.76,118.88,34.68,498.88,144.91999999999999,6.92,0,0,0,0,0,0]
[null,27,106.77777777777777,380.81481481481484,188.66666666666666,110.07407407407408,32.111111111111114,461.92592592592592,134.18518518518519,6.4074074074074074,0,0,0,0,0,0,null,66.81481481481481,296.55555555555554,106.77777777777777,380.81481481481484,188.66666666666666,110.07407407407408,32.111111111111114,461.92592592592592,134.18518518518519,6.4074074074074074,0,0,0,0,0,0,null,363.37037037037038,106.77777777777777,380.81481481481484,188.66666666666666,110.07407407407408,32.111111111111114,461.92592592592592,134.18518518518519,6.4074074074074074,0,0,0,0,0,0,null,null,null,null,null,null,null,null,null,null,null,null,null,null,null,null,null,null,null,26,110.88461538461539,395.46153846153845,195.92307692307693,114.30769230769231,33.346153846153847,479.69230769230768,139.34615384615384,6.6538461538461542,0,0,0,0,0,0,null,69.384615384615387,307.96153846153845,110.88461538461539,395.46153846153845,195.92307692307693,114.30769230769231,33.346153846153847,479.69230769230768,139.34615384615384,6.6538461538461542,0,0,0,0,0,0]
[null,28,102.96428571428571,367.21428571428572,181.92857142857142,106.14285714285714,30.964285714285715,445.42857142857144,129.39285714285714,6.1785714285714288,0,0,0,0,0,0,null,64.428571428571431,285.96428571428572,102.96428571428571,367.21428571428572,181.92857142857142,106.14285714285714,30.964285714285715,445.42857142857144,129.39285714285714,6.1785714285714288,0,0,0,0,0,0,null,350.39285714285717,102.96428571428571,367.21428571428572,181.92857142857142,106.14285714285714,30.964285714285715,445.42857142857144,129.39285714285714,6.1785714285714288,0,0,0,0,0,0,null,null,null,null,null,null,null,null,null,null,null,null,null,null,null,null,null,null,null,27,106.77777777777777,380.81481481481484,188.66666666666666,110.07407407407408,32.111111111111114,461.92592592592592,134.18518518518519,6.4074074074074074,0,0,0,0,0,0,null,66.81481481481481,296.55555555555554,106.77777777777777,380.81481481481484,188.66666666666666,110.07407407407408,32.111111111111114,461.92592592592592,134.18518518518519,6.4074074074074074,0,0,0,0,0,0]
[null,29,99.41379310344827,354.55172413793105,175.65517241379311,102.48275862068965,29.896551724137932,430.06896551724139,124.93103448275862,5.9655172413793105,0,0,0,0,0,0,null,62.206896551724135,276.10344827586209,99.41379310344827,354.55172413793105,175.65517241379311,102.48275862068965,29.896551724137932,430.06896551724139,124.93103448275862,5.9655172413793105,0,0,0,0,0,0,null,338.31034482758622,99.41379310344827,354.55172413793105,175.65517241379311,102.48275862068965,29.896551724137932,430.06896551724139,124.93103448275862,5.9655172413793105,0,0,0,0,0,0,null,null,null,null,null,null,null,null,null,null,null,null,null,null,null,null,null,null,null,28,102.96428571428571,367.21428571428572,181.92857142857142,106.14285714285714,30.964285714285715,445.42857142857144,129.39285714285714,6.1785714285714288,0,0,0,0,0,0,null,64.428571428571431,285.96428571428572,102.96428571428571,367.21428571428572,181.92857142857142,106.14285714285714,30.964285714285715,445.42857142857144,129.39285714285714,6.1785714285714288,0,0,0,0,0,0]
[null,30,96.1,342.73333333333335,169.8,99.066666666666663,28.9,415.73333333333335,120.76666666666667,5.7666666666666666,0,0,0,0,0,0,null,60.133333333333333,266.89999999999998,96.1,342.73333333333335,169.8,99.066666666666663,28.9,415.73333333333335,120.76666666666667,5.7666666666666666,0,0,0,0,0,0,null,327.03333333333336,96.1,342.73333333333335,169.8,99.066666666666663,28.9,415.73333333333335,120.76666666666667,5.7666666666666666,0,0,0,0,0,0,null,null,null,null,null,null,null,null,null,null,null,null,null,null,null,null,null,null,null,29,99.41379310344827,354.55172413793105,175.65517241379311,102.48275862068965,29.896551724137932,430.06896551724139,124.93103448275862,5.9655172413793105,0,0,0,0,0,0,null,62.206896551724135,276.10344827586209,99.41379310344827,354.55172413793105,175.65517241379311,102.48275862068965,29.896551724137932,430.06896551724139,124.93103448275862,5.9655172413793105,0,0,0,0,0,0]
[null,31,93,331.67741935483872,164.32258064516128,95.870967741935488,27.967741935483872,402.32258064516128,116.87096774193549,5.580645161290323,0,0,0,0,0,0,null,58.193548387096776,258.29032258064518,93,331.67741935483872,164.32258064516128,95.870967741935488,27.967741935483872,402.32258064516128,116.87096774193549,5.580645161290323,0,0,0,0,0,0,null,316.48387096774195,93,331.67741935483872,164.32258064516128,95.870967741935488,27.967741935483872,402.32258064516128,116.87096774193549,5.580645161290323,0,0,0,0,0,0,null,null,null,null,null,null,null,null,null,null,null,null,null,null,null,null,null,null,null,30,96.1,342.73333333333335,169.8,99.066666666666663,28.9,415.73333333333335,120.76666666666667,5.7666666666666666,0,0,0,0,0,0,null,60.133333333333333,266.89999999999998,96.1,342.73333333333335,169.8,99.066666666666663,28.9,415.73333333333335,120.76666666666667,5.7666666666666666,0,0,0,0,0,0]
[null,32,90.09375,321.3125,159.1875,92.875,27.09375,389.75,113.21875,5.40625,0,0,0,0,0,0,null,56.375,250.21875,90.09375,321.3125,159.1875,92.875,27.09375,389.75,113.21875,5.40625,0,0,0,0,0,0,null,306.59375,90.09375,321.3125,159.1875,92.875,27.09375,389.75,113.21875,5.40625,0,0,0,0,0,0,null,null,null,null,null,null,null,null,null,null,null,null,null,null,null,null,null,null,null,31,93,331.67741935483872,164.32258064516128,95.870967741935488,27.967741935483872,402.32258064516128,116.87096774193549,5.580645161290323,0,0,0,0,0,0,null,58.193548387096776,258.29032258064518,93,331.67741935483872,164.32258064516128,95.870967741935488,27.967741935483872,402.32258064516128,116.87096774193549,5.580645161290323,0,0,0,0,0,0]
[null,33,87.36363636363636,311.57575757575756,154.36363636363637,90.060606060606062,26.272727272727273,377.93939393939394,109.78787878787878,5.2424242424242422,0,0,0,0,0,0,null,54.666666666666664,242.63636363636363,87.36363636363636,311.57575757575756,154.36363636363637,90.060606060606062,26.272727272727273,377.93939393939394,109.78787878787878,5.2424242424242422,0,0,0,0,0,0,null,297.30303030303031,87.36363636363636,311.57575757575756,154.36363636363637,90.060606060606062,26.272727272727273,377.93939393939394,109.78787878787878,5.2424242424242422,0,0,0,0,0,0,null,null,null,null,null,null,null,null,null,null,null,null,null,null,null,null,null,null,null,32,90.09375,321.3125,159.1875,92.875,27.09375,389.75,113.21875,5.40625,0,0,0,0,0,0,null,56.375,250.21875,90.09375,321.3125,159.1875,92.875,27.09375,389.75,113.21875,5.40625,0,0,0,0,0,0]
[null,34,84.794117647058826,302.41176470588238,149.8235294117647,87.411764705882348,25.5,366.8235294117647,106.55882352941177,5.0882352941176467,0,0,0,0,0,0,null,53.058823529411768,235.5,84.794117647058826,302.41176470588238,149.8235294117647,87.411764705882348,25.5,366.8235294117647,106.55882352941177,5.0882352941176467,0,0,0,0,0,0,null,288.55882352941177,{"$f":"C40","v":84.794117647058826},{"$f":"D40","v":302.41176470588238},{"$f":"E40","v":149.8235294117647},{"$f":"F40","v":87.411764705882348},{"$f":"G40","v":25.5},{"$f":"H40","v":366.8235294117647},{"$f":"I40","v":106.55882352941177},{"$f":"J40","v":5.0882352941176467},{"$f":"K40","v":0},{"$f":"L40","v":0},{"$f":"M40","v":0},{"$f":"N40","v":0},0,0,null,null,null,null,null,null,null,null,null,null,null,null,null,null,null,null,null,null,null,33,87.36363636363636,311.57575757575756,154.36363636363637,90.060606060606062,26.272727272727273,377.93939393939394,109.78787878787878,5.2424242424242422,0,0,0,0,0,0,null,54.666666666666664,242.63636363636363,87.36363636363636,311.57575757575756,154.36363636363637,90.060606060606062,26.272727272727273,377.93939393939394,109.78787878787878,5.2424242424242422,0,0,0,0,0,0]
[null,35,82.371428571428567,293.77142857142854,145.54285714285714,84.914285714285711,24.771428571428572,356.34285714285716,103.51428571428572,4.9428571428571431,0,0,0,0,0,0,null,51.542857142857144,228.77142857142857,{"$f":"C41","v":82.371428571428567},{"$f":"D41","v":293.77142857142854},{"$f":"E41","v":145.54285714285714},{"$f":"F41","v":84.914285714285711},{"$f":"G41","v":24.771428571428572},{"$f":"H41","v":356.34285714285716},{"$f":"I41","v":103.51428571428572},{"$f":"J41","v":4.9428571428571431},{"$f":"K41","v":0},{"$f":"L41","v":0},0,0,0,0,null,280.31428571428569,82.371428571428567,293.77142857142854,145.54285714285714,84.914285714285711,24.771428571428572,356.34285714285716,103.51428571428572,4.9428571428571431,0,0,0,0,0,0,null,null,null,null,null,null,null,null,null,null,null,null,null,null,null,null,null,null,null,34,84.794117647058826,302.41176470588238,149.8235294117647,87.411764705882348,25.5,366.8235294117647,106.55882352941177,5.0882352941176467,0,0,0,0,0,0,null,53.058823529411768,235.5,84.794117647058826,302.41176470588238,149.8235294117647,87.411764705882348,25.5,366.8235294117647,106.55882352941177,5.0882352941176467,0,0,0,0,0,0]
[null,36,80.083333333333329,285.61111111111109,141.5,82.555555555555557,24.083333333333332,346.44444444444446,100.63888888888889,4.8055555555555554,0,0,0,0,0,0,null,50.111111111111114,222.41666666666666,80.083333333333329,285.61111111111109,141.5,82.555555555555557,24.083333333333332,346.44444444444446,100.63888888888889,4.8055555555555554,0,0,0,0,0,0,null,272.52777777777777,80.083333333333329,285.61111111111109,141.5,82.555555555555557,24.083333333333332,346.44444444444446,100.63888888888889,4.8055555555555554,0,0,0,0,0,0,null,null,null,null,null,null,null,null,null,null,null,null,null,null,null,null,null,null,null,35,82.371428571428567,293.77142857142854,145.54285714285714,84.914285714285711,24.771428571428572,356.34285714285716,103.51428571428572,4.9428571428571431,0,0,0,0,0,0,null,51.542857142857144,228.77142857142857,82.371428571428567,293.77142857142854,145.54285714285714,84.914285714285711,24.771428571428572,356.34285714285716,103.51428571428572,4.9428571428571431,0,0,0,0,0,0]
[null,37,77.918918918918919,277.89189189189187,137.67567567567568,80.324324324324323,23.432432432432432,337.08108108108109,97.918918918918919,4.6756756756756754,0,0,0,0,0,0,null,48.756756756756758,216.40540540540542,77.918918918918919,277.89189189189187,137.67567567567568,80.324324324324323,23.432432432432432,337.08108108108109,97.918918918918919,4.6756756756756754,0,0,0,0,0,0,null,265.16216216216219,77.918918918918919,277.89189189189187,137.67567567567568,80.324324324324323,23.432432432432432,337.08108108108109,97.918918918918919,4.6756756756756754,0,0,0,0,0,0,null,null,null,null,null,null,null,null,null,null,null,null,null,null,null,null,null,null,null,36,80.083333333333329,285.61111111111109,141.5,82.555555555555557,24.083333333333332,346.44444444444446,100.63888888888889,4.8055555555555554,0,0,0,0,0,0,null,50.111111111111114,222.41666666666666,80.083333333333329,285.61111111111109,141.5,82.555555555555557,24.083333333333332,346.44444444444446,100.63888888888889,4.8055555555555554,0,0,0,0,0,0]
[null,38,75.868421052631575,270.57894736842104,134.05263157894737,78.21052631578948,22.815789473684209,328.21052631578948,95.34210526315789,4.5526315789473681,0,0,0,0,0,0,null,47.473684210526315,210.71052631578948,75.868421052631575,270.57894736842104,134.05263157894737,78.21052631578948,22.815789473684209,328.21052631578948,95.34210526315789,4.5526315789473681,0,0,0,0,0,0,null,258.18421052631578,75.868421052631575,270.57894736842104,134.05263157894737,78.21052631578948,22.815789473684209,328.21052631578948,95.34210526315789,4.5526315789473681,0,0,0,0,0,0,null,null,null,null,null,null,null,null,null,null,null,null,null,null,null,null,null,null,null,37,77.918918918918919,277.89189189189187,137.67567567567568,80.324324324324323,23.432432432432432,337.08108108108109,97.918918918918919,4.6756756756756754,0,0,0,0,0,0,null,48.756756756756758,216.40540540540542,77.918918918918919,277.89189189189187,137.67567567567568,80.324324324324323,23.432432432432432,337.08108108108109,97.918918918918919,4.6756756756756754,0,0,0,0,0,0]
[null,39,73.92307692307692,263.64102564102564,130.61538461538461,76.205128205128204,22.23076923076923,319.79487179487177,92.897435897435898,4.4358974358974361,0,0,0,0,0,0,null,46.256410256410255,205.30769230769232,73.92307692307692,263.64102564102564,130.61538461538461,76.205128205128204,22.23076923076923,319.79487179487177,92.897435897435898,4.4358974358974361,0,0,0,0,0,0,null,251.56410256410257,73.92307692307692,263.64102564102564,130.61538461538461,76.205128205128204,22.23076923076923,319.79487179487177,92.897435897435898,4.4358974358974361,0,0,0,0,0,0,null,null,null,null,null,null,null,null,null,null,null,null,null,null,null,null,null,null,null,38,75.868421052631575,270.57894736842104,134.05263157894737,78.21052631578948,22.815789473684209,328.21052631578948,95.34210526315789,4.5526315789473681,0,0,0,0,0,0,null,47.473684210526315,210.71052631578948,75.868421052631575,270.57894736842104,134.05263157894737,78.21052631578948,22.815789473684209,328.21052631578948,95.34210526315789,4.5526315789473681,0,0,0,0,0,0]
[null,40,72.075000000000003,257.05,127.35,74.3,21.675000000000001,311.8,90.575000000000003,4.3250000000000002,0,0,0,0,0,0,null,45.1,200.17500000000001,72.075000000000003,257.05,127.35,74.3,21.675000000000001,311.8,90.575000000000003,4.3250000000000002,0,0,0,0,0,0,null,245.27500000000001,72.075000000000003,257.05,127.35,74.3,21.675000000000001,311.8,90.575000000000003,4.3250000000000002,0,0,0,0,0,0,null,null,null,null,null,null,null,null,null,null,null,null,null,null,null,null,null,null,null,39,73.92307692307692,263.64102564102564,130.61538461538461,76.205128205128204,22.23076923076923,319.79487179487177,92.897435897435898,4.4358974358974361,0,0,0,0,0,0,null,46.256410256410255,205.30769230769232,73.92307692307692,263.64102564102564,130.61538461538461,76.205128205128204,22.23076923076923,319.79487179487177,92.897435897435898,4.4358974358974361,0,0,0,0,0,0]
[null,41,70.317073170731703,250.78048780487805,124.2439024390244,72.487804878048777,21.146341463414632,304.19512195121951,88.365853658536579,4.2195121951219514,0,0,0,0,0,0,null,44,195.29268292682926,70.317073170731703,250.78048780487805,124.2439024390244,72.487804878048777,21.146341463414632,304.19512195121951,88.365853658536579,4.2195121951219514,0,0,0,0,0,0,null,239.29268292682926,70.317073170731703,250.78048780487805,124.2439024390244,72.487804878048777,21.146341463414632,304.19512195121951,88.365853658536579,4.2195121951219514,0,0,0,0,0,0,null,null,null,null,null,null,null,null,null,null,null,null,null,null,null,null,null,null,null,40,72.075000000000003,257.05,127.35,74.3,21.675000000000001,311.8,90.575000000000003,4.3250000000000002,0,0,0,0,0,0,null,45.1,200.17500000000001,72.075000000000003,257.05,127.35,74.3,21.675000000000001,311.8,90.575000000000003,4.3250000000000002,0,0,0,0,0,0]
[null,42,68.642857142857139,244.8095238095238,121.28571428571429,70.761904761904759,20.642857142857142,296.95238095238096,86.261904761904759,4.1190476190476186,0,0,0,0,0,0,null,42.952380952380949,190.64285714285714,68.642857142857139,244.8095238095238,121.28571428571429,70.761904761904759,20.642857142857142,296.95238095238096,86.261904761904759,4.1190476190476186,0,0,0,0,0,0,null,233.5952380952381,68.642857142857139,244.8095238095238,121.28571428571429,70.761904761904759,20.642857142857142,296.95238095238096,86.261904761904759,4.1190476190476186,0,0,0,0,0,0,null,null,null,null,null,null,null,null,null,null,null,null,null,null,null,null,null,null,null,41,70.317073170731703,250.78048780487805,124.2439024390244,72.487804878048777,21.146341463414632,304.19512195121951,88.365853658536579,4.2195121951219514,0,0,0,0,0,0,null,44,195.29268292682926,70.317073170731703,250.78048780487805,124.2439024390244,72.487804878048777,21.146341463414632,304.19512195121951,88.365853658536579,4.2195121951219514,0,0,0,0,0,0]
[null,43,67.04651162790698,239.11627906976744,118.46511627906976,69.116279069767444,20.162790697674417,290.04651162790697,84.255813953488371,4.0232558139534884,0,0,0,0,0,0,null,41.953488372093027,186.2093023255814,67.04651162790698,239.11627906976744,118.46511627906976,69.116279069767444,20.162790697674417,290.04651162790697,84.255813953488371,4.0232558139534884,0,0,0,0,0,0,null,228.16279069767441,67.04651162790698,239.11627906976744,118.46511627906976,69.116279069767444,20.162790697674417,290.04651162790697,84.255813953488371,4.0232558139534884,0,0,0,0,0,0,null,null,null,null,null,null,null,null,null,null,null,null,null,null,null,null,null,null,null,42,68.642857142857139,244.8095238095238,121.28571428571429,70.761904761904759,20.642857142857142,296.95238095238096,86.261904761904759,4.1190476190476186,0,0,0,0,0,0,null,42.952380952380949,190.64285714285714,68.642857142857139,244.8095238095238,121.28571428571429,70.761904761904759,20.642857142857142,296.95238095238096,86.261904761904759,4.1190476190476186,0,0,0,0,0,0]
[null,44,65.522727272727266,233.68181818181819,115.77272727272727,67.545454545454547,19.704545454545453,283.45454545454544,82.340909090909093,3.9318181818181817,0,0,0,0,0,0,null,41,181.97727272727272,65.522727272727266,233.68181818181819,115.77272727272727,67.545454545454547,19.704545454545453,283.45454545454544,82.340909090909093,3.9318181818181817,0,0,0,0,0,0,null,222.97727272727272,65.522727272727266,233.68181818181819,115.77272727272727,67.545454545454547,19.704545454545453,283.45454545454544,82.340909090909093,3.9318181818181817,0,0,0,0,0,0,null,null,null,null,null,null,null,null,null,null,null,null,null,null,null,null,null,null,null,43,67.04651162790698,239.11627906976744,118.46511627906976,69.116279069767444,20.162790697674417,290.04651162790697,84.255813953488371,4.0232558139534884,0,0,0,0,0,0,null,41.953488372093027,186.2093023255814,67.04651162790698,239.11627906976744,118.46511627906976,69.116279069767444,20.162790697674417,290.04651162790697,84.255813953488371,4.0232558139534884,0,0,0,0,0,0]
[null,45,64.066666666666663,228.48888888888888,113.2,66.044444444444451,19.266666666666666,277.15555555555557,80.511111111111106,3.8444444444444446,0,0,0,0,0,0,null,40.088888888888889,177.93333333333334,64.066666666666663,228.48888888888888,113.2,66.044444444444451,19.266666666666666,277.15555555555557,80.511111111111106,3.8444444444444446,0,0,0,0,0,0,null,218.02222222222221,64.066666666666663,228.48888888888888,113.2,66.044444444444451,19.266666666666666,277.15555555555557,80.511111111111106,3.8444444444444446,0,0,0,0,0,0,null,null,null,null,null,null,null,null,null,null,null,null,null,null,null,null,null,null,null,44,65.522727272727266,233.68181818181819,115.77272727272727,67.545454545454547,19.704545454545453,283.45454545454544,82.340909090909093,3.9318181818181817,0,0,0,0,0,0,null,41,181.97727272727272,65.522727272727266,233.68181818181819,115.77272727272727,67.545454545454547,19.704545454545453,283.45454545454544,82.340909090909093,3.9318181818181817,0,0,0,0,0,0]
[null,46,62.673913043478258,223.52173913043478,110.73913043478261,64.608695652173907,18.847826086956523,271.13043478260869,78.760869565217391,3.7608695652173911,0,0,0,0,0,0,null,39.217391304347828,174.06521739130434,62.673913043478258,223.52173913043478,110.73913043478261,64.608695652173907,18.847826086956523,271.13043478260869,78.760869565217391,3.7608695652173911,0,0,0,0,0,0,null,213.28260869565219,62.673913043478258,223.52173913043478,110.73913043478261,64.608695652173907,18.847826086956523,271.13043478260869,78.760869565217391,3.7608695652173911,0,0,0,0,0,0,null,null,null,null,null,null,null,null,null,null,null,null,null,null,null,null,null,null,null,45,64.066666666666663,228.48888888888888,113.2,66.044444444444451,19.266666666666666,277.15555555555557,80.511111111111106,3.8444444444444446,0,0,0,0,0,0,null,40.088888888888889,177.93333333333334,64.066666666666663,228.48888888888888,113.2,66.044444444444451,19.266666666666666,277.15555555555557,80.511111111111106,3.8444444444444446,0,0,0,0,0,0]
[null,47,61.340425531914896,218.7659574468085,108.38297872340425,63.234042553191486,18.446808510638299,265.36170212765956,77.085106382978722,3.6808510638297873,0,0,0,0,0,0,null,38.382978723404257,170.36170212765958,61.340425531914896,218.7659574468085,108.38297872340425,63.234042553191486,18.446808510638299,265.36170212765956,77.085106382978722,3.6808510638297873,0,0,0,0,0,0,null,208.74468085106383,61.340425531914896,218.7659574468085,108.38297872340425,63.234042553191486,18.446808510638299,265.36170212765956,77.085106382978722,3.6808510638297873,0,0,0,0,0,0,null,null,null,null,null,null,null,null,null,null,null,null,null,null,null,null,null,null,null,46,62.673913043478258,223.52173913043478,110.73913043478261,64.608695652173907,18.847826086956523,271.13043478260869,78.760869565217391,3.7608695652173911,0,0,0,0,0,0,null,39.217391304347828,174.06521739130434,62.673913043478258,223.52173913043478,110.73913043478261,64.608695652173907,18.847826086956523,271.13043478260869,78.760869565217391,3.7608695652173911,0,0,0,0,0,0]
[null,48,60.0625,214.20833333333334,106.125,61.916666666666664,18.0625,259.83333333333331,75.479166666666671,{"$f":"$J$6/B54","v":3.6041666666666665},0,0,0,0,0,0,null,37.583333333333336,166.8125,60.0625,214.20833333333334,106.125,61.916666666666664,18.0625,259.83333333333331,75.479166666666671,3.6041666666666665,0,0,0,0,0,0,null,204.39583333333334,60.0625,214.20833333333334,106.125,61.916666666666664,18.0625,259.83333333333331,75.479166666666671,3.6041666666666665,0,0,0,0,0,0,null,null,null,null,null,null,null,null,null,null,null,null,null,null,null,null,null,null,null,47,61.340425531914896,218.7659574468085,108.38297872340425,63.234042553191486,18.446808510638299,265.36170212765956,77.085106382978722,3.6808510638297873,0,0,0,0,0,0,null,38.382978723404257,170.36170212765958,61.340425531914896,218.7659574468085,108.38297872340425,63.234042553191486,18.446808510638299,265.36170212765956,77.085106382978722,3.6808510638297873,0,0,0,0,0,0]
[null,49,58.836734693877553,209.83673469387756,103.95918367346938,60.653061224489797,17.693877551020407,254.53061224489795,73.938775510204081,3.5306122448979593,0,0,0,0,0,0,null,36.816326530612244,163.40816326530611,58.836734693877553,209.83673469387756,103.95918367346938,60.653061224489797,17.693877551020407,254.53061224489795,73.938775510204081,3.5306122448979593,0,0,0,0,0,{"$f":"P55","v":0},null,200.22448979591837,58.836734693877553,209.83673469387756,103.95918367346938,60.653061224489797,17.693877551020407,254.53061224489795,73.938775510204081,3.5306122448979593,0,0,0,0,0,{"$f":"P55","v":0},null,null,null,null,null,null,null,null,null,null,null,null,null,null,null,null,null,null,null,48,60.0625,214.20833333333334,106.125,61.916666666666664,18.0625,259.83333333333331,75.479166666666671,3.6041666666666665,0,0,0,0,0,0,null,37.583333333333336,166.8125,60.0625,214.20833333333334,106.125,61.916666666666664,18.0625,259.83333333333331,75.479166666666671,3.6041666666666665,0,0,0,0,0,0]
[null,50,57.66,205.64,101.88,59.44,17.34,249.44,72.459999999999994,3.46,0,0,0,0,0,0,null,36.08,160.13999999999999,57.66,205.64,101.88,59.44,17.34,249.44,72.459999999999994,3.46,0,0,0,0,0,0,null,196.22,57.66,205.64,101.88,59.44,17.34,249.44,72.459999999999994,3.46,0,0,0,{"$f":"N56","v":0},0,0,null,null,null,null,null,null,null,null,null,null,null,null,null,null,null,null,null,null,null,49,58.836734693877553,209.83673469387756,103.95918367346938,60.653061224489797,17.693877551020407,254.53061224489795,73.938775510204081,3.5306122448979593,0,0,0,0,0,0,null,36.816326530612244,163.40816326530611,58.836734693877553,209.83673469387756,103.95918367346938,60.653061224489797,17.693877551020407,254.53061224489795,73.938775510204081,3.5306122448979593,0,0,0,0,0,0]
[null,51,56.529411764705884,201.60784313725489,99.882352941176464,58.274509803921568,17,244.54901960784315,71.039215686274517,3.392156862745098,0,0,0,0,0,0,null,35.372549019607845,157,56.529411764705884,201.60784313725489,99.882352941176464,58.274509803921568,17,244.54901960784315,71.039215686274517,3.392156862745098,0,0,0,0,0,0,null,192.37254901960785,56.529411764705884,201.60784313725489,99.882352941176464,58.274509803921568,17,244.54901960784315,71.039215686274517,3.392156862745098,0,0,0,0,0,0,null,null,null,null,null,null,null,null,null,null,null,null,null,null,null,null,null,null,null,50,57.66,205.64,101.88,59.44,17.34,249.44,72.459999999999994,3.46,0,0,0,0,0,0,null,36.08,160.13999999999999,57.66,205.64,101.88,59.44,17.34,249.44,72.459999999999994,3.46,0,0,0,0,0,0]
[null,52,55.442307692307693,197.73076923076923,97.961538461538467,57.153846153846153,16.673076923076923,239.84615384615384,69.67307692307692,3.3269230769230771,0,0,0,0,0,0,null,34.692307692307693,153.98076923076923,55.442307692307693,197.73076923076923,97.961538461538467,57.153846153846153,16.673076923076923,239.84615384615384,69.67307692307692,3.3269230769230771,0,0,0,0,0,0,null,188.67307692307693,55.442307692307693,197.73076923076923,97.961538461538467,57.153846153846153,16.673076923076923,239.84615384615384,69.67307692307692,3.3269230769230771,0,0,0,0,0,0,null,null,null,null,null,null,null,null,null,null,null,null,null,null,null,null,null,null,null,51,56.529411764705884,201.60784313725489,99.882352941176464,58.274509803921568,17,244.54901960784315,71.039215686274517,3.392156862745098,0,0,0,0,0,0,null,35.372549019607845,157,56.529411764705884,201.60784313725489,99.882352941176464,58.274509803921568,17,244.54901960784315,71.039215686274517,3.392156862745098,0,0,0,0,0,0]
[null,53,{"$f":"$C$6/B59","v":54.39622641509434},{"$f":"$D$6/B59","v":194},{"$f":"$E$6/B59","v":96.113207547169807},{"$f":"$F$6/B59","v":56.075471698113205},{"$f":"$G$6/B59","v":16.358490566037737},{"$f":"$H$6/B59","v":235.32075471698113},{"$f":"$I$6/B59","v":68.35849056603773},3.2641509433962264,{"$f":"$K$6/B59","v":0},{"$f":"$L$6/B59","v":0},{"$f":"$M$6/B59","v":0},0,0,{"$f":"$P$6/B59","v":0},null,{"$f":"$R$6/B59","v":34.037735849056602},{"$f":"$S$6/B59","v":151.0754716981132},54.39622641509434,194,96.113207547169807,56.075471698113205,16.358490566037737,235.32075471698113,68.35849056603773,3.2641509433962264,0,0,0,0,0,0,null,{"$f":"$AI$6/B59","v":185.11320754716982},54.39622641509434,194,96.113207547169807,56.075471698113205,16.358490566037737,235.32075471698113,68.35849056603773,3.2641509433962264,0,0,0,0,0,0,null,null,null,null,null,null,null,null,null,null,null,null,null,null,null,null,null,null,null,52,{"$f":"$C$6/BQ59","v":55.442307692307693},{"$f":"$D$6/BQ59","v":197.73076923076923},{"$f":"$E$6/BQ59","v":97.961538461538467},{"$f":"$F$6/BQ59","v":57.153846153846153},{"$f":"$G$6/BQ59","v":16.673076923076923},{"$f":"$H$6/BQ59","v":239.84615384615384},{"$f":"$I$6/BQ59","v":69.67307692307692},3.3269230769230771,{"$f":"$K$6/BQ59","v":0},{"$f":"$L$6/BQ59","v":0},{"$f":"$M$6/BQ59","v":0},0,0,{"$f":"$P$6/BQ59","v":0},null,{"$f":"$R$6/BQ59","v":34.692307692307693},{"$f":"$S$6/BQ59","v":153.98076923076923},55.442307692307693,197.73076923076923,97.961538461538467,57.153846153846153,16.673076923076923,239.84615384615384,69.67307692307692,3.3269230769230771,0,0,0,0,0,0]
[null,54,{"$f":"$C$6/B60","v":53.388888888888886},{"$f":"$D$6/B60","v":190.40740740740742},{"$f":"$E$6/B60","v":94.333333333333329},{"$f":"$F$6/B60","v":55.037037037037038},{"$f":"$G$6/B60","v":16.055555555555557},{"$f":"$H$6/B60","v":230.96296296296296},{"$f":"$I$6/B60","v":67.092592592592595},3.2037037037037037,{"$f":"$K$6/B60","v":0},{"$f":"$L$6/B60","v":0},{"$f":"$M$6/B60","v":0},0,0,{"$f":"$P$6/B60","v":0},null,{"$f":"$R$6/B60","v":33.407407407407405},{"$f":"$S$6/B60","v":148.27777777777777},53.388888888888886,190.40740740740742,94.333333333333329,55.037037037037038,16.055555555555557,230.96296296296296,67.092592592592595,3.2037037037037037,0,0,0,0,0,0,null,{"$f":"$AI$6/B60","v":181.68518518518519},53.388888888888886,190.40740740740742,94.333333333333329,55.037037037037038,16.055555555555557,230.96296296296296,67.092592592592595,3.2037037037037037,0,0,0,0,0,0,null,null,null,null,null,null,null,null,null,null,null,null,null,null,null,null,null,null,null,53,{"$f":"$C$6/BQ60","v":54.39622641509434},{"$f":"$D$6/BQ60","v":194},{"$f":"$E$6/BQ60","v":96.113207547169807},{"$f":"$F$6/BQ60","v":56.075471698113205},{"$f":"$G$6/BQ60","v":16.358490566037737},{"$f":"$H$6/BQ60","v":235.32075471698113},{"$f":"$I$6/BQ60","v":68.35849056603773},3.2641509433962264,{"$f":"$K$6/BQ60","v":0},{"$f":"$L$6/BQ60","v":0},{"$f":"$M$6/BQ60","v":0},0,0,{"$f":"$P$6/BQ60","v":0},null,{"$f":"$R$6/BQ60","v":34.037735849056602},{"$f":"$S$6/BQ60","v":151.0754716981132},54.39622641509434,194,96.113207547169807,56.075471698113205,16.358490566037737,235.32075471698113,68.35849056603773,3.2641509433962264,0,0,0,0,0,0]
[]
[]
[null,"Nombre d'inscrits",48177]
[null,"Bulletins déposés",40170]
[null,"Blancs & Nuls",1804]
[null,"Votes valables",38366]
[null,"Nombre de sièges",43]
[]
[]
[]
[]
[null,"Liste unique\nMajorité\nabsolue",{"$f":"SUM($C$73:$P$73)","v":0},null,null,null,null,null,null,null,null,null,null,null,null,null,null,{"$f":"SUM($R$73:$AG$73)","v":0},null,null,null,null,null,null,null,null,null,null,null,null,null,null,null,null,{"$f":"SUM($AI$73:$AW$73)","v":0}]
[null,null,{"$f":"IF(C7>($C$67/2),1,0)","v":0},{"$f":"IF(D7>($C$67/2),1,0)","v":0},{"$f":"IF(E7>($C$67/2),1,0)","v":0},{"$f":"IF(F7>($C$67/2),1,0)","v":0},{"$f":"IF(G7>($C$67/2),1,0)","v":0},{"$f":"IF(H7>($C$67/2),1,0)","v":0},{"$f":"IF(I7>($C$67/2),1,0)","v":0},{"$f":"IF(J7>($C$67/2),1,0)","v":0},{"$f":"IF(K7>($C$67/2),1,0)","v":0},{"$f":"IF(L7>($C$67/2),1,0)","v":0},{"$f":"IF(M7>($C$67/2),1,0)","v":0},{"$f":"IF(N7>($C$67/2),1,0)","v":0},{"$f":"IF(O7>($C$67/2),1,0)","v":0},{"$f":"IF(P7>($C$67/2),1,0)","v":0},null,{"$f":"IF(R7>($C$67/2),1,0)","v":0},{"$f":"IF(S7>($C$67/2),1,0)","v":0},{"$f":"IF(T7>($C$67/2),1,0)","v":0},{"$f":"IF(U7>($C$67/2),1,0)","v":0},{"$f":"IF(V7>($C$67/2),1,0)","v":0},{"$f":"IF(W7>($C$67/2),1,0)","v":0},{"$f":"IF(X7>($C$67/2),1,0)","v":0},{"$f":"IF(Y7>($C$67/2),1,0)","v":0},{"$f":"IF(Z7>($C$67/2),1,0)","v":0},{"$f":"IF(AA7>($C$67/2),1,0)","v":0},{"$f":"IF(AB7>($C$67/2),1,0)","v":0},{"$f":"IF(AC7>($C$67/2),1,0)","v":0},{"$f":"IF(AD7>($C$67/2),1,0)","v":0},{"$f":"IF(AE7>($C$67/2),1,0)","v":0},{"$f":"IF(AF7>($C$67/2),1,0)","v":0},{"$f":"IF(AG7>($C$67/2),1,0)","v":0},null,{"$f":"IF(AI7>($C$67/2),1,0)","v":0},{"$f":"IF(AJ7>($C$67/2),1,0)","v":0},{"$f":"IF(AK7>($C$67/2),1,0)","v":0},{"$f":"IF(AL7>($C$67/2),1,0)","v":0},{"$f":"IF(AM7>($C$67/2),1,0)","v":0},{"$f":"IF(AN7>($C$67/2),1,0)","v":0},{"$f":"IF(AO7>($C$67/2),1,0)","v":0},{"$f":"IF(AP7>($C$67/2),1,0)","v":0},{"$f":"IF(AQ7>($C$67/2),1,0)","v":0},{"$f":"IF(AR7>($C$67/2),1,0)","v":0},{"$f":"IF(AS7>($C$67/2),1,0)","v":0},{"$f":"IF(AT7>($C$67/2),1,0)","v":0},{"$f":"IF(AU7>($C$67/2),1,0)","v":0},{"$f":"IF(AV7>($C$67/2),1,0)","v":0},{"$f":"IF(AW7>($C$67/2),1,0)","v":0}]
[]
[null,"Liste unique\nMajorité\nabsolue\nnombre de voix",{"$f":"SUM($C$76:$P$76)","v":0},null,null,null,null,null,null,null,null,null,null,null,null,null,null,{"$f":"SUM(R76:AG76)","v":0},null,null,null,null,null,null,null,null,null,null,null,null,null,null,null,null,{"$f":"SUM(AI76:AW76)","v":0}]
[null,null,{"$f":"IF(C73>0,C6,0)","v":0},{"$f":"IF(D73>0,D6,0)","v":0},{"$f":"IF(E73>0,E6,0)","v":0},{"$f":"IF(F73>0,F6,0)","v":0},{"$f":"IF(G73>0,G6,0)","v":0},{"$f":"IF(H73>0,H6,0)","v":0},{"$f":"IF(I73>0,I6,0)","v":0},{"$f":"IF(J73>0,J6,0)","v":0},{"$f":"IF(K73>0,K6,0)","v":0},{"$f":"IF(L73>0,L6,0)","v":0},{"$f":"IF(M73>0,M6,0)","v":0},{"$f":"IF(N73>0,N6,0)","v":0},{"$f":"IF(O73>0,O6,0)","v":0},{"$f":"IF(P73>0,P6,0)","v":0},null,{"$f":"IF(R73>0,R6,0)","v":0},{"$f":"IF(S73>0,S6,0)","v":0},{"$f":"IF(T73>0,T6,0)","v":0},{"$f":"IF(U73>0,U6,0)","v":0},{"$f":"IF(V73>0,V6,0)","v":0},{"$f":"IF(W73>0,W6,0)","v":0},{"$f":"IF(X73>0,X6,0)","v":0},{"$f":"IF(Y73>0,Y6,0)","v":0},{"$f":"IF(Z73>0,Z6,0)","v":0},{"$f":"IF(AA73>0,AA6,0)","v":0},{"$f":"IF(AB73>0,AB6,0)","v":0},{"$f":"IF(AC73>0,AC6,0)","v":0},{"$f":"IF(AD73>0,AD6,0)","v":0},{"$f":"IF(AE73>0,AE6,0)","v":0},{"$f":"IF(AF73>0,AF6,0)","v":0},{"$f":"IF(AG73>0,AG6,0)","v":0},null,{"$f":"IF(AI73>0,AI6,0)","v":0},{"$f":"IF(AJ73>0,AJ6,0)","v":0},{"$f":"IF(AK73>0,AK6,0)","v":0},{"$f":"IF(AL73>0,AL6,0)","v":0},{"$f":"IF(AM73>0,AM6,0)","v":0},{"$f":"IF(AN73>0,AN6,0)","v":0},{"$f":"IF(AO73>0,AO6,0)","v":0},{"$f":"IF(AP73>0,AP6,0)","v":0},{"$f":"IF(AQ73>0,AQ6,0)","v":0},{"$f":"IF(AR73>0,AR6,0)","v":0},{"$f":"IF(AS73>0,AS6,0)","v":0},{"$f":"IF(AT73>0,AT6,0)","v":0},{"$f":"IF(AU73>0,AU6,0)","v":0},{"$f":"IF(AV73>0,AV6,0)","v":0},{"$f":"IF(AW73>0,AW6,0)","v":0}]
[]
[null,"Nbr voix\nCoalition",{"$f":"SUMIF(C4:P4,\"x\",C6:P6)","v":25637}]
[]
[null,"% Coalition",{"$f":"100/C63*C78","v":53.21418934346265}]
[null,"% Majorité",{"$f":"100/C63*C75","v":0}]
[]
[null,"Coalition",{"$f":"COUNTA(C4:P4)","v":3},{"$f":"IF(C83>0,1,0)","v":1}]
[]
[]
[]
[]
[]
[]
[]
[]
[]
[]
[]
[]
[null,null,null,null,null,null,null,null,null,null,null,null,null,null,null,"UCCLE"]
[]
[null,null,null,null,null,null,null,null,null,null,null,null,null,null,null,null,null,{"$f":"R5","v":"Blancs & Nuls"},{"$f":"S5","v":"Non-déposés"},{"$f":"T5","v":"CDH"},{"$f":"U5","v":"ECOLO - GROEN"},{"$f":"V5","v":"DéFI"},{"$f":"W5","v":"PS"},{"$f":"X5","v":"N-VA"},{"$f":"Y5","v":"MR"},{"$f":"Z5","v":"UCCLE EN AVANT"},{"$f":"AA5","v":"CITOYEN D'EUROPE M3E"},{"$f":"AB5","v":0},{"$f":"AC5","v":0},{"$f":"AD5","v":0},{"$f":"AE5","v":0},{"$f":"AF5","v":0},{"$f":"AG5","v":0}]
[null,null,null,null,null,null,null,null,null,null,null,null,null,null,null,"Chiffres\nélectoraux",null,{"$f":"R6","v":1804},{"$f":"S6","v":8007},{"$f":"T6","v":2883},{"$f":"U6","v":10282},{"$f":"V6","v":5094},{"$f":"W6","v":2972},{"$f":"X6","v":867},{"$f":"Y6","v":12472},{"$f":"Z6","v":3623},{"$f":"AA6","v":173},{"$f":"AB6","v":0},{"$f":"AC6","v":0},{"$f":"AD6","v":0},{"$f":"AE6","v":0},{"$f":"AF6","v":0},{"$f":"AG6","v":0}]
[null,null,null,null,null,null,null,null,null,null,null,null,null,null,null,"Impériali",null,0,0,{"$f":"C7","v":2},{"$f":"D7","v":13},{"$f":"E7","v":6},{"$f":"F7","v":3},{"$f":"G7","v":0},{"$f":"H7","v":16},{"$f":"I7","v":3},{"$f":"J7","v":0},{"$f":"K7","v":0},{"$f":"L7","v":0},{"$f":"M7","v":0},{"$f":"N7","v":0},{"$f":"O7","v":0},{"$f":"P7","v":0}]
[null,null,null,null,null,null,null,null,null,null,null,null,null,null,null,"Impériali\n+ proportionnelle",null,{"$f":"R7","v":1},{"$f":"S7","v":8},{"$f":"T7","v":2},{"$f":"U7","v":10},{"$f":"V7","v":4},{"$f":"W7","v":2},{"$f":"X7","v":0},{"$f":"Y7","v":13},{"$f":"Z7","v":3},{"$f":"AA7","v":0},{"$f":"AB7","v":0},{"$f":"AC7","v":0},{"$f":"AD7","v":0},{"$f":"AE7","v":0},{"$f":"AF7","v":0},{"$f":"AG7","v":0}]
[null,null,null,null,null,null,null,null,null,null,null,null,null,null,null,"D'Hondt",null,0,0,{"$f":"BR7","v":3},{"$f":"BS7","v":12},{"$f":"BT7","v":6},{"$f":"BU7","v":3},{"$f":"BV7","v":1},{"$f":"BW7","v":14},{"$f":"BX7","v":4},{"$f":"BY7","v":0},{"$f":"BZ7","v":0},{"$f":"CA7","v":0},{"$f":"CB7","v":0},{"$f":"CC7","v":0},{"$f":"CD7","v":0},{"$f":"CE7","v":0}]
[null,null,null,null,null,null,null,null,null,null,null,null,null,null,null,"D'Hondt\n+ proportionnelle",null,{"$f":"CG7","v":1},{"$f":"CH7","v":8},{"$f":"CI7","v":2},{"$f":"CJ7","v":10},{"$f":"CK7","v":5},{"$f":"CL7","v":2},{"$f":"CM7","v":0},{"$f":"CN7","v":12},{"$f":"CO7","v":3},{"$f":"CP7","v":0},{"$f":"CQ7","v":0},{"$f":"CR7","v":0},{"$f":"CS7","v":0},{"$f":"CT7","v":0},{"$f":"CU7","v":0},{"$f":"CV7","v":0}]
[null,null,null,null,null,null,null,null,null,null,null,null,null,null,null,"Proportionnelle\npure",null,{"$f":"AZ7","v":1.6101459202524027},{"$f":"BA7","v":7.1465844697677321},{"$f":"BB7","v":2.5731988293168944},{"$f":"BC7","v":9.177117711771178},{"$f":"BD7","v":4.5466093779189247},{"$f":"BE7","v":2.6526350748282379},{"$f":"BF7","v":0.77383398717230223},{"$f":"BG7","v":11.131784876600868},{"$f":"BH7","v":3.2336799717707621},{"$f":"BI7","v":0.1544097806007016},{"$f":"BJ7","v":0},{"$f":"BK7","v":0},{"$f":"BL7","v":0},{"$f":"BM7","v":0},{"$f":"BN7","v":0},{"$f":"BO7","v":0}]
[]
[null,null,null,null,null,null,null,null,null,null,null,null,null,null,null,null,"Nombre de sièges à distribuer :",null,null,null,{"$f":"C67","v":43},null,"Est-ce une liste unique en majorité absolue en termes de sièges ?",null,null,null,null,null,null,{"$f":"IF(C72>0,\"Oui\",\"Non\")","v":"Non"}]
[]
[null,null,null,null,null,null,null,null,null,null,null,null,null,null,null,null,"Nombre d'inscrits :",null,null,null,{"$f":"C63","v":48177},null,"Est-ce une liste unique en majorité absolue en termes de voix ?",null,null,null,null,null,null,{"$f":"IF(C75>0,\"Oui\",\"Non\")","v":"Non"}]
[]
[null,null,null,null,null,null,null,null,null,null,null,null,null,null,null,null,"Nombre de bulletins déposés :",null,null,null,{"$f":"C64","v":40170},null,"La majorité est-elle formée par une coalition ?",null,null,null,null,null,null,{"$f":"IF(B4>0,\"Oui\",\"Non\")","v":"Oui"}]
[]
[null,null,null,null,null,null,null,null,null,null,null,null,null,null,null,null,"Nombre de votes valables :",null,null,null,{"$f":"C66","v":38366},null,"Quelle est la proportion de l'électorat représentée par la majorité ?",null,null,null,null,null,null,{"$f":"IF(D83>0,C80,C81)","v":53.21418934346265}]
[]
[null,null,null,null,null,null,null,null,null,null,null,null,null,null,null,"Comparaison\nClef Impériali\n-\nClef D'Hondt",null,{"$f":"R100-R102","v":0},{"$f":"S100-S102","v":0},-1,1,0,0,-1,2,-1,0,0,0,0,0,0,0]

{"sheet":"WATERMAEL-BOITSFORT","index":20,"n_rows":114,"n_cols":100,"rows_kept":114,"cut":false,"hidden":false,"merged":[[1,1,1,48],[1,68,1,99],[1,50,1,66],[71,1,72,1],[113,15,113,16],[107,16,107,19],[109,16,109,19],[111,16,111,19],[74,1,75,1],[95,15,95,32],[105,22,105,27],[107,22,107,27],[109,22,109,27],[111,22,111,27],[105,16,105,19]]}
[]
[null,"IMPÉRIALI",null,null,null,null,null,null,null,null,null,null,null,null,null,null,null,null,null,null,null,null,null,null,null,null,null,null,null,null,null,null,null,null,null,null,null,null,null,null,null,null,null,null,null,null,null,null,null,null,"PROPORTIONNELLE PURE",null,null,null,null,null,null,null,null,null,null,null,null,null,null,null,null,null,"D'HONDT"]
[]
[null,"Coalition",null,"x",null,null,"x"]
[null,{"$f":"COUNTA(C5:P5)","v":8},"GÉNÉRATIONS Humanistes","ECOLO-GROEN","DéFI","PS-SP.A Cause Commune","MR-GM","X²YZ","NOSVOTES","PP Parti Populaire",null,null,null,null,null,null,null,"Blancs & Nuls","Non-déposés",{"$f":"C5","v":"GÉNÉRATIONS Humanistes"},{"$f":"D5","v":"ECOLO-GROEN"},{"$f":"E5","v":"DéFI"},{"$f":"F5","v":"PS-SP.A Cause Commune"},{"$f":"G5","v":"MR-GM"},{"$f":"H5","v":"X²YZ"},{"$f":"I5","v":"NOSVOTES"},{"$f":"J5","v":"PP Parti Populaire"},{"$f":"K5","v":0},{"$f":"L5","v":0},{"$f":"M5","v":0},{"$f":"N5","v":0},{"$f":"O5","v":0},{"$f":"P5","v":0},null,"Non-valables",{"$f":"C5","v":"GÉNÉRATIONS Humanistes"},{"$f":"D5","v":"ECOLO-GROEN"},{"$f":"E5","v":"DéFI"},{"$f":"F5","v":"PS-SP.A Cause Commune"},{"$f":"G5","v":"MR-GM"},{"$f":"H5","v":"X²YZ"},{"$f":"I5","v":"NOSVOTES"},{"$f":"J5","v":"PP Parti Populaire"},{"$f":"K5","v":0},{"$f":"L5","v":0},{"$f":"M5","v":0},{"$f":"N5","v":0},{"$f":"O5","v":0},{"$f":"P5","v":0},null,"New Key","Blancs & Nuls","Non-déposés",{"$f":"C5","v":"GÉNÉRATIONS Humanistes"},{"$f":"D5","v":"ECOLO-GROEN"},"DéFI","PS-SP.A Cause Commune","MR-GM","X²YZ","NOSVOTES","PP Parti Populaire",0,0,0,0,0,0,null,null,{"$f":"C5","v":"GÉNÉRATIONS Humanistes"},{"$f":"D5","v":"ECOLO-GROEN"},"DéFI","PS-SP.A Cause Commune","MR-GM","X²YZ","NOSVOTES","PP Parti Populaire",0,0,0,0,0,0,null,"Blancs & Nuls","Non-déposés",{"$f":"C5","v":"GÉNÉRATIONS Humanistes"},{"$f":"D5","v":"ECOLO-GROEN"},"DéFI","PS-SP.A Cause Commune","MR-GM","X²YZ","NOSVOTES","PP Parti Populaire",0,0,0,0,0,0]
[null,"Chiffres\nélectoraux",863,4887,3137,1531,2810,70,342,497,0,0,0,0,0,0,null,{"$f":"C65","v":575},{"$f":"C63-C64","v":2173},863,4887,3137,1531,2810,70,342,497,0,0,0,0,0,0,null,{"$f":"R6+S6","v":2748},863,4887,3137,1531,2810,70,342,497,0,0,0,0,0,0,null,null,{"$f":"C65","v":575},{"$f":"C63-C64","v":2173},{"$f":"C6","v":863},4887,3137,1531,2810,70,342,497,0,0,0,0,0,0,null,"Chiffres\nélectoraux",{"$f":"C6","v":863},4887,3137,1531,2810,70,342,497,0,0,0,0,0,0,null,{"$f":"C65","v":575},{"$f":"C63-C64","v":2173},{"$f":"C6","v":863},4887,3137,1531,2810,70,342,497,0,0,0,0,0,0]
[null,"Sièges",1,12,7,3,6,0,0,0,0,0,0,0,0,0,null,0,4,1,11,6,2,5,0,0,0,0,0,0,0,0,0,null,5,1,10,6,2,5,0,0,0,0,0,0,0,0,0,null,582.24137931034488,0.98756292567367476,3.7321291086763395,1.4822031388806631,8.3934261178560838,5.3877998223275094,2.6294936334024279,4.8261770802487414,0.12022505182114301,0.58738525318329871,0.85359786793011538,0,0,0,0,0,0,null,"Sièges",1,11,7,3,6,0,0,1,0,0,0,0,0,0,null,1,4,1,9,6,3,5,0,0,0,0,0,0,0,0,0]
[null,2,{"$f":"$C$6/B8","v":431.5},{"$f":"$D$6/B8","v":2443.5},{"$f":"$E$6/B8","v":1568.5},{"$f":"$F$6/B8","v":765.5},{"$f":"$G$6/B8","v":1405},{"$f":"$H$6/B8","v":35},{"$f":"$I$6/B8","v":171},{"$f":"$J$6/B8","v":248.5},{"$f":"$K$6/B8","v":0},{"$f":"$L$6/B8","v":0},{"$f":"$M$6/B8","v":0},{"$f":"$N$6/$B8","v":0},{"$f":"$O$6/$B8","v":0},{"$f":"$P$6/B8","v":0},null,{"$f":"$R$6/B8","v":287.5},{"$f":"$S$6/B8","v":1086.5},{"$f":"C8","v":431.5},{"$f":"D8","v":2443.5},{"$f":"E8","v":1568.5},{"$f":"F8","v":765.5},{"$f":"G8","v":1405},{"$f":"H8","v":35},{"$f":"I8","v":171},{"$f":"J8","v":248.5},{"$f":"K8","v":0},{"$f":"L8","v":0},{"$f":"M8","v":0},{"$f":"N8","v":0},0,{"$f":"P8","v":0},null,{"$f":"$AI$6/B8","v":1374},{"$f":"C8","v":431.5},{"$f":"D8","v":2443.5},{"$f":"E8","v":1568.5},{"$f":"F8","v":765.5},{"$f":"G8","v":1405},{"$f":"H8","v":35},{"$f":"I8","v":171},{"$f":"J8","v":248.5},{"$f":"K8","v":0},{"$f":"L8","v":0},{"$f":"M8","v":0},{"$f":"N8","v":0},0,{"$f":"P8","v":0},null,null,null,null,null,null,null,null,null,null,null,null,null,null,null,null,null,null,null,1,{"$f":"$C$6/BQ8","v":863},{"$f":"$D$6/BQ8","v":4887},{"$f":"$E$6/BQ8","v":3137},{"$f":"$F$6/BQ8","v":1531},{"$f":"$G$6/BQ8","v":2810},{"$f":"$H$6/BQ8","v":70},{"$f":"$I$6/BQ8","v":342},{"$f":"$J$6/BQ8","v":497},{"$f":"$K$6/BQ8","v":0},{"$f":"$L$6/BQ8","v":0},{"$f":"$M$6/BQ8","v":0},{"$f":"$N$6/$B8","v":0},{"$f":"$O$6/$B8","v":0},{"$f":"$P$6/BQ8","v":0},null,{"$f":"$R$6/BQ8","v":575},{"$f":"$S$6/BQ8","v":2173},{"$f":"BR8","v":863},{"$f":"BS8","v":4887},{"$f":"BT8","v":3137},{"$f":"BU8","v":1531},{"$f":"BV8","v":2810},{"$f":"BW8","v":70},{"$f":"BX8","v":342},{"$f":"BY8","v":497},{"$f":"BZ8","v":0},{"$f":"CA8","v":0},{"$f":"CB8","v":0},{"$f":"CC8","v":0},{"$f":"CD8","v":0},{"$f":"CE8","v":0}]
[null,3,{"$f":"$C$6/B9","v":287.66666666666669},1629,{"$f":"$E$6/B9","v":1045.6666666666667},510.33333333333331,936.66666666666663,{"$f":"$H$6/B9","v":23.333333333333332},{"$f":"$I$6/B9","v":114},{"$f":"$J$6/B9","v":165.66666666666666},{"$f":"$K$6/B9","v":0},{"$f":"$L$6/B9","v":0},{"$f":"$M$6/B9","v":0},{"$f":"$N$6/$B9","v":0},{"$f":"$O$6/$B9","v":0},{"$f":"$P$6/B9","v":0},null,{"$f":"$R$6/B9","v":191.66666666666666},{"$f":"$S$6/B9","v":724.33333333333337},287.66666666666669,1629,1045.6666666666667,510.33333333333331,936.66666666666663,23.333333333333332,114,165.66666666666666,0,0,0,0,0,0,null,{"$f":"$AI$6/B9","v":916},287.66666666666669,1629,1045.6666666666667,510.33333333333331,936.66666666666663,23.333333333333332,114,165.66666666666666,0,0,0,0,0,0,null,null,null,null,null,null,null,null,null,null,null,null,null,null,null,null,null,null,null,2,{"$f":"$C$6/BQ9","v":431.5},2443.5,{"$f":"$E$6/BQ9","v":1568.5},765.5,1405,{"$f":"$H$6/BQ9","v":35},{"$f":"$I$6/BQ9","v":171},{"$f":"$J$6/BQ9","v":248.5},{"$f":"$K$6/BQ9","v":0},{"$f":"$L$6/BQ9","v":0},{"$f":"$M$6/BQ9","v":0},{"$f":"$N$6/$B9","v":0},{"$f":"$O$6/$B9","v":0},{"$f":"$P$6/BQ9","v":0},null,{"$f":"$R$6/BQ9","v":287.5},{"$f":"$S$6/BQ9","v":1086.5},431.5,2443.5,1568.5,765.5,1405,35,171,248.5,0,0,0,0,0,0]
[null,4,215.75,1221.75,784.25,382.75,702.5,17.5,85.5,124.25,0,0,0,0,0,0,null,143.75,543.25,215.75,1221.75,784.25,382.75,702.5,17.5,85.5,124.25,0,0,0,0,0,0,null,687,215.75,1221.75,784.25,382.75,702.5,17.5,85.5,124.25,0,0,0,0,0,0,null,null,null,null,null,null,null,null,null,null,null,null,null,null,null,null,null,null,null,3,287.66666666666669,1629,1045.6666666666667,510.33333333333331,936.66666666666663,23.333333333333332,114,165.66666666666666,0,0,0,0,0,0,null,191.66666666666666,724.33333333333337,287.66666666666669,1629,1045.6666666666667,510.33333333333331,936.66666666666663,23.333333333333332,114,165.66666666666666,0,0,0,0,0,0]
[null,5,172.6,977.4,627.4,306.2,562,14,68.400000000000006,99.4,0,0,0,0,0,0,null,115,434.6,172.6,977.4,627.4,306.2,562,14,68.400000000000006,99.4,0,0,0,0,0,0,null,549.6,172.6,977.4,627.4,306.2,562,14,68.400000000000006,99.4,0,0,0,0,0,0,null,null,null,null,null,null,null,null,null,null,null,null,null,null,null,null,null,null,null,4,215.75,1221.75,784.25,382.75,702.5,17.5,85.5,124.25,0,0,0,0,0,0,null,143.75,543.25,215.75,1221.75,784.25,382.75,702.5,17.5,85.5,124.25,0,0,0,0,0,0]
[null,6,143.83333333333334,814.5,522.83333333333337,255.16666666666666,468.33333333333331,11.666666666666666,57,82.833333333333329,0,0,0,0,0,0,null,95.833333333333329,362.16666666666669,143.83333333333334,814.5,522.83333333333337,255.16666666666666,468.33333333333331,11.666666666666666,57,82.833333333333329,0,0,0,0,0,0,null,458,143.83333333333334,814.5,522.83333333333337,255.16666666666666,468.33333333333331,11.666666666666666,57,82.833333333333329,0,0,0,0,0,0,null,null,null,null,null,null,null,null,null,null,null,null,null,null,null,null,null,null,null,5,172.6,977.4,627.4,306.2,562,14,68.400000000000006,99.4,0,0,0,0,0,0,null,115,434.6,172.6,977.4,627.4,306.2,562,14,68.400000000000006,99.4,0,0,0,0,0,0]
[null,7,123.28571428571429,698.14285714285711,448.14285714285717,218.71428571428572,401.42857142857144,10,48.857142857142854,71,0,0,0,0,0,0,null,82.142857142857139,310.42857142857144,123.28571428571429,698.14285714285711,448.14285714285717,218.71428571428572,401.42857142857144,10,48.857142857142854,71,0,0,0,0,0,0,null,392.57142857142856,123.28571428571429,698.14285714285711,448.14285714285717,218.71428571428572,401.42857142857144,10,48.857142857142854,71,0,0,0,0,0,0,null,null,null,null,null,null,null,null,null,null,null,null,null,null,null,null,null,null,null,6,143.83333333333334,814.5,522.83333333333337,255.16666666666666,468.33333333333331,11.666666666666666,57,82.833333333333329,0,0,0,0,0,0,null,95.833333333333329,362.16666666666669,143.83333333333334,814.5,522.83333333333337,255.16666666666666,468.33333333333331,11.666666666666666,57,82.833333333333329,0,0,0,0,0,0]
[null,8,107.875,610.875,392.125,191.375,351.25,8.75,42.75,62.125,0,0,0,0,0,0,null,71.875,271.625,107.875,610.875,392.125,191.375,351.25,8.75,42.75,62.125,0,0,0,0,0,0,null,343.5,107.875,610.875,392.125,191.375,351.25,8.75,42.75,62.125,0,0,0,0,0,0,null,null,null,null,null,null,null,null,null,null,null,null,null,null,null,null,null,null,null,7,123.28571428571429,698.14285714285711,448.14285714285717,218.71428571428572,401.42857142857144,10,48.857142857142854,71,0,0,0,0,0,0,null,82.142857142857139,310.42857142857144,123.28571428571429,698.14285714285711,448.14285714285717,218.71428571428572,401.42857142857144,10,48.857142857142854,71,0,0,0,0,0,0]
[null,9,95.888888888888886,543,348.55555555555554,170.11111111111111,312.22222222222223,7.7777777777777777,38,55.222222222222221,0,0,0,0,0,0,null,63.888888888888886,241.44444444444446,95.888888888888886,543,348.55555555555554,170.11111111111111,312.22222222222223,7.7777777777777777,38,55.222222222222221,0,0,0,0,0,0,null,305.33333333333331,95.888888888888886,543,348.55555555555554,170.11111111111111,312.22222222222223,7.7777777777777777,38,55.222222222222221,0,0,0,0,0,0,null,null,null,null,null,null,null,null,null,null,null,null,null,null,null,null,null,null,null,8,107.875,610.875,392.125,191.375,351.25,8.75,42.75,62.125,0,0,0,0,0,0,null,71.875,271.625,107.875,610.875,392.125,191.375,351.25,8.75,42.75,62.125,0,0,0,0,0,0]
[null,10,86.3,488.7,313.7,153.1,281,7,34.200000000000003,49.7,0,0,0,0,0,0,null,57.5,217.3,86.3,488.7,313.7,153.1,281,7,34.200000000000003,49.7,0,0,0,0,0,0,null,274.8,86.3,488.7,313.7,153.1,281,7,34.200000000000003,49.7,0,0,0,0,0,0,null,null,null,null,null,null,null,null,null,null,null,null,null,null,null,null,null,null,null,9,95.888888888888886,543,348.55555555555554,170.11111111111111,312.22222222222223,7.7777777777777777,38,55.222222222222221,0,0,0,0,0,0,null,63.888888888888886,241.44444444444446,95.888888888888886,543,348.55555555555554,170.11111111111111,312.22222222222223,7.7777777777777777,38,55.222222222222221,0,0,0,0,0,0]
[null,11,78.454545454545453,444.27272727272725,285.18181818181819,139.18181818181819,255.45454545454547,6.3636363636363633,31.09090909090909,45.18181818181818,0,0,0,0,0,0,null,52.272727272727273,197.54545454545453,78.454545454545453,444.27272727272725,285.18181818181819,139.18181818181819,255.45454545454547,6.3636363636363633,31.09090909090909,45.18181818181818,0,0,0,0,0,0,null,249.81818181818181,78.454545454545453,444.27272727272725,285.18181818181819,139.18181818181819,255.45454545454547,6.3636363636363633,31.09090909090909,45.18181818181818,0,0,0,0,0,0,null,null,null,null,null,null,null,null,null,null,null,null,null,null,null,null,null,null,null,10,86.3,488.7,313.7,153.1,281,7,34.200000000000003,49.7,0,0,0,0,0,0,null,57.5,217.3,86.3,488.7,313.7,153.1,281,7,34.200000000000003,49.7,0,0,0,0,0,0]
[null,12,71.916666666666671,407.25,261.41666666666669,127.58333333333333,234.16666666666666,5.833333333333333,28.5,41.416666666666664,0,0,0,0,0,0,null,47.916666666666664,181.08333333333334,71.916666666666671,407.25,261.41666666666669,127.58333333333333,234.16666666666666,5.833333333333333,28.5,41.416666666666664,0,0,0,0,0,0,null,229,71.916666666666671,407.25,261.41666666666669,127.58333333333333,234.16666666666666,5.833333333333333,28.5,41.416666666666664,0,0,0,0,0,0,null,null,null,null,null,null,null,null,null,null,null,null,null,null,null,null,null,null,null,11,78.454545454545453,444.27272727272725,285.18181818181819,139.18181818181819,255.45454545454547,6.3636363636363633,31.09090909090909,45.18181818181818,0,0,0,0,0,0,null,52.272727272727273,197.54545454545453,78.454545454545453,444.27272727272725,285.18181818181819,139.18181818181819,255.45454545454547,6.3636363636363633,31.09090909090909,45.18181818181818,0,0,0,0,0,0]
[null,13,66.384615384615387,375.92307692307691,241.30769230769232,117.76923076923077,216.15384615384616,5.384615384615385,26.307692307692307,38.230769230769234,0,0,0,0,0,0,null,44.230769230769234,167.15384615384616,66.384615384615387,375.92307692307691,241.30769230769232,117.76923076923077,216.15384615384616,5.384615384615385,26.307692307692307,38.230769230769234,0,0,0,0,0,0,null,211.38461538461539,66.384615384615387,375.92307692307691,241.30769230769232,117.76923076923077,216.15384615384616,5.384615384615385,26.307692307692307,38.230769230769234,0,0,0,0,0,0,null,null,null,null,null,null,null,null,null,null,null,null,null,null,null,null,null,null,null,12,71.916666666666671,407.25,261.41666666666669,127.58333333333333,234.16666666666666,5.833333333333333,28.5,41.416666666666664,0,0,0,0,0,0,null,47.916666666666664,181.08333333333334,71.916666666666671,407.25,261.41666666666669,127.58333333333333,234.16666666666666,5.833333333333333,28.5,41.416666666666664,0,0,0,0,0,0]
[null,14,61.642857142857146,349.07142857142856,224.07142857142858,109.35714285714286,200.71428571428572,5,24.428571428571427,35.5,0,0,0,0,0,0,null,41.071428571428569,155.21428571428572,61.642857142857146,349.07142857142856,224.07142857142858,109.35714285714286,200.71428571428572,5,24.428571428571427,35.5,0,0,0,0,0,0,null,196.28571428571428,61.642857142857146,349.07142857142856,224.07142857142858,109.35714285714286,200.71428571428572,5,24.428571428571427,35.5,0,0,0,0,0,0,null,null,null,null,null,null,null,null,null,null,null,null,null,null,null,null,null,null,null,13,66.384615384615387,375.92307692307691,241.30769230769232,117.76923076923077,216.15384615384616,5.384615384615385,26.307692307692307,38.230769230769234,0,0,0,0,0,0,null,44.230769230769234,167.15384615384616,66.384615384615387,375.92307692307691,241.30769230769232,117.76923076923077,216.15384615384616,5.384615384615385,26.307692307692307,38.230769230769234,0,0,0,0,0,0]
[null,15,57.533333333333331,325.8,209.13333333333333,102.06666666666666,187.33333333333334,4.666666666666667,22.8,33.133333333333333,0,0,0,0,0,0,null,38.333333333333336,144.86666666666667,57.533333333333331,325.8,209.13333333333333,102.06666666666666,187.33333333333334,4.666666666666667,22.8,33.133333333333333,0,0,0,0,0,0,null,183.2,57.533333333333331,325.8,209.13333333333333,102.06666666666666,187.33333333333334,4.666666666666667,22.8,33.133333333333333,0,0,0,0,0,0,null,null,null,null,null,null,null,null,null,null,null,null,null,null,null,null,null,null,null,14,61.642857142857146,349.07142857142856,224.07142857142858,109.35714285714286,200.71428571428572,5,24.428571428571427,35.5,0,0,0,0,0,0,null,41.071428571428569,155.21428571428572,61.642857142857146,349.07142857142856,224.07142857142858,109.35714285714286,200.71428571428572,5,24.428571428571427,35.5,0,0,0,0,0,0]
[null,16,53.9375,305.4375,196.0625,95.6875,175.625,4.375,21.375,31.0625,0,0,0,0,0,0,null,35.9375,135.8125,53.9375,305.4375,196.0625,95.6875,175.625,4.375,21.375,31.0625,0,0,0,0,0,0,null,171.75,53.9375,305.4375,196.0625,95.6875,175.625,4.375,21.375,31.0625,0,0,0,0,0,0,null,null,null,null,null,null,null,null,null,null,null,null,null,null,null,null,null,null,null,15,57.533333333333331,325.8,209.13333333333333,102.06666666666666,187.33333333333334,4.666666666666667,22.8,33.133333333333333,0,0,0,0,0,0,null,38.333333333333336,144.86666666666667,57.533333333333331,325.8,209.13333333333333,102.06666666666666,187.33333333333334,4.666666666666667,22.8,33.133333333333333,0,0,0,0,0,0]
[null,17,50.764705882352942,287.47058823529414,184.52941176470588,90.058823529411768,165.29411764705881,4.117647058823529,20.117647058823529,29.235294117647058,0,0,0,0,0,0,null,33.823529411764703,127.82352941176471,50.764705882352942,287.47058823529414,184.52941176470588,90.058823529411768,165.29411764705881,4.117647058823529,20.117647058823529,29.235294117647058,0,0,0,0,0,0,null,161.64705882352942,50.764705882352942,287.47058823529414,184.52941176470588,90.058823529411768,165.29411764705881,4.117647058823529,20.117647058823529,29.235294117647058,0,0,0,0,0,0,null,null,null,null,null,null,null,null,null,null,null,null,null,null,null,null,null,null,null,16,53.9375,305.4375,196.0625,95.6875,175.625,4.375,21.375,31.0625,0,0,0,0,0,0,null,35.9375,135.8125,53.9375,305.4375,196.0625,95.6875,175.625,4.375,21.375,31.0625,0,0,0,0,0,0]
[null,18,47.944444444444443,271.5,174.27777777777777,85.055555555555557,156.11111111111111,3.8888888888888888,19,27.611111111111111,0,0,0,0,0,0,null,31.944444444444443,120.72222222222223,47.944444444444443,271.5,174.27777777777777,85.055555555555557,156.11111111111111,3.8888888888888888,19,27.611111111111111,0,0,0,{"$f":"N24","v":0},0,0,null,152.66666666666666,47.944444444444443,271.5,174.27777777777777,85.055555555555557,156.11111111111111,3.8888888888888888,19,27.611111111111111,0,0,0,{"$f":"N24","v":0},0,0,null,null,null,null,null,null,null,null,null,null,null,null,null,null,null,null,null,null,null,17,50.764705882352942,287.47058823529414,184.52941176470588,90.058823529411768,165.29411764705881,4.117647058823529,20.117647058823529,29.235294117647058,0,0,0,0,0,0,null,33.823529411764703,127.82352941176471,50.764705882352942,287.47058823529414,184.52941176470588,90.058823529411768,165.29411764705881,4.117647058823529,20.117647058823529,29.235294117647058,0,0,0,0,0,0]
[null,19,45.421052631578945,257.21052631578948,165.10526315789474,80.578947368421055,147.89473684210526,3.6842105263157894,18,26.157894736842106,0,0,0,0,0,0,null,30.263157894736842,114.36842105263158,45.421052631578945,257.21052631578948,165.10526315789474,80.578947368421055,147.89473684210526,3.6842105263157894,18,26.157894736842106,0,0,0,0,0,0,null,144.63157894736841,45.421052631578945,257.21052631578948,165.10526315789474,80.578947368421055,147.89473684210526,3.6842105263157894,18,26.157894736842106,0,0,0,0,0,0,null,null,null,null,null,null,null,null,null,null,null,null,null,null,null,null,null,null,null,18,47.944444444444443,271.5,174.27777777777777,85.055555555555557,156.11111111111111,3.8888888888888888,19,27.611111111111111,0,0,0,0,0,0,null,31.944444444444443,120.72222222222223,47.944444444444443,271.5,174.27777777777777,85.055555555555557,156.11111111111111,3.8888888888888888,19,27.611111111111111,0,0,0,0,0,0]
[null,20,43.15,244.35,156.85,76.55,140.5,3.5,17.100000000000001,24.85,0,0,0,0,0,0,null,28.75,108.65,43.15,244.35,156.85,76.55,140.5,3.5,17.100000000000001,24.85,0,0,0,0,0,0,null,137.4,43.15,244.35,156.85,76.55,140.5,3.5,17.100000000000001,24.85,0,0,0,0,0,0,null,null,null,null,null,null,null,null,null,null,null,null,null,null,null,null,null,null,null,19,45.421052631578945,257.21052631578948,165.10526315789474,80.578947368421055,147.89473684210526,3.6842105263157894,18,26.157894736842106,0,0,0,0,0,0,null,30.263157894736842,114.36842105263158,45.421052631578945,257.21052631578948,165.10526315789474,80.578947368421055,147.89473684210526,3.6842105263157894,18,26.157894736842106,0,0,0,0,0,0]
[null,21,41.095238095238095,232.71428571428572,149.38095238095238,72.904761904761898,133.8095238095238,3.3333333333333335,16.285714285714285,23.666666666666668,0,0,0,0,0,0,null,27.38095238095238,103.47619047619048,41.095238095238095,232.71428571428572,149.38095238095238,72.904761904761898,133.8095238095238,3.3333333333333335,16.285714285714285,23.666666666666668,0,0,0,0,0,{"$f":"P27","v":0},null,130.85714285714286,41.095238095238095,232.71428571428572,149.38095238095238,72.904761904761898,133.8095238095238,3.3333333333333335,16.285714285714285,23.666666666666668,0,0,0,0,0,{"$f":"P27","v":0},null,null,null,null,null,null,null,null,null,null,null,null,null,null,null,null,null,null,null,20,43.15,244.35,156.85,76.55,140.5,3.5,17.100000000000001,24.85,0,0,0,0,0,0,null,28.75,108.65,43.15,244.35,156.85,76.55,140.5,3.5,17.100000000000001,24.85,0,0,0,0,0,0]
[null,22,39.227272727272727,222.13636363636363,142.59090909090909,69.590909090909093,127.72727272727273,3.1818181818181817,15.545454545454545,22.59090909090909,0,0,0,0,0,0,null,26.136363636363637,98.772727272727266,39.227272727272727,222.13636363636363,142.59090909090909,69.590909090909093,127.72727272727273,3.1818181818181817,15.545454545454545,22.59090909090909,0,0,0,0,0,0,null,124.90909090909091,39.227272727272727,222.13636363636363,142.59090909090909,69.590909090909093,127.72727272727273,3.1818181818181817,15.545454545454545,22.59090909090909,0,0,0,0,0,0,null,null,null,null,null,null,null,null,null,null,null,null,null,null,null,null,null,null,null,21,41.095238095238095,232.71428571428572,149.38095238095238,72.904761904761898,133.8095238095238,3.3333333333333335,16.285714285714285,23.666666666666668,0,0,0,0,0,0,null,27.38095238095238,103.47619047619048,41.095238095238095,232.71428571428572,149.38095238095238,72.904761904761898,133.8095238095238,3.3333333333333335,16.285714285714285,23.666666666666668,0,0,0,0,0,0]
[null,23,37.521739130434781,212.47826086956522,136.39130434782609,66.565217391304344,122.17391304347827,3.0434782608695654,14.869565217391305,21.608695652173914,0,0,0,0,0,0,null,25,94.478260869565219,37.521739130434781,212.47826086956522,136.39130434782609,66.565217391304344,122.17391304347827,3.0434782608695654,14.869565217391305,21.608695652173914,0,0,0,0,0,0,null,119.47826086956522,37.521739130434781,212.47826086956522,136.39130434782609,66.565217391304344,122.17391304347827,3.0434782608695654,14.869565217391305,21.608695652173914,0,0,0,0,0,0,null,null,null,null,null,null,null,null,null,null,null,null,null,null,null,null,null,null,null,22,39.227272727272727,222.13636363636363,142.59090909090909,69.590909090909093,127.72727272727273,3.1818181818181817,15.545454545454545,22.59090909090909,0,0,0,0,0,0,null,26.136363636363637,98.772727272727266,39.227272727272727,222.13636363636363,142.59090909090909,69.590909090909093,127.72727272727273,3.1818181818181817,15.545454545454545,22.59090909090909,0,0,0,0,0,0]
[null,24,35.958333333333336,203.625,130.70833333333334,63.791666666666664,117.08333333333333,2.9166666666666665,14.25,20.708333333333332,0,0,0,0,0,0,null,23.958333333333332,90.541666666666671,35.958333333333336,203.625,130.70833333333334,63.791666666666664,117.08333333333333,2.9166666666666665,14.25,20.708333333333332,0,0,0,0,0,0,null,114.5,35.958333333333336,203.625,130.70833333333334,63.791666666666664,117.08333333333333,2.9166666666666665,14.25,20.708333333333332,0,0,0,0,0,0,null,null,null,null,null,null,null,null,null,null,null,null,null,null,null,null,null,null,null,23,37.521739130434781,212.47826086956522,136.39130434782609,66.565217391304344,122.17391304347827,3.0434782608695654,14.869565217391305,21.608695652173914,0,0,0,0,0,0,null,25,94.478260869565219,37.521739130434781,212.47826086956522,136.39130434782609,66.565217391304344,122.17391304347827,3.0434782608695654,14.869565217391305,21.608695652173914,0,0,0,0,0,0]
[null,25,34.520000000000003,195.48,125.48,61.24,112.4,2.8,13.68,19.88,0,0,0,0,0,0,null,23,86.92,34.520000000000003,195.48,125.48,61.24,112.4,2.8,13.68,19.88,0,0,0,0,0,0,null,109.92,34.520000000000003,195.48,125.48,61.24,112.4,2.8,13.68,19.88,0,0,0,0,0,0,null,null,null,null,null,null,null,null,null,null,null,null,null,null,null,null,null,null,null,24,35.958333333333336,203.625,130.70833333333334,63.791666666666664,117.08333333333333,2.9166666666666665,14.25,20.708333333333332,0,0,0,0,0,0,null,23.958333333333332,90.541666666666671,35.958333333333336,203.625,130.70833333333334,63.791666666666664,117.08333333333333,2.9166666666666665,14.25,20.708333333333332,0,0,0,0,0,0]
[null,26,33.192307692307693,187.96153846153845,120.65384615384616,58.884615384615387,108.07692307692308,2.6923076923076925,13.153846153846153,19.115384615384617,0,0,0,0,0,0,null,22.115384615384617,83.57692307692308,33.192307692307693,187.96153846153845,120.65384615384616,58.884615384615387,108.07692307692308,2.6923076923076925,13.153846153846153,19.115384615384617,0,0,0,0,0,0,null,105.69230769230769,33.192307692307693,187.96153846153845,120.65384615384616,58.884615384615387,108.07692307692308,2.6923076923076925,13.153846153846153,19.115384615384617,0,0,0,0,0,0,null,null,null,null,null,null,null,null,null,null,null,null,null,null,null,null,null,null,null,25,34.520000000000003,195.48,125.48,61.24,112.4,2.8,13.68,19.88,0,0,0,0,0,0,null,23,86.92,34.520000000000003,195.48,125.48,61.24,112.4,2.8,13.68,19.88,0,0,0,0,0,0]
[null,27,31.962962962962962,181,116.18518518518519,56.703703703703702,104.07407407407408,2.5925925925925926,12.666666666666666,18.407407407407408,0,0,0,0,0,0,null,21.296296296296298,80.481481481481481,31.962962962962962,181,116.18518518518519,56.703703703703702,104.07407407407408,2.5925925925925926,12.666666666666666,18.407407407407408,0,0,0,0,0,0,null,101.77777777777777,31.962962962962962,181,116.18518518518519,56.703703703703702,104.07407407407408,2.5925925925925926,12.666666666666666,18.407407407407408,0,0,0,0,0,0,null,null,null,null,null,null,null,null,null,null,null,null,null,null,null,null,null,null,null,26,33.192307692307693,187.96153846153845,120.65384615384616,58.884615384615387,108.07692307692308,2.6923076923076925,13.153846153846153,19.115384615384617,0,0,0,0,0,0,null,22.115384615384617,83.57692307692308,33.192307692307693,187.96153846153845,120.65384615384616,58.884615384615387,108.07692307692308,2.6923076923076925,13.153846153846153,19.115384615384617,0,0,0,0,0,0]
[null,28,30.821428571428573,174.53571428571428,112.03571428571429,54.678571428571431,100.35714285714286,2.5,12.214285714285714,17.75,0,0,0,0,0,0,null,20.535714285714285,77.607142857142861,30.821428571428573,174.53571428571428,112.03571428571429,54.678571428571431,100.35714285714286,2.5,12.214285714285714,17.75,0,0,0,0,0,0,null,98.142857142857139,30.821428571428573,174.53571428571428,112.03571428571429,54.678571428571431,100.35714285714286,2.5,12.214285714285714,17.75,0,0,0,0,0,0,null,null,null,null,null,null,null,null,null,null,null,null,null,null,null,null,null,null,null,27,31.962962962962962,181,116.18518518518519,56.703703703703702,104.07407407407408,2.5925925925925926,12.666666666666666,18.407407407407408,0,0,0,0,0,0,null,21.296296296296298,80.481481481481481,31.962962962962962,181,116.18518518518519,56.703703703703702,104.07407407407408,2.5925925925925926,12.666666666666666,18.407407407407408,0,0,0,0,0,0]
[null,29,29.758620689655171,168.51724137931035,108.17241379310344,52.793103448275865,96.896551724137936,2.4137931034482758,11.793103448275861,17.137931034482758,0,0,0,0,0,0,null,19.827586206896552,74.931034482758619,29.758620689655171,168.51724137931035,108.17241379310344,52.793103448275865,96.896551724137936,2.4137931034482758,11.793103448275861,17.137931034482758,0,0,0,0,0,0,null,94.758620689655174,29.758620689655171,168.51724137931035,108.17241379310344,52.793103448275865,96.896551724137936,2.4137931034482758,11.793103448275861,17.137931034482758,0,0,0,0,0,0,null,null,null,null,null,null,null,null,null,null,null,null,null,null,null,null,null,null,null,28,30.821428571428573,174.53571428571428,112.03571428571429,54.678571428571431,100.35714285714286,2.5,12.214285714285714,17.75,0,0,0,0,0,0,null,20.535714285714285,77.607142857142861,30.821428571428573,174.53571428571428,112.03571428571429,54.678571428571431,100.35714285714286,2.5,12.214285714285714,17.75,0,0,0,0,0,0]
[null,30,28.766666666666666,162.9,104.56666666666666,51.033333333333331,93.666666666666671,2.3333333333333335,11.4,16.566666666666666,0,0,0,0,0,0,null,19.166666666666668,72.433333333333337,28.766666666666666,162.9,104.56666666666666,51.033333333333331,93.666666666666671,2.3333333333333335,11.4,16.566666666666666,0,0,0,0,0,0,null,91.6,28.766666666666666,162.9,104.56666666666666,51.033333333333331,93.666666666666671,2.3333333333333335,11.4,16.566666666666666,0,0,0,0,0,0,null,null,null,null,null,null,null,null,null,null,null,null,null,null,null,null,null,null,null,29,29.758620689655171,168.51724137931035,108.17241379310344,52.793103448275865,96.896551724137936,2.4137931034482758,11.793103448275861,17.137931034482758,0,0,0,0,0,0,null,19.827586206896552,74.931034482758619,29.758620689655171,168.51724137931035,108.17241379310344,52.793103448275865,96.896551724137936,2.4137931034482758,11.793103448275861,17.137931034482758,0,0,0,0,0,0]
[null,31,27.838709677419356,157.64516129032259,101.19354838709677,49.387096774193552,90.645161290322577,2.2580645161290325,11.03225806451613,16.032258064516128,0,0,0,0,0,0,null,18.548387096774192,70.096774193548384,27.838709677419356,157.64516129032259,101.19354838709677,49.387096774193552,90.645161290322577,2.2580645161290325,11.03225806451613,16.032258064516128,0,0,0,0,0,0,null,88.645161290322577,27.838709677419356,157.64516129032259,101.19354838709677,49.387096774193552,90.645161290322577,2.2580645161290325,11.03225806451613,16.032258064516128,0,0,0,0,0,0,null,null,null,null,null,null,null,null,null,null,null,null,null,null,null,null,null,null,null,30,28.766666666666666,162.9,104.56666666666666,51.033333333333331,93.666666666666671,2.3333333333333335,11.4,16.566666666666666,0,0,0,0,0,0,null,19.166666666666668,72.433333333333337,28.766666666666666,162.9,104.56666666666666,51.033333333333331,93.666666666666671,2.3333333333333335,11.4,16.566666666666666,0,0,0,0,0,0]
[null,32,26.96875,152.71875,98.03125,47.84375,87.8125,2.1875,10.6875,15.53125,0,0,0,0,0,0,null,17.96875,67.90625,26.96875,152.71875,98.03125,47.84375,87.8125,2.1875,10.6875,15.53125,0,0,0,0,0,0,null,85.875,26.96875,152.71875,98.03125,47.84375,87.8125,2.1875,10.6875,15.53125,0,0,0,0,0,0,null,null,null,null,null,null,null,null,null,null,null,null,null,null,null,null,null,null,null,31,27.838709677419356,157.64516129032259,101.19354838709677,49.387096774193552,90.645161290322577,2.2580645161290325,11.03225806451613,16.032258064516128,0,0,0,0,0,0,null,18.548387096774192,70.096774193548384,27.838709677419356,157.64516129032259,101.19354838709677,49.387096774193552,90.645161290322577,2.2580645161290325,11.03225806451613,16.032258064516128,0,0,0,0,0,0]
[null,33,26.151515151515152,148.09090909090909,95.060606060606062,46.393939393939391,85.151515151515156,2.1212121212121211,10.363636363636363,15.060606060606061,0,0,0,0,0,0,null,17.424242424242426,65.848484848484844,26.151515151515152,148.09090909090909,95.060606060606062,46.393939393939391,85.151515151515156,2.1212121212121211,10.363636363636363,15.060606060606061,0,0,0,0,0,0,null,83.272727272727266,26.151515151515152,148.09090909090909,95.060606060606062,46.393939393939391,85.151515151515156,2.1212121212121211,10.363636363636363,15.060606060606061,0,0,0,0,0,0,null,null,null,null,null,null,null,null,null,null,null,null,null,null,null,null,null,null,null,32,26.96875,152.71875,98.03125,47.84375,87.8125,2.1875,10.6875,15.53125,0,0,0,0,0,0,null,17.96875,67.90625,26.96875,152.71875,98.03125,47.84375,87.8125,2.1875,10.6875,15.53125,0,0,0,0,0,0]
[null,34,25.382352941176471,143.73529411764707,92.264705882352942,45.029411764705884,82.647058823529406,2.0588235294117645,10.058823529411764,14.617647058823529,0,0,0,0,0,0,null,16.911764705882351,63.911764705882355,{"$f":"C40","v":25.382352941176471},{"$f":"D40","v":143.73529411764707},{"$f":"E40","v":92.264705882352942},{"$f":"F40","v":45.029411764705884},{"$f":"G40","v":82.647058823529406},{"$f":"H40","v":2.0588235294117645},{"$f":"I40","v":10.058823529411764},{"$f":"J40","v":14.617647058823529},{"$f":"K40","v":0},{"$f":"L40","v":0},{"$f":"M40","v":0},{"$f":"N40","v":0},0,0,null,80.82352941176471,{"$f":"C40","v":25.382352941176471},{"$f":"D40","v":143.73529411764707},{"$f":"E40","v":92.264705882352942},{"$f":"F40","v":45.029411764705884},{"$f":"G40","v":82.647058823529406},{"$f":"H40","v":2.0588235294117645},{"$f":"I40","v":10.058823529411764},{"$f":"J40","v":14.617647058823529},{"$f":"K40","v":0},{"$f":"L40","v":0},{"$f":"M40","v":0},{"$f":"N40","v":0},0,0,null,null,null,null,null,null,null,null,null,null,null,null,null,null,null,null,null,null,null,33,26.151515151515152,148.09090909090909,95.060606060606062,46.393939393939391,85.151515151515156,2.1212121212121211,10.363636363636363,15.060606060606061,0,0,0,0,0,0,null,17.424242424242426,65.848484848484844,26.151515151515152,148.09090909090909,95.060606060606062,46.393939393939391,85.151515151515156,2.1212121212121211,10.363636363636363,15.060606060606061,0,0,0,0,0,0]
[null,35,24.657142857142858,139.62857142857143,89.628571428571433,43.74285714285714,80.285714285714292,2,9.7714285714285722,14.2,0,0,0,0,0,0,null,16.428571428571427,62.085714285714289,24.657142857142858,139.62857142857143,89.628571428571433,43.74285714285714,80.285714285714292,2,9.7714285714285722,14.2,0,0,0,0,0,0,null,78.51428571428572,24.657142857142858,139.62857142857143,89.628571428571433,43.74285714285714,80.285714285714292,2,9.7714285714285722,14.2,0,0,0,0,0,0,null,null,null,null,null,null,null,null,null,null,null,null,null,null,null,null,null,null,null,34,25.382352941176471,143.73529411764707,92.264705882352942,45.029411764705884,82.647058823529406,2.0588235294117645,10.058823529411764,14.617647058823529,0,0,0,0,0,0,null,16.911764705882351,63.911764705882355,25.382352941176471,143.73529411764707,92.264705882352942,45.029411764705884,82.647058823529406,2.0588235294117645,10.058823529411764,14.617647058823529,0,0,0,0,0,0]
[null,36,23.972222222222221,135.75,87.138888888888886,42.527777777777779,78.055555555555557,1.9444444444444444,9.5,13.805555555555555,0,0,0,0,0,0,null,15.972222222222221,60.361111111111114,23.972222222222221,135.75,87.138888888888886,42.527777777777779,78.055555555555557,1.9444444444444444,9.5,13.805555555555555,0,0,0,0,0,0,null,76.333333333333329,23.972222222222221,135.75,87.138888888888886,42.527777777777779,78.055555555555557,1.9444444444444444,9.5,13.805555555555555,0,0,0,0,0,0,null,null,null,null,null,null,null,null,null,null,null,null,null,null,null,null,null,null,null,35,24.657142857142858,139.62857142857143,89.628571428571433,43.74285714285714,80.285714285714292,2,9.7714285714285722,14.2,0,0,0,0,0,0,null,16.428571428571427,62.085714285714289,24.657142857142858,139.62857142857143,89.628571428571433,43.74285714285714,80.285714285714292,2,9.7714285714285722,14.2,0,0,0,0,0,0]
[null,37,23.324324324324323,132.08108108108109,84.78378378378379,41.378378378378379,75.945945945945951,1.8918918918918919,9.2432432432432439,13.432432432432432,0,0,0,0,0,0,null,15.54054054054054,58.729729729729726,23.324324324324323,132.08108108108109,84.78378378378379,41.378378378378379,75.945945945945951,1.8918918918918919,9.2432432432432439,13.432432432432432,0,0,0,0,0,0,null,74.270270270270274,23.324324324324323,132.08108108108109,84.78378378378379,41.378378378378379,75.945945945945951,1.8918918918918919,9.2432432432432439,13.432432432432432,0,0,0,0,0,0,null,null,null,null,null,null,null,null,null,null,null,null,null,null,null,null,null,null,null,36,23.972222222222221,135.75,87.138888888888886,42.527777777777779,78.055555555555557,1.9444444444444444,9.5,13.805555555555555,0,0,0,0,0,0,null,15.972222222222221,60.361111111111114,23.972222222222221,135.75,87.138888888888886,42.527777777777779,78.055555555555557,1.9444444444444444,9.5,13.805555555555555,0,0,0,0,0,0]
[null,38,22.710526315789473,128.60526315789474,82.55263157894737,40.289473684210527,73.94736842105263,1.8421052631578947,9,13.078947368421053,0,0,0,0,0,0,null,15.131578947368421,57.184210526315788,22.710526315789473,128.60526315789474,82.55263157894737,40.289473684210527,73.94736842105263,1.8421052631578947,9,13.078947368421053,0,0,0,0,0,0,null,72.315789473684205,22.710526315789473,128.60526315789474,82.55263157894737,40.289473684210527,73.94736842105263,1.8421052631578947,9,13.078947368421053,0,0,0,0,0,0,null,null,null,null,null,null,null,null,null,null,null,null,null,null,null,null,null,null,null,37,23.324324324324323,132.08108108108109,84.78378378378379,41.378378378378379,75.945945945945951,1.8918918918918919,9.2432432432432439,13.432432432432432,0,0,0,0,0,0,null,15.54054054054054,58.729729729729726,23.324324324324323,132.08108108108109,84.78378378378379,41.378378378378379,75.945945945945951,1.8918918918918919,9.2432432432432439,13.432432432432432,0,0,0,0,0,0]
[null,39,22.128205128205128,125.30769230769231,80.435897435897431,39.256410256410255,72.051282051282058,1.7948717948717949,8.7692307692307701,12.743589743589743,0,0,0,0,0,0,null,14.743589743589743,55.717948717948715,22.128205128205128,125.30769230769231,80.435897435897431,39.256410256410255,72.051282051282058,1.7948717948717949,8.7692307692307701,12.743589743589743,0,0,0,0,0,0,null,70.461538461538467,22.128205128205128,125.30769230769231,80.435897435897431,39.256410256410255,72.051282051282058,1.7948717948717949,8.7692307692307701,12.743589743589743,0,0,0,0,0,0,null,null,null,null,null,null,null,null,null,null,null,null,null,null,null,null,null,null,null,38,22.710526315789473,128.60526315789474,82.55263157894737,40.289473684210527,73.94736842105263,1.8421052631578947,9,13.078947368421053,0,0,0,0,0,0,null,15.131578947368421,57.184210526315788,22.710526315789473,128.60526315789474,82.55263157894737,40.289473684210527,73.94736842105263,1.8421052631578947,9,13.078947368421053,0,0,0,0,0,0]
[null,40,21.574999999999999,122.175,78.424999999999997,38.274999999999999,70.25,1.75,8.5500000000000007,12.425000000000001,0,0,0,0,0,0,null,14.375,54.325000000000003,21.574999999999999,122.175,78.424999999999997,38.274999999999999,70.25,1.75,8.5500000000000007,12.425000000000001,0,0,0,0,0,0,null,68.7,21.574999999999999,122.175,78.424999999999997,38.274999999999999,70.25,1.75,8.5500000000000007,12.425000000000001,0,0,0,0,0,0,null,null,null,null,null,null,null,null,null,null,null,null,null,null,null,null,null,null,null,39,22.128205128205128,125.30769230769231,80.435897435897431,39.256410256410255,72.051282051282058,1.7948717948717949,8.7692307692307701,12.743589743589743,0,0,0,0,0,0,null,14.743589743589743,55.717948717948715,22.128205128205128,125.30769230769231,80.435897435897431,39.256410256410255,72.051282051282058,1.7948717948717949,8.7692307692307701,12.743589743589743,0,0,0,0,0,0]
[null,41,21.048780487804876,119.19512195121951,76.512195121951223,37.341463414634148,68.536585365853654,1.7073170731707317,8.3414634146341466,12.121951219512194,0,0,0,0,0,0,null,14.024390243902438,53,21.048780487804876,119.19512195121951,76.512195121951223,37.341463414634148,68.536585365853654,1.7073170731707317,8.3414634146341466,12.121951219512194,0,0,0,0,0,0,null,67.024390243902445,21.048780487804876,119.19512195121951,76.512195121951223,37.341463414634148,68.536585365853654,1.7073170731707317,8.3414634146341466,12.121951219512194,0,0,0,0,0,0,null,null,null,null,null,null,null,null,null,null,null,null,null,null,null,null,null,null,null,40,21.574999999999999,122.175,78.424999999999997,38.274999999999999,70.25,1.75,8.5500000000000007,12.425000000000001,0,0,0,0,0,0,null,14.375,54.325000000000003,21.574999999999999,122.175,78.424999999999997,38.274999999999999,70.25,1.75,8.5500000000000007,12.425000000000001,0,0,0,0,0,0]
[null,42,20.547619047619047,116.35714285714286,74.69047619047619,36.452380952380949,66.904761904761898,1.6666666666666667,8.1428571428571423,11.833333333333334,0,0,0,0,0,0,null,13.69047619047619,51.738095238095241,20.547619047619047,116.35714285714286,74.69047619047619,36.452380952380949,66.904761904761898,1.6666666666666667,8.1428571428571423,11.833333333333334,0,0,0,0,0,0,null,65.428571428571431,20.547619047619047,116.35714285714286,74.69047619047619,36.452380952380949,66.904761904761898,1.6666666666666667,8.1428571428571423,11.833333333333334,0,0,0,0,0,0,null,null,null,null,null,null,null,null,null,null,null,null,null,null,null,null,null,null,null,41,21.048780487804876,119.19512195121951,76.512195121951223,37.341463414634148,68.536585365853654,1.7073170731707317,8.3414634146341466,12.121951219512194,0,0,0,0,0,0,null,14.024390243902438,53,21.048780487804876,119.19512195121951,76.512195121951223,37.341463414634148,68.536585365853654,1.7073170731707317,8.3414634146341466,12.121951219512194,0,0,0,0,0,0]
[null,43,20.069767441860463,113.65116279069767,72.95348837209302,35.604651162790695,65.348837209302332,1.6279069767441861,7.9534883720930232,11.55813953488372,0,0,0,0,0,0,null,13.372093023255815,50.534883720930232,20.069767441860463,113.65116279069767,72.95348837209302,35.604651162790695,65.348837209302332,1.6279069767441861,7.9534883720930232,11.55813953488372,0,0,0,0,0,0,null,63.906976744186046,20.069767441860463,113.65116279069767,72.95348837209302,35.604651162790695,65.348837209302332,1.6279069767441861,7.9534883720930232,11.55813953488372,0,0,0,0,0,0,null,null,null,null,null,null,null,null,null,null,null,null,null,null,null,null,null,null,null,42,20.547619047619047,116.35714285714286,74.69047619047619,36.452380952380949,66.904761904761898,1.6666666666666667,8.1428571428571423,11.833333333333334,0,0,0,0,0,0,null,13.69047619047619,51.738095238095241,20.547619047619047,116.35714285714286,74.69047619047619,36.452380952380949,66.904761904761898,1.6666666666666667,8.1428571428571423,11.833333333333334,0,0,0,0,0,0]
[null,44,19.613636363636363,111.06818181818181,71.295454545454547,34.795454545454547,63.863636363636367,1.5909090909090908,7.7727272727272725,11.295454545454545,0,0,0,0,0,0,null,13.068181818181818,49.386363636363633,19.613636363636363,111.06818181818181,71.295454545454547,34.795454545454547,63.863636363636367,1.5909090909090908,7.7727272727272725,11.295454545454545,0,0,0,0,0,0,null,62.454545454545453,19.613636363636363,111.06818181818181,71.295454545454547,34.795454545454547,63.863636363636367,1.5909090909090908,7.7727272727272725,11.295454545454545,0,0,0,0,0,0,null,null,null,null,null,null,null,null,null,null,null,null,null,null,null,null,null,null,null,43,20.069767441860463,113.65116279069767,72.95348837209302,35.604651162790695,65.348837209302332,1.6279069767441861,7.9534883720930232,11.55813953488372,0,0,0,0,0,0,null,13.372093023255815,50.534883720930232,20.069767441860463,113.65116279069767,72.95348837209302,35.604651162790695,65.348837209302332,1.6279069767441861,7.9534883720930232,11.55813953488372,0,0,0,0,0,0]
[null,45,19.177777777777777,108.6,69.711111111111109,34.022222222222226,62.444444444444443,1.5555555555555556,7.6,11.044444444444444,0,0,0,0,0,0,null,12.777777777777779,48.288888888888891,19.177777777777777,108.6,69.711111111111109,34.022222222222226,62.444444444444443,1.5555555555555556,7.6,11.044444444444444,0,0,0,0,0,0,null,61.06666666666667,19.177777777777777,108.6,69.711111111111109,34.022222222222226,62.444444444444443,1.5555555555555556,7.6,11.044444444444444,0,0,0,0,0,0,null,null,null,null,null,null,null,null,null,null,null,null,null,null,null,null,null,null,null,44,19.613636363636363,111.06818181818181,71.295454545454547,34.795454545454547,63.863636363636367,1.5909090909090908,7.7727272727272725,11.295454545454545,0,0,0,0,0,0,null,13.068181818181818,49.386363636363633,19.613636363636363,111.06818181818181,71.295454545454547,34.795454545454547,63.863636363636367,1.5909090909090908,7.7727272727272725,11.295454545454545,0,0,0,0,0,0]
[null,46,18.760869565217391,106.23913043478261,68.195652173913047,33.282608695652172,61.086956521739133,1.5217391304347827,7.4347826086956523,10.804347826086957,0,0,0,0,0,0,null,12.5,47.239130434782609,18.760869565217391,106.23913043478261,68.195652173913047,33.282608695652172,61.086956521739133,1.5217391304347827,7.4347826086956523,10.804347826086957,0,0,0,0,0,0,null,59.739130434782609,18.760869565217391,106.23913043478261,68.195652173913047,33.282608695652172,61.086956521739133,1.5217391304347827,7.4347826086956523,10.804347826086957,0,0,0,0,0,0,null,null,null,null,null,null,null,null,null,null,null,null,null,null,null,null,null,null,null,45,19.177777777777777,108.6,69.711111111111109,34.022222222222226,62.444444444444443,1.5555555555555556,7.6,11.044444444444444,0,0,0,0,0,0,null,12.777777777777779,48.288888888888891,19.177777777777777,108.6,69.711111111111109,34.022222222222226,62.444444444444443,1.5555555555555556,7.6,11.044444444444444,0,0,0,0,0,0]
[null,47,18.361702127659573,103.97872340425532,66.744680851063833,32.574468085106382,59.787234042553195,1.4893617021276595,7.2765957446808507,10.574468085106384,0,0,0,0,0,0,null,12.23404255319149,46.234042553191486,18.361702127659573,103.97872340425532,66.744680851063833,32.574468085106382,59.787234042553195,1.4893617021276595,7.2765957446808507,10.574468085106384,0,0,0,0,0,0,null,58.468085106382979,18.361702127659573,103.97872340425532,66.744680851063833,32.574468085106382,59.787234042553195,1.4893617021276595,7.2765957446808507,10.574468085106384,0,0,0,0,0,0,null,null,null,null,null,null,null,null,null,null,null,null,null,null,null,null,null,null,null,46,18.760869565217391,106.23913043478261,68.195652173913047,33.282608695652172,61.086956521739133,1.5217391304347827,7.4347826086956523,10.804347826086957,0,0,0,0,0,0,null,12.5,47.239130434782609,18.760869565217391,106.23913043478261,68.195652173913047,33.282608695652172,61.086956521739133,1.5217391304347827,7.4347826086956523,10.804347826086957,0,0,0,0,0,0]
[null,48,17.979166666666668,101.8125,65.354166666666671,31.895833333333332,58.541666666666664,1.4583333333333333,7.125,{"$f":"$J$6/B54","v":10.354166666666666},0,0,0,0,0,0,null,11.979166666666666,45.270833333333336,17.979166666666668,101.8125,65.354166666666671,31.895833333333332,58.541666666666664,1.4583333333333333,7.125,10.354166666666666,0,0,0,0,0,0,null,57.25,17.979166666666668,101.8125,65.354166666666671,31.895833333333332,58.541666666666664,1.4583333333333333,7.125,10.354166666666666,0,0,0,0,0,0,null,null,null,null,null,null,null,null,null,null,null,null,null,null,null,null,null,null,null,47,18.361702127659573,103.97872340425532,66.744680851063833,32.574468085106382,59.787234042553195,1.4893617021276595,7.2765957446808507,10.574468085106384,0,0,0,0,0,0,null,12.23404255319149,46.234042553191486,18.361702127659573,103.97872340425532,66.744680851063833,32.574468085106382,59.787234042553195,1.4893617021276595,7.2765957446808507,10.574468085106384,0,0,0,0,0,0]
[null,49,17.612244897959183,99.734693877551024,64.020408163265301,31.244897959183675,57.346938775510203,1.4285714285714286,6.9795918367346941,10.142857142857142,0,0,0,0,0,0,null,11.73469387755102,44.346938775510203,17.612244897959183,99.734693877551024,64.020408163265301,31.244897959183675,57.346938775510203,1.4285714285714286,6.9795918367346941,10.142857142857142,0,0,0,0,0,{"$f":"P55","v":0},null,56.081632653061227,17.612244897959183,99.734693877551024,64.020408163265301,31.244897959183675,57.346938775510203,1.4285714285714286,6.9795918367346941,10.142857142857142,0,0,0,0,0,{"$f":"P55","v":0},null,null,null,null,null,null,null,null,null,null,null,null,null,null,null,null,null,null,null,48,17.979166666666668,101.8125,65.354166666666671,31.895833333333332,58.541666666666664,1.4583333333333333,7.125,10.354166666666666,0,0,0,0,0,0,null,11.979166666666666,45.270833333333336,17.979166666666668,101.8125,65.354166666666671,31.895833333333332,58.541666666666664,1.4583333333333333,7.125,10.354166666666666,0,0,0,0,0,0]
[null,50,17.260000000000002,97.74,62.74,30.62,56.2,1.4,6.84,9.94,0,0,0,0,0,0,null,11.5,43.46,17.260000000000002,97.74,62.74,30.62,56.2,1.4,6.84,9.94,0,0,0,{"$f":"N56","v":0},0,0,null,54.96,17.260000000000002,97.74,62.74,30.62,56.2,1.4,6.84,9.94,0,0,0,{"$f":"N56","v":0},0,0,null,null,null,null,null,null,null,null,null,null,null,null,null,null,null,null,null,null,null,49,17.612244897959183,99.734693877551024,64.020408163265301,31.244897959183675,57.346938775510203,1.4285714285714286,6.9795918367346941,10.142857142857142,0,0,0,0,0,0,null,11.73469387755102,44.346938775510203,17.612244897959183,99.734693877551024,64.020408163265301,31.244897959183675,57.346938775510203,1.4285714285714286,6.9795918367346941,10.142857142857142,0,0,0,0,0,0]
[null,51,16.921568627450981,95.82352941176471,61.509803921568626,30.019607843137255,55.098039215686278,1.3725490196078431,6.7058823529411766,9.7450980392156854,0,0,0,0,0,0,null,11.274509803921569,42.607843137254903,16.921568627450981,95.82352941176471,61.509803921568626,30.019607843137255,55.098039215686278,1.3725490196078431,6.7058823529411766,9.7450980392156854,0,0,0,0,0,0,null,53.882352941176471,16.921568627450981,95.82352941176471,61.509803921568626,30.019607843137255,55.098039215686278,1.3725490196078431,6.7058823529411766,9.7450980392156854,0,0,0,0,0,0,null,null,null,null,null,null,null,null,null,null,null,null,null,null,null,null,null,null,null,50,17.260000000000002,97.74,62.74,30.62,56.2,1.4,6.84,9.94,0,0,0,0,0,0,null,11.5,43.46,17.260000000000002,97.74,62.74,30.62,56.2,1.4,6.84,9.94,0,0,0,0,0,0]
[null,52,16.596153846153847,93.980769230769226,60.32692307692308,29.442307692307693,54.03846153846154,1.3461538461538463,6.5769230769230766,9.5576923076923084,0,0,0,0,0,0,null,11.057692307692308,41.78846153846154,16.596153846153847,93.980769230769226,60.32692307692308,29.442307692307693,54.03846153846154,1.3461538461538463,6.5769230769230766,9.5576923076923084,0,0,0,0,0,0,null,52.846153846153847,16.596153846153847,93.980769230769226,60.32692307692308,29.442307692307693,54.03846153846154,1.3461538461538463,6.5769230769230766,9.5576923076923084,0,0,0,0,0,0,null,null,null,null,null,null,null,null,null,null,null,null,null,null,null,null,null,null,null,51,16.921568627450981,95.82352941176471,61.509803921568626,30.019607843137255,55.098039215686278,1.3725490196078431,6.7058823529411766,9.7450980392156854,0,0,0,0,0,0,null,11.274509803921569,42.607843137254903,16.921568627450981,95.82352941176471,61.509803921568626,30.019607843137255,55.098039215686278,1.3725490196078431,6.7058823529411766,9.7450980392156854,0,0,0,0,0,0]
[null,53,{"$f":"$C$6/B59","v":16.283018867924529},{"$f":"$D$6/B59","v":92.20754716981132},{"$f":"$E$6/B59","v":59.188679245283019},{"$f":"$F$6/B59","v":28.886792452830189},{"$f":"$G$6/B59","v":53.018867924528301},{"$f":"$H$6/B59","v":1.320754716981132},{"$f":"$I$6/B59","v":6.4528301886792452},9.3773584905660385,{"$f":"$K$6/B59","v":0},{"$f":"$L$6/B59","v":0},{"$f":"$M$6/B59","v":0},0,0,{"$f":"$P$6/B59","v":0},null,{"$f":"$R$6/B59","v":10.849056603773585},{"$f":"$S$6/B59","v":41},16.283018867924529,92.20754716981132,59.188679245283019,28.886792452830189,53.018867924528301,1.320754716981132,6.4528301886792452,9.3773584905660385,0,0,0,0,0,0,null,{"$f":"$AI$6/B59","v":51.849056603773583},16.283018867924529,92.20754716981132,59.188679245283019,28.886792452830189,53.018867924528301,1.320754716981132,6.4528301886792452,9.3773584905660385,0,0,0,0,0,0,null,null,null,null,null,null,null,null,null,null,null,null,null,null,null,null,null,null,null,52,{"$f":"$C$6/BQ59","v":16.596153846153847},{"$f":"$D$6/BQ59","v":93.980769230769226},{"$f":"$E$6/BQ59","v":60.32692307692308},{"$f":"$F$6/BQ59","v":29.442307692307693},{"$f":"$G$6/BQ59","v":54.03846153846154},{"$f":"$H$6/BQ59","v":1.3461538461538463},{"$f":"$I$6/BQ59","v":6.5769230769230766},9.5576923076923084,{"$f":"$K$6/BQ59","v":0},{"$f":"$L$6/BQ59","v":0},{"$f":"$M$6/BQ59","v":0},0,0,{"$f":"$P$6/BQ59","v":0},null,{"$f":"$R$6/BQ59","v":11.057692307692308},{"$f":"$S$6/BQ59","v":41.78846153846154},16.596153846153847,93.980769230769226,60.32692307692308,29.442307692307693,54.03846153846154,1.3461538461538463,6.5769230769230766,9.5576923076923084,0,0,0,0,0,0]
[null,54,{"$f":"$C$6/B60","v":15.981481481481481},{"$f":"$D$6/B60","v":90.5},{"$f":"$E$6/B60","v":58.092592592592595},{"$f":"$F$6/B60","v":28.351851851851851},{"$f":"$G$6/B60","v":52.037037037037038},{"$f":"$H$6/B60","v":1.2962962962962963},{"$f":"$I$6/B60","v":6.333333333333333},9.2037037037037042,{"$f":"$K$6/B60","v":0},{"$f":"$L$6/B60","v":0},{"$f":"$M$6/B60","v":0},0,0,{"$f":"$P$6/B60","v":0},null,{"$f":"$R$6/B60","v":10.648148148148149},{"$f":"$S$6/B60","v":40.24074074074074},15.981481481481481,90.5,58.092592592592595,28.351851851851851,52.037037037037038,1.2962962962962963,6.333333333333333,9.2037037037037042,0,0,0,0,0,0,null,{"$f":"$AI$6/B60","v":50.888888888888886},15.981481481481481,90.5,58.092592592592595,28.351851851851851,52.037037037037038,1.2962962962962963,6.333333333333333,9.2037037037037042,0,0,0,0,0,0,null,null,null,null,null,null,null,null,null,null,null,null,null,null,null,null,null,null,null,53,{"$f":"$C$6/BQ60","v":16.283018867924529},{"$f":"$D$6/BQ60","v":92.20754716981132},{"$f":"$E$6/BQ60","v":59.188679245283019},{"$f":"$F$6/BQ60","v":28.886792452830189},{"$f":"$G$6/BQ60","v":53.018867924528301},{"$f":"$H$6/BQ60","v":1.320754716981132},{"$f":"$I$6/BQ60","v":6.4528301886792452},9.3773584905660385,{"$f":"$K$6/BQ60","v":0},{"$f":"$L$6/BQ60","v":0},{"$f":"$M$6/BQ60","v":0},0,0,{"$f":"$P$6/BQ60","v":0},null,{"$f":"$R$6/BQ60","v":10.849056603773585},{"$f":"$S$6/BQ60","v":41},16.283018867924529,92.20754716981132,59.188679245283019,28.886792452830189,53.018867924528301,1.320754716981132,6.4528301886792452,9.3773584905660385,0,0,0,0,0,0]
[]
[]
[null,"Nombre d'inscrits",16885]
[null,"Bulletins déposés",14712]
[null,"Blancs & Nuls",575]
[null,"Votes valables",14137]
[null,"Nombre de sièges",29]
[]
[]
[]
[]
[null,"Liste unique\nMajorité\nabsolue",{"$f":"SUM($C$73:$P$73)","v":0},null,null,null,null,null,null,null,null,null,null,null,null,null,null,{"$f":"SUM($R$73:$AG$73)","v":0},null,null,null,null,null,null,null,null,null,null,null,null,null,null,null,null,{"$f":"SUM($AI$73:$AW$73)","v":0}]
[null,null,{"$f":"IF(C7>($C$67/2),1,0)","v":0},{"$f":"IF(D7>($C$67/2),1,0)","v":0},{"$f":"IF(E7>($C$67/2),1,0)","v":0},{"$f":"IF(F7>($C$67/2),1,0)","v":0},{"$f":"IF(G7>($C$67/2),1,0)","v":0},{"$f":"IF(H7>($C$67/2),1,0)","v":0},{"$f":"IF(I7>($C$67/2),1,0)","v":0},{"$f":"IF(J7>($C$67/2),1,0)","v":0},{"$f":"IF(K7>($C$67/2),1,0)","v":0},{"$f":"IF(L7>($C$67/2),1,0)","v":0},{"$f":"IF(M7>($C$67/2),1,0)","v":0},{"$f":"IF(N7>($C$67/2),1,0)","v":0},{"$f":"IF(O7>($C$67/2),1,0)","v":0},{"$f":"IF(P7>($C$67/2),1,0)","v":0},null,{"$f":"IF(R7>($C$67/2),1,0)","v":0},{"$f":"IF(S7>($C$67/2),1,0)","v":0},{"$f":"IF(T7>($C$67/2),1,0)","v":0},{"$f":"IF(U7>($C$67/2),1,0)","v":0},{"$f":"IF(V7>($C$67/2),1,0)","v":0},{"$f":"IF(W7>($C$67/2),1,0)","v":0},{"$f":"IF(X7>($C$67/2),1,0)","v":0},{"$f":"IF(Y7>($C$67/2),1,0)","v":0},{"$f":"IF(Z7>($C$67/2),1,0)","v":0},{"$f":"IF(AA7>($C$67/2),1,0)","v":0},{"$f":"IF(AB7>($C$67/2),1,0)","v":0},{"$f":"IF(AC7>($C$67/2),1,0)","v":0},{"$f":"IF(AD7>($C$67/2),1,0)","v":0},{"$f":"IF(AE7>($C$67/2),1,0)","v":0},{"$f":"IF(AF7>($C$67/2),1,0)","v":0},{"$f":"IF(AG7>($C$67/2),1,0)","v":0},null,{"$f":"IF(AI7>($C$67/2),1,0)","v":0},{"$f":"IF(AJ7>($C$67/2),1,0)","v":0},{"$f":"IF(AK7>($C$67/2),1,0)","v":0},{"$f":"IF(AL7>($C$67/2),1,0)","v":0},{"$f":"IF(AM7>($C$67/2),1,0)","v":0},{"$f":"IF(AN7>($C$67/2),1,0)","v":0},{"$f":"IF(AO7>($C$67/2),1,0)","v":0},{"$f":"IF(AP7>($C$67/2),1,0)","v":0},{"$f":"IF(AQ7>($C$67/2),1,0)","v":0},{"$f":"IF(AR7>($C$67/2),1,0)","v":0},{"$f":"IF(AS7>($C$67/2),1,0)","v":0},{"$f":"IF(AT7>($C$67/2),1,0)","v":0},{"$f":"IF(AU7>($C$67/2),1,0)","v":0},{"$f":"IF(AV7>($C$67/2),1,0)","v":0},{"$f":"IF(AW7>($C$67/2),1,0)","v":0}]
[]
[null,"Liste unique\nMajorité\nabsolue\nnombre de voix",{"$f":"SUM($C$76:$P$76)","v":0},null,null,null,null,null,null,null,null,null,null,null,null,null,null,{"$f":"SUM(R76:AG76)","v":0},null,null,null,null,null,null,null,null,null,null,null,null,null,null,null,null,{"$f":"SUM(AI76:AW76)","v":0}]
[null,null,{"$f":"IF(C73>0,C6,0)","v":0},{"$f":"IF(D73>0,D6,0)","v":0},{"$f":"IF(E73>0,E6,0)","v":0},{"$f":"IF(F73>0,F6,0)","v":0},{"$f":"IF(G73>0,G6,0)","v":0},{"$f":"IF(H73>0,H6,0)","v":0},{"$f":"IF(I73>0,I6,0)","v":0},{"$f":"IF(J73>0,J6,0)","v":0},{"$f":"IF(K73>0,K6,0)","v":0},{"$f":"IF(L73>0,L6,0)","v":0},{"$f":"IF(M73>0,M6,0)","v":0},{"$f":"IF(N73>0,N6,0)","v":0},{"$f":"IF(O73>0,O6,0)","v":0},{"$f":"IF(P73>0,P6,0)","v":0},null,{"$f":"IF(R73>0,R6,0)","v":0},{"$f":"IF(S73>0,S6,0)","v":0},{"$f":"IF(T73>0,T6,0)","v":0},{"$f":"IF(U73>0,U6,0)","v":0},{"$f":"IF(V73>0,V6,0)","v":0},{"$f":"IF(W73>0,W6,0)","v":0},{"$f":"IF(X73>0,X6,0)","v":0},{"$f":"IF(Y73>0,Y6,0)","v":0},{"$f":"IF(Z73>0,Z6,0)","v":0},{"$f":"IF(AA73>0,AA6,0)","v":0},{"$f":"IF(AB73>0,AB6,0)","v":0},{"$f":"IF(AC73>0,AC6,0)","v":0},{"$f":"IF(AD73>0,AD6,0)","v":0},{"$f":"IF(AE73>0,AE6,0)","v":0},{"$f":"IF(AF73>0,AF6,0)","v":0},{"$f":"IF(AG73>0,AG6,0)","v":0},null,{"$f":"IF(AI73>0,AI6,0)","v":0},{"$f":"IF(AJ73>0,AJ6,0)","v":0},{"$f":"IF(AK73>0,AK6,0)","v":0},{"$f":"IF(AL73>0,AL6,0)","v":0},{"$f":"IF(AM73>0,AM6,0)","v":0},{"$f":"IF(AN73>0,AN6,0)","v":0},{"$f":"IF(AO73>0,AO6,0)","v":0},{"$f":"IF(AP73>0,AP6,0)","v":0},{"$f":"IF(AQ73>0,AQ6,0)","v":0},{"$f":"IF(AR73>0,AR6,0)","v":0},{"$f":"IF(AS73>0,AS6,0)","v":0},{"$f":"IF(AT73>0,AT6,0)","v":0},{"$f":"IF(AU73>0,AU6,0)","v":0},{"$f":"IF(AV73>0,AV6,0)","v":0},{"$f":"IF(AW73>0,AW6,0)","v":0}]
[]
[null,"Nbr voix\nCoalition",{"$f":"SUMIF(C4:P4,\"x\",C6:P6)","v":7697}]
[]
[null,"% Coalition",{"$f":"100/C63*C78","v":45.58483861415457}]
[null,"% Majorité",{"$f":"100/C63*C75","v":0}]
[]
[null,"Coalition",{"$f":"COUNTA(C4:P4)","v":2},{"$f":"IF(C83>0,1,0)","v":1}]
[]
[]
[]
[]
[]
[]
[]
[]
[]
[]
[]
[]
[null,null,null,null,null,null,null,null,null,null,null,null,null,null,null,"WATERMAEL-BOITSFORT"]
[]
[null,null,null,null,null,null,null,null,null,null,null,null,null,null,null,null,null,{"$f":"R5","v":"Blancs & Nuls"},{"$f":"S5","v":"Non-déposés"},{"$f":"T5","v":"GÉNÉRATIONS Humanistes"},{"$f":"U5","v":"ECOLO-GROEN"},{"$f":"V5","v":"DéFI"},{"$f":"W5","v":"PS-SP.A Cause Commune"},{"$f":"X5","v":"MR-GM"},{"$f":"Y5","v":"X²YZ"},{"$f":"Z5","v":"NOSVOTES"},{"$f":"AA5","v":"PP Parti Populaire"},{"$f":"AB5","v":0},{"$f":"AC5","v":0},{"$f":"AD5","v":0},{"$f":"AE5","v":0},{"$f":"AF5","v":0},{"$f":"AG5","v":0}]
[null,null,null,null,null,null,null,null,null,null,null,null,null,null,null,"Chiffres\nélectoraux",null,{"$f":"R6","v":575},{"$f":"S6","v":2173},{"$f":"T6","v":863},{"$f":"U6","v":4887},{"$f":"V6","v":3137},{"$f":"W6","v":1531},{"$f":"X6","v":2810},{"$f":"Y6","v":70},{"$f":"Z6","v":342},{"$f":"AA6","v":497},{"$f":"AB6","v":0},{"$f":"AC6","v":0},{"$f":"AD6","v":0},{"$f":"AE6","v":0},{"$f":"AF6","v":0},{"$f":"AG6","v":0}]
[null,null,null,null,null,null,null,null,null,null,null,null,null,null,null,"Impériali",null,0,0,{"$f":"C7","v":1},{"$f":"D7","v":12},{"$f":"E7","v":7},{"$f":"F7","v":3},{"$f":"G7","v":6},{"$f":"H7","v":0},{"$f":"I7","v":0},{"$f":"J7","v":0},{"$f":"K7","v":0},{"$f":"L7","v":0},{"$f":"M7","v":0},{"$f":"N7","v":0},{"$f":"O7","v":0},{"$f":"P7","v":0}]
[null,null,null,null,null,null,null,null,null,null,null,null,null,null,null,"Impériali\n+ proportionnelle",null,{"$f":"R7","v":0},{"$f":"S7","v":4},{"$f":"T7","v":1},{"$f":"U7","v":11},{"$f":"V7","v":6},{"$f":"W7","v":2},{"$f":"X7","v":5},{"$f":"Y7","v":0},{"$f":"Z7","v":0},{"$f":"AA7","v":0},{"$f":"AB7","v":0},{"$f":"AC7","v":0},{"$f":"AD7","v":0},{"$f":"AE7","v":0},{"$f":"AF7","v":0},{"$f":"AG7","v":0}]
[null,null,null,null,null,null,null,null,null,null,null,null,null,null,null,"D'Hondt",null,0,0,{"$f":"BR7","v":1},{"$f":"BS7","v":11},{"$f":"BT7","v":7},{"$f":"BU7","v":3},{"$f":"BV7","v":6},{"$f":"BW7","v":0},{"$f":"BX7","v":0},{"$f":"BY7","v":1},{"$f":"BZ7","v":0},{"$f":"CA7","v":0},{"$f":"CB7","v":0},{"$f":"CC7","v":0},{"$f":"CD7","v":0},{"$f":"CE7","v":0}]
[null,null,null,null,null,null,null,null,null,null,null,null,null,null,null,"D'Hondt\n+ proportionnelle",null,{"$f":"CG7","v":1},{"$f":"CH7","v":4},{"$f":"CI7","v":1},{"$f":"CJ7","v":9},{"$f":"CK7","v":6},{"$f":"CL7","v":3},{"$f":"CM7","v":5},{"$f":"CN7","v":0},{"$f":"CO7","v":0},{"$f":"CP7","v":0},{"$f":"CQ7","v":0},{"$f":"CR7","v":0},{"$f":"CS7","v":0},{"$f":"CT7","v":0},{"$f":"CU7","v":0},{"$f":"CV7","v":0}]
[null,null,null,null,null,null,null,null,null,null,null,null,null,null,null,"Proportionnelle\npure",null,{"$f":"AZ7","v":0.98756292567367476},{"$f":"BA7","v":3.7321291086763395},{"$f":"BB7","v":1.4822031388806631},{"$f":"BC7","v":8.3934261178560838},{"$f":"BD7","v":5.3877998223275094},{"$f":"BE7","v":2.6294936334024279},{"$f":"BF7","v":4.8261770802487414},{"$f":"BG7","v":0.12022505182114301},{"$f":"BH7","v":0.58738525318329871},{"$f":"BI7","v":0.85359786793011538},{"$f":"BJ7","v":0},{"$f":"BK7","v":0},{"$f":"BL7","v":0},{"$f":"BM7","v":0},{"$f":"BN7","v":0},{"$f":"BO7","v":0}]
[]
[null,null,null,null,null,null,null,null,null,null,null,null,null,null,null,null,"Nombre de sièges à distribuer :",null,null,null,{"$f":"C67","v":29},null,"Est-ce une liste unique en majorité absolue en termes de sièges ?",null,null,null,null,null,null,{"$f":"IF(C72>0,\"Oui\",\"Non\")","v":"Non"}]
[]
[null,null,null,null,null,null,null,null,null,null,null,null,null,null,null,null,"Nombre d'inscrits :",null,null,null,{"$f":"C63","v":16885},null,"Est-ce une liste unique en majorité absolue en termes de voix ?",null,null,null,null,null,null,{"$f":"IF(C75>0,\"Oui\",\"Non\")","v":"Non"}]
[]
[null,null,null,null,null,null,null,null,null,null,null,null,null,null,null,null,"Nombre de bulletins déposés :",null,null,null,{"$f":"C64","v":14712},null,"La majorité est-elle formée par une coalition ?",null,null,null,null,null,null,{"$f":"IF(B4>0,\"Oui\",\"Non\")","v":"Oui"}]
[]
[null,null,null,null,null,null,null,null,null,null,null,null,null,null,null,null,"Nombre de votes valables :",null,null,null,{"$f":"C66","v":14137},null,"Quelle est la proportion de l'électorat représentée par la majorité ?",null,null,null,null,null,null,{"$f":"IF(D83>0,C80,C81)","v":45.58483861415457}]
[]
[null,null,null,null,null,null,null,null,null,null,null,null,null,null,null,"Comparaison\nClef Impériali\n-\nClef D'Hondt",null,{"$f":"R100-R102","v":0},{"$f":"S100-S102","v":0},0,1,0,0,0,0,0,-1,0,0,0,0,0,0]

{"sheet":"WOLUWE-SAINT-LAMBERT","index":21,"n_rows":114,"n_cols":100,"rows_kept":114,"cut":false,"hidden":false,"merged":[[1,1,1,48],[1,68,1,99],[1,50,1,66],[71,1,72,1],[113,15,113,16],[107,16,107,19],[109,16,109,19],[111,16,111,19],[74,1,75,1],[95,15,95,32],[105,22,105,27],[107,22,107,27],[109,22,109,27],[111,22,111,27],[105,16,105,19]]}
[]
[null,"IMPÉRIALI",null,null,null,null,null,null,null,null,null,null,null,null,null,null,null,null,null,null,null,null,null,null,null,null,null,null,null,null,null,null,null,null,null,null,null,null,null,null,null,null,null,null,null,null,null,null,null,null,"PROPORTIONNELLE PURE",null,null,null,null,null,null,null,null,null,null,null,null,null,null,null,null,null,"D'HONDT"]
[]
[null,"Coalition","x",null,"x"]
[null,{"$f":"COUNTA(C5:P5)","v":6},"WolHu","ECOLO-GROEN","Liste du Bourgmestre","PS-sp.a","MR+","DEMOS",null,null,null,null,null,null,null,null,null,"Blancs & Nuls","Non-déposés",{"$f":"C5","v":"WolHu"},{"$f":"D5","v":"ECOLO-GROEN"},{"$f":"E5","v":"Liste du Bourgmestre"},{"$f":"F5","v":"PS-sp.a"},{"$f":"G5","v":"MR+"},{"$f":"H5","v":"DEMOS"},{"$f":"I5","v":0},{"$f":"J5","v":0},{"$f":"K5","v":0},{"$f":"L5","v":0},{"$f":"M5","v":0},{"$f":"N5","v":0},{"$f":"O5","v":0},{"$f":"P5","v":0},null,"Non-valables",{"$f":"C5","v":"WolHu"},{"$f":"D5","v":"ECOLO-GROEN"},{"$f":"E5","v":"Liste du Bourgmestre"},{"$f":"F5","v":"PS-sp.a"},{"$f":"G5","v":"MR+"},{"$f":"H5","v":"DEMOS"},{"$f":"I5","v":0},{"$f":"J5","v":0},{"$f":"K5","v":0},{"$f":"L5","v":0},{"$f":"M5","v":0},{"$f":"N5","v":0},{"$f":"O5","v":0},{"$f":"P5","v":0},null,"New Key","Blancs & Nuls","Non-déposés",{"$f":"C5","v":"WolHu"},{"$f":"D5","v":"ECOLO-GROEN"},"Liste du Bourgmestre","PS-sp.a","MR+","DEMOS",0,0,0,0,0,0,0,0,null,null,{"$f":"C5","v":"WolHu"},{"$f":"D5","v":"ECOLO-GROEN"},"Liste du Bourgmestre","PS-sp.a","MR+","DEMOS",0,0,0,0,0,0,0,0,null,"Blancs & Nuls","Non-déposés",{"$f":"C5","v":"WolHu"},{"$f":"D5","v":"ECOLO-GROEN"},"Liste du Bourgmestre","PS-sp.a","MR+","DEMOS",0,0,0,0,0,0,0,0]
[null,"Chiffres\nélectoraux",1897,4217,14905,1107,2793,193,0,0,0,0,0,0,0,0,null,{"$f":"C65","v":1303},{"$f":"C63-C64","v":4329},1897,4217,14905,1107,2793,193,0,0,0,0,0,0,0,0,null,{"$f":"R6+S6","v":5632},1897,4217,14905,1107,2793,193,0,0,0,0,0,0,0,0,null,null,{"$f":"C65","v":1303},{"$f":"C63-C64","v":4329},{"$f":"C6","v":1897},4217,14905,1107,2793,193,0,0,0,0,0,0,0,0,null,"Chiffres\nélectoraux",{"$f":"C6","v":1897},4217,14905,1107,2793,193,0,0,0,0,0,0,0,0,null,{"$f":"C65","v":1303},{"$f":"C63-C64","v":4329},{"$f":"C6","v":1897},4217,14905,1107,2793,193,0,0,0,0,0,0,0,0]
[null,"Sièges",2,6,25,0,4,0,0,0,0,0,0,0,0,0,null,1,5,1,5,22,0,3,0,0,0,0,0,0,0,0,0,null,7,1,5,21,0,3,0,0,0,0,0,0,0,0,0,null,830.91891891891896,1.568143377569607,5.2098946135831383,2.283014571948998,5.0751040853499871,17.937971636742127,1.3322599531615924,3.3613387978142075,0.23227296383034088,0,0,0,0,0,0,0,0,null,"Sièges",3,6,23,1,4,0,0,0,0,0,0,0,0,0,null,1,5,2,5,20,1,3,0,0,0,0,0,0,0,0,0]
[null,2,{"$f":"$C$6/B8","v":948.5},{"$f":"$D$6/B8","v":2108.5},{"$f":"$E$6/B8","v":7452.5},{"$f":"$F$6/B8","v":553.5},{"$f":"$G$6/B8","v":1396.5},{"$f":"$H$6/B8","v":96.5},{"$f":"$I$6/B8","v":0},{"$f":"$J$6/B8","v":0},{"$f":"$K$6/B8","v":0},{"$f":"$L$6/B8","v":0},{"$f":"$M$6/B8","v":0},{"$f":"$N$6/B8","v":0},{"$f":"$O$6/B8","v":0},{"$f":"$P$6/B8","v":0},null,{"$f":"$R$6/B8","v":651.5},{"$f":"$S$6/B8","v":2164.5},{"$f":"C8","v":948.5},{"$f":"D8","v":2108.5},{"$f":"E8","v":7452.5},{"$f":"F8","v":553.5},{"$f":"G8","v":1396.5},{"$f":"H8","v":96.5},{"$f":"I8","v":0},{"$f":"J8","v":0},{"$f":"K8","v":0},{"$f":"L8","v":0},{"$f":"M8","v":0},{"$f":"N8","v":0},0,{"$f":"P8","v":0},null,{"$f":"$AI$6/B8","v":2816},{"$f":"C8","v":948.5},{"$f":"D8","v":2108.5},{"$f":"E8","v":7452.5},{"$f":"F8","v":553.5},{"$f":"G8","v":1396.5},{"$f":"H8","v":96.5},{"$f":"I8","v":0},{"$f":"J8","v":0},{"$f":"K8","v":0},{"$f":"L8","v":0},{"$f":"M8","v":0},{"$f":"N8","v":0},0,{"$f":"P8","v":0},null,null,null,null,null,null,null,null,null,null,null,null,null,null,null,null,null,null,null,1,{"$f":"$C$6/BQ8","v":1897},{"$f":"$D$6/BQ8","v":4217},{"$f":"$E$6/BQ8","v":14905},{"$f":"$F$6/BQ8","v":1107},{"$f":"$G$6/BQ8","v":2793},{"$f":"$H$6/BQ8","v":193},{"$f":"$I$6/BQ8","v":0},{"$f":"$J$6/BQ8","v":0},{"$f":"$K$6/BQ8","v":0},{"$f":"$L$6/BQ8","v":0},{"$f":"$M$6/BQ8","v":0},{"$f":"$N$6/BQ8","v":0},{"$f":"$O$6/BQ8","v":0},{"$f":"$P$6/BQ8","v":0},null,{"$f":"$R$6/BQ8","v":1303},{"$f":"$S$6/BQ8","v":4329},{"$f":"BR8","v":1897},{"$f":"BS8","v":4217},{"$f":"BT8","v":14905},{"$f":"BU8","v":1107},{"$f":"BV8","v":2793},{"$f":"BW8","v":193},{"$f":"BX8","v":0},{"$f":"BY8","v":0},{"$f":"BZ8","v":0},{"$f":"CA8","v":0},{"$f":"CB8","v":0},{"$f":"CC8","v":0},{"$f":"CD8","v":0},{"$f":"CE8","v":0}]
[null,3,{"$f":"$C$6/B9","v":632.33333333333337},1405.6666666666667,{"$f":"$E$6/B9","v":4968.333333333333},369,931,{"$f":"$H$6/B9","v":64.333333333333329},{"$f":"$I$6/B9","v":0},{"$f":"$J$6/B9","v":0},{"$f":"$K$6/B9","v":0},{"$f":"$L$6/B9","v":0},{"$f":"$M$6/B9","v":0},{"$f":"$N$6/B9","v":0},{"$f":"$O$6/B9","v":0},{"$f":"$P$6/B9","v":0},null,{"$f":"$R$6/B9","v":434.33333333333331},{"$f":"$S$6/B9","v":1443},632.33333333333337,1405.6666666666667,4968.333333333333,369,931,64.333333333333329,0,0,0,0,0,0,0,0,null,{"$f":"$AI$6/B9","v":1877.3333333333333},632.33333333333337,1405.6666666666667,4968.333333333333,369,931,64.333333333333329,0,0,0,0,0,0,0,0,null,null,null,null,null,null,null,null,null,null,null,null,null,null,null,null,null,null,null,2,{"$f":"$C$6/BQ9","v":948.5},2108.5,{"$f":"$E$6/BQ9","v":7452.5},553.5,1396.5,{"$f":"$H$6/BQ9","v":96.5},{"$f":"$I$6/BQ9","v":0},{"$f":"$J$6/BQ9","v":0},{"$f":"$K$6/BQ9","v":0},{"$f":"$L$6/BQ9","v":0},{"$f":"$M$6/BQ9","v":0},{"$f":"$N$6/BQ9","v":0},{"$f":"$O$6/BQ9","v":0},{"$f":"$P$6/BQ9","v":0},null,{"$f":"$R$6/BQ9","v":651.5},{"$f":"$S$6/BQ9","v":2164.5},948.5,2108.5,7452.5,553.5,1396.5,96.5,0,0,0,0,0,0,0,0]
[null,4,474.25,1054.25,3726.25,276.75,698.25,48.25,0,0,0,0,0,0,0,0,null,325.75,1082.25,474.25,1054.25,3726.25,276.75,698.25,48.25,0,0,0,0,0,0,0,0,null,1408,474.25,1054.25,3726.25,276.75,698.25,48.25,0,0,0,0,0,0,0,0,null,null,null,null,null,null,null,null,null,null,null,null,null,null,null,null,null,null,null,3,632.33333333333337,1405.6666666666667,4968.333333333333,369,931,64.333333333333329,0,0,0,0,0,0,0,0,null,434.33333333333331,1443,632.33333333333337,1405.6666666666667,4968.333333333333,369,931,64.333333333333329,0,0,0,0,0,0,0,0]
[null,5,379.4,843.4,2981,221.4,558.6,38.6,0,0,0,0,0,0,0,0,null,260.60000000000002,865.8,379.4,843.4,2981,221.4,558.6,38.6,0,0,0,0,0,0,0,0,null,1126.4000000000001,379.4,843.4,2981,221.4,558.6,38.6,0,0,0,0,0,0,0,0,null,null,null,null,null,null,null,null,null,null,null,null,null,null,null,null,null,null,null,4,474.25,1054.25,3726.25,276.75,698.25,48.25,0,0,0,0,0,0,0,0,null,325.75,1082.25,474.25,1054.25,3726.25,276.75,698.25,48.25,0,0,0,0,0,0,0,0]
[null,6,316.16666666666669,702.83333333333337,2484.1666666666665,184.5,465.5,32.166666666666664,0,0,0,0,0,0,0,0,null,217.16666666666666,721.5,316.16666666666669,702.83333333333337,2484.1666666666665,184.5,465.5,32.166666666666664,0,0,0,0,0,0,0,0,null,938.66666666666663,316.16666666666669,702.83333333333337,2484.1666666666665,184.5,465.5,32.166666666666664,0,0,0,0,0,0,0,0,null,null,null,null,null,null,null,null,null,null,null,null,null,null,null,null,null,null,null,5,379.4,843.4,2981,221.4,558.6,38.6,0,0,0,0,0,0,0,0,null,260.60000000000002,865.8,379.4,843.4,2981,221.4,558.6,38.6,0,0,0,0,0,0,0,0]
[null,7,271,602.42857142857144,2129.2857142857142,158.14285714285714,399,27.571428571428573,0,0,0,0,0,0,0,0,null,186.14285714285714,618.42857142857144,271,602.42857142857144,2129.2857142857142,158.14285714285714,399,27.571428571428573,0,0,0,0,0,0,0,0,null,804.57142857142856,271,602.42857142857144,2129.2857142857142,158.14285714285714,399,27.571428571428573,0,0,0,0,0,0,0,0,null,null,null,null,null,null,null,null,null,null,null,null,null,null,null,null,null,null,null,6,316.16666666666669,702.83333333333337,2484.1666666666665,184.5,465.5,32.166666666666664,0,0,0,0,0,0,0,0,null,217.16666666666666,721.5,316.16666666666669,702.83333333333337,2484.1666666666665,184.5,465.5,32.166666666666664,0,0,0,0,0,0,0,0]
[null,8,237.125,527.125,1863.125,138.375,349.125,24.125,0,0,0,0,0,0,0,0,null,162.875,541.125,237.125,527.125,1863.125,138.375,349.125,24.125,0,0,0,0,0,0,0,0,null,704,237.125,527.125,1863.125,138.375,349.125,24.125,0,0,0,0,0,0,0,0,null,null,null,null,null,null,null,null,null,null,null,null,null,null,null,null,null,null,null,7,271,602.42857142857144,2129.2857142857142,158.14285714285714,399,27.571428571428573,0,0,0,0,0,0,0,0,null,186.14285714285714,618.42857142857144,271,602.42857142857144,2129.2857142857142,158.14285714285714,399,27.571428571428573,0,0,0,0,0,0,0,0]
[null,9,210.77777777777777,468.55555555555554,1656.1111111111111,123,310.33333333333331,21.444444444444443,0,0,0,0,0,0,0,0,null,144.77777777777777,481,210.77777777777777,468.55555555555554,1656.1111111111111,123,310.33333333333331,21.444444444444443,0,0,0,0,0,0,0,0,null,625.77777777777783,210.77777777777777,468.55555555555554,1656.1111111111111,123,310.33333333333331,21.444444444444443,0,0,0,0,0,0,0,0,null,null,null,null,null,null,null,null,null,null,null,null,null,null,null,null,null,null,null,8,237.125,527.125,1863.125,138.375,349.125,24.125,0,0,0,0,0,0,0,0,null,162.875,541.125,237.125,527.125,1863.125,138.375,349.125,24.125,0,0,0,0,0,0,0,0]
[null,10,189.7,421.7,1490.5,110.7,279.3,19.3,0,0,0,0,0,0,0,0,null,130.30000000000001,432.9,189.7,421.7,1490.5,110.7,279.3,19.3,0,0,0,0,0,0,0,0,null,563.20000000000005,189.7,421.7,1490.5,110.7,279.3,19.3,0,0,0,0,0,0,0,0,null,null,null,null,null,null,null,null,null,null,null,null,null,null,null,null,null,null,null,9,210.77777777777777,468.55555555555554,1656.1111111111111,123,310.33333333333331,21.444444444444443,0,0,0,0,0,0,0,0,null,144.77777777777777,481,210.77777777777777,468.55555555555554,1656.1111111111111,123,310.33333333333331,21.444444444444443,0,0,0,0,0,0,0,0]
[null,11,172.45454545454547,383.36363636363637,1355,100.63636363636364,253.90909090909091,17.545454545454547,0,0,0,0,0,0,0,0,null,118.45454545454545,393.54545454545456,172.45454545454547,383.36363636363637,1355,100.63636363636364,253.90909090909091,17.545454545454547,0,0,0,0,0,0,0,0,null,512,172.45454545454547,383.36363636363637,1355,100.63636363636364,253.90909090909091,17.545454545454547,0,0,0,0,0,0,0,0,null,null,null,null,null,null,null,null,null,null,null,null,null,null,null,null,null,null,null,10,189.7,421.7,1490.5,110.7,279.3,19.3,0,0,0,0,0,0,0,0,null,130.30000000000001,432.9,189.7,421.7,1490.5,110.7,279.3,19.3,0,0,0,0,0,0,0,0]
[null,12,158.08333333333334,351.41666666666669,1242.0833333333333,92.25,232.75,16.083333333333332,0,0,0,0,0,0,0,0,null,108.58333333333333,360.75,158.08333333333334,351.41666666666669,1242.0833333333333,92.25,232.75,16.083333333333332,0,0,0,0,0,0,0,0,null,469.33333333333331,158.08333333333334,351.41666666666669,1242.0833333333333,92.25,232.75,16.083333333333332,0,0,0,0,0,0,0,0,null,null,null,null,null,null,null,null,null,null,null,null,null,null,null,null,null,null,null,11,172.45454545454547,383.36363636363637,1355,100.63636363636364,253.90909090909091,17.545454545454547,0,0,0,0,0,0,0,0,null,118.45454545454545,393.54545454545456,172.45454545454547,383.36363636363637,1355,100.63636363636364,253.90909090909091,17.545454545454547,0,0,0,0,0,0,0,0]
[null,13,145.92307692307693,324.38461538461536,1146.5384615384614,85.15384615384616,214.84615384615384,14.846153846153847,0,0,0,0,0,0,0,0,null,100.23076923076923,333,145.92307692307693,324.38461538461536,1146.5384615384614,85.15384615384616,214.84615384615384,14.846153846153847,0,0,0,0,0,0,0,0,null,433.23076923076923,145.92307692307693,324.38461538461536,1146.5384615384614,85.15384615384616,214.84615384615384,14.846153846153847,0,0,0,0,0,0,0,0,null,null,null,null,null,null,null,null,null,null,null,null,null,null,null,null,null,null,null,12,158.08333333333334,351.41666666666669,1242.0833333333333,92.25,232.75,16.083333333333332,0,0,0,0,0,0,0,0,null,108.58333333333333,360.75,158.08333333333334,351.41666666666669,1242.0833333333333,92.25,232.75,16.083333333333332,0,0,0,0,0,0,0,0]
[null,14,135.5,301.21428571428572,1064.6428571428571,79.071428571428569,199.5,13.785714285714286,0,0,0,0,0,0,0,0,null,93.071428571428569,309.21428571428572,135.5,301.21428571428572,1064.6428571428571,79.071428571428569,199.5,13.785714285714286,0,0,0,0,0,0,0,0,null,402.28571428571428,135.5,301.21428571428572,1064.6428571428571,79.071428571428569,199.5,13.785714285714286,0,0,0,0,0,0,0,0,null,null,null,null,null,null,null,null,null,null,null,null,null,null,null,null,null,null,null,13,145.92307692307693,324.38461538461536,1146.5384615384614,85.15384615384616,214.84615384615384,14.846153846153847,0,0,0,0,0,0,0,0,null,100.23076923076923,333,145.92307692307693,324.38461538461536,1146.5384615384614,85.15384615384616,214.84615384615384,14.846153846153847,0,0,0,0,0,0,0,0]
[null,15,126.46666666666667,281.13333333333333,993.66666666666663,73.8,186.2,12.866666666666667,0,0,0,0,0,0,0,0,null,86.86666666666666,288.60000000000002,126.46666666666667,281.13333333333333,993.66666666666663,73.8,186.2,12.866666666666667,0,0,0,0,0,0,0,0,null,375.46666666666664,126.46666666666667,281.13333333333333,993.66666666666663,73.8,186.2,12.866666666666667,0,0,0,0,0,0,0,0,null,null,null,null,null,null,null,null,null,null,null,null,null,null,null,null,null,null,null,14,135.5,301.21428571428572,1064.6428571428571,79.071428571428569,199.5,13.785714285714286,0,0,0,0,0,0,0,0,null,93.071428571428569,309.21428571428572,135.5,301.21428571428572,1064.6428571428571,79.071428571428569,199.5,13.785714285714286,0,0,0,0,0,0,0,0]
[null,16,118.5625,263.5625,931.5625,69.1875,174.5625,12.0625,0,0,0,0,0,0,0,0,null,81.4375,270.5625,118.5625,263.5625,931.5625,69.1875,174.5625,12.0625,0,0,0,0,0,0,0,0,null,352,118.5625,263.5625,931.5625,69.1875,174.5625,12.0625,0,0,0,0,0,0,0,0,null,null,null,null,null,null,null,null,null,null,null,null,null,null,null,null,null,null,null,15,126.46666666666667,281.13333333333333,993.66666666666663,73.8,186.2,12.866666666666667,0,0,0,0,0,0,0,0,null,86.86666666666666,288.60000000000002,126.46666666666667,281.13333333333333,993.66666666666663,73.8,186.2,12.866666666666667,0,0,0,0,0,0,0,0]
[null,17,111.58823529411765,248.05882352941177,876.76470588235293,65.117647058823536,164.29411764705881,11.352941176470589,0,0,0,0,0,0,0,0,null,76.647058823529406,254.64705882352942,111.58823529411765,248.05882352941177,876.76470588235293,65.117647058823536,164.29411764705881,11.352941176470589,0,0,0,0,0,0,0,0,null,331.29411764705884,111.58823529411765,248.05882352941177,876.76470588235293,65.117647058823536,164.29411764705881,11.352941176470589,0,0,0,0,0,0,0,0,null,null,null,null,null,null,null,null,null,null,null,null,null,null,null,null,null,null,null,16,118.5625,263.5625,931.5625,69.1875,174.5625,12.0625,0,0,0,0,0,0,0,0,null,81.4375,270.5625,118.5625,263.5625,931.5625,69.1875,174.5625,12.0625,0,0,0,0,0,0,0,0]
[null,18,105.38888888888889,234.27777777777777,828.05555555555554,61.5,155.16666666666666,10.722222222222221,0,0,0,0,0,0,0,0,null,72.388888888888886,240.5,105.38888888888889,234.27777777777777,828.05555555555554,61.5,155.16666666666666,10.722222222222221,0,0,0,0,0,{"$f":"N24","v":0},0,0,null,312.88888888888891,105.38888888888889,234.27777777777777,828.05555555555554,61.5,155.16666666666666,10.722222222222221,0,0,0,0,0,{"$f":"N24","v":0},0,0,null,null,null,null,null,null,null,null,null,null,null,null,null,null,null,null,null,null,null,17,111.58823529411765,248.05882352941177,876.76470588235293,65.117647058823536,164.29411764705881,11.352941176470589,0,0,0,0,0,0,0,0,null,76.647058823529406,254.64705882352942,111.58823529411765,248.05882352941177,876.76470588235293,65.117647058823536,164.29411764705881,11.352941176470589,0,0,0,0,0,0,0,0]
[null,19,99.84210526315789,221.94736842105263,784.47368421052636,58.263157894736842,147,10.157894736842104,0,0,0,0,0,0,0,0,null,68.578947368421055,227.84210526315789,99.84210526315789,221.94736842105263,784.47368421052636,58.263157894736842,147,10.157894736842104,0,0,0,0,0,0,0,0,null,296.42105263157896,99.84210526315789,221.94736842105263,784.47368421052636,58.263157894736842,147,10.157894736842104,0,0,0,0,0,0,0,0,null,null,null,null,null,null,null,null,null,null,null,null,null,null,null,null,null,null,null,18,105.38888888888889,234.27777777777777,828.05555555555554,61.5,155.16666666666666,10.722222222222221,0,0,0,0,0,0,0,0,null,72.388888888888886,240.5,105.38888888888889,234.27777777777777,828.05555555555554,61.5,155.16666666666666,10.722222222222221,0,0,0,0,0,0,0,0]
[null,20,94.85,210.85,745.25,55.35,139.65,9.65,0,0,0,0,0,0,0,0,null,65.150000000000006,216.45,94.85,210.85,745.25,55.35,139.65,9.65,0,0,0,0,0,0,0,0,null,281.60000000000002,94.85,210.85,745.25,55.35,139.65,9.65,0,0,0,0,0,0,0,0,null,null,null,null,null,null,null,null,null,null,null,null,null,null,null,null,null,null,null,19,99.84210526315789,221.94736842105263,784.47368421052636,58.263157894736842,147,10.157894736842104,0,0,0,0,0,0,0,0,null,68.578947368421055,227.84210526315789,99.84210526315789,221.94736842105263,784.47368421052636,58.263157894736842,147,10.157894736842104,0,0,0,0,0,0,0,0]
[null,21,90.333333333333329,200.8095238095238,709.76190476190482,52.714285714285715,133,9.1904761904761898,0,0,0,0,0,0,0,0,null,62.047619047619051,206.14285714285714,90.333333333333329,200.8095238095238,709.76190476190482,52.714285714285715,133,9.1904761904761898,0,0,0,0,0,0,0,{"$f":"P27","v":0},null,268.1904761904762,90.333333333333329,200.8095238095238,709.76190476190482,52.714285714285715,133,9.1904761904761898,0,0,0,0,0,0,0,{"$f":"P27","v":0},null,null,null,null,null,null,null,null,null,null,null,null,null,null,null,null,null,null,null,20,94.85,210.85,745.25,55.35,139.65,9.65,0,0,0,0,0,0,0,0,null,65.150000000000006,216.45,94.85,210.85,745.25,55.35,139.65,9.65,0,0,0,0,0,0,0,0]
[null,22,86.227272727272734,191.68181818181819,677.5,50.31818181818182,126.95454545454545,8.7727272727272734,0,0,0,0,0,0,0,0,null,59.227272727272727,196.77272727272728,86.227272727272734,191.68181818181819,677.5,50.31818181818182,126.95454545454545,8.7727272727272734,0,0,0,0,0,0,0,0,null,256,86.227272727272734,191.68181818181819,677.5,50.31818181818182,126.95454545454545,8.7727272727272734,0,0,0,0,0,0,0,0,null,null,null,null,null,null,null,null,null,null,null,null,null,null,null,null,null,null,null,21,90.333333333333329,200.8095238095238,709.76190476190482,52.714285714285715,133,9.1904761904761898,0,0,0,0,0,0,0,0,null,62.047619047619051,206.14285714285714,90.333333333333329,200.8095238095238,709.76190476190482,52.714285714285715,133,9.1904761904761898,0,0,0,0,0,0,0,0]
[null,23,82.478260869565219,183.34782608695653,648.04347826086962,48.130434782608695,121.43478260869566,8.3913043478260878,0,0,0,0,0,0,0,0,null,56.652173913043477,188.21739130434781,82.478260869565219,183.34782608695653,648.04347826086962,48.130434782608695,121.43478260869566,8.3913043478260878,0,0,0,0,0,0,0,0,null,244.86956521739131,82.478260869565219,183.34782608695653,648.04347826086962,48.130434782608695,121.43478260869566,8.3913043478260878,0,0,0,0,0,0,0,0,null,null,null,null,null,null,null,null,null,null,null,null,null,null,null,null,null,null,null,22,86.227272727272734,191.68181818181819,677.5,50.31818181818182,126.95454545454545,8.7727272727272734,0,0,0,0,0,0,0,0,null,59.227272727272727,196.77272727272728,86.227272727272734,191.68181818181819,677.5,50.31818181818182,126.95454545454545,8.7727272727272734,0,0,0,0,0,0,0,0]
[null,24,79.041666666666671,175.70833333333334,621.04166666666663,46.125,116.375,8.0416666666666661,0,0,0,0,0,0,0,0,null,54.291666666666664,180.375,79.041666666666671,175.70833333333334,621.04166666666663,46.125,116.375,8.0416666666666661,0,0,0,0,0,0,0,0,null,234.66666666666666,79.041666666666671,175.70833333333334,621.04166666666663,46.125,116.375,8.0416666666666661,0,0,0,0,0,0,0,0,null,null,null,null,null,null,null,null,null,null,null,null,null,null,null,null,null,null,null,23,82.478260869565219,183.34782608695653,648.04347826086962,48.130434782608695,121.43478260869566,8.3913043478260878,0,0,0,0,0,0,0,0,null,56.652173913043477,188.21739130434781,82.478260869565219,183.34782608695653,648.04347826086962,48.130434782608695,121.43478260869566,8.3913043478260878,0,0,0,0,0,0,0,0]
[null,25,75.88,168.68,596.20000000000005,44.28,111.72,7.72,0,0,0,0,0,0,0,0,null,52.12,173.16,75.88,168.68,596.20000000000005,44.28,111.72,7.72,0,0,0,0,0,0,0,0,null,225.28,75.88,168.68,596.20000000000005,44.28,111.72,7.72,0,0,0,0,0,0,0,0,null,null,null,null,null,null,null,null,null,null,null,null,null,null,null,null,null,null,null,24,79.041666666666671,175.70833333333334,621.04166666666663,46.125,116.375,8.0416666666666661,0,0,0,0,0,0,0,0,null,54.291666666666664,180.375,79.041666666666671,175.70833333333334,621.04166666666663,46.125,116.375,8.0416666666666661,0,0,0,0,0,0,0,0]
[null,26,72.961538461538467,162.19230769230768,573.26923076923072,42.57692307692308,107.42307692307692,7.4230769230769234,0,0,0,0,0,0,0,0,null,50.115384615384613,166.5,72.961538461538467,162.19230769230768,573.26923076923072,42.57692307692308,107.42307692307692,7.4230769230769234,0,0,0,0,0,0,0,0,null,216.61538461538461,72.961538461538467,162.19230769230768,573.26923076923072,42.57692307692308,107.42307692307692,7.4230769230769234,0,0,0,0,0,0,0,0,null,null,null,null,null,null,null,null,null,null,null,null,null,null,null,null,null,null,null,25,75.88,168.68,596.20000000000005,44.28,111.72,7.72,0,0,0,0,0,0,0,0,null,52.12,173.16,75.88,168.68,596.20000000000005,44.28,111.72,7.72,0,0,0,0,0,0,0,0]
[null,27,70.259259259259252,156.18518518518519,552.03703703703707,41,103.44444444444444,7.1481481481481479,0,0,0,0,0,0,0,0,null,48.25925925925926,160.33333333333334,70.259259259259252,156.18518518518519,552.03703703703707,41,103.44444444444444,7.1481481481481479,0,0,0,0,0,0,0,0,null,208.59259259259258,70.259259259259252,156.18518518518519,552.03703703703707,41,103.44444444444444,7.1481481481481479,0,0,0,0,0,0,0,0,null,null,null,null,null,null,null,null,null,null,null,null,null,null,null,null,null,null,null,26,72.961538461538467,162.19230769230768,573.26923076923072,42.57692307692308,107.42307692307692,7.4230769230769234,0,0,0,0,0,0,0,0,null,50.115384615384613,166.5,72.961538461538467,162.19230769230768,573.26923076923072,42.57692307692308,107.42307692307692,7.4230769230769234,0,0,0,0,0,0,0,0]
[null,28,67.75,150.60714285714286,532.32142857142856,39.535714285714285,99.75,6.8928571428571432,0,0,0,0,0,0,0,0,null,46.535714285714285,154.60714285714286,67.75,150.60714285714286,532.32142857142856,39.535714285714285,99.75,6.8928571428571432,0,0,0,0,0,0,0,0,null,201.14285714285714,67.75,150.60714285714286,532.32142857142856,39.535714285714285,99.75,6.8928571428571432,0,0,0,0,0,0,0,0,null,null,null,null,null,null,null,null,null,null,null,null,null,null,null,null,null,null,null,27,70.259259259259252,156.18518518518519,552.03703703703707,41,103.44444444444444,7.1481481481481479,0,0,0,0,0,0,0,0,null,48.25925925925926,160.33333333333334,70.259259259259252,156.18518518518519,552.03703703703707,41,103.44444444444444,7.1481481481481479,0,0,0,0,0,0,0,0]
[null,29,65.41379310344827,145.41379310344828,513.9655172413793,38.172413793103445,96.310344827586206,6.6551724137931032,0,0,0,0,0,0,0,0,null,44.931034482758619,149.27586206896552,65.41379310344827,145.41379310344828,513.9655172413793,38.172413793103445,96.310344827586206,6.6551724137931032,0,0,0,0,0,0,0,0,null,194.20689655172413,65.41379310344827,145.41379310344828,513.9655172413793,38.172413793103445,96.310344827586206,6.6551724137931032,0,0,0,0,0,0,0,0,null,null,null,null,null,null,null,null,null,null,null,null,null,null,null,null,null,null,null,28,67.75,150.60714285714286,532.32142857142856,39.535714285714285,99.75,6.8928571428571432,0,0,0,0,0,0,0,0,null,46.535714285714285,154.60714285714286,67.75,150.60714285714286,532.32142857142856,39.535714285714285,99.75,6.8928571428571432,0,0,0,0,0,0,0,0]
[null,30,63.233333333333334,140.56666666666666,496.83333333333331,36.9,93.1,6.4333333333333336,0,0,0,0,0,0,0,0,null,43.43333333333333,144.30000000000001,63.233333333333334,140.56666666666666,496.83333333333331,36.9,93.1,6.4333333333333336,0,0,0,0,0,0,0,0,null,187.73333333333332,63.233333333333334,140.56666666666666,496.83333333333331,36.9,93.1,6.4333333333333336,0,0,0,0,0,0,0,0,null,null,null,null,null,null,null,null,null,null,null,null,null,null,null,null,null,null,null,29,65.41379310344827,145.41379310344828,513.9655172413793,38.172413793103445,96.310344827586206,6.6551724137931032,0,0,0,0,0,0,0,0,null,44.931034482758619,149.27586206896552,65.41379310344827,145.41379310344828,513.9655172413793,38.172413793103445,96.310344827586206,6.6551724137931032,0,0,0,0,0,0,0,0]
[null,31,61.193548387096776,136.03225806451613,480.80645161290323,35.70967741935484,90.096774193548384,6.225806451612903,0,0,0,0,0,0,0,0,null,42.032258064516128,139.64516129032259,61.193548387096776,136.03225806451613,480.80645161290323,35.70967741935484,90.096774193548384,6.225806451612903,0,0,0,0,0,0,0,0,null,181.67741935483872,61.193548387096776,136.03225806451613,480.80645161290323,35.70967741935484,90.096774193548384,6.225806451612903,0,0,0,0,0,0,0,0,null,null,null,null,null,null,null,null,null,null,null,null,null,null,null,null,null,null,null,30,63.233333333333334,140.56666666666666,496.83333333333331,36.9,93.1,6.4333333333333336,0,0,0,0,0,0,0,0,null,43.43333333333333,144.30000000000001,63.233333333333334,140.56666666666666,496.83333333333331,36.9,93.1,6.4333333333333336,0,0,0,0,0,0,0,0]
[null,32,59.28125,131.78125,465.78125,34.59375,87.28125,6.03125,0,0,0,0,0,0,0,0,null,40.71875,135.28125,59.28125,131.78125,465.78125,34.59375,87.28125,6.03125,0,0,0,0,0,0,0,0,null,176,59.28125,131.78125,465.78125,34.59375,87.28125,6.03125,0,0,0,0,0,0,0,0,null,null,null,null,null,null,null,null,null,null,null,null,null,null,null,null,null,null,null,31,61.193548387096776,136.03225806451613,480.80645161290323,35.70967741935484,90.096774193548384,6.225806451612903,0,0,0,0,0,0,0,0,null,42.032258064516128,139.64516129032259,61.193548387096776,136.03225806451613,480.80645161290323,35.70967741935484,90.096774193548384,6.225806451612903,0,0,0,0,0,0,0,0]
[null,33,57.484848484848484,127.78787878787878,451.66666666666669,33.545454545454547,84.63636363636364,5.8484848484848486,0,0,0,0,0,0,0,0,null,39.484848484848484,131.18181818181819,57.484848484848484,127.78787878787878,451.66666666666669,33.545454545454547,84.63636363636364,5.8484848484848486,0,0,0,0,0,0,0,0,null,170.66666666666666,57.484848484848484,127.78787878787878,451.66666666666669,33.545454545454547,84.63636363636364,5.8484848484848486,0,0,0,0,0,0,0,0,null,null,null,null,null,null,null,null,null,null,null,null,null,null,null,null,null,null,null,32,59.28125,131.78125,465.78125,34.59375,87.28125,6.03125,0,0,0,0,0,0,0,0,null,40.71875,135.28125,59.28125,131.78125,465.78125,34.59375,87.28125,6.03125,0,0,0,0,0,0,0,0]
[null,34,55.794117647058826,124.02941176470588,438.38235294117646,32.558823529411768,82.147058823529406,5.6764705882352944,0,0,0,0,0,0,0,0,null,38.323529411764703,127.32352941176471,{"$f":"C40","v":55.794117647058826},{"$f":"D40","v":124.02941176470588},{"$f":"E40","v":438.38235294117646},{"$f":"F40","v":32.558823529411768},{"$f":"G40","v":82.147058823529406},{"$f":"H40","v":5.6764705882352944},{"$f":"I40","v":0},{"$f":"J40","v":0},{"$f":"K40","v":0},{"$f":"L40","v":0},{"$f":"M40","v":0},{"$f":"N40","v":0},0,0,null,165.64705882352942,{"$f":"C40","v":55.794117647058826},{"$f":"D40","v":124.02941176470588},{"$f":"E40","v":438.38235294117646},{"$f":"F40","v":32.558823529411768},{"$f":"G40","v":82.147058823529406},{"$f":"H40","v":5.6764705882352944},{"$f":"I40","v":0},{"$f":"J40","v":0},{"$f":"K40","v":0},{"$f":"L40","v":0},{"$f":"M40","v":0},{"$f":"N40","v":0},0,0,null,null,null,null,null,null,null,null,null,null,null,null,null,null,null,null,null,null,null,33,57.484848484848484,127.78787878787878,451.66666666666669,33.545454545454547,84.63636363636364,5.8484848484848486,0,0,0,0,0,0,0,0,null,39.484848484848484,131.18181818181819,57.484848484848484,127.78787878787878,451.66666666666669,33.545454545454547,84.63636363636364,5.8484848484848486,0,0,0,0,0,0,0,0]
[null,35,54.2,120.48571428571428,425.85714285714283,31.62857142857143,79.8,5.5142857142857142,0,0,0,0,0,0,0,0,null,37.228571428571428,123.68571428571428,54.2,120.48571428571428,425.85714285714283,31.62857142857143,79.8,5.5142857142857142,0,0,0,0,0,0,0,0,null,160.91428571428571,54.2,120.48571428571428,425.85714285714283,31.62857142857143,79.8,5.5142857142857142,0,0,0,0,0,0,0,0,null,null,null,null,null,null,null,null,null,null,null,null,null,null,null,null,null,null,null,34,55.794117647058826,124.02941176470588,438.38235294117646,32.558823529411768,82.147058823529406,5.6764705882352944,0,0,0,0,0,0,0,0,null,38.323529411764703,127.32352941176471,55.794117647058826,124.02941176470588,438.38235294117646,32.558823529411768,82.147058823529406,5.6764705882352944,0,0,0,0,0,0,0,0]
[null,36,52.694444444444443,117.13888888888889,414.02777777777777,30.75,77.583333333333329,5.3611111111111107,0,0,0,0,0,0,0,0,null,36.194444444444443,120.25,52.694444444444443,117.13888888888889,414.02777777777777,30.75,77.583333333333329,5.3611111111111107,0,0,0,0,0,0,0,0,null,156.44444444444446,52.694444444444443,117.13888888888889,414.02777777777777,30.75,77.583333333333329,5.3611111111111107,0,0,0,0,0,0,0,0,null,null,null,null,null,null,null,null,null,null,null,null,null,null,null,null,null,null,null,35,54.2,120.48571428571428,425.85714285714283,31.62857142857143,79.8,5.5142857142857142,0,0,0,0,0,0,0,0,null,37.228571428571428,123.68571428571428,54.2,120.48571428571428,425.85714285714283,31.62857142857143,79.8,5.5142857142857142,0,0,0,0,0,0,0,0]
[null,37,51.270270270270274,113.97297297297297,402.83783783783781,29.918918918918919,75.486486486486484,5.2162162162162158,0,0,0,0,0,0,0,0,null,35.216216216216218,117,51.270270270270274,113.97297297297297,402.83783783783781,29.918918918918919,75.486486486486484,5.2162162162162158,0,0,0,0,0,0,0,0,null,152.21621621621622,51.270270270270274,113.97297297297297,402.83783783783781,29.918918918918919,75.486486486486484,5.2162162162162158,0,0,0,0,0,0,0,0,null,null,null,null,null,null,null,null,null,null,null,null,null,null,null,null,null,null,null,36,52.694444444444443,117.13888888888889,414.02777777777777,30.75,77.583333333333329,5.3611111111111107,0,0,0,0,0,0,0,0,null,36.194444444444443,120.25,52.694444444444443,117.13888888888889,414.02777777777777,30.75,77.583333333333329,5.3611111111111107,0,0,0,0,0,0,0,0]
[null,38,49.921052631578945,110.97368421052632,392.23684210526318,29.131578947368421,73.5,5.0789473684210522,0,0,0,0,0,0,0,0,null,34.289473684210527,113.92105263157895,49.921052631578945,110.97368421052632,392.23684210526318,29.131578947368421,73.5,5.0789473684210522,0,0,0,0,0,0,0,0,null,148.21052631578948,49.921052631578945,110.97368421052632,392.23684210526318,29.131578947368421,73.5,5.0789473684210522,0,0,0,0,0,0,0,0,null,null,null,null,null,null,null,null,null,null,null,null,null,null,null,null,null,null,null,37,51.270270270270274,113.97297297297297,402.83783783783781,29.918918918918919,75.486486486486484,5.2162162162162158,0,0,0,0,0,0,0,0,null,35.216216216216218,117,51.270270270270274,113.97297297297297,402.83783783783781,29.918918918918919,75.486486486486484,5.2162162162162158,0,0,0,0,0,0,0,0]
[null,39,48.641025641025642,108.12820512820512,382.17948717948718,28.384615384615383,71.615384615384613,4.9487179487179489,0,0,0,0,0,0,0,0,null,33.410256410256409,111,48.641025641025642,108.12820512820512,382.17948717948718,28.384615384615383,71.615384615384613,4.9487179487179489,0,0,0,0,0,0,0,0,null,144.41025641025641,48.641025641025642,108.12820512820512,382.17948717948718,28.384615384615383,71.615384615384613,4.9487179487179489,0,0,0,0,0,0,0,0,null,null,null,null,null,null,null,null,null,null,null,null,null,null,null,null,null,null,null,38,49.921052631578945,110.97368421052632,392.23684210526318,29.131578947368421,73.5,5.0789473684210522,0,0,0,0,0,0,0,0,null,34.289473684210527,113.92105263157895,49.921052631578945,110.97368421052632,392.23684210526318,29.131578947368421,73.5,5.0789473684210522,0,0,0,0,0,0,0,0]
[null,40,47.424999999999997,105.425,372.625,27.675000000000001,69.825000000000003,4.8250000000000002,0,0,0,0,0,0,0,0,null,32.575000000000003,108.22499999999999,47.424999999999997,105.425,372.625,27.675000000000001,69.825000000000003,4.8250000000000002,0,0,0,0,0,0,0,0,null,140.80000000000001,47.424999999999997,105.425,372.625,27.675000000000001,69.825000000000003,4.8250000000000002,0,0,0,0,0,0,0,0,null,null,null,null,null,null,null,null,null,null,null,null,null,null,null,null,null,null,null,39,48.641025641025642,108.12820512820512,382.17948717948718,28.384615384615383,71.615384615384613,4.9487179487179489,0,0,0,0,0,0,0,0,null,33.410256410256409,111,48.641025641025642,108.12820512820512,382.17948717948718,28.384615384615383,71.615384615384613,4.9487179487179489,0,0,0,0,0,0,0,0]
[null,41,46.268292682926827,102.85365853658537,363.53658536585368,27,68.121951219512198,4.7073170731707314,0,0,0,0,0,0,0,0,null,31.780487804878049,105.58536585365853,46.268292682926827,102.85365853658537,363.53658536585368,27,68.121951219512198,4.7073170731707314,0,0,0,0,0,0,0,0,null,137.36585365853659,46.268292682926827,102.85365853658537,363.53658536585368,27,68.121951219512198,4.7073170731707314,0,0,0,0,0,0,0,0,null,null,null,null,null,null,null,null,null,null,null,null,null,null,null,null,null,null,null,40,47.424999999999997,105.425,372.625,27.675000000000001,69.825000000000003,4.8250000000000002,0,0,0,0,0,0,0,0,null,32.575000000000003,108.22499999999999,47.424999999999997,105.425,372.625,27.675000000000001,69.825000000000003,4.8250000000000002,0,0,0,0,0,0,0,0]
[null,42,45.166666666666664,100.4047619047619,354.88095238095241,26.357142857142858,66.5,4.5952380952380949,0,0,0,0,0,0,0,0,null,31.023809523809526,103.07142857142857,45.166666666666664,100.4047619047619,354.88095238095241,26.357142857142858,66.5,4.5952380952380949,0,0,0,0,0,0,0,0,null,134.0952380952381,45.166666666666664,100.4047619047619,354.88095238095241,26.357142857142858,66.5,4.5952380952380949,0,0,0,0,0,0,0,0,null,null,null,null,null,null,null,null,null,null,null,null,null,null,null,null,null,null,null,41,46.268292682926827,102.85365853658537,363.53658536585368,27,68.121951219512198,4.7073170731707314,0,0,0,0,0,0,0,0,null,31.780487804878049,105.58536585365853,46.268292682926827,102.85365853658537,363.53658536585368,27,68.121951219512198,4.7073170731707314,0,0,0,0,0,0,0,0]
[null,43,44.116279069767444,98.069767441860463,346.62790697674421,25.744186046511629,64.95348837209302,4.4883720930232558,0,0,0,0,0,0,0,0,null,30.302325581395348,100.67441860465117,44.116279069767444,98.069767441860463,346.62790697674421,25.744186046511629,64.95348837209302,4.4883720930232558,0,0,0,0,0,0,0,0,null,130.97674418604652,44.116279069767444,98.069767441860463,346.62790697674421,25.744186046511629,64.95348837209302,4.4883720930232558,0,0,0,0,0,0,0,0,null,null,null,null,null,null,null,null,null,null,null,null,null,null,null,null,null,null,null,42,45.166666666666664,100.4047619047619,354.88095238095241,26.357142857142858,66.5,4.5952380952380949,0,0,0,0,0,0,0,0,null,31.023809523809526,103.07142857142857,45.166666666666664,100.4047619047619,354.88095238095241,26.357142857142858,66.5,4.5952380952380949,0,0,0,0,0,0,0,0]
[null,44,43.113636363636367,95.840909090909093,338.75,25.15909090909091,63.477272727272727,4.3863636363636367,0,0,0,0,0,0,0,0,null,29.613636363636363,98.38636363636364,43.113636363636367,95.840909090909093,338.75,25.15909090909091,63.477272727272727,4.3863636363636367,0,0,0,0,0,0,0,0,null,128,43.113636363636367,95.840909090909093,338.75,25.15909090909091,63.477272727272727,4.3863636363636367,0,0,0,0,0,0,0,0,null,null,null,null,null,null,null,null,null,null,null,null,null,null,null,null,null,null,null,43,44.116279069767444,98.069767441860463,346.62790697674421,25.744186046511629,64.95348837209302,4.4883720930232558,0,0,0,0,0,0,0,0,null,30.302325581395348,100.67441860465117,44.116279069767444,98.069767441860463,346.62790697674421,25.744186046511629,64.95348837209302,4.4883720930232558,0,0,0,0,0,0,0,0]
[null,45,42.155555555555559,93.711111111111109,331.22222222222223,24.6,62.06666666666667,4.2888888888888888,0,0,0,0,0,0,0,0,null,28.955555555555556,96.2,42.155555555555559,93.711111111111109,331.22222222222223,24.6,62.06666666666667,4.2888888888888888,0,0,0,0,0,0,0,0,null,125.15555555555555,42.155555555555559,93.711111111111109,331.22222222222223,24.6,62.06666666666667,4.2888888888888888,0,0,0,0,0,0,0,0,null,null,null,null,null,null,null,null,null,null,null,null,null,null,null,null,null,null,null,44,43.113636363636367,95.840909090909093,338.75,25.15909090909091,63.477272727272727,4.3863636363636367,0,0,0,0,0,0,0,0,null,29.613636363636363,98.38636363636364,43.113636363636367,95.840909090909093,338.75,25.15909090909091,63.477272727272727,4.3863636363636367,0,0,0,0,0,0,0,0]
[null,46,41.239130434782609,91.673913043478265,324.02173913043481,24.065217391304348,60.717391304347828,4.1956521739130439,0,0,0,0,0,0,0,0,null,28.326086956521738,94.108695652173907,41.239130434782609,91.673913043478265,324.02173913043481,24.065217391304348,60.717391304347828,4.1956521739130439,0,0,0,0,0,0,0,0,null,122.43478260869566,41.239130434782609,91.673913043478265,324.02173913043481,24.065217391304348,60.717391304347828,4.1956521739130439,0,0,0,0,0,0,0,0,null,null,null,null,null,null,null,null,null,null,null,null,null,null,null,null,null,null,null,45,42.155555555555559,93.711111111111109,331.22222222222223,24.6,62.06666666666667,4.2888888888888888,0,0,0,0,0,0,0,0,null,28.955555555555556,96.2,42.155555555555559,93.711111111111109,331.22222222222223,24.6,62.06666666666667,4.2888888888888888,0,0,0,0,0,0,0,0]
[null,47,40.361702127659576,89.723404255319153,317.12765957446811,23.553191489361701,59.425531914893618,4.1063829787234045,0,0,0,0,0,0,0,0,null,27.723404255319149,92.106382978723403,40.361702127659576,89.723404255319153,317.12765957446811,23.553191489361701,59.425531914893618,4.1063829787234045,0,0,0,0,0,0,0,0,null,119.82978723404256,40.361702127659576,89.723404255319153,317.12765957446811,23.553191489361701,59.425531914893618,4.1063829787234045,0,0,0,0,0,0,0,0,null,null,null,null,null,null,null,null,null,null,null,null,null,null,null,null,null,null,null,46,41.239130434782609,91.673913043478265,324.02173913043481,24.065217391304348,60.717391304347828,4.1956521739130439,0,0,0,0,0,0,0,0,null,28.326086956521738,94.108695652173907,41.239130434782609,91.673913043478265,324.02173913043481,24.065217391304348,60.717391304347828,4.1956521739130439,0,0,0,0,0,0,0,0]
[null,48,39.520833333333336,87.854166666666671,310.52083333333331,23.0625,58.1875,4.020833333333333,0,{"$f":"$J$6/B54","v":0},0,0,0,0,0,0,null,27.145833333333332,90.1875,39.520833333333336,87.854166666666671,310.52083333333331,23.0625,58.1875,4.020833333333333,0,0,0,0,0,0,0,0,null,117.33333333333333,39.520833333333336,87.854166666666671,310.52083333333331,23.0625,58.1875,4.020833333333333,0,0,0,0,0,0,0,0,null,null,null,null,null,null,null,null,null,null,null,null,null,null,null,null,null,null,null,47,40.361702127659576,89.723404255319153,317.12765957446811,23.553191489361701,59.425531914893618,4.1063829787234045,0,0,0,0,0,0,0,0,null,27.723404255319149,92.106382978723403,40.361702127659576,89.723404255319153,317.12765957446811,23.553191489361701,59.425531914893618,4.1063829787234045,0,0,0,0,0,0,0,0]
[null,49,38.714285714285715,86.061224489795919,304.18367346938777,22.591836734693878,57,3.9387755102040818,0,0,0,0,0,0,0,0,null,26.591836734693878,88.34693877551021,38.714285714285715,86.061224489795919,304.18367346938777,22.591836734693878,57,3.9387755102040818,0,0,0,0,0,0,0,{"$f":"P55","v":0},null,114.93877551020408,38.714285714285715,86.061224489795919,304.18367346938777,22.591836734693878,57,3.9387755102040818,0,0,0,0,0,0,0,{"$f":"P55","v":0},null,null,null,null,null,null,null,null,null,null,null,null,null,null,null,null,null,null,null,48,39.520833333333336,87.854166666666671,310.52083333333331,23.0625,58.1875,4.020833333333333,0,0,0,0,0,0,0,0,null,27.145833333333332,90.1875,39.520833333333336,87.854166666666671,310.52083333333331,23.0625,58.1875,4.020833333333333,0,0,0,0,0,0,0,0]
[null,50,37.94,84.34,298.10000000000002,22.14,55.86,3.86,0,0,0,0,0,0,0,0,null,26.06,86.58,37.94,84.34,298.10000000000002,22.14,55.86,3.86,0,0,0,0,0,{"$f":"N56","v":0},0,0,null,112.64,37.94,84.34,298.10000000000002,22.14,55.86,3.86,0,0,0,0,0,{"$f":"N56","v":0},0,0,null,null,null,null,null,null,null,null,null,null,null,null,null,null,null,null,null,null,null,49,38.714285714285715,86.061224489795919,304.18367346938777,22.591836734693878,57,3.9387755102040818,0,0,0,0,0,0,0,0,null,26.591836734693878,88.34693877551021,38.714285714285715,86.061224489795919,304.18367346938777,22.591836734693878,57,3.9387755102040818,0,0,0,0,0,0,0,0]
[null,51,37.196078431372548,82.686274509803923,292.25490196078431,21.705882352941178,54.764705882352942,3.784313725490196,0,0,0,0,0,0,0,0,null,25.549019607843139,84.882352941176464,37.196078431372548,82.686274509803923,292.25490196078431,21.705882352941178,54.764705882352942,3.784313725490196,0,0,0,0,0,0,0,0,null,110.43137254901961,37.196078431372548,82.686274509803923,292.25490196078431,21.705882352941178,54.764705882352942,3.784313725490196,0,0,0,0,0,0,0,0,null,null,null,null,null,null,null,null,null,null,null,null,null,null,null,null,null,null,null,50,37.94,84.34,298.10000000000002,22.14,55.86,3.86,0,0,0,0,0,0,0,0,null,26.06,86.58,37.94,84.34,298.10000000000002,22.14,55.86,3.86,0,0,0,0,0,0,0,0]
[null,52,36.480769230769234,81.09615384615384,286.63461538461536,21.28846153846154,53.71153846153846,3.7115384615384617,0,0,0,0,0,0,0,0,null,25.057692307692307,83.25,36.480769230769234,81.09615384615384,286.63461538461536,21.28846153846154,53.71153846153846,3.7115384615384617,0,0,0,0,0,0,0,0,null,108.30769230769231,36.480769230769234,81.09615384615384,286.63461538461536,21.28846153846154,53.71153846153846,3.7115384615384617,0,0,0,0,0,0,0,0,null,null,null,null,null,null,null,null,null,null,null,null,null,null,null,null,null,null,null,51,37.196078431372548,82.686274509803923,292.25490196078431,21.705882352941178,54.764705882352942,3.784313725490196,0,0,0,0,0,0,0,0,null,25.549019607843139,84.882352941176464,37.196078431372548,82.686274509803923,292.25490196078431,21.705882352941178,54.764705882352942,3.784313725490196,0,0,0,0,0,0,0,0]
[null,53,{"$f":"$C$6/B59","v":35.79245283018868},{"$f":"$D$6/B59","v":79.566037735849051},{"$f":"$E$6/B59","v":281.22641509433964},{"$f":"$F$6/B59","v":20.886792452830189},{"$f":"$G$6/B59","v":52.698113207547166},{"$f":"$H$6/B59","v":3.641509433962264},{"$f":"$I$6/B59","v":0},0,{"$f":"$K$6/B59","v":0},{"$f":"$L$6/B59","v":0},{"$f":"$M$6/B59","v":0},0,0,{"$f":"$P$6/B59","v":0},null,{"$f":"$R$6/B59","v":24.584905660377359},{"$f":"$S$6/B59","v":81.679245283018872},35.79245283018868,79.566037735849051,281.22641509433964,20.886792452830189,52.698113207547166,3.641509433962264,0,0,0,0,0,0,0,0,null,{"$f":"$AI$6/B59","v":106.26415094339623},35.79245283018868,79.566037735849051,281.22641509433964,20.886792452830189,52.698113207547166,3.641509433962264,0,0,0,0,0,0,0,0,null,null,null,null,null,null,null,null,null,null,null,null,null,null,null,null,null,null,null,52,{"$f":"$C$6/BQ59","v":36.480769230769234},{"$f":"$D$6/BQ59","v":81.09615384615384},{"$f":"$E$6/BQ59","v":286.63461538461536},{"$f":"$F$6/BQ59","v":21.28846153846154},{"$f":"$G$6/BQ59","v":53.71153846153846},{"$f":"$H$6/BQ59","v":3.7115384615384617},{"$f":"$I$6/BQ59","v":0},0,{"$f":"$K$6/BQ59","v":0},{"$f":"$L$6/BQ59","v":0},{"$f":"$M$6/BQ59","v":0},0,0,{"$f":"$P$6/BQ59","v":0},null,{"$f":"$R$6/BQ59","v":25.057692307692307},{"$f":"$S$6/BQ59","v":83.25},36.480769230769234,81.09615384615384,286.63461538461536,21.28846153846154,53.71153846153846,3.7115384615384617,0,0,0,0,0,0,0,0]
[null,54,{"$f":"$C$6/B60","v":35.129629629629626},{"$f":"$D$6/B60","v":78.092592592592595},{"$f":"$E$6/B60","v":276.01851851851853},{"$f":"$F$6/B60","v":20.5},{"$f":"$G$6/B60","v":51.722222222222221},{"$f":"$H$6/B60","v":3.574074074074074},{"$f":"$I$6/B60","v":0},0,{"$f":"$K$6/B60","v":0},{"$f":"$L$6/B60","v":0},{"$f":"$M$6/B60","v":0},0,0,{"$f":"$P$6/B60","v":0},null,{"$f":"$R$6/B60","v":24.12962962962963},{"$f":"$S$6/B60","v":80.166666666666671},35.129629629629626,78.092592592592595,276.01851851851853,20.5,51.722222222222221,3.574074074074074,0,0,0,0,0,0,0,0,null,{"$f":"$AI$6/B60","v":104.29629629629629},35.129629629629626,78.092592592592595,276.01851851851853,20.5,51.722222222222221,3.574074074074074,0,0,0,0,0,0,0,0,null,null,null,null,null,null,null,null,null,null,null,null,null,null,null,null,null,null,null,53,{"$f":"$C$6/BQ60","v":35.79245283018868},{"$f":"$D$6/BQ60","v":79.566037735849051},{"$f":"$E$6/BQ60","v":281.22641509433964},{"$f":"$F$6/BQ60","v":20.886792452830189},{"$f":"$G$6/BQ60","v":52.698113207547166},{"$f":"$H$6/BQ60","v":3.641509433962264},{"$f":"$I$6/BQ60","v":0},0,{"$f":"$K$6/BQ60","v":0},{"$f":"$L$6/BQ60","v":0},{"$f":"$M$6/BQ60","v":0},0,0,{"$f":"$P$6/BQ60","v":0},null,{"$f":"$R$6/BQ60","v":24.584905660377359},{"$f":"$S$6/BQ60","v":81.679245283018872},35.79245283018868,79.566037735849051,281.22641509433964,20.886792452830189,52.698113207547166,3.641509433962264,0,0,0,0,0,0,0,0]
[]
[]
[null,"Nombre d'inscrits",30744]
[null,"Bulletins déposés",26415]
[null,"Blancs & Nuls",1303]
[null,"Votes valables",25112]
[null,"Nombre de sièges",37]
[]
[]
[]
[]
[null,"Liste unique\nMajorité\nabsolue",{"$f":"SUM($C$73:$P$73)","v":1},null,null,null,null,null,null,null,null,null,null,null,null,null,null,{"$f":"SUM($R$73:$AG$73)","v":1},null,null,null,null,null,null,null,null,null,null,null,null,null,null,null,null,{"$f":"SUM($AI$73:$AW$73)","v":1}]
[null,null,{"$f":"IF(C7>($C$67/2),1,0)","v":0},{"$f":"IF(D7>($C$67/2),1,0)","v":0},{"$f":"IF(E7>($C$67/2),1,0)","v":1},{"$f":"IF(F7>($C$67/2),1,0)","v":0},{"$f":"IF(G7>($C$67/2),1,0)","v":0},{"$f":"IF(H7>($C$67/2),1,0)","v":0},{"$f":"IF(I7>($C$67/2),1,0)","v":0},{"$f":"IF(J7>($C$67/2),1,0)","v":0},{"$f":"IF(K7>($C$67/2),1,0)","v":0},{"$f":"IF(L7>($C$67/2),1,0)","v":0},{"$f":"IF(M7>($C$67/2),1,0)","v":0},{"$f":"IF(N7>($C$67/2),1,0)","v":0},{"$f":"IF(O7>($C$67/2),1,0)","v":0},{"$f":"IF(P7>($C$67/2),1,0)","v":0},null,{"$f":"IF(R7>($C$67/2),1,0)","v":0},{"$f":"IF(S7>($C$67/2),1,0)","v":0},{"$f":"IF(T7>($C$67/2),1,0)","v":0},{"$f":"IF(U7>($C$67/2),1,0)","v":0},{"$f":"IF(V7>($C$67/2),1,0)","v":1},{"$f":"IF(W7>($C$67/2),1,0)","v":0},{"$f":"IF(X7>($C$67/2),1,0)","v":0},{"$f":"IF(Y7>($C$67/2),1,0)","v":0},{"$f":"IF(Z7>($C$67/2),1,0)","v":0},{"$f":"IF(AA7>($C$67/2),1,0)","v":0},{"$f":"IF(AB7>($C$67/2),1,0)","v":0},{"$f":"IF(AC7>($C$67/2),1,0)","v":0},{"$f":"IF(AD7>($C$67/2),1,0)","v":0},{"$f":"IF(AE7>($C$67/2),1,0)","v":0},{"$f":"IF(AF7>($C$67/2),1,0)","v":0},{"$f":"IF(AG7>($C$67/2),1,0)","v":0},null,{"$f":"IF(AI7>($C$67/2),1,0)","v":0},{"$f":"IF(AJ7>($C$67/2),1,0)","v":0},{"$f":"IF(AK7>($C$67/2),1,0)","v":0},{"$f":"IF(AL7>($C$67/2),1,0)","v":1},{"$f":"IF(AM7>($C$67/2),1,0)","v":0},{"$f":"IF(AN7>($C$67/2),1,0)","v":0},{"$f":"IF(AO7>($C$67/2),1,0)","v":0},{"$f":"IF(AP7>($C$67/2),1,0)","v":0},{"$f":"IF(AQ7>($C$67/2),1,0)","v":0},{"$f":"IF(AR7>($C$67/2),1,0)","v":0},{"$f":"IF(AS7>($C$67/2),1,0)","v":0},{"$f":"IF(AT7>($C$67/2),1,0)","v":0},{"$f":"IF(AU7>($C$67/2),1,0)","v":0},{"$f":"IF(AV7>($C$67/2),1,0)","v":0},{"$f":"IF(AW7>($C$67/2),1,0)","v":0}]
[]
[null,"Liste unique\nMajorité\nabsolue\nnombre de voix",{"$f":"SUM($C$76:$P$76)","v":14905},null,null,null,null,null,null,null,null,null,null,null,null,null,null,{"$f":"SUM(R76:AG76)","v":14905},null,null,null,null,null,null,null,null,null,null,null,null,null,null,null,null,{"$f":"SUM(AI76:AW76)","v":14905}]
[null,null,{"$f":"IF(C73>0,C6,0)","v":0},{"$f":"IF(D73>0,D6,0)","v":0},{"$f":"IF(E73>0,E6,0)","v":14905},{"$f":"IF(F73>0,F6,0)","v":0},{"$f":"IF(G73>0,G6,0)","v":0},{"$f":"IF(H73>0,H6,0)","v":0},{"$f":"IF(I73>0,I6,0)","v":0},{"$f":"IF(J73>0,J6,0)","v":0},{"$f":"IF(K73>0,K6,0)","v":0},{"$f":"IF(L73>0,L6,0)","v":0},{"$f":"IF(M73>0,M6,0)","v":0},{"$f":"IF(N73>0,N6,0)","v":0},{"$f":"IF(O73>0,O6,0)","v":0},{"$f":"IF(P73>0,P6,0)","v":0},null,{"$f":"IF(R73>0,R6,0)","v":0},{"$f":"IF(S73>0,S6,0)","v":0},{"$f":"IF(T73>0,T6,0)","v":0},{"$f":"IF(U73>0,U6,0)","v":0},{"$f":"IF(V73>0,V6,0)","v":14905},{"$f":"IF(W73>0,W6,0)","v":0},{"$f":"IF(X73>0,X6,0)","v":0},{"$f":"IF(Y73>0,Y6,0)","v":0},{"$f":"IF(Z73>0,Z6,0)","v":0},{"$f":"IF(AA73>0,AA6,0)","v":0},{"$f":"IF(AB73>0,AB6,0)","v":0},{"$f":"IF(AC73>0,AC6,0)","v":0},{"$f":"IF(AD73>0,AD6,0)","v":0},{"$f":"IF(AE73>0,AE6,0)","v":0},{"$f":"IF(AF73>0,AF6,0)","v":0},{"$f":"IF(AG73>0,AG6,0)","v":0},null,{"$f":"IF(AI73>0,AI6,0)","v":0},{"$f":"IF(AJ73>0,AJ6,0)","v":0},{"$f":"IF(AK73>0,AK6,0)","v":0},{"$f":"IF(AL73>0,AL6,0)","v":14905},{"$f":"IF(AM73>0,AM6,0)","v":0},{"$f":"IF(AN73>0,AN6,0)","v":0},{"$f":"IF(AO73>0,AO6,0)","v":0},{"$f":"IF(AP73>0,AP6,0)","v":0},{"$f":"IF(AQ73>0,AQ6,0)","v":0},{"$f":"IF(AR73>0,AR6,0)","v":0},{"$f":"IF(AS73>0,AS6,0)","v":0},{"$f":"IF(AT73>0,AT6,0)","v":0},{"$f":"IF(AU73>0,AU6,0)","v":0},{"$f":"IF(AV73>0,AV6,0)","v":0},{"$f":"IF(AW73>0,AW6,0)","v":0}]
[]
[null,"Nbr voix\nCoalition",{"$f":"SUMIF(C4:P4,\"x\",C6:P6)","v":16802}]
[]
[null,"% Coalition",{"$f":"100/C63*C78","v":54.651314077543589}]
[null,"% Majorité",{"$f":"100/C63*C75","v":48.481004423627375}]
[]
[null,"Coalition",{"$f":"COUNTA(C4:P4)","v":2},{"$f":"IF(C83>0,1,0)","v":1}]
[]
[]
[]
[]
[]
[]
[]
[]
[]
[]
[]
[]
[null,null,null,null,null,null,null,null,null,null,null,null,null,null,null,"WOLUWE-SAINT-LAMBERT"]
[]
[null,null,null,null,null,null,null,null,null,null,null,null,null,null,null,null,null,{"$f":"R5","v":"Blancs & Nuls"},{"$f":"S5","v":"Non-déposés"},{"$f":"T5","v":"WolHu"},{"$f":"U5","v":"ECOLO-GROEN"},{"$f":"V5","v":"Liste du Bourgmestre"},{"$f":"W5","v":"PS-sp.a"},{"$f":"X5","v":"MR+"},{"$f":"Y5","v":"DEMOS"},{"$f":"Z5","v":0},{"$f":"AA5","v":0},{"$f":"AB5","v":0},{"$f":"AC5","v":0},{"$f":"AD5","v":0},{"$f":"AE5","v":0},{"$f":"AF5","v":0},{"$f":"AG5","v":0}]
[null,null,null,null,null,null,null,null,null,null,null,null,null,null,null,"Chiffres\nélectoraux",null,{"$f":"R6","v":1303},{"$f":"S6","v":4329},{"$f":"T6","v":1897},{"$f":"U6","v":4217},{"$f":"V6","v":14905},{"$f":"W6","v":1107},{"$f":"X6","v":2793},{"$f":"Y6","v":193},{"$f":"Z6","v":0},{"$f":"AA6","v":0},{"$f":"AB6","v":0},{"$f":"AC6","v":0},{"$f":"AD6","v":0},{"$f":"AE6","v":0},{"$f":"AF6","v":0},{"$f":"AG6","v":0}]
[null,null,null,null,null,null,null,null,null,null,null,null,null,null,null,"Impériali",null,0,0,{"$f":"C7","v":2},{"$f":"D7","v":6},{"$f":"E7","v":25},{"$f":"F7","v":0},{"$f":"G7","v":4},{"$f":"H7","v":0},{"$f":"I7","v":0},{"$f":"J7","v":0},{"$f":"K7","v":0},{"$f":"L7","v":0},{"$f":"M7","v":0},{"$f":"N7","v":0},{"$f":"O7","v":0},{"$f":"P7","v":0}]
[null,null,null,null,null,null,null,null,null,null,null,null,null,null,null,"Impériali\n+ proportionnelle",null,{"$f":"R7","v":1},{"$f":"S7","v":5},{"$f":"T7","v":1},{"$f":"U7","v":5},{"$f":"V7","v":22},{"$f":"W7","v":0},{"$f":"X7","v":3},{"$f":"Y7","v":0},{"$f":"Z7","v":0},{"$f":"AA7","v":0},{"$f":"AB7","v":0},{"$f":"AC7","v":0},{"$f":"AD7","v":0},{"$f":"AE7","v":0},{"$f":"AF7","v":0},{"$f":"AG7","v":0}]
[null,null,null,null,null,null,null,null,null,null,null,null,null,null,null,"D'Hondt",null,0,0,{"$f":"BR7","v":3},{"$f":"BS7","v":6},{"$f":"BT7","v":23},{"$f":"BU7","v":1},{"$f":"BV7","v":4},{"$f":"BW7","v":0},{"$f":"BX7","v":0},{"$f":"BY7","v":0},{"$f":"BZ7","v":0},{"$f":"CA7","v":0},{"$f":"CB7","v":0},{"$f":"CC7","v":0},{"$f":"CD7","v":0},{"$f":"CE7","v":0}]
[null,null,null,null,null,null,null,null,null,null,null,null,null,null,null,"D'Hondt\n+ proportionnelle",null,{"$f":"CG7","v":1},{"$f":"CH7","v":5},{"$f":"CI7","v":2},{"$f":"CJ7","v":5},{"$f":"CK7","v":20},{"$f":"CL7","v":1},{"$f":"CM7","v":3},{"$f":"CN7","v":0},{"$f":"CO7","v":0},{"$f":"CP7","v":0},{"$f":"CQ7","v":0},{"$f":"CR7","v":0},{"$f":"CS7","v":0},{"$f":"CT7","v":0},{"$f":"CU7","v":0},{"$f":"CV7","v":0}]
[null,null,null,null,null,null,null,null,null,null,null,null,null,null,null,"Proportionnelle\npure",null,{"$f":"AZ7","v":1.568143377569607},{"$f":"BA7","v":5.2098946135831383},{"$f":"BB7","v":2.283014571948998},{"$f":"BC7","v":5.0751040853499871},{"$f":"BD7","v":17.937971636742127},{"$f":"BE7","v":1.3322599531615924},{"$f":"BF7","v":3.3613387978142075},{"$f":"BG7","v":0.23227296383034088},{"$f":"BH7","v":0},{"$f":"BI7","v":0},{"$f":"BJ7","v":0},{"$f":"BK7","v":0},{"$f":"BL7","v":0},{"$f":"BM7","v":0},{"$f":"BN7","v":0},{"$f":"BO7","v":0}]
[]
[null,null,null,null,null,null,null,null,null,null,null,null,null,null,null,null,"Nombre de sièges à distribuer :",null,null,null,{"$f":"C67","v":37},null,"Est-ce une liste unique en majorité absolue en termes de sièges ?",null,null,null,null,null,null,{"$f":"IF(C72>0,\"Oui\",\"Non\")","v":"Oui"}]
[]
[null,null,null,null,null,null,null,null,null,null,null,null,null,null,null,null,"Nombre d'inscrits :",null,null,null,{"$f":"C63","v":30744},null,"Est-ce une liste unique en majorité absolue en termes de voix ?",null,null,null,null,null,null,{"$f":"IF(C75>0,\"Oui\",\"Non\")","v":"Oui"}]
[]
[null,null,null,null,null,null,null,null,null,null,null,null,null,null,null,null,"Nombre de bulletins déposés :",null,null,null,{"$f":"C64","v":26415},null,"La majorité est-elle formée par une coalition ?",null,null,null,null,null,null,{"$f":"IF(B4>0,\"Oui\",\"Non\")","v":"Oui"}]
[]
[null,null,null,null,null,null,null,null,null,null,null,null,null,null,null,null,"Nombre de votes valables :",null,null,null,{"$f":"C66","v":25112},null,"Quelle est la proportion de l'électorat représentée par la majorité ?",null,null,null,null,null,null,{"$f":"IF(D83>0,C80,C81)","v":54.651314077543589}]
[]
[null,null,null,null,null,null,null,null,null,null,null,null,null,null,null,"Comparaison\nClef Impériali\n-\nClef D'Hondt",null,{"$f":"R100-R102","v":0},{"$f":"S100-S102","v":0},-1,0,2,-1,0,0,0,0,0,0,0,0,0,0]

{"sheet":"WOLUWE-SAINT-PIERRE","index":22,"n_rows":114,"n_cols":100,"rows_kept":114,"cut":false,"hidden":false,"merged":[[1,1,1,48],[1,68,1,99],[1,50,1,66],[71,1,72,1],[113,15,113,16],[107,16,107,19],[109,16,109,19],[111,16,111,19],[74,1,75,1],[95,15,95,32],[105,22,105,27],[107,22,107,27],[109,22,109,27],[111,22,111,27],[105,16,105,19]]}
[]
[null,"IMPÉRIALI",null,null,null,null,null,null,null,null,null,null,null,null,null,null,null,null,null,null,null,null,null,null,null,null,null,null,null,null,null,null,null,null,null,null,null,null,null,null,null,null,null,null,null,null,null,null,null,null,"PROPORTIONNELLE PURE",null,null,null,null,null,null,null,null,null,null,null,null,null,null,null,null,null,"D'HONDT"]
[]
[null,"Coalition","x","x","x"]
[null,{"$f":"COUNTA(C5:P5)","v":5},"Liste du Bourgmestre","ECOLO-GROEN","DéFI pour Woluwe1150","PS+sp.a","OPEN MR",null,null,null,null,null,null,null,null,null,null,"Blancs & Nuls","Non-déposés",{"$f":"C5","v":"Liste du Bourgmestre"},{"$f":"D5","v":"ECOLO-GROEN"},{"$f":"E5","v":"DéFI pour Woluwe1150"},{"$f":"F5","v":"PS+sp.a"},{"$f":"G5","v":"OPEN MR"},{"$f":"H5","v":0},{"$f":"I5","v":0},{"$f":"J5","v":0},{"$f":"K5","v":0},{"$f":"L5","v":0},{"$f":"M5","v":0},{"$f":"N5","v":0},{"$f":"O5","v":0},{"$f":"P5","v":0},null,"Non-valables",{"$f":"C5","v":"Liste du Bourgmestre"},{"$f":"D5","v":"ECOLO-GROEN"},{"$f":"E5","v":"DéFI pour Woluwe1150"},{"$f":"F5","v":"PS+sp.a"},{"$f":"G5","v":"OPEN MR"},{"$f":"H5","v":0},{"$f":"I5","v":0},{"$f":"J5","v":0},{"$f":"K5","v":0},{"$f":"L5","v":0},{"$f":"M5","v":0},{"$f":"N5","v":0},{"$f":"O5","v":0},{"$f":"P5","v":0},null,"New Key","Blancs & Nuls","Non-déposés",{"$f":"C5","v":"Liste du Bourgmestre"},{"$f":"D5","v":"ECOLO-GROEN"},"DéFI pour Woluwe1150","PS+sp.a","OPEN MR",0,0,0,0,0,0,0,0,0,null,null,{"$f":"C5","v":"Liste du Bourgmestre"},{"$f":"D5","v":"ECOLO-GROEN"},"DéFI pour Woluwe1150","PS+sp.a","OPEN MR",0,0,0,0,0,0,0,0,0,null,"Blancs & Nuls","Non-déposés",{"$f":"C5","v":"Liste du Bourgmestre"},{"$f":"D5","v":"ECOLO-GROEN"},"DéFI pour Woluwe1150","PS+sp.a","OPEN MR",0,0,0,0,0,0,0,0,0]
[null,"Chiffres\nélectoraux",6273,4081,2255,1068,6097,0,0,0,0,0,0,0,0,0,null,{"$f":"C65","v":683},{"$f":"C63-C64","v":2961},6273,4081,2255,1068,6097,0,0,0,0,0,0,0,0,0,null,{"$f":"R6+S6","v":3644},6273,4081,2255,1068,6097,0,0,0,0,0,0,0,0,0,null,null,{"$f":"C65","v":683},{"$f":"C63-C64","v":2961},{"$f":"C6","v":6273},4081,2255,1068,6097,0,0,0,0,0,0,0,0,0,null,"Chiffres\nélectoraux",{"$f":"C6","v":6273},4081,2255,1068,6097,0,0,0,0,0,0,0,0,0,null,{"$f":"C65","v":683},{"$f":"C63-C64","v":2961},{"$f":"C6","v":6273},4081,2255,1068,6097,0,0,0,0,0,0,0,0,0]
[null,"Sièges",12,7,3,1,12,0,0,0,0,0,0,0,0,0,null,0,4,11,6,3,1,10,0,0,0,0,0,0,0,0,0,null,5,10,6,3,1,10,0,0,0,0,0,0,0,0,0,null,669.08571428571429,1.0207959689128021,4.4254419677171404,9.3754803996925435,6.0993680075155865,3.3702707319156207,1.5962080450935179,9.1124348791527883,0,0,0,0,0,0,0,0,0,null,"Sièges",11,7,4,2,11,0,0,0,0,0,0,0,0,0,null,1,4,10,6,3,1,10,0,0,0,0,0,0,0,0,0]
[null,2,{"$f":"$C$6/B8","v":3136.5},{"$f":"$D$6/B8","v":2040.5},{"$f":"$E$6/B8","v":1127.5},{"$f":"$F$6/B8","v":534},{"$f":"$G$6/B8","v":3048.5},{"$f":"$H$6/B8","v":0},{"$f":"$I$6/B8","v":0},{"$f":"$J$6/B8","v":0},{"$f":"$K$6/B8","v":0},{"$f":"$L$6/B8","v":0},{"$f":"$M$6/B8","v":0},{"$f":"$N$6/B8","v":0},{"$f":"$O$6/B8","v":0},{"$f":"$P$6/B8","v":0},null,{"$f":"$R$6/B8","v":341.5},{"$f":"$S$6/B8","v":1480.5},{"$f":"C8","v":3136.5},{"$f":"D8","v":2040.5},{"$f":"E8","v":1127.5},{"$f":"F8","v":534},{"$f":"G8","v":3048.5},{"$f":"H8","v":0},{"$f":"I8","v":0},{"$f":"J8","v":0},{"$f":"K8","v":0},{"$f":"L8","v":0},{"$f":"M8","v":0},{"$f":"N8","v":0},0,{"$f":"P8","v":0},null,{"$f":"$AI$6/B8","v":1822},{"$f":"C8","v":3136.5},{"$f":"D8","v":2040.5},{"$f":"E8","v":1127.5},{"$f":"F8","v":534},{"$f":"G8","v":3048.5},{"$f":"H8","v":0},{"$f":"I8","v":0},{"$f":"J8","v":0},{"$f":"K8","v":0},{"$f":"L8","v":0},{"$f":"M8","v":0},{"$f":"N8","v":0},0,{"$f":"P8","v":0},null,null,null,null,null,null,null,null,null,null,null,null,null,null,null,null,null,null,null,1,{"$f":"$C$6/BQ8","v":6273},{"$f":"$D$6/BQ8","v":4081},{"$f":"$E$6/BQ8","v":2255},{"$f":"$F$6/BQ8","v":1068},{"$f":"$G$6/BQ8","v":6097},{"$f":"$H$6/BQ8","v":0},{"$f":"$I$6/BQ8","v":0},{"$f":"$J$6/BQ8","v":0},{"$f":"$K$6/BQ8","v":0},{"$f":"$L$6/BQ8","v":0},{"$f":"$M$6/BQ8","v":0},{"$f":"$N$6/BQ8","v":0},{"$f":"$O$6/BQ8","v":0},{"$f":"$P$6/BQ8","v":0},null,{"$f":"$R$6/BQ8","v":683},{"$f":"$S$6/BQ8","v":2961},{"$f":"BR8","v":6273},{"$f":"BS8","v":4081},{"$f":"BT8","v":2255},{"$f":"BU8","v":1068},{"$f":"BV8","v":6097},{"$f":"BW8","v":0},{"$f":"BX8","v":0},{"$f":"BY8","v":0},{"$f":"BZ8","v":0},{"$f":"CA8","v":0},{"$f":"CB8","v":0},{"$f":"CC8","v":0},{"$f":"CD8","v":0},{"$f":"CE8","v":0}]
[null,3,{"$f":"$C$6/B9","v":2091},1360.3333333333333,{"$f":"$E$6/B9","v":751.66666666666663},356,2032.3333333333333,{"$f":"$H$6/B9","v":0},{"$f":"$I$6/B9","v":0},{"$f":"$J$6/B9","v":0},{"$f":"$K$6/B9","v":0},{"$f":"$L$6/B9","v":0},{"$f":"$M$6/B9","v":0},{"$f":"$N$6/B9","v":0},{"$f":"$O$6/B9","v":0},{"$f":"$P$6/B9","v":0},null,{"$f":"$R$6/B9","v":227.66666666666666},{"$f":"$S$6/B9","v":987},2091,1360.3333333333333,751.66666666666663,356,2032.3333333333333,0,0,0,0,0,0,0,0,0,null,{"$f":"$AI$6/B9","v":1214.6666666666667},2091,1360.3333333333333,751.66666666666663,356,2032.3333333333333,0,0,0,0,0,0,0,0,0,null,null,null,null,null,null,null,null,null,null,null,null,null,null,null,null,null,null,null,2,{"$f":"$C$6/BQ9","v":3136.5},2040.5,{"$f":"$E$6/BQ9","v":1127.5},534,3048.5,{"$f":"$H$6/BQ9","v":0},{"$f":"$I$6/BQ9","v":0},{"$f":"$J$6/BQ9","v":0},{"$f":"$K$6/BQ9","v":0},{"$f":"$L$6/BQ9","v":0},{"$f":"$M$6/BQ9","v":0},{"$f":"$N$6/BQ9","v":0},{"$f":"$O$6/BQ9","v":0},{"$f":"$P$6/BQ9","v":0},null,{"$f":"$R$6/BQ9","v":341.5},{"$f":"$S$6/BQ9","v":1480.5},3136.5,2040.5,1127.5,534,3048.5,0,0,0,0,0,0,0,0,0]
[null,4,1568.25,1020.25,563.75,267,1524.25,0,0,0,0,0,0,0,0,0,null,170.75,740.25,1568.25,1020.25,563.75,267,1524.25,0,0,0,0,0,0,0,0,0,null,911,1568.25,1020.25,563.75,267,1524.25,0,0,0,0,0,0,0,0,0,null,null,null,null,null,null,null,null,null,null,null,null,null,null,null,null,null,null,null,3,2091,1360.3333333333333,751.66666666666663,356,2032.3333333333333,0,0,0,0,0,0,0,0,0,null,227.66666666666666,987,2091,1360.3333333333333,751.66666666666663,356,2032.3333333333333,0,0,0,0,0,0,0,0,0]
[null,5,1254.5999999999999,816.2,451,213.6,1219.4000000000001,0,0,0,0,0,0,0,0,0,null,136.6,592.20000000000005,1254.5999999999999,816.2,451,213.6,1219.4000000000001,0,0,0,0,0,0,0,0,0,null,728.8,1254.5999999999999,816.2,451,213.6,1219.4000000000001,0,0,0,0,0,0,0,0,0,null,null,null,null,null,null,null,null,null,null,null,null,null,null,null,null,null,null,null,4,1568.25,1020.25,563.75,267,1524.25,0,0,0,0,0,0,0,0,0,null,170.75,740.25,1568.25,1020.25,563.75,267,1524.25,0,0,0,0,0,0,0,0,0]
[null,6,1045.5,680.16666666666663,375.83333333333331,178,1016.1666666666666,0,0,0,0,0,0,0,0,0,null,113.83333333333333,493.5,1045.5,680.16666666666663,375.83333333333331,178,1016.1666666666666,0,0,0,0,0,0,0,0,0,null,607.33333333333337,1045.5,680.16666666666663,375.83333333333331,178,1016.1666666666666,0,0,0,0,0,0,0,0,0,null,null,null,null,null,null,null,null,null,null,null,null,null,null,null,null,null,null,null,5,1254.5999999999999,816.2,451,213.6,1219.4000000000001,0,0,0,0,0,0,0,0,0,null,136.6,592.20000000000005,1254.5999999999999,816.2,451,213.6,1219.4000000000001,0,0,0,0,0,0,0,0,0]
[null,7,896.14285714285711,583,322.14285714285717,152.57142857142858,871,0,0,0,0,0,0,0,0,0,null,97.571428571428569,423,896.14285714285711,583,322.14285714285717,152.57142857142858,871,0,0,0,0,0,0,0,0,0,null,520.57142857142856,896.14285714285711,583,322.14285714285717,152.57142857142858,871,0,0,0,0,0,0,0,0,0,null,null,null,null,null,null,null,null,null,null,null,null,null,null,null,null,null,null,null,6,1045.5,680.16666666666663,375.83333333333331,178,1016.1666666666666,0,0,0,0,0,0,0,0,0,null,113.83333333333333,493.5,1045.5,680.16666666666663,375.83333333333331,178,1016.1666666666666,0,0,0,0,0,0,0,0,0]
[null,8,784.125,510.125,281.875,133.5,762.125,0,0,0,0,0,0,0,0,0,null,85.375,370.125,784.125,510.125,281.875,133.5,762.125,0,0,0,0,0,0,0,0,0,null,455.5,784.125,510.125,281.875,133.5,762.125,0,0,0,0,0,0,0,0,0,null,null,null,null,null,null,null,null,null,null,null,null,null,null,null,null,null,null,null,7,896.14285714285711,583,322.14285714285717,152.57142857142858,871,0,0,0,0,0,0,0,0,0,null,97.571428571428569,423,896.14285714285711,583,322.14285714285717,152.57142857142858,871,0,0,0,0,0,0,0,0,0]
[null,9,697,453.44444444444446,250.55555555555554,118.66666666666667,677.44444444444446,0,0,0,0,0,0,0,0,0,null,75.888888888888886,329,697,453.44444444444446,250.55555555555554,118.66666666666667,677.44444444444446,0,0,0,0,0,0,0,0,0,null,404.88888888888891,697,453.44444444444446,250.55555555555554,118.66666666666667,677.44444444444446,0,0,0,0,0,0,0,0,0,null,null,null,null,null,null,null,null,null,null,null,null,null,null,null,null,null,null,null,8,784.125,510.125,281.875,133.5,762.125,0,0,0,0,0,0,0,0,0,null,85.375,370.125,784.125,510.125,281.875,133.5,762.125,0,0,0,0,0,0,0,0,0]
[null,10,627.29999999999995,408.1,225.5,106.8,609.70000000000005,0,0,0,0,0,0,0,0,0,null,68.3,296.10000000000002,627.29999999999995,408.1,225.5,106.8,609.70000000000005,0,0,0,0,0,0,0,0,0,null,364.4,627.29999999999995,408.1,225.5,106.8,609.70000000000005,0,0,0,0,0,0,0,0,0,null,null,null,null,null,null,null,null,null,null,null,null,null,null,null,null,null,null,null,9,697,453.44444444444446,250.55555555555554,118.66666666666667,677.44444444444446,0,0,0,0,0,0,0,0,0,null,75.888888888888886,329,697,453.44444444444446,250.55555555555554,118.66666666666667,677.44444444444446,0,0,0,0,0,0,0,0,0]
[null,11,570.27272727272725,371,205,97.090909090909093,554.27272727272725,0,0,0,0,0,0,0,0,0,null,62.090909090909093,269.18181818181819,570.27272727272725,371,205,97.090909090909093,554.27272727272725,0,0,0,0,0,0,0,0,0,null,331.27272727272725,570.27272727272725,371,205,97.090909090909093,554.27272727272725,0,0,0,0,0,0,0,0,0,null,null,null,null,null,null,null,null,null,null,null,null,null,null,null,null,null,null,null,10,627.29999999999995,408.1,225.5,106.8,609.70000000000005,0,0,0,0,0,0,0,0,0,null,68.3,296.10000000000002,627.29999999999995,408.1,225.5,106.8,609.70000000000005,0,0,0,0,0,0,0,0,0]
[null,12,522.75,340.08333333333331,187.91666666666666,89,508.08333333333331,0,0,0,0,0,0,0,0,0,null,56.916666666666664,246.75,522.75,340.08333333333331,187.91666666666666,89,508.08333333333331,0,0,0,0,0,0,0,0,0,null,303.66666666666669,522.75,340.08333333333331,187.91666666666666,89,508.08333333333331,0,0,0,0,0,0,0,0,0,null,null,null,null,null,null,null,null,null,null,null,null,null,null,null,null,null,null,null,11,570.27272727272725,371,205,97.090909090909093,554.27272727272725,0,0,0,0,0,0,0,0,0,null,62.090909090909093,269.18181818181819,570.27272727272725,371,205,97.090909090909093,554.27272727272725,0,0,0,0,0,0,0,0,0]
[null,13,482.53846153846155,313.92307692307691,173.46153846153845,82.15384615384616,469,0,0,0,0,0,0,0,0,0,null,52.53846153846154,227.76923076923077,482.53846153846155,313.92307692307691,173.46153846153845,82.15384615384616,469,0,0,0,0,0,0,0,0,0,null,280.30769230769232,482.53846153846155,313.92307692307691,173.46153846153845,82.15384615384616,469,0,0,0,0,0,0,0,0,0,null,null,null,null,null,null,null,null,null,null,null,null,null,null,null,null,null,null,null,12,522.75,340.08333333333331,187.91666666666666,89,508.08333333333331,0,0,0,0,0,0,0,0,0,null,56.916666666666664,246.75,522.75,340.08333333333331,187.91666666666666,89,508.08333333333331,0,0,0,0,0,0,0,0,0]
[null,14,448.07142857142856,291.5,161.07142857142858,76.285714285714292,435.5,0,0,0,0,0,0,0,0,0,null,48.785714285714285,211.5,448.07142857142856,291.5,161.07142857142858,76.285714285714292,435.5,0,0,0,0,0,0,0,0,0,null,260.28571428571428,448.07142857142856,291.5,161.07142857142858,76.285714285714292,435.5,0,0,0,0,0,0,0,0,0,null,null,null,null,null,null,null,null,null,null,null,null,null,null,null,null,null,null,null,13,482.53846153846155,313.92307692307691,173.46153846153845,82.15384615384616,469,0,0,0,0,0,0,0,0,0,null,52.53846153846154,227.76923076923077,482.53846153846155,313.92307692307691,173.46153846153845,82.15384615384616,469,0,0,0,0,0,0,0,0,0]
[null,15,418.2,272.06666666666666,150.33333333333334,71.2,406.46666666666664,0,0,0,0,0,0,0,0,0,null,45.533333333333331,197.4,418.2,272.06666666666666,150.33333333333334,71.2,406.46666666666664,0,0,0,0,0,0,0,0,0,null,242.93333333333334,418.2,272.06666666666666,150.33333333333334,71.2,406.46666666666664,0,0,0,0,0,0,0,0,0,null,null,null,null,null,null,null,null,null,null,null,null,null,null,null,null,null,null,null,14,448.07142857142856,291.5,161.07142857142858,76.285714285714292,435.5,0,0,0,0,0,0,0,0,0,null,48.785714285714285,211.5,448.07142857142856,291.5,161.07142857142858,76.285714285714292,435.5,0,0,0,0,0,0,0,0,0]
[null,16,392.0625,255.0625,140.9375,66.75,381.0625,0,0,0,0,0,0,0,0,0,null,42.6875,185.0625,392.0625,255.0625,140.9375,66.75,381.0625,0,0,0,0,0,0,0,0,0,null,227.75,392.0625,255.0625,140.9375,66.75,381.0625,0,0,0,0,0,0,0,0,0,null,null,null,null,null,null,null,null,null,null,null,null,null,null,null,null,null,null,null,15,418.2,272.06666666666666,150.33333333333334,71.2,406.46666666666664,0,0,0,0,0,0,0,0,0,null,45.533333333333331,197.4,418.2,272.06666666666666,150.33333333333334,71.2,406.46666666666664,0,0,0,0,0,0,0,0,0]
[null,17,369,240.05882352941177,132.64705882352942,62.823529411764703,358.64705882352939,0,0,0,0,0,0,0,0,0,null,40.176470588235297,174.1764705882353,369,240.05882352941177,132.64705882352942,62.823529411764703,358.64705882352939,0,0,0,0,0,0,0,0,0,null,214.35294117647058,369,240.05882352941177,132.64705882352942,62.823529411764703,358.64705882352939,0,0,0,0,0,0,0,0,0,null,null,null,null,null,null,null,null,null,null,null,null,null,null,null,null,null,null,null,16,392.0625,255.0625,140.9375,66.75,381.0625,0,0,0,0,0,0,0,0,0,null,42.6875,185.0625,392.0625,255.0625,140.9375,66.75,381.0625,0,0,0,0,0,0,0,0,0]
[null,18,348.5,226.72222222222223,125.27777777777777,59.333333333333336,338.72222222222223,0,0,0,0,0,0,0,0,0,null,37.944444444444443,164.5,348.5,226.72222222222223,125.27777777777777,59.333333333333336,338.72222222222223,0,0,0,0,0,0,{"$f":"N24","v":0},0,0,null,202.44444444444446,348.5,226.72222222222223,125.27777777777777,59.333333333333336,338.72222222222223,0,0,0,0,0,0,{"$f":"N24","v":0},0,0,null,null,null,null,null,null,null,null,null,null,null,null,null,null,null,null,null,null,null,17,369,240.05882352941177,132.64705882352942,62.823529411764703,358.64705882352939,0,0,0,0,0,0,0,0,0,null,40.176470588235297,174.1764705882353,369,240.05882352941177,132.64705882352942,62.823529411764703,358.64705882352939,0,0,0,0,0,0,0,0,0]
[null,19,330.15789473684208,214.78947368421052,118.68421052631579,56.210526315789473,320.89473684210526,0,0,0,0,0,0,0,0,0,null,35.94736842105263,155.84210526315789,330.15789473684208,214.78947368421052,118.68421052631579,56.210526315789473,320.89473684210526,0,0,0,0,0,0,0,0,0,null,191.78947368421052,330.15789473684208,214.78947368421052,118.68421052631579,56.210526315789473,320.89473684210526,0,0,0,0,0,0,0,0,0,null,null,null,null,null,null,null,null,null,null,null,null,null,null,null,null,null,null,null,18,348.5,226.72222222222223,125.27777777777777,59.333333333333336,338.72222222222223,0,0,0,0,0,0,0,0,0,null,37.944444444444443,164.5,348.5,226.72222222222223,125.27777777777777,59.333333333333336,338.72222222222223,0,0,0,0,0,0,0,0,0]
[null,20,313.64999999999998,204.05,112.75,53.4,304.85000000000002,0,0,0,0,0,0,0,0,0,null,34.15,148.05000000000001,313.64999999999998,204.05,112.75,53.4,304.85000000000002,0,0,0,0,0,0,0,0,0,null,182.2,313.64999999999998,204.05,112.75,53.4,304.85000000000002,0,0,0,0,0,0,0,0,0,null,null,null,null,null,null,null,null,null,null,null,null,null,null,null,null,null,null,null,19,330.15789473684208,214.78947368421052,118.68421052631579,56.210526315789473,320.89473684210526,0,0,0,0,0,0,0,0,0,null,35.94736842105263,155.84210526315789,330.15789473684208,214.78947368421052,118.68421052631579,56.210526315789473,320.89473684210526,0,0,0,0,0,0,0,0,0]
[null,21,298.71428571428572,194.33333333333334,107.38095238095238,50.857142857142854,290.33333333333331,0,0,0,0,0,0,0,0,0,null,32.523809523809526,141,298.71428571428572,194.33333333333334,107.38095238095238,50.857142857142854,290.33333333333331,0,0,0,0,0,0,0,0,{"$f":"P27","v":0},null,173.52380952380952,298.71428571428572,194.33333333333334,107.38095238095238,50.857142857142854,290.33333333333331,0,0,0,0,0,0,0,0,{"$f":"P27","v":0},null,null,null,null,null,null,null,null,null,null,null,null,null,null,null,null,null,null,null,20,313.64999999999998,204.05,112.75,53.4,304.85000000000002,0,0,0,0,0,0,0,0,0,null,34.15,148.05000000000001,313.64999999999998,204.05,112.75,53.4,304.85000000000002,0,0,0,0,0,0,0,0,0]
[null,22,285.13636363636363,185.5,102.5,48.545454545454547,277.13636363636363,0,0,0,0,0,0,0,0,0,null,31.045454545454547,134.59090909090909,285.13636363636363,185.5,102.5,48.545454545454547,277.13636363636363,0,0,0,0,0,0,0,0,0,null,165.63636363636363,285.13636363636363,185.5,102.5,48.545454545454547,277.13636363636363,0,0,0,0,0,0,0,0,0,null,null,null,null,null,null,null,null,null,null,null,null,null,null,null,null,null,null,null,21,298.71428571428572,194.33333333333334,107.38095238095238,50.857142857142854,290.33333333333331,0,0,0,0,0,0,0,0,0,null,32.523809523809526,141,298.71428571428572,194.33333333333334,107.38095238095238,50.857142857142854,290.33333333333331,0,0,0,0,0,0,0,0,0]
[null,23,272.73913043478262,177.43478260869566,98.043478260869563,46.434782608695649,265.08695652173913,0,0,0,0,0,0,0,0,0,null,29.695652173913043,128.7391304347826,272.73913043478262,177.43478260869566,98.043478260869563,46.434782608695649,265.08695652173913,0,0,0,0,0,0,0,0,0,null,158.43478260869566,272.73913043478262,177.43478260869566,98.043478260869563,46.434782608695649,265.08695652173913,0,0,0,0,0,0,0,0,0,null,null,null,null,null,null,null,null,null,null,null,null,null,null,null,null,null,null,null,22,285.13636363636363,185.5,102.5,48.545454545454547,277.13636363636363,0,0,0,0,0,0,0,0,0,null,31.045454545454547,134.59090909090909,285.13636363636363,185.5,102.5,48.545454545454547,277.13636363636363,0,0,0,0,0,0,0,0,0]
[null,24,261.375,170.04166666666666,93.958333333333329,44.5,254.04166666666666,0,0,0,0,0,0,0,0,0,null,28.458333333333332,123.375,261.375,170.04166666666666,93.958333333333329,44.5,254.04166666666666,0,0,0,0,0,0,0,0,0,null,151.83333333333334,261.375,170.04166666666666,93.958333333333329,44.5,254.04166666666666,0,0,0,0,0,0,0,0,0,null,null,null,null,null,null,null,null,null,null,null,null,null,null,null,null,null,null,null,23,272.73913043478262,177.43478260869566,98.043478260869563,46.434782608695649,265.08695652173913,0,0,0,0,0,0,0,0,0,null,29.695652173913043,128.7391304347826,272.73913043478262,177.43478260869566,98.043478260869563,46.434782608695649,265.08695652173913,0,0,0,0,0,0,0,0,0]
[null,25,250.92,163.24,90.2,42.72,243.88,0,0,0,0,0,0,0,0,0,null,27.32,118.44,250.92,163.24,90.2,42.72,243.88,0,0,0,0,0,0,0,0,0,null,145.76,250.92,163.24,90.2,42.72,243.88,0,0,0,0,0,0,0,0,0,null,null,null,null,null,null,null,null,null,null,null,null,null,null,null,null,null,null,null,24,261.375,170.04166666666666,93.958333333333329,44.5,254.04166666666666,0,0,0,0,0,0,0,0,0,null,28.458333333333332,123.375,261.375,170.04166666666666,93.958333333333329,44.5,254.04166666666666,0,0,0,0,0,0,0,0,0]
[null,26,241.26923076923077,156.96153846153845,86.730769230769226,41.07692307692308,234.5,0,0,0,0,0,0,0,0,0,null,26.26923076923077,113.88461538461539,241.26923076923077,156.96153846153845,86.730769230769226,41.07692307692308,234.5,0,0,0,0,0,0,0,0,0,null,140.15384615384616,241.26923076923077,156.96153846153845,86.730769230769226,41.07692307692308,234.5,0,0,0,0,0,0,0,0,0,null,null,null,null,null,null,null,null,null,null,null,null,null,null,null,null,null,null,null,25,250.92,163.24,90.2,42.72,243.88,0,0,0,0,0,0,0,0,0,null,27.32,118.44,250.92,163.24,90.2,42.72,243.88,0,0,0,0,0,0,0,0,0]
[null,27,232.33333333333334,151.14814814814815,83.518518518518519,39.555555555555557,225.81481481481481,0,0,0,0,0,0,0,0,0,null,25.296296296296298,109.66666666666667,232.33333333333334,151.14814814814815,83.518518518518519,39.555555555555557,225.81481481481481,0,0,0,0,0,0,0,0,0,null,134.96296296296296,232.33333333333334,151.14814814814815,83.518518518518519,39.555555555555557,225.81481481481481,0,0,0,0,0,0,0,0,0,null,null,null,null,null,null,null,null,null,null,null,null,null,null,null,null,null,null,null,26,241.26923076923077,156.96153846153845,86.730769230769226,41.07692307692308,234.5,0,0,0,0,0,0,0,0,0,null,26.26923076923077,113.88461538461539,241.26923076923077,156.96153846153845,86.730769230769226,41.07692307692308,234.5,0,0,0,0,0,0,0,0,0]
[null,28,224.03571428571428,145.75,80.535714285714292,38.142857142857146,217.75,0,0,0,0,0,0,0,0,0,null,24.392857142857142,105.75,224.03571428571428,145.75,80.535714285714292,38.142857142857146,217.75,0,0,0,0,0,0,0,0,0,null,130.14285714285714,224.03571428571428,145.75,80.535714285714292,38.142857142857146,217.75,0,0,0,0,0,0,0,0,0,null,null,null,null,null,null,null,null,null,null,null,null,null,null,null,null,null,null,null,27,232.33333333333334,151.14814814814815,83.518518518518519,39.555555555555557,225.81481481481481,0,0,0,0,0,0,0,0,0,null,25.296296296296298,109.66666666666667,232.33333333333334,151.14814814814815,83.518518518518519,39.555555555555557,225.81481481481481,0,0,0,0,0,0,0,0,0]
[null,29,216.31034482758622,140.72413793103448,77.758620689655174,36.827586206896555,210.24137931034483,0,0,0,0,0,0,0,0,0,null,23.551724137931036,102.10344827586206,216.31034482758622,140.72413793103448,77.758620689655174,36.827586206896555,210.24137931034483,0,0,0,0,0,0,0,0,0,null,125.65517241379311,216.31034482758622,140.72413793103448,77.758620689655174,36.827586206896555,210.24137931034483,0,0,0,0,0,0,0,0,0,null,null,null,null,null,null,null,null,null,null,null,null,null,null,null,null,null,null,null,28,224.03571428571428,145.75,80.535714285714292,38.142857142857146,217.75,0,0,0,0,0,0,0,0,0,null,24.392857142857142,105.75,224.03571428571428,145.75,80.535714285714292,38.142857142857146,217.75,0,0,0,0,0,0,0,0,0]
[null,30,209.1,136.03333333333333,75.166666666666671,35.6,203.23333333333332,0,0,0,0,0,0,0,0,0,null,22.766666666666666,98.7,209.1,136.03333333333333,75.166666666666671,35.6,203.23333333333332,0,0,0,0,0,0,0,0,0,null,121.46666666666667,209.1,136.03333333333333,75.166666666666671,35.6,203.23333333333332,0,0,0,0,0,0,0,0,0,null,null,null,null,null,null,null,null,null,null,null,null,null,null,null,null,null,null,null,29,216.31034482758622,140.72413793103448,77.758620689655174,36.827586206896555,210.24137931034483,0,0,0,0,0,0,0,0,0,null,23.551724137931036,102.10344827586206,216.31034482758622,140.72413793103448,77.758620689655174,36.827586206896555,210.24137931034483,0,0,0,0,0,0,0,0,0]
[null,31,202.35483870967741,131.64516129032259,72.741935483870961,34.451612903225808,196.67741935483872,0,0,0,0,0,0,0,0,0,null,22.032258064516128,95.516129032258064,202.35483870967741,131.64516129032259,72.741935483870961,34.451612903225808,196.67741935483872,0,0,0,0,0,0,0,0,0,null,117.54838709677419,202.35483870967741,131.64516129032259,72.741935483870961,34.451612903225808,196.67741935483872,0,0,0,0,0,0,0,0,0,null,null,null,null,null,null,null,null,null,null,null,null,null,null,null,null,null,null,null,30,209.1,136.03333333333333,75.166666666666671,35.6,203.23333333333332,0,0,0,0,0,0,0,0,0,null,22.766666666666666,98.7,209.1,136.03333333333333,75.166666666666671,35.6,203.23333333333332,0,0,0,0,0,0,0,0,0]
[null,32,196.03125,127.53125,70.46875,33.375,190.53125,0,0,0,0,0,0,0,0,0,null,21.34375,92.53125,196.03125,127.53125,70.46875,33.375,190.53125,0,0,0,0,0,0,0,0,0,null,113.875,196.03125,127.53125,70.46875,33.375,190.53125,0,0,0,0,0,0,0,0,0,null,null,null,null,null,null,null,null,null,null,null,null,null,null,null,null,null,null,null,31,202.35483870967741,131.64516129032259,72.741935483870961,34.451612903225808,196.67741935483872,0,0,0,0,0,0,0,0,0,null,22.032258064516128,95.516129032258064,202.35483870967741,131.64516129032259,72.741935483870961,34.451612903225808,196.67741935483872,0,0,0,0,0,0,0,0,0]
[null,33,190.09090909090909,123.66666666666667,68.333333333333329,32.363636363636367,184.75757575757575,0,0,0,0,0,0,0,0,0,null,20.696969696969695,89.727272727272734,190.09090909090909,123.66666666666667,68.333333333333329,32.363636363636367,184.75757575757575,0,0,0,0,0,0,0,0,0,null,110.42424242424242,190.09090909090909,123.66666666666667,68.333333333333329,32.363636363636367,184.75757575757575,0,0,0,0,0,0,0,0,0,null,null,null,null,null,null,null,null,null,null,null,null,null,null,null,null,null,null,null,32,196.03125,127.53125,70.46875,33.375,190.53125,0,0,0,0,0,0,0,0,0,null,21.34375,92.53125,196.03125,127.53125,70.46875,33.375,190.53125,0,0,0,0,0,0,0,0,0]
[null,34,184.5,120.02941176470588,66.32352941176471,31.411764705882351,179.3235294117647,0,0,0,0,0,0,0,0,0,null,20.088235294117649,87.088235294117652,{"$f":"C40","v":184.5},{"$f":"D40","v":120.02941176470588},{"$f":"E40","v":66.32352941176471},{"$f":"F40","v":31.411764705882351},{"$f":"G40","v":179.3235294117647},{"$f":"H40","v":0},{"$f":"I40","v":0},{"$f":"J40","v":0},{"$f":"K40","v":0},{"$f":"L40","v":0},{"$f":"M40","v":0},{"$f":"N40","v":0},0,0,null,107.17647058823529,{"$f":"C40","v":184.5},{"$f":"D40","v":120.02941176470588},{"$f":"E40","v":66.32352941176471},{"$f":"F40","v":31.411764705882351},{"$f":"G40","v":179.3235294117647},{"$f":"H40","v":0},{"$f":"I40","v":0},{"$f":"J40","v":0},{"$f":"K40","v":0},{"$f":"L40","v":0},{"$f":"M40","v":0},{"$f":"N40","v":0},0,0,null,null,null,null,null,null,null,null,null,null,null,null,null,null,null,null,null,null,null,33,190.09090909090909,123.66666666666667,68.333333333333329,32.363636363636367,184.75757575757575,0,0,0,0,0,0,0,0,0,null,20.696969696969695,89.727272727272734,190.09090909090909,123.66666666666667,68.333333333333329,32.363636363636367,184.75757575757575,0,0,0,0,0,0,0,0,0]
[null,35,179.22857142857143,116.6,64.428571428571431,30.514285714285716,174.2,0,0,0,0,0,0,0,0,0,null,19.514285714285716,84.6,179.22857142857143,116.6,64.428571428571431,30.514285714285716,174.2,0,0,0,0,0,0,0,0,0,null,104.11428571428571,179.22857142857143,116.6,64.428571428571431,30.514285714285716,174.2,0,0,0,0,0,0,0,0,0,null,null,null,null,null,null,null,null,null,null,null,null,null,null,null,null,null,null,null,34,184.5,120.02941176470588,66.32352941176471,31.411764705882351,179.3235294117647,0,0,0,0,0,0,0,0,0,null,20.088235294117649,87.088235294117652,184.5,120.02941176470588,66.32352941176471,31.411764705882351,179.3235294117647,0,0,0,0,0,0,0,0,0]
[null,36,174.25,113.36111111111111,62.638888888888886,29.666666666666668,169.36111111111111,0,0,0,0,0,0,0,0,0,null,18.972222222222221,82.25,174.25,113.36111111111111,62.638888888888886,29.666666666666668,169.36111111111111,0,0,0,0,0,0,0,0,0,null,101.22222222222223,174.25,113.36111111111111,62.638888888888886,29.666666666666668,169.36111111111111,0,0,0,0,0,0,0,0,0,null,null,null,null,null,null,null,null,null,null,null,null,null,null,null,null,null,null,null,35,179.22857142857143,116.6,64.428571428571431,30.514285714285716,174.2,0,0,0,0,0,0,0,0,0,null,19.514285714285716,84.6,179.22857142857143,116.6,64.428571428571431,30.514285714285716,174.2,0,0,0,0,0,0,0,0,0]
[null,37,169.54054054054055,110.29729729729729,60.945945945945944,28.864864864864863,164.78378378378378,0,0,0,0,0,0,0,0,0,null,18.45945945945946,80.027027027027032,169.54054054054055,110.29729729729729,60.945945945945944,28.864864864864863,164.78378378378378,0,0,0,0,0,0,0,0,0,null,98.486486486486484,169.54054054054055,110.29729729729729,60.945945945945944,28.864864864864863,164.78378378378378,0,0,0,0,0,0,0,0,0,null,null,null,null,null,null,null,null,null,null,null,null,null,null,null,null,null,null,null,36,174.25,113.36111111111111,62.638888888888886,29.666666666666668,169.36111111111111,0,0,0,0,0,0,0,0,0,null,18.972222222222221,82.25,174.25,113.36111111111111,62.638888888888886,29.666666666666668,169.36111111111111,0,0,0,0,0,0,0,0,0]
[null,38,165.07894736842104,107.39473684210526,59.342105263157897,28.105263157894736,160.44736842105263,0,0,0,0,0,0,0,0,0,null,17.973684210526315,77.921052631578945,165.07894736842104,107.39473684210526,59.342105263157897,28.105263157894736,160.44736842105263,0,0,0,0,0,0,0,0,0,null,95.89473684210526,165.07894736842104,107.39473684210526,59.342105263157897,28.105263157894736,160.44736842105263,0,0,0,0,0,0,0,0,0,null,null,null,null,null,null,null,null,null,null,null,null,null,null,null,null,null,null,null,37,169.54054054054055,110.29729729729729,60.945945945945944,28.864864864864863,164.78378378378378,0,0,0,0,0,0,0,0,0,null,18.45945945945946,80.027027027027032,169.54054054054055,110.29729729729729,60.945945945945944,28.864864864864863,164.78378378378378,0,0,0,0,0,0,0,0,0]
[null,39,160.84615384615384,104.64102564102564,57.820512820512818,27.384615384615383,156.33333333333334,0,0,0,0,0,0,0,0,0,null,17.512820512820515,75.92307692307692,160.84615384615384,104.64102564102564,57.820512820512818,27.384615384615383,156.33333333333334,0,0,0,0,0,0,0,0,0,null,93.435897435897431,160.84615384615384,104.64102564102564,57.820512820512818,27.384615384615383,156.33333333333334,0,0,0,0,0,0,0,0,0,null,null,null,null,null,null,null,null,null,null,null,null,null,null,null,null,null,null,null,38,165.07894736842104,107.39473684210526,59.342105263157897,28.105263157894736,160.44736842105263,0,0,0,0,0,0,0,0,0,null,17.973684210526315,77.921052631578945,165.07894736842104,107.39473684210526,59.342105263157897,28.105263157894736,160.44736842105263,0,0,0,0,0,0,0,0,0]
[null,40,156.82499999999999,102.02500000000001,56.375,26.7,152.42500000000001,0,0,0,0,0,0,0,0,0,null,17.074999999999999,74.025000000000006,156.82499999999999,102.02500000000001,56.375,26.7,152.42500000000001,0,0,0,0,0,0,0,0,0,null,91.1,156.82499999999999,102.02500000000001,56.375,26.7,152.42500000000001,0,0,0,0,0,0,0,0,0,null,null,null,null,null,null,null,null,null,null,null,null,null,null,null,null,null,null,null,39,160.84615384615384,104.64102564102564,57.820512820512818,27.384615384615383,156.33333333333334,0,0,0,0,0,0,0,0,0,null,17.512820512820515,75.92307692307692,160.84615384615384,104.64102564102564,57.820512820512818,27.384615384615383,156.33333333333334,0,0,0,0,0,0,0,0,0]
[null,41,153,99.536585365853654,55,26.048780487804876,148.70731707317074,0,0,0,0,0,0,0,0,0,null,16.658536585365855,72.219512195121951,153,99.536585365853654,55,26.048780487804876,148.70731707317074,0,0,0,0,0,0,0,0,0,null,88.878048780487802,153,99.536585365853654,55,26.048780487804876,148.70731707317074,0,0,0,0,0,0,0,0,0,null,null,null,null,null,null,null,null,null,null,null,null,null,null,null,null,null,null,null,40,156.82499999999999,102.02500000000001,56.375,26.7,152.42500000000001,0,0,0,0,0,0,0,0,0,null,17.074999999999999,74.025000000000006,156.82499999999999,102.02500000000001,56.375,26.7,152.42500000000001,0,0,0,0,0,0,0,0,0]
[null,42,149.35714285714286,97.166666666666671,53.69047619047619,25.428571428571427,145.16666666666666,0,0,0,0,0,0,0,0,0,null,16.261904761904763,70.5,149.35714285714286,97.166666666666671,53.69047619047619,25.428571428571427,145.16666666666666,0,0,0,0,0,0,0,0,0,null,86.761904761904759,149.35714285714286,97.166666666666671,53.69047619047619,25.428571428571427,145.16666666666666,0,0,0,0,0,0,0,0,0,null,null,null,null,null,null,null,null,null,null,null,null,null,null,null,null,null,null,null,41,153,99.536585365853654,55,26.048780487804876,148.70731707317074,0,0,0,0,0,0,0,0,0,null,16.658536585365855,72.219512195121951,153,99.536585365853654,55,26.048780487804876,148.70731707317074,0,0,0,0,0,0,0,0,0]
[null,43,145.88372093023256,94.906976744186053,52.441860465116278,24.837209302325583,141.7906976744186,0,0,0,0,0,0,0,0,0,null,15.883720930232558,68.860465116279073,145.88372093023256,94.906976744186053,52.441860465116278,24.837209302325583,141.7906976744186,0,0,0,0,0,0,0,0,0,null,84.744186046511629,145.88372093023256,94.906976744186053,52.441860465116278,24.837209302325583,141.7906976744186,0,0,0,0,0,0,0,0,0,null,null,null,null,null,null,null,null,null,null,null,null,null,null,null,null,null,null,null,42,149.35714285714286,97.166666666666671,53.69047619047619,25.428571428571427,145.16666666666666,0,0,0,0,0,0,0,0,0,null,16.261904761904763,70.5,149.35714285714286,97.166666666666671,53.69047619047619,25.428571428571427,145.16666666666666,0,0,0,0,0,0,0,0,0]
[null,44,142.56818181818181,92.75,51.25,24.272727272727273,138.56818181818181,0,0,0,0,0,0,0,0,0,null,15.522727272727273,67.295454545454547,142.56818181818181,92.75,51.25,24.272727272727273,138.56818181818181,0,0,0,0,0,0,0,0,0,null,82.818181818181813,142.56818181818181,92.75,51.25,24.272727272727273,138.56818181818181,0,0,0,0,0,0,0,0,0,null,null,null,null,null,null,null,null,null,null,null,null,null,null,null,null,null,null,null,43,145.88372093023256,94.906976744186053,52.441860465116278,24.837209302325583,141.7906976744186,0,0,0,0,0,0,0,0,0,null,15.883720930232558,68.860465116279073,145.88372093023256,94.906976744186053,52.441860465116278,24.837209302325583,141.7906976744186,0,0,0,0,0,0,0,0,0]
[null,45,139.4,90.688888888888883,50.111111111111114,23.733333333333334,135.48888888888888,0,0,0,0,0,0,0,0,0,null,15.177777777777777,65.8,139.4,90.688888888888883,50.111111111111114,23.733333333333334,135.48888888888888,0,0,0,0,0,0,0,0,0,null,80.977777777777774,139.4,90.688888888888883,50.111111111111114,23.733333333333334,135.48888888888888,0,0,0,0,0,0,0,0,0,null,null,null,null,null,null,null,null,null,null,null,null,null,null,null,null,null,null,null,44,142.56818181818181,92.75,51.25,24.272727272727273,138.56818181818181,0,0,0,0,0,0,0,0,0,null,15.522727272727273,67.295454545454547,142.56818181818181,92.75,51.25,24.272727272727273,138.56818181818181,0,0,0,0,0,0,0,0,0]
[null,46,136.36956521739131,88.717391304347828,49.021739130434781,23.217391304347824,132.54347826086956,0,0,0,0,0,0,0,0,0,null,14.847826086956522,64.369565217391298,136.36956521739131,88.717391304347828,49.021739130434781,23.217391304347824,132.54347826086956,0,0,0,0,0,0,0,0,0,null,79.217391304347828,136.36956521739131,88.717391304347828,49.021739130434781,23.217391304347824,132.54347826086956,0,0,0,0,0,0,0,0,0,null,null,null,null,null,null,null,null,null,null,null,null,null,null,null,null,null,null,null,45,139.4,90.688888888888883,50.111111111111114,23.733333333333334,135.48888888888888,0,0,0,0,0,0,0,0,0,null,15.177777777777777,65.8,139.4,90.688888888888883,50.111111111111114,23.733333333333334,135.48888888888888,0,0,0,0,0,0,0,0,0]
[null,47,133.46808510638297,86.829787234042556,47.978723404255319,22.723404255319149,129.72340425531914,0,0,0,0,0,0,0,0,0,null,14.531914893617021,63,133.46808510638297,86.829787234042556,47.978723404255319,22.723404255319149,129.72340425531914,0,0,0,0,0,0,0,0,0,null,77.531914893617028,133.46808510638297,86.829787234042556,47.978723404255319,22.723404255319149,129.72340425531914,0,0,0,0,0,0,0,0,0,null,null,null,null,null,null,null,null,null,null,null,null,null,null,null,null,null,null,null,46,136.36956521739131,88.717391304347828,49.021739130434781,23.217391304347824,132.54347826086956,0,0,0,0,0,0,0,0,0,null,14.847826086956522,64.369565217391298,136.36956521739131,88.717391304347828,49.021739130434781,23.217391304347824,132.54347826086956,0,0,0,0,0,0,0,0,0]
[null,48,130.6875,85.020833333333329,46.979166666666664,22.25,127.02083333333333,0,0,{"$f":"$J$6/B54","v":0},0,0,0,0,0,0,null,14.229166666666666,61.6875,130.6875,85.020833333333329,46.979166666666664,22.25,127.02083333333333,0,0,0,0,0,0,0,0,0,null,75.916666666666671,130.6875,85.020833333333329,46.979166666666664,22.25,127.02083333333333,0,0,0,0,0,0,0,0,0,null,null,null,null,null,null,null,null,null,null,null,null,null,null,null,null,null,null,null,47,133.46808510638297,86.829787234042556,47.978723404255319,22.723404255319149,129.72340425531914,0,0,0,0,0,0,0,0,0,null,14.531914893617021,63,133.46808510638297,86.829787234042556,47.978723404255319,22.723404255319149,129.72340425531914,0,0,0,0,0,0,0,0,0]
[null,49,128.0204081632653,83.285714285714292,46.020408163265309,21.795918367346939,124.42857142857143,0,0,0,0,0,0,0,0,0,null,13.938775510204081,60.428571428571431,128.0204081632653,83.285714285714292,46.020408163265309,21.795918367346939,124.42857142857143,0,0,0,0,0,0,0,0,{"$f":"P55","v":0},null,74.367346938775512,128.0204081632653,83.285714285714292,46.020408163265309,21.795918367346939,124.42857142857143,0,0,0,0,0,0,0,0,{"$f":"P55","v":0},null,null,null,null,null,null,null,null,null,null,null,null,null,null,null,null,null,null,null,48,130.6875,85.020833333333329,46.979166666666664,22.25,127.02083333333333,0,0,0,0,0,0,0,0,0,null,14.229166666666666,61.6875,130.6875,85.020833333333329,46.979166666666664,22.25,127.02083333333333,0,0,0,0,0,0,0,0,0]
[null,50,125.46,81.62,45.1,21.36,121.94,0,0,0,0,0,0,0,0,0,null,13.66,59.22,125.46,81.62,45.1,21.36,121.94,0,0,0,0,0,0,{"$f":"N56","v":0},0,0,null,72.88,125.46,81.62,45.1,21.36,121.94,0,0,0,0,0,0,{"$f":"N56","v":0},0,0,null,null,null,null,null,null,null,null,null,null,null,null,null,null,null,null,null,null,null,49,128.0204081632653,83.285714285714292,46.020408163265309,21.795918367346939,124.42857142857143,0,0,0,0,0,0,0,0,0,null,13.938775510204081,60.428571428571431,128.0204081632653,83.285714285714292,46.020408163265309,21.795918367346939,124.42857142857143,0,0,0,0,0,0,0,0,0]
[null,51,123,80.019607843137251,44.215686274509807,20.941176470588236,119.54901960784314,0,0,0,0,0,0,0,0,0,null,13.392156862745098,58.058823529411768,123,80.019607843137251,44.215686274509807,20.941176470588236,119.54901960784314,0,0,0,0,0,0,0,0,0,null,71.450980392156865,123,80.019607843137251,44.215686274509807,20.941176470588236,119.54901960784314,0,0,0,0,0,0,0,0,0,null,null,null,null,null,null,null,null,null,null,null,null,null,null,null,null,null,null,null,50,125.46,81.62,45.1,21.36,121.94,0,0,0,0,0,0,0,0,0,null,13.66,59.22,125.46,81.62,45.1,21.36,121.94,0,0,0,0,0,0,0,0,0]
[null,52,120.63461538461539,78.480769230769226,43.365384615384613,20.53846153846154,117.25,0,0,0,0,0,0,0,0,0,null,13.134615384615385,56.942307692307693,120.63461538461539,78.480769230769226,43.365384615384613,20.53846153846154,117.25,0,0,0,0,0,0,0,0,0,null,70.07692307692308,120.63461538461539,78.480769230769226,43.365384615384613,20.53846153846154,117.25,0,0,0,0,0,0,0,0,0,null,null,null,null,null,null,null,null,null,null,null,null,null,null,null,null,null,null,null,51,123,80.019607843137251,44.215686274509807,20.941176470588236,119.54901960784314,0,0,0,0,0,0,0,0,0,null,13.392156862745098,58.058823529411768,123,80.019607843137251,44.215686274509807,20.941176470588236,119.54901960784314,0,0,0,0,0,0,0,0,0]
[null,53,{"$f":"$C$6/B59","v":118.35849056603773},{"$f":"$D$6/B59","v":77},{"$f":"$E$6/B59","v":42.547169811320757},{"$f":"$F$6/B59","v":20.150943396226417},{"$f":"$G$6/B59","v":115.0377358490566},{"$f":"$H$6/B59","v":0},{"$f":"$I$6/B59","v":0},0,{"$f":"$K$6/B59","v":0},{"$f":"$L$6/B59","v":0},{"$f":"$M$6/B59","v":0},0,0,{"$f":"$P$6/B59","v":0},null,{"$f":"$R$6/B59","v":12.886792452830189},{"$f":"$S$6/B59","v":55.867924528301884},118.35849056603773,77,42.547169811320757,20.150943396226417,115.0377358490566,0,0,0,0,0,0,0,0,0,null,{"$f":"$AI$6/B59","v":68.754716981132077},118.35849056603773,77,42.547169811320757,20.150943396226417,115.0377358490566,0,0,0,0,0,0,0,0,0,null,null,null,null,null,null,null,null,null,null,null,null,null,null,null,null,null,null,null,52,{"$f":"$C$6/BQ59","v":120.63461538461539},{"$f":"$D$6/BQ59","v":78.480769230769226},{"$f":"$E$6/BQ59","v":43.365384615384613},{"$f":"$F$6/BQ59","v":20.53846153846154},{"$f":"$G$6/BQ59","v":117.25},{"$f":"$H$6/BQ59","v":0},{"$f":"$I$6/BQ59","v":0},0,{"$f":"$K$6/BQ59","v":0},{"$f":"$L$6/BQ59","v":0},{"$f":"$M$6/BQ59","v":0},0,0,{"$f":"$P$6/BQ59","v":0},null,{"$f":"$R$6/BQ59","v":13.134615384615385},{"$f":"$S$6/BQ59","v":56.942307692307693},120.63461538461539,78.480769230769226,43.365384615384613,20.53846153846154,117.25,0,0,0,0,0,0,0,0,0]
[null,54,{"$f":"$C$6/B60","v":116.16666666666667},{"$f":"$D$6/B60","v":75.574074074074076},{"$f":"$E$6/B60","v":41.75925925925926},{"$f":"$F$6/B60","v":19.777777777777779},{"$f":"$G$6/B60","v":112.9074074074074},{"$f":"$H$6/B60","v":0},{"$f":"$I$6/B60","v":0},0,{"$f":"$K$6/B60","v":0},{"$f":"$L$6/B60","v":0},{"$f":"$M$6/B60","v":0},0,0,{"$f":"$P$6/B60","v":0},null,{"$f":"$R$6/B60","v":12.648148148148149},{"$f":"$S$6/B60","v":54.833333333333336},116.16666666666667,75.574074074074076,41.75925925925926,19.777777777777779,112.9074074074074,0,0,0,0,0,0,0,0,0,null,{"$f":"$AI$6/B60","v":67.481481481481481},116.16666666666667,75.574074074074076,41.75925925925926,19.777777777777779,112.9074074074074,0,0,0,0,0,0,0,0,0,null,null,null,null,null,null,null,null,null,null,null,null,null,null,null,null,null,null,null,53,{"$f":"$C$6/BQ60","v":118.35849056603773},{"$f":"$D$6/BQ60","v":77},{"$f":"$E$6/BQ60","v":42.547169811320757},{"$f":"$F$6/BQ60","v":20.150943396226417},{"$f":"$G$6/BQ60","v":115.0377358490566},{"$f":"$H$6/BQ60","v":0},{"$f":"$I$6/BQ60","v":0},0,{"$f":"$K$6/BQ60","v":0},{"$f":"$L$6/BQ60","v":0},{"$f":"$M$6/BQ60","v":0},0,0,{"$f":"$P$6/BQ60","v":0},null,{"$f":"$R$6/BQ60","v":12.886792452830189},{"$f":"$S$6/BQ60","v":55.867924528301884},118.35849056603773,77,42.547169811320757,20.150943396226417,115.0377358490566,0,0,0,0,0,0,0,0,0]
[]
[]
[null,"Nombre d'inscrits",23418]
[null,"Bulletins déposés",20457]
[null,"Blancs & Nuls",683]
[null,"Votes valables",19774]
[null,"Nombre de sièges",35]
[]
[]
[]
[]
[null,"Liste unique\nMajorité\nabsolue",{"$f":"SUM($C$73:$P$73)","v":0},null,null,null,null,null,null,null,null,null,null,null,null,null,null,{"$f":"SUM($R$73:$AG$73)","v":0},null,null,null,null,null,null,null,null,null,null,null,null,null,null,null,null,{"$f":"SUM($AI$73:$AW$73)","v":0}]
[null,null,{"$f":"IF(C7>($C$67/2),1,0)","v":0},{"$f":"IF(D7>($C$67/2),1,0)","v":0},{"$f":"IF(E7>($C$67/2),1,0)","v":0},{"$f":"IF(F7>($C$67/2),1,0)","v":0},{"$f":"IF(G7>($C$67/2),1,0)","v":0},{"$f":"IF(H7>($C$67/2),1,0)","v":0},{"$f":"IF(I7>($C$67/2),1,0)","v":0},{"$f":"IF(J7>($C$67/2),1,0)","v":0},{"$f":"IF(K7>($C$67/2),1,0)","v":0},{"$f":"IF(L7>($C$67/2),1,0)","v":0},{"$f":"IF(M7>($C$67/2),1,0)","v":0},{"$f":"IF(N7>($C$67/2),1,0)","v":0},{"$f":"IF(O7>($C$67/2),1,0)","v":0},{"$f":"IF(P7>($C$67/2),1,0)","v":0},null,{"$f":"IF(R7>($C$67/2),1,0)","v":0},{"$f":"IF(S7>($C$67/2),1,0)","v":0},{"$f":"IF(T7>($C$67/2),1,0)","v":0},{"$f":"IF(U7>($C$67/2),1,0)","v":0},{"$f":"IF(V7>($C$67/2),1,0)","v":0},{"$f":"IF(W7>($C$67/2),1,0)","v":0},{"$f":"IF(X7>($C$67/2),1,0)","v":0},{"$f":"IF(Y7>($C$67/2),1,0)","v":0},{"$f":"IF(Z7>($C$67/2),1,0)","v":0},{"$f":"IF(AA7>($C$67/2),1,0)","v":0},{"$f":"IF(AB7>($C$67/2),1,0)","v":0},{"$f":"IF(AC7>($C$67/2),1,0)","v":0},{"$f":"IF(AD7>($C$67/2),1,0)","v":0},{"$f":"IF(AE7>($C$67/2),1,0)","v":0},{"$f":"IF(AF7>($C$67/2),1,0)","v":0},{"$f":"IF(AG7>($C$67/2),1,0)","v":0},null,{"$f":"IF(AI7>($C$67/2),1,0)","v":0},{"$f":"IF(AJ7>($C$67/2),1,0)","v":0},{"$f":"IF(AK7>($C$67/2),1,0)","v":0},{"$f":"IF(AL7>($C$67/2),1,0)","v":0},{"$f":"IF(AM7>($C$67/2),1,0)","v":0},{"$f":"IF(AN7>($C$67/2),1,0)","v":0},{"$f":"IF(AO7>($C$67/2),1,0)","v":0},{"$f":"IF(AP7>($C$67/2),1,0)","v":0},{"$f":"IF(AQ7>($C$67/2),1,0)","v":0},{"$f":"IF(AR7>($C$67/2),1,0)","v":0},{"$f":"IF(AS7>($C$67/2),1,0)","v":0},{"$f":"IF(AT7>($C$67/2),1,0)","v":0},{"$f":"IF(AU7>($C$67/2),1,0)","v":0},{"$f":"IF(AV7>($C$67/2),1,0)","v":0},{"$f":"IF(AW7>($C$67/2),1,0)","v":0}]
[]
[null,"Liste unique\nMajorité\nabsolue\nnombre de voix",{"$f":"SUM($C$76:$P$76)","v":0},null,null,null,null,null,null,null,null,null,null,null,null,null,null,{"$f":"SUM(R76:AG76)","v":0},null,null,null,null,null,null,null,null,null,null,null,null,null,null,null,null,{"$f":"SUM(AI76:AW76)","v":0}]
[null,null,{"$f":"IF(C73>0,C6,0)","v":0},{"$f":"IF(D73>0,D6,0)","v":0},{"$f":"IF(E73>0,E6,0)","v":0},{"$f":"IF(F73>0,F6,0)","v":0},{"$f":"IF(G73>0,G6,0)","v":0},{"$f":"IF(H73>0,H6,0)","v":0},{"$f":"IF(I73>0,I6,0)","v":0},{"$f":"IF(J73>0,J6,0)","v":0},{"$f":"IF(K73>0,K6,0)","v":0},{"$f":"IF(L73>0,L6,0)","v":0},{"$f":"IF(M73>0,M6,0)","v":0},{"$f":"IF(N73>0,N6,0)","v":0},{"$f":"IF(O73>0,O6,0)","v":0},{"$f":"IF(P73>0,P6,0)","v":0},null,{"$f":"IF(R73>0,R6,0)","v":0},{"$f":"IF(S73>0,S6,0)","v":0},{"$f":"IF(T73>0,T6,0)","v":0},{"$f":"IF(U73>0,U6,0)","v":0},{"$f":"IF(V73>0,V6,0)","v":0},{"$f":"IF(W73>0,W6,0)","v":0},{"$f":"IF(X73>0,X6,0)","v":0},{"$f":"IF(Y73>0,Y6,0)","v":0},{"$f":"IF(Z73>0,Z6,0)","v":0},{"$f":"IF(AA73>0,AA6,0)","v":0},{"$f":"IF(AB73>0,AB6,0)","v":0},{"$f":"IF(AC73>0,AC6,0)","v":0},{"$f":"IF(AD73>0,AD6,0)","v":0},{"$f":"IF(AE73>0,AE6,0)","v":0},{"$f":"IF(AF73>0,AF6,0)","v":0},{"$f":"IF(AG73>0,AG6,0)","v":0},null,{"$f":"IF(AI73>0,AI6,0)","v":0},{"$f":"IF(AJ73>0,AJ6,0)","v":0},{"$f":"IF(AK73>0,AK6,0)","v":0},{"$f":"IF(AL73>0,AL6,0)","v":0},{"$f":"IF(AM73>0,AM6,0)","v":0},{"$f":"IF(AN73>0,AN6,0)","v":0},{"$f":"IF(AO73>0,AO6,0)","v":0},{"$f":"IF(AP73>0,AP6,0)","v":0},{"$f":"IF(AQ73>0,AQ6,0)","v":0},{"$f":"IF(AR73>0,AR6,0)","v":0},{"$f":"IF(AS73>0,AS6,0)","v":0},{"$f":"IF(AT73>0,AT6,0)","v":0},{"$f":"IF(AU73>0,AU6,0)","v":0},{"$f":"IF(AV73>0,AV6,0)","v":0},{"$f":"IF(AW73>0,AW6,0)","v":0}]
[]
[null,"Nbr voix\nCoalition",{"$f":"SUMIF(C4:P4,\"x\",C6:P6)","v":12609}]
[]
[null,"% Coalition",{"$f":"100/C63*C78","v":53.843197540353579}]
[null,"% Majorité",{"$f":"100/C63*C75","v":0}]
[]
[null,"Coalition",{"$f":"COUNTA(C4:P4)","v":3},{"$f":"IF(C83>0,1,0)","v":1}]
[]
[]
[]
[]
[]
[]
[]
[]
[]
[]
[]
[]
[null,null,null,null,null,null,null,null,null,null,null,null,null,null,null,"WOLUWE-SAINT-PIERRE"]
[]
[null,null,null,null,null,null,null,null,null,null,null,null,null,null,null,null,null,{"$f":"R5","v":"Blancs & Nuls"},{"$f":"S5","v":"Non-déposés"},{"$f":"T5","v":"Liste du Bourgmestre"},{"$f":"U5","v":"ECOLO-GROEN"},{"$f":"V5","v":"DéFI pour Woluwe1150"},{"$f":"W5","v":"PS+sp.a"},{"$f":"X5","v":"OPEN MR"},{"$f":"Y5","v":0},{"$f":"Z5","v":0},{"$f":"AA5","v":0},{"$f":"AB5","v":0},{"$f":"AC5","v":0},{"$f":"AD5","v":0},{"$f":"AE5","v":0},{"$f":"AF5","v":0},{"$f":"AG5","v":0}]
[null,null,null,null,null,null,null,null,null,null,null,null,null,null,null,"Chiffres\nélectoraux",null,{"$f":"R6","v":683},{"$f":"S6","v":2961},{"$f":"T6","v":6273},{"$f":"U6","v":4081},{"$f":"V6","v":2255},{"$f":"W6","v":1068},{"$f":"X6","v":6097},{"$f":"Y6","v":0},{"$f":"Z6","v":0},{"$f":"AA6","v":0},{"$f":"AB6","v":0},{"$f":"AC6","v":0},{"$f":"AD6","v":0},{"$f":"AE6","v":0},{"$f":"AF6","v":0},{"$f":"AG6","v":0}]
[null,null,null,null,null,null,null,null,null,null,null,null,null,null,null,"Impériali",null,0,0,{"$f":"C7","v":12},{"$f":"D7","v":7},{"$f":"E7","v":3},{"$f":"F7","v":1},{"$f":"G7","v":12},{"$f":"H7","v":0},{"$f":"I7","v":0},{"$f":"J7","v":0},{"$f":"K7","v":0},{"$f":"L7","v":0},{"$f":"M7","v":0},{"$f":"N7","v":0},{"$f":"O7","v":0},{"$f":"P7","v":0}]
[null,null,null,null,null,null,null,null,null,null,null,null,null,null,null,"Impériali\n+ proportionnelle",null,{"$f":"R7","v":0},{"$f":"S7","v":4},{"$f":"T7","v":11},{"$f":"U7","v":6},{"$f":"V7","v":3},{"$f":"W7","v":1},{"$f":"X7","v":10},{"$f":"Y7","v":0},{"$f":"Z7","v":0},{"$f":"AA7","v":0},{"$f":"AB7","v":0},{"$f":"AC7","v":0},{"$f":"AD7","v":0},{"$f":"AE7","v":0},{"$f":"AF7","v":0},{"$f":"AG7","v":0}]
[null,null,null,null,null,null,null,null,null,null,null,null,null,null,null,"D'Hondt",null,0,0,{"$f":"BR7","v":11},{"$f":"BS7","v":7},{"$f":"BT7","v":4},{"$f":"BU7","v":2},{"$f":"BV7","v":11},{"$f":"BW7","v":0},{"$f":"BX7","v":0},{"$f":"BY7","v":0},{"$f":"BZ7","v":0},{"$f":"CA7","v":0},{"$f":"CB7","v":0},{"$f":"CC7","v":0},{"$f":"CD7","v":0},{"$f":"CE7","v":0}]
[null,null,null,null,null,null,null,null,null,null,null,null,null,null,null,"D'Hondt\n+ proportionnelle",null,{"$f":"CG7","v":1},{"$f":"CH7","v":4},{"$f":"CI7","v":10},{"$f":"CJ7","v":6},{"$f":"CK7","v":3},{"$f":"CL7","v":1},{"$f":"CM7","v":10},{"$f":"CN7","v":0},{"$f":"CO7","v":0},{"$f":"CP7","v":0},{"$f":"CQ7","v":0},{"$f":"CR7","v":0},{"$f":"CS7","v":0},{"$f":"CT7","v":0},{"$f":"CU7","v":0},{"$f":"CV7","v":0}]
[null,null,null,null,null,null,null,null,null,null,null,null,null,null,null,"Proportionnelle\npure",null,{"$f":"AZ7","v":1.0207959689128021},{"$f":"BA7","v":4.4254419677171404},{"$f":"BB7","v":9.3754803996925435},{"$f":"BC7","v":6.0993680075155865},{"$f":"BD7","v":3.3702707319156207},{"$f":"BE7","v":1.5962080450935179},{"$f":"BF7","v":9.1124348791527883},{"$f":"BG7","v":0},{"$f":"BH7","v":0},{"$f":"BI7","v":0},{"$f":"BJ7","v":0},{"$f":"BK7","v":0},{"$f":"BL7","v":0},{"$f":"BM7","v":0},{"$f":"BN7","v":0},{"$f":"BO7","v":0}]
[]
[null,null,null,null,null,null,null,null,null,null,null,null,null,null,null,null,"Nombre de sièges à distribuer :",null,null,null,{"$f":"C67","v":35},null,"Est-ce une liste unique en majorité absolue en termes de sièges ?",null,null,null,null,null,null,{"$f":"IF(C72>0,\"Oui\",\"Non\")","v":"Non"}]
[]
[null,null,null,null,null,null,null,null,null,null,null,null,null,null,null,null,"Nombre d'inscrits :",null,null,null,{"$f":"C63","v":23418},null,"Est-ce une liste unique en majorité absolue en termes de voix ?",null,null,null,null,null,null,{"$f":"IF(C75>0,\"Oui\",\"Non\")","v":"Non"}]
[]
[null,null,null,null,null,null,null,null,null,null,null,null,null,null,null,null,"Nombre de bulletins déposés :",null,null,null,{"$f":"C64","v":20457},null,"La majorité est-elle formée par une coalition ?",null,null,null,null,null,null,{"$f":"IF(B4>0,\"Oui\",\"Non\")","v":"Oui"}]
[]
[null,null,null,null,null,null,null,null,null,null,null,null,null,null,null,null,"Nombre de votes valables :",null,null,null,{"$f":"C66","v":19774},null,"Quelle est la proportion de l'électorat représentée par la majorité ?",null,null,null,null,null,null,{"$f":"IF(D83>0,C80,C81)","v":53.843197540353579}]
[]
[null,null,null,null,null,null,null,null,null,null,null,null,null,null,null,"Comparaison\nClef Impériali\n-\nClef D'Hondt",null,{"$f":"R100-R102","v":0},{"$f":"S100-S102","v":0},1,0,-1,-1,1,0,0,0,0,0,0,0,0,0]

{"sheet":"Comparaison Impériali D'Hondt","index":23,"n_rows":174,"n_cols":52,"rows_kept":174,"cut":false,"hidden":false,"merged":[]}
["Communes","Listes","Comparaison Impériali/D'Hondt"]
["ANDERLECHT",null,{"$f":"SUM(C3:C12)","v":0}]
[null,"Ecolo-Groen",{"$f":"ANDERLECHT!T$114","v":0}]
[null,"VLAAMS BELANG",{"$f":"ANDERLECHT!U$114","v":-1},null,null,null,null,null,null,null,null,null,null,null,null,null,null,null,null,null,null,0,0,0,0,0,0,0,0,0,0,0,0,0,0,null,0,0,0,0,0,0,0,0,0,0,0,0,0,0,0,0]
[null,"DéFI",{"$f":"ANDERLECHT!V$114","v":0}]
[null,"PS-sp.a-cdH",{"$f":"ANDERLECHT!W$114","v":1}]
[null,"CD&V Plus",{"$f":"ANDERLECHT!X$114","v":0}]
[null,"N-VA",{"$f":"ANDERLECHT!Y$114","v":-1}]
[null,"PTB*PVDA",{"$f":"ANDERLECHT!Z$114","v":0}]
[null,"MR-Open Vld-IC",{"$f":"ANDERLECHT!AA$114","v":1}]
[null,"LA DROITE",{"$f":"ANDERLECHT!AB$114","v":0}]
[null,"NATION",{"$f":"ANDERLECHT!AC$114","v":0}]
["AUDERGHEM",null,{"$f":"SUM(C14:C21)","v":0}]
[null,"LISTE CITOYENNE 1160",{"$f":"AUDERGHEM!T$114","v":0}]
[null,"Ecolo-Groen",{"$f":"AUDERGHEM!U$114","v":0}]
[null,"Liste du Bourgmestre",{"$f":"AUDERGHEM!V$114","v":3}]
[null,"PS",{"$f":"AUDERGHEM!W$114","v":-1}]
[null,"N-VA",{"$f":"AUDERGHEM!X$114","v":0}]
[null,"MR-OpenVLD",{"$f":"AUDERGHEM!Y$114","v":-1}]
[null,"SAMEN",{"$f":"AUDERGHEM!Z$114","v":-1}]
[null,"PP Parti Populaire",{"$f":"AUDERGHEM!AA$114","v":0}]
["BERCHEM-SAINTE-AGATHE",null,{"$f":"SUM(C23:C29)","v":0}]
[null,"ECOLO-GROEN",{"$f":"'BERCHEM-SAINTE-AGATHE'!T$114","v":0}]
[null,"VLAAMS BELANG",{"$f":"'BERCHEM-SAINTE-AGATHE'!U$114","v":0}]
[null,"DéFI",{"$f":"'BERCHEM-SAINTE-AGATHE'!V$114","v":0}]
[null,"PS-sp.a+",{"$f":"'BERCHEM-SAINTE-AGATHE'!W$114","v":0}]
[null,"N-VA",{"$f":"'BERCHEM-SAINTE-AGATHE'!X$114","v":-1}]
[null,"Open MR",{"$f":"'BERCHEM-SAINTE-AGATHE'!Y$114","v":1}]
[null,"LBR",{"$f":"'BERCHEM-SAINTE-AGATHE'!Z$114","v":0}]
["BRUXELLES",null,{"$f":"SUM(C31:C44)","v":0}]
[null,"CDH-CD&V+",{"$f":"BRUXELLES!T$114","v":0}]
[null,"ECOLO-GROEN",{"$f":"BRUXELLES!U$114","v":0}]
[null,"VLAAMS BELANG",{"$f":"BRUXELLES!V$114","v":0}]
[null,"DéFI",{"$f":"BRUXELLES!W$114","v":-1}]
[null,"PS",{"$f":"BRUXELLES!X$114","v":2}]
[null,"MR-VLD",{"$f":"BRUXELLES!Y$114","v":0}]
[null,"N-VA",{"$f":"BRUXELLES!Z$114","v":-1}]
[null,"PTB*PVDA",{"$f":"BRUXELLES!AA$114","v":0}]
[null,"Change.Brussels",{"$f":"BRUXELLES!AB$114","v":0}]
[null,"PLAN B",{"$f":"BRUXELLES!AC$114","v":0}]
[null,"CITOYEN D'EUROPE M3E",{"$f":"BRUXELLES!AD$114","v":0}]
[null,"ISLAM",{"$f":"BRUXELLES!AE$114","v":0}]
[null,"LA DROITE",{"$f":"BRUXELLES!AF$114","v":0}]
[null,"SALEM",{"$f":"BRUXELLES!AG$114","v":0}]
["ETTERBEEK",null,{"$f":"SUM(C46:C51)","v":0}]
[null,"Alternative CDH",{"$f":"ETTERBEEK!T$114","v":0}]
[null,"Ecolo-Groen",{"$f":"ETTERBEEK!U$114","v":1}]
[null,"DéFI",{"$f":"ETTERBEEK!V$114","v":-1}]
[null,"PS-sp.a+",{"$f":"ETTERBEEK!W$114","v":0}]
[null,"LB-LISTE BOURGMESTRE",{"$f":"ETTERBEEK!X$114","v":0}]
[null,"VOLT BELGIË-BELGIQUE",{"$f":"ETTERBEEK!Y$114","v":0}]
["EVERE",null,{"$f":"SUM(C53:C60)","v":0}]
[null,"HUMANISTES EVEROIS",{"$f":"EVERE!T$114","v":-1}]
[null,"ECOLO-GROEN",{"$f":"EVERE!U$114","v":1}]
[null,"DéFI",{"$f":"EVERE!V$114","v":0}]
[null,"N-VA",{"$f":"EVERE!W$114","v":0}]
[null,"MR",{"$f":"EVERE!X$114","v":0}]
[null,"LISTE DU BOURGMESTRE",{"$f":"EVERE!Y$114","v":1}]
[null,"NATION",{"$f":"EVERE!Z$114","v":0}]
[null,"PP Parti Populaire",{"$f":"EVERE!AA$114","v":-1}]
["FOREST",null,{"$f":"SUM(C62:C69)","v":0}]
[null,"CDH",{"$f":"FOREST!T$114","v":-1}]
[null,"ECOLO-GROEN",{"$f":"FOREST!U$114","v":1}]
[null,"DéFI",{"$f":"FOREST!V$114","v":0}]
[null,"LISTE DU BOURGMESTRE",{"$f":"FOREST!W$114","v":1}]
[null,"PTB*PVDA",{"$f":"FOREST!X$114","v":0}]
[null,"MR",{"$f":"FOREST!Y$114","v":0}]
[null,"Forest En Mieux",{"$f":"FOREST!Z$114","v":-1}]
[null,"Chrétien",{"$f":"FOREST!AA$114","v":0}]
["GANSHOREN",null,{"$f":"SUM(C71:C76)","v":0}]
[null,"PROGANSHOREN",{"$f":"GANSHOREN!T$114","v":0}]
[null,"ECOLO-GROEN",{"$f":"GANSHOREN!U$114","v":0}]
[null,"DéFI",{"$f":"GANSHOREN!V$114","v":0}]
[null,"ENSEMBLE-SAMEN#CARTHÉ",{"$f":"GANSHOREN!W$114","v":1}]
[null,"N-VA",{"$f":"GANSHOREN!X$114","v":-1}]
[null,"LB-LISTE BOURGMESTRE",{"$f":"GANSHOREN!Y$114","v":0}]
["IXELLES",null,{"$f":"SUM(C78:C85)","v":0}]
[null,"OBJECTIF XL",{"$f":"IXELLES!T$114","v":0}]
[null,"ECOLO - GROEN",{"$f":"IXELLES!U$114","v":1}]
[null,"DéFI",{"$f":"IXELLES!V$114","v":-1}]
[null,"PS - sp.a",{"$f":"IXELLES!W$114","v":1}]
[null,"N-VA",{"$f":"IXELLES!X$114","v":-1}]
[null,"PTB*PVDA",{"$f":"IXELLES!Y$114","v":0}]
[null,"Liste La Bourgmestre",{"$f":"IXELLES!Z$114","v":0}]
[null,"VOLT BELGIË-BELGIQUE",{"$f":"IXELLES!AA$114","v":0}]
["JETTE",null,{"$f":"SUM(C87:C94)","v":0}]
[null,"LBJETTE",{"$f":"JETTE!T$114","v":1}]
[null,"ECOLO-GROEN",{"$f":"JETTE!U$114","v":0}]
[null,"VLAAMS BELANG",{"$f":"JETTE!V$114","v":-1}]
[null,"DéFI",{"$f":"JETTE!W$114","v":0}]
[null,"PS - sp.a",{"$f":"JETTE!X$114","v":0}]
[null,"N-VA",{"$f":"JETTE!Y$114","v":0}]
[null,"MR",{"$f":"JETTE!Z$114","v":0}]
[null,"Les Démocrates",{"$f":"JETTE!AA$114","v":0}]
["KOEKELBERG",null,{"$f":"SUM(C96:C101)","v":0}]
[null,"ALTERNATIVE Humaniste",{"$f":"KOEKELBERG!T$114","v":0}]
[null,"ECOLO-GROEN",{"$f":"KOEKELBERG!U$114","v":0}]
[null,"PS",{"$f":"KOEKELBERG!V$114","v":0}]
[null,"N-VA",{"$f":"KOEKELBERG!W$114","v":-1}]
[null,"LB",{"$f":"KOEKELBERG!X$114","v":1}]
[null,"CITOYEN D'EUROPE M3E",{"$f":"KOEKELBERG!Y$114","v":0}]
["MOLENBEEK-SAINT-JEAN",null,{"$f":"SUM(C103:C113)","v":0}]
[null,"CDH-CD&V+",{"$f":"'MOLENBEEK-SAINT-JEAN'!T$114","v":-1}]
[null,"ECOLO SAMEN",{"$f":"'MOLENBEEK-SAINT-JEAN'!U$114","v":-1}]
[null,"DéFI",{"$f":"'MOLENBEEK-SAINT-JEAN'!V$114","v":-1}]
[null,"PS sp.a",{"$f":"'MOLENBEEK-SAINT-JEAN'!W$114","v":2}]
[null,"N-VA",{"$f":"'MOLENBEEK-SAINT-JEAN'!X$114","v":0}]
[null,"PTB*PVDA",{"$f":"'MOLENBEEK-SAINT-JEAN'!Y$114","v":1}]
[null,"Groen",{"$f":"'MOLENBEEK-SAINT-JEAN'!Z$114","v":-1}]
[null,"LISTE BOURGMESTRE (LB)",{"$f":"'MOLENBEEK-SAINT-JEAN'!AA$114","v":1}]
[null,"CITOYEN D'EUROPE M3E",{"$f":"'MOLENBEEK-SAINT-JEAN'!AB$114","v":0}]
[null,"ISLAM",{"$f":"'MOLENBEEK-SAINT-JEAN'!AC$114","v":0}]
[null,"Molenbeek act",{"$f":"'MOLENBEEK-SAINT-JEAN'!AD$114","v":0}]
["SAINT-GILLES",null,{"$f":"SUM(C115:C123)","v":0}]
[null,"CDH + CD&V",{"$f":"'SAINT-GILLES'!T$114","v":-1}]
[null,"ECOLO-GROEN",{"$f":"'SAINT-GILLES'!U$114","v":1}]
[null,"DéFI",{"$f":"'SAINT-GILLES'!V$114","v":-1}]
[null,"Liste du Bourgmestre",{"$f":"'SAINT-GILLES'!W$114","v":2}]
[null,"PTB*PVDA",{"$f":"'SAINT-GILLES'!X$114","v":-1}]
[null,"MR",{"$f":"'SAINT-GILLES'!Y$114","v":0}]
[null,"B.U.B.",{"$f":"'SAINT-GILLES'!Z$114","v":0}]
[null,"GAUCHES COMMUNES",{"$f":"'SAINT-GILLES'!AA$114","v":0}]
[null,"QQVF",{"$f":"'SAINT-GILLES'!AB$114","v":0}]
["SAINT-JOSS-TEN-NOODE",null,{"$f":"SUM(C125:C131)","v":0}]
[null,"CDH + Indépendant",{"$f":"'SAINT-JOSSE-TEN-NOODE'!T$114","v":-1}]
[null,"ECOLO-GROEN",{"$f":"'SAINT-JOSSE-TEN-NOODE'!U$114","v":1}]
[null,"DéFI",{"$f":"'SAINT-JOSSE-TEN-NOODE'!V$114","v":-1}]
[null,"LB",{"$f":"'SAINT-JOSSE-TEN-NOODE'!W$114","v":2}]
[null,"N-VA",{"$f":"'SAINT-JOSSE-TEN-NOODE'!X$114","v":0}]
[null,"MR Open Vld",{"$f":"'SAINT-JOSSE-TEN-NOODE'!Y$114","v":-1}]
[null,"LISTE COMMUNALE",{"$f":"'SAINT-JOSSE-TEN-NOODE'!Z$114","v":0}]
["SCHARBEEK",null,{"$f":"SUM(C133:C141)","v":0}]
[null,"CDH-CD&V+",{"$f":"SCHAERBEEK!T$114","v":0}]
[null,"ECOLO-GROEN",{"$f":"SCHAERBEEK!U$114","v":1}]
[null,"VLAAMS BELANG",{"$f":"SCHAERBEEK!V$114","v":0}]
[null,"LISTE BOURGMESTRE",{"$f":"SCHAERBEEK!W$114","v":1}]
[null,"PS-sp.a",{"$f":"SCHAERBEEK!X$114","v":0}]
[null,"N-VA",{"$f":"SCHAERBEEK!Y$114","v":-1}]
[null,"PTB*PVDA",{"$f":"SCHAERBEEK!Z$114","v":0}]
[null,"MR & CITOYENS",{"$f":"SCHAERBEEK!AA$114","v":-1}]
[null,"CITOYEN D'EUROPE M3E",{"$f":"SCHAERBEEK!AB$114","v":0}]
["UCCLE",null,{"$f":"SUM(C143:C150)","v":0}]
[null,"CDH",{"$f":"UCCLE!T$114","v":-1}]
[null,"ECOLO - GROEN",{"$f":"UCCLE!U$114","v":1}]
[null,"DéFI",{"$f":"UCCLE!V$114","v":0}]
[null,"PS",{"$f":"UCCLE!W$114","v":0}]
[null,"N-VA",{"$f":"UCCLE!X$114","v":-1}]
[null,"MR",{"$f":"UCCLE!Y$114","v":2}]
[null,"UCCLE EN AVANT",{"$f":"UCCLE!Z$114","v":-1}]
[null,"CITOYEN D'EUROPE M3E",{"$f":"UCCLE!AA$114","v":0}]
["WATERMAEL-BOISFORT",null,{"$f":"SUM(C152:C159)","v":0}]
[null,"GÉNÉRATIONS Humanistes",{"$f":"'WATERMAEL-BOITSFORT'!T$114","v":0}]
[null,"ECOLO-GROEN",{"$f":"'WATERMAEL-BOITSFORT'!U$114","v":1}]
[null,"DéFI",{"$f":"'WATERMAEL-BOITSFORT'!V$114","v":0}]
[null,"PS-SP.A Cause Commune",{"$f":"'WATERMAEL-BOITSFORT'!W$114","v":0}]
[null,"MR-GM",{"$f":"'WATERMAEL-BOITSFORT'!X$114","v":0}]
[null,"X²YZ",{"$f":"'WATERMAEL-BOITSFORT'!Y$114","v":0}]
[null,"NOSVOTES",{"$f":"'WATERMAEL-BOITSFORT'!Z$114","v":0}]
[null,"PP Parti Populaire",{"$f":"'WATERMAEL-BOITSFORT'!AA$114","v":-1}]
["WOLUWE-SAINT-LAMBERT",null,{"$f":"SUM(C161:C166)","v":0}]
[null,"WolHu",{"$f":"'WOLUWE-SAINT-LAMBERT'!T$114","v":-1}]
[null,"ECOLO-GROEN",{"$f":"'WOLUWE-SAINT-LAMBERT'!U$114","v":0}]
[null,"Liste du Bourgmestre",{"$f":"'WOLUWE-SAINT-LAMBERT'!V$114","v":2}]
[null,"PS-sp.a",{"$f":"'WOLUWE-SAINT-LAMBERT'!W$114","v":-1}]
[null,"MR+",{"$f":"'WOLUWE-SAINT-LAMBERT'!X$114","v":0}]
[null,"DEMOS",{"$f":"'WOLUWE-SAINT-LAMBERT'!Y$114","v":0}]
["WOLUWE-SAINT-PIERRE",null,{"$f":"SUM(C168:C172)","v":0}]
[null,"Liste du Bourgmestre",{"$f":"'WOLUWE-SAINT-PIERRE'!T$114","v":1}]
[null,"ECOLO-GROEN",{"$f":"'WOLUWE-SAINT-PIERRE'!U$114","v":0}]
[null,"DéFI pour Woluwe1150",{"$f":"'WOLUWE-SAINT-PIERRE'!V$114","v":-1}]
[null,"PS+sp.a",{"$f":"'WOLUWE-SAINT-PIERRE'!W$114","v":-1}]
[null,"OPEN MR",{"$f":"'WOLUWE-SAINT-PIERRE'!X$114","v":1}]
[]
[null,null,{"$f":"C2+C13+C22+C30+C45+C52+C61+C70+C77+C86+C95+C102+C114+C124+C132+C142+C151+C160+C167","v":0}]